{"text_format":"1","workbook":"xlsx","n_sheets":20,"sheets":["Sąrašai","Derlingumas_bandymai","Informacija","Duomenys","Skaičiuoklė","Informacija 2","Bandymų duomenys","Ūkio duomenys","SanaudosSUV","Sąnaudos","DerlingBandRez","Madžiagos pasėliui","KainosDB","ŽŪ išteklių kainų indeksai","Technikos kainos","Darbų įkainiai","DU","ŽŪ mašinos pagal plotą","Tech_Sąnaudos","Lapas1 (2)"],"not_rendered":{"charts":5,"images":2,"macros":1,"external_links":0,"defined_names":21,"comments":4,"pivot_tables":0},"unopened":[],"bounds":{"document_bytes":16777216,"sheet_cells":100000,"rows_first":2000,"rows_last":500,"rows_between":2000,"halvings":0,"cell_chars":16384,"cell_head_chars":4096},"cells_cut":0,"cells_raw":0,"read":"whole","date_system":"1900"}

{"sheet":"Sąrašai","index":0,"n_rows":37,"n_cols":3,"rows_kept":37,"cut":false,"hidden":true,"merged":[]}
[]
[]
[]
[]
[]
[]
[]
[null,"Meniu pasirinkti ūkio duomenims įvesti"]
[null,"Gilus arimas (GA)"]
[null,"Technologija","Paaiškinimas"]
[null,"Gilus arimas (GA)","GA - skusta ražiena, gilus arimas rudenį 23-25 cm gyliu (kontrolė, gilus arimas)"]
[null,"Seklus arimas (SA)","SA - skusta ražiena, seklus arimas rudenį 10-12 cm gyliu (seklus arimas)"]
[null,"Seklus purenimas rudenį (SPR)","SPR - skusta ražiena, seklus purenimas rudenį diskiniu skutikliu 8-10 cm gyliu (seklus purenimas rudenį)"]
[null,"Seklus purenimas prieš sėją (SPS)","SPS - neskusta, seklus purenimas prieš sėją diskiniu skutikliu 4-5 cm gyliu (seklus purenimas prieš sėją)"]
[null,"Tarpiniai pasėliai (TP)","TP - neskusta, tarpinių pasėlių sėja į neįdirbtą dirvą, seklus purenimas prieš sėją diskiniu skutikliu 4-5 cm gyliu (tarpiniai pasėliai)"]
[null,"Tiesioginė sėja (TS)","TS - neskusta, tiesioginė sėja į neįdirbtą dirvą (nulinis žemės dirbimas)"]
[]
[]
[]
[null,"Taip"]
[null,"Taip / Ne"]
[null,"Taip"]
[null,"Ne"]
[]
[]
[]
[null,"Visas priemonių sąrašas"]
[null,"Gilus arimas (GA)"]
[null,"Technologija","Paaiškinimas"]
[null,"Gilus arimas (GA)","GA - skusta ražiena, gilus arimas rudenį 23-25 cm gyliu (kontrolė, gilus arimas)"]
[null,"Seklus arimas (SA)","SA - skusta ražiena, seklus arimas rudenį 10-12 cm gyliu (seklus arimas)"]
[null,"Seklus purenimas rudenį (SPR)","SPR - skusta ražiena, seklus purenimas rudenį diskiniu skutikliu 8-10 cm gyliu (seklus purenimas rudenį)"]
[null,"Seklus purenimas prieš sėją (SPS)","SPS - neskusta, seklus purenimas prieš sėją diskiniu skutikliu 4-5 cm gyliu (seklus purenimas prieš sėją)"]
[null,"Tarpiniai pasėliai (TP)","TP - neskusta, tarpinių pasėlių sėja į neįdirbtą dirvą, seklus purenimas prieš sėją diskiniu skutikliu 4-5 cm gyliu (tarpiniai pasėliai)"]
[null,"Tiesioginė sėja (TS)","TS - neskusta, tiesioginė sėja į neįdirbtą dirvą (nulinis žemės dirbimas)"]
[null,"Šiaudai nepaliekami (R)","R - šiaudai nepaliekami lauke"]
[null,"Šiaudai paliekami lauke (S)","S - šiaudai ir augalinės atliekos paliekamos lauke"]

{"sheet":"Derlingumas_bandymai","index":1,"n_rows":124,"n_cols":42,"rows_kept":124,"cut":false,"hidden":true,"merged":[]}
[]
[]
[]
[]
[]
[]
[null,"Productivity of 2000-2023"]
[null,"Tillage systems",null,null,null,"GA","SA","SPR","SPS","TP","TS",null,null,null,null,null,null,null,null,null,null,null,null,null,null,null,null,null,null,null,null,null,null,null,"Metai","Pasėliai","Derlingums, t/ha "]
[null,"Metai","Crop","R","S","CP","SP","SL","SR","GMR","NT",null,null,null,null,null,null,null,null,null,null,null,null,null,null,null,null,null,null,null,null,null,null,null,null,null,"GA","SA","SPR","SPS","TP","TS"]
[null,2000,"Vasariniai miežiai",2.2999999999999998,2.2999999999999998,2.5,2.4,2.2999999999999998,2.2999999999999998,2.1,2.1,null,null,null,null,null,null,null,null,null,null,null,null,null,null,null,null,null,null,null,null,null,null,null,2000,"Vasariniai miežiai",2.5,2.4,2.2999999999999998,2.2999999999999998,2.1,2.1]
[null,2001,"Vasariniai miežiai",4,4.2,4.4000000000000004,4.4000000000000004,4.4000000000000004,3.9,3.7,3.7,null,null,null,null,null,null,null,null,null,null,null,null,null,null,null,null,null,null,null,null,null,null,null,2001,"Vasariniai miežiai",4.4000000000000004,4.4000000000000004,4.4000000000000004,3.9,3.7,3.7]
[null,2002,"Vasariniai miežiai",5,5.0999999999999996,5.4,4.9000000000000004,5.2,5.2,4.8,4.9000000000000004,null,null,null,null,null,null,null,null,null,null,null,null,null,null,null,null,null,null,null,null,null,null,null,2002,"Vasariniai miežiai",5.4,4.9000000000000004,5.2,5.2,4.8,4.9000000000000004]
[null,2003,"Vasariniai miežiai",4.0999999999999996,4.4000000000000004,4.5,4.3,4.0999999999999996,4.2,4.3,4.0999999999999996,null,null,null,null,null,null,null,null,null,null,null,null,null,null,null,null,null,null,null,null,null,null,null,2003,"Vasariniai miežiai",4.5,4.3,4.0999999999999996,4.2,4.3,4.0999999999999996]
[null,2004,"Vasariniai rapsai",2.4,2.2999999999999998,2.4,2.2999999999999998,2,2.5,"-",2.1,null,null,null,null,null,null,null,null,null,null,null,null,null,null,null,null,null,null,null,null,null,null,null,2004,"Vasariniai rapsai",2.36,2.27,2.39,2.5,"-",2.13]
[null,2005,"Žieminiai kviečiai",9.8000000000000007,10.4,9.6999999999999993,9.1,9.6,10.9,10.9,10.4,null,null,null,null,null,null,null,null,null,null,null,null,null,null,null,null,null,null,null,null,null,null,null,2005,"Žieminiai kviečiai",9.7100000000000009,9.09,9.5500000000000007,10.86,10.87,10.41]
[null,2006,"Vasariniai miežiai",3.3,3.6,3.6,3.2,3.7,3.2,3.6,3.4,null,null,null,null,null,null,null,null,null,null,null,null,null,null,null,null,null,null,null,null,null,null,null,2006,"Vasariniai miežiai",3.57,3.2,3.74,3.24,3.62,3.4]
[null,2007,"Vasariniai rapsai",2.1,2.1,2.1,2.2000000000000002,2.1,2.1,1.8,2.1,null,null,null,null,null,null,null,null,null,null,null,null,null,null,null,null,null,null,null,null,null,null,null,2007,"Vasariniai rapsai",2.0699999999999998,2.2400000000000002,2.14,2.12,1.83,2.0499999999999998]
[null,2008,"Žieminiai kviečiai",7.1,7.6,7.2,6.7,7.1,7.9,7.3,7.8,null,null,null,null,null,null,null,null,null,null,null,null,null,null,null,null,null,null,null,null,null,null,null,2008,"Žieminiai kviečiai",7.16,6.69,7.09,7.86,7.34,7.76]
[null,2009,"Vasariniai miežiai",4.5999999999999996,5.0999999999999996,5.4,5.0999999999999996,5.2,4.5,4.5999999999999996,4.5,null,null,null,null,null,null,null,null,null,null,null,null,null,null,null,null,null,null,null,null,null,null,null,2009,"Vasariniai miežiai",5.4,5.1100000000000003,5.19,4.5,4.5599999999999996,4.45]
[null,2010,"Vasariniai rapsai",1.5,1.5,1.7,1.6,1.5,1.5,1.3,1.5,null,null,null,null,null,null,null,null,null,null,null,null,null,null,null,null,null,null,null,null,null,null,null,2010,"Vasariniai rapsai",1.7,1.6,1.5,1.5,1.3,1.5]
[null,2011,"Žieminiai kviečiai",5.8,6.1,5.7,5.2,5.3,6.5,6.6,6.4,null,null,null,null,null,null,null,null,null,null,null,null,null,null,null,null,null,null,null,null,null,null,null,2011,"Žieminiai kviečiai",5.72,5.16,5.29,6.52,6.57,6.43]
[null,2012,"Vasariniai miežiai",4.5999999999999996,4.5,5.0999999999999996,4.4000000000000004,4.3,4.5,4.5,4.5999999999999996,null,null,null,null,null,null,null,null,null,null,null,null,null,null,null,null,null,null,null,null,null,null,null,2012,"Vasariniai miežiai",5.0599999999999996,4.41,4.3,4.47,4.53,4.6100000000000003]
[null,2013,"Vasariniai rapsai",0.6,0.6,0.6,0.6,0.6,0.3,0.5,0.6,null,null,null,null,null,null,null,null,null,null,null,null,null,null,null,null,null,null,null,null,null,null,null,2013,"Vasariniai rapsai",0.6,0.61,0.56999999999999995,0.34,0.57999999999999996,0.6]
[null,2014,"Žieminiai kviečiai",7.8,8.4,8,7.8,7.8,8,8.8000000000000007,8.3000000000000007,null,null,null,null,null,null,null,null,null,null,null,null,null,null,null,null,null,null,null,null,null,null,null,2014,"Žieminiai kviečiai",7.97,7.78,7.8,8,8.7799999999999994,8.25]
[null,2015,"Vasariniai miežiai",7.2,7.3,7.3,6.7,7.2,7.4,7.4,7.5,null,null,null,null,null,null,null,null,null,null,null,null,null,null,null,null,null,null,null,null,null,null,null,2015,"Vasariniai miežiai",7.28,6.73,7.2,7.42,7.36,7.46]
[null,2016,"Vasariniai rapsai",1.23,1.18,1.1200000000000001,1.2,1.2,1.21,1.34,1.1499999999999999,null,null,null,null,null,null,null,null,null,null,null,null,null,null,null,null,null,null,null,null,null,null,null,2016,"Vasariniai rapsai",1.1200000000000001,1.2,1.2,1.21,1.34,1.1499999999999999]
[null,2017,"Žieminiai kviečiai",9.3000000000000007,9.82,9,8.93,9.27,10.83,10.27,9.8000000000000007,null,null,null,null,null,null,null,null,null,null,null,null,null,null,null,null,null,null,null,null,null,null,null,2017,"Žieminiai kviečiai",9,8.93,9.27,10.83,10.27,9.8000000000000007]
[null,2018,"Vasariniai miežiai",4.72,4.84,4.95,4.5999999999999996,4.4000000000000004,4.6399999999999997,4.84,5.27,null,null,null,null,null,null,null,null,null,null,null,null,null,null,null,null,null,null,null,null,null,null,null,2018,"Vasariniai miežiai",4.95,4.5999999999999996,4.4000000000000004,4.6399999999999997,4.84,5.27]
[null,2019,"Vasariniai rapsai",1.45,1.52,1.48,1.47,1.48,1.47,1.58,1.45,null,null,null,null,null,null,null,null,null,null,null,null,null,null,null,null,null,null,null,null,null,null,null,2019,"Vasariniai rapsai",1.48,1.47,1.48,1.47,1.58,1.45]
[null,2020,"Žieminiai kviečiai",9.93,9.4,9.4499999999999993,9.69,8.81,10.34,10.06,9.6300000000000008,null,null,null,null,null,null,null,null,null,null,null,null,null,null,null,null,null,null,null,null,null,null,null,2020,"Žieminiai kviečiai",9.4499999999999993,9.69,8.81,10.34,10.06,9.6300000000000008]
[null,2021,"Vasariniai miežiai",3.62,3.93,3.62,4.13,3.29,3.94,3.53,4.1399999999999997,null,null,null,null,null,null,null,null,null,null,null,null,null,null,null,null,null,null,null,null,null,null,null,2021,"Vasariniai miežiai",3.62,4.13,3.29,3.94,3.53,4.1399999999999997]
[null,2022,"Žieminiai rapsai",2.69,2.84,2.37,2.39,2.48,2.85,3.11,3.37]
[null,2023,"Žieminiai kviečiai",9.9,10.1,9.3699999999999992,9.73,9.9700000000000006,10.47,10.71,10.1]
[]
[]
[]
[null,null,"Žieminiai kviečiai"]
[null,null,null,"R","S","GA","SA","SPR","SPS","TP","TS",null,"Metai","R","S","GA","SA","SPR","SPS","TP","TS"]
[null,{"$f":"_xlfn._xlws.FILTER(Lentelė7[],Lentelė7[Crop]=C37,\"-\")","v":2005},"Žieminiai kviečiai",9.8000000000000007,10.4,9.6999999999999993,9.1,9.6,10.9,10.9,10.4,null,{"$f":"+B39","v":2005},{"$f":"+D39-$D39","v":0},0.59999999999999964,{"$f":"+F39-$F39","v":0},{"$f":"+G39-$F39","v":-0.59999999999999964},{"$f":"+H39-$F39","v":-9.9999999999999645E-2},1.2000000000000011,1.2000000000000011,{"$f":"+K39-$F39","v":0.70000000000000107}]
[null,2008,"Žieminiai kviečiai",7.1,7.6,7.2,6.7,7.1,7.9,7.3,7.8,null,2008,0,0.5,{"$f":"+F40-$F40","v":0},-0.5,{"$f":"+H40-$F40","v":-0.10000000000000053},{"$f":"+I40-$F40","v":0.70000000000000018},{"$f":"+J40-$F40","v":9.9999999999999645E-2},{"$f":"+K40-$F40","v":0.59999999999999964},null,null,"R","S","GA","SA","SPR","SPS","TP","TS"]
[null,2011,"Žieminiai kviečiai",5.8,6.1,5.7,5.2,5.3,6.5,6.6,6.4,null,2011,0,0.29999999999999982,0,-0.5,-0.40000000000000036,0.79999999999999982,0.89999999999999947,0.70000000000000018,null,{"$f":"_xlfn.CONCAT(B39,\", \",B40,\", \",B41)","v":"2005, 2008, 2011"},{"$f":"AVERAGE(D39:D41)","v":7.5666666666666664},8.0333333333333332,7.5333333333333323,7,7.333333333333333,8.4333333333333336,8.2666666666666657,8.2000000000000011]
[null,2014,"Žieminiai kviečiai",7.8,8.4,8,7.8,7.8,8,8.8000000000000007,8.3000000000000007,null,2014,0,0.60000000000000053,0,-0.20000000000000018,-0.20000000000000018,0,0.80000000000000071,0.30000000000000071,null,{"$f":"_xlfn.CONCAT(B40,\", \",B41,\", \",B42)","v":"2008, 2011, 2014"},{"$f":"AVERAGE(D40:D42)","v":6.8999999999999995},{"$f":"AVERAGE(E40:E42)","v":7.3666666666666671},6.9666666666666659,6.5666666666666664,6.7333333333333334,7.4666666666666659,7.5666666666666664,7.5]
[null,2017,"Žieminiai kviečiai",9.3000000000000007,9.82,9,8.93,9.27,10.83,10.27,9.8000000000000007,null,2017,0,0.51999999999999957,0,-7.0000000000000284E-2,0.26999999999999957,1.83,1.2699999999999996,0.80000000000000071,null,{"$f":"_xlfn.CONCAT(B41,\", \",B42,\", \",B43)","v":"2011, 2014, 2017"},{"$f":"AVERAGE(D41:D43)","v":7.6333333333333329},8.1066666666666674,7.5666666666666664,7.31,7.4566666666666661,8.4433333333333334,8.5566666666666666,8.1666666666666661]
[null,2020,"Žieminiai kviečiai",9.93,9.4,9.4499999999999993,9.69,8.81,10.34,10.06,9.6300000000000008,null,2020,0,-0.52999999999999936,0,0.24000000000000021,-0.63999999999999879,0.89000000000000057,0.61000000000000121,0.18000000000000149,null,{"$f":"_xlfn.CONCAT(B42,\", \",B43,\", \",B44)","v":"2014, 2017, 2020"},{"$f":"AVERAGE(D42:D44)","v":9.01},9.2066666666666652,8.8166666666666664,8.8066666666666666,8.6266666666666669,9.7233333333333327,9.7100000000000009,9.2433333333333341]
[null,2023,"Žieminiai kviečiai",9.9,10.1,9.3699999999999992,9.73,9.9700000000000006,10.47,10.71,10.1,null,2023,0,0.19999999999999929,0,0.36000000000000121,0.60000000000000142,1.1000000000000014,1.3400000000000016,0.73000000000000043,null,{"$f":"_xlfn.CONCAT(B43,\", \",B44,\", \",B45)","v":"2017, 2020, 2023"},{"$f":"AVERAGE(D43:D45)","v":9.7100000000000009},9.7733333333333334,9.2733333333333334,9.4499999999999993,9.35,10.546666666666667,10.346666666666666,9.8433333333333337]
[null,"Vidurkis",{"$f":"+C45","v":"Žieminiai kviečiai"},{"$f":"AVERAGE(D39:D45)","v":8.5185714285714287},{"$f":"AVERAGE(E39:E45)","v":8.831428571428571},8.3457142857142852,{"$f":"AVERAGE(G39:G45)","v":8.1642857142857146},{"$f":"AVERAGE(H39:H45)","v":8.2642857142857142},9.2771428571428576,9.2342857142857131,8.918571428571429,null,{"$f":"+C46","v":"Žieminiai kviečiai"},0,{"$f":"+E46-$D46","v":0.31285714285714228},0,{"$f":"+G46-$F46","v":-0.18142857142857061},-8.1428571428570962E-2,0.93142857142857238,0.8885714285714279,0.57285714285714384]
[null,"Standartinis nuokrypis",{"$f":"+C46","v":"Žieminiai kviečiai"},{"$f":"_xlfn.STDEV.P(D39:D45)","v":1.5152786502010542},{"$f":"_xlfn.STDEV.P(E39:E45)","v":1.4409067439976662},1.3608175813811072,1.5723036524508176,1.528817069715364,1.6404591194080387,1.5845851835990608,1.3549109466933187]
[null,"Variacijos koef.","Žieminiai kviečiai",{"$f":"+D47/D46","v":0.17787943235632031},{"$f":"+E47/E46","v":0.16315670022619966},0.16305585535206696,0.19258312453465831,0.18499082952476315,0.17682805414007191,0.17159802421400722,0.15192017662747445]
[null,null,null,null,null,null,null,null,null,null,null,null,null,null,{"$f":"SUMIFS(DerlingBandRez[Derlingumas],DerlingBandRez[Žemės ūkio augalas],DerlingBandRez!C11,DerlingBandRez[Technologija],DerlingBandRez!E12)","v":45.27}]
[]
[]
[null,null,"Vasariniai miežiai"]
[null,null,null,"R","S","GA","SA","SPR","SPS","TP","TS",null,"Metai","R","S","GA","SA","SPR","SPS","TP","TS"]
[null,{"$f":"_xlfn._xlws.FILTER(Lentelė7[],Lentelė7[Crop]=C52,\"-\")","v":2000},"Vasariniai miežiai",2.2999999999999998,2.2999999999999998,2.5,2.4,2.2999999999999998,2.2999999999999998,2.1,2.1,null,{"$f":"+B54","v":2000},{"$f":"+D54-$D54","v":0},{"$f":"+E54-$D54","v":0},{"$f":"+F54-$F54","v":0},{"$f":"+G54-$F54","v":-0.10000000000000009},{"$f":"+H54-$F54","v":-0.20000000000000018},-0.20000000000000018,-0.39999999999999991,-0.39999999999999991]
[null,2001,"Vasariniai miežiai",4,4.2,4.4000000000000004,4.4000000000000004,4.4000000000000004,3.9,3.7,3.7,null,2001,0,0.20000000000000018,{"$f":"+F55-$F55","v":0},0,{"$f":"+H55-$F55","v":0},{"$f":"+I55-$F55","v":-0.50000000000000044},{"$f":"+J55-$F55","v":-0.70000000000000018},{"$f":"+K55-$F55","v":-0.70000000000000018}]
[null,2002,"Vasariniai miežiai",5,5.0999999999999996,5.4,4.9000000000000004,5.2,5.2,4.8,4.9000000000000004,null,2002,0,9.9999999999999645E-2,0,-0.5,-0.20000000000000018,-0.20000000000000018,-0.60000000000000053,-0.5,null,null,"R","S","GA","SA","SPR","SPS","TP","TS"]
[null,2003,"Vasariniai miežiai",4.0999999999999996,4.4000000000000004,4.5,4.3,4.0999999999999996,4.2,4.3,4.0999999999999996,null,2003,0,0.30000000000000071,0,-0.20000000000000018,-0.40000000000000036,-0.29999999999999982,-0.20000000000000018,-0.40000000000000036,null,{"$f":"_xlfn.CONCAT(B55,\", \",B56,\", \",B57)","v":"2001, 2002, 2003"},{"$f":"AVERAGE(D55:D57)","v":4.3666666666666663},4.5666666666666673,4.7666666666666666,4.5333333333333341,4.5666666666666673,4.4333333333333336,4.2666666666666666,4.2333333333333334]
[null,2006,"Vasariniai miežiai",3.3,3.6,3.6,3.2,3.7,3.2,3.6,3.4,null,2006,0,0.30000000000000027,0,-0.39999999999999991,0.10000000000000009,-0.39999999999999991,0,-0.20000000000000018,null,"2002, 2003, 2006",{"$f":"AVERAGE(D56:D58)","v":4.1333333333333329},{"$f":"AVERAGE(E56:E58)","v":4.3666666666666663},4.5,4.1333333333333329,4.333333333333333,4.2,4.2333333333333334,4.1333333333333337]
[null,2009,"Vasariniai miežiai",4.5999999999999996,5.0999999999999996,5.4,5.0999999999999996,5.2,4.5,4.5999999999999996,4.5,null,2009,0,0.5,0,-0.30000000000000071,-0.20000000000000018,-0.90000000000000036,-0.80000000000000071,-0.90000000000000036,null,"2003, 2006, 2009",4,4.3666666666666663,4.5,4.2,4.333333333333333,3.9666666666666668,4.166666666666667,4]
[null,2012,"Vasariniai miežiai",4.5999999999999996,4.5,5.0999999999999996,4.4000000000000004,4.3,4.5,4.5,4.5999999999999996,null,2012,0,-9.9999999999999645E-2,0,-0.69999999999999929,-0.79999999999999982,-0.59999999999999964,-0.59999999999999964,-0.5,null,"2006, 2009, 2012",4.166666666666667,4.3999999999999995,4.7,4.2333333333333334,4.3999999999999995,4.0666666666666664,4.2333333333333334,4.166666666666667]
[null,2015,"Vasariniai miežiai",7.2,7.3,7.3,6.7,7.2,7.4,7.4,7.5,null,2015,0,9.9999999999999645E-2,0,-0.59999999999999964,-9.9999999999999645E-2,0.10000000000000053,0.10000000000000053,0.20000000000000018,null,"2009, 2012, 2015",5.4666666666666659,5.6333333333333329,5.9333333333333336,5.3999999999999995,5.5666666666666664,5.4666666666666659,5.5,5.5333333333333341]
[null,2018,"Vasariniai miežiai",4.72,4.84,4.95,4.5999999999999996,4.4000000000000004,4.6399999999999997,4.84,5.27,null,2018,0,0.12000000000000011,0,-0.35000000000000053,-0.54999999999999982,-0.3100000000000005,-0.11000000000000032,0.3199999999999994,null,"2012, 2015, 2018",5.5066666666666668,{"$f":"AVERAGE(E60:E62)","v":5.5466666666666669},5.7833333333333323,5.2333333333333334,5.3,5.5133333333333328,5.580000000000001,5.7899999999999991]
[null,2021,"Vasariniai miežiai",3.62,3.93,3.62,4.13,3.29,3.94,3.53,4.1399999999999997,null,2021,0,0.31000000000000005,0,0.50999999999999979,-0.33000000000000007,0.31999999999999984,-9.0000000000000302E-2,0.51999999999999957,null,"2015, 2018, 2021",5.18,{"$f":"AVERAGE(E61:E63)","v":5.3566666666666665},5.29,5.1433333333333335,4.9633333333333338,5.3266666666666662,5.2566666666666668,5.6366666666666667]
[null,"Vidurkis",{"$f":"+C63","v":"Vasariniai miežiai"},{"$f":"AVERAGE(D55:D63)","v":4.5711111111111116},{"$f":"AVERAGE(E55:E63)","v":4.7744444444444438},4.9188888888888895,4.6366666666666667,4.6433333333333335,4.6088888888888881,4.5855555555555547,4.6788888888888884,null,{"$f":"+C64","v":"Vasariniai miežiai"},0,{"$f":"+E64-$D64","v":0.20333333333333226},0,{"$f":"+G64-$F64","v":-0.28222222222222282},-0.275555555555556,-0.31000000000000139,-0.33333333333333481,-0.2400000000000011]
[null,"Standartinis nuokrypis",{"$f":"+C64","v":"Vasariniai miežiai"},{"$f":"_xlfn.STDEV.P(D54:D63)","v":1.2177618814858675},{"$f":"_xlfn.STDEV.P(E54:E63)","v":1.2142162080947509},1.2370776046796732,1.0766248185881655,1.2390032284058028,1.2674525632148934,1.2864995141856828,1.326653308140451]
[null,"Variacijos koef.","Vasariniai miežiai",{"$f":"+D65/D64","v":0.26640391184668949},{"$f":"+E65/E64","v":0.25431570567495371},{"$f":"+F65/F64","v":0.25149533413411018},{"$f":"+G65/G64","v":0.2321980198249099},{"$f":"+H65/H64","v":0.26683486613190294},{"$f":"+I65/I64","v":0.27500176154614375},{"$f":"+J65/J64","v":0.28055477653673727},{"$f":"+K65/K64","v":0.28354024633730851}]
[]
[]
[null,null,"Vasariniai rapsai"]
[null,null,null,"R","S","GA","SA","SPR","SPS","TP","TS",null,"Metai","R","S","GA","SA","SPR","SPS","TP","TS"]
[null,{"$f":"_xlfn._xlws.FILTER(Lentelė7[],Lentelė7[Crop]=C69,\"-\")","v":2004},"Vasariniai rapsai",2.4,2.2999999999999998,2.4,2.2999999999999998,2,2.5,"-",2.1,null,{"$f":"+B71","v":2004},{"$f":"+D71-$D71","v":0},-0.10000000000000009,{"$f":"+F71-$F71","v":0},{"$f":"+G71-$F71","v":-0.10000000000000009},{"$f":"+H71-$F71","v":-0.39999999999999991},0.10000000000000009,null,-0.29999999999999982]
[null,2007,"Vasariniai rapsai",2.1,2.1,2.1,2.2000000000000002,2.1,2.1,1.8,2.1,null,2007,0,0,{"$f":"+F72-$F72","v":0},0.10000000000000009,0,0,-0.30000000000000004,0]
[null,2010,"Vasariniai rapsai",1.5,1.5,1.7,1.6,1.5,1.5,1.3,1.5,null,2010,0,0,0,-9.9999999999999867E-2,-0.19999999999999996,-0.19999999999999996,-0.39999999999999991,-0.19999999999999996,null,null,"R","S","GA","SA","SPR","SPS","TP","TS"]
[null,2013,"Vasariniai rapsai",0.6,0.6,0.6,0.6,0.6,0.3,0.5,0.6,null,2013,0,0,0,0,0,-0.3,-9.9999999999999978E-2,0,null,{"$f":"_xlfn.CONCAT(B72,\", \",B73,\", \",B74)","v":"2007, 2010, 2013"},{"$f":"AVERAGE(D72:D74)","v":1.4000000000000001},1.4000000000000001,1.4666666666666666,1.4666666666666668,1.4000000000000001,1.3,1.2,1.4000000000000001]
[null,2016,"Vasariniai rapsai",1.23,1.18,1.1200000000000001,1.2,1.2,1.21,1.34,1.1499999999999999,null,2016,0,-5.0000000000000044E-2,0,7.9999999999999849E-2,7.9999999999999849E-2,8.9999999999999858E-2,0.21999999999999997,2.9999999999999805E-2,null,{"$f":"_xlfn.CONCAT(B73,\", \",B74,\", \",B75)","v":"2010, 2013, 2016"},{"$f":"AVERAGE(D73:D75)","v":1.1100000000000001},{"$f":"AVERAGE(E73:E75)","v":1.0933333333333335},1.1399999999999999,1.1333333333333335,1.0999999999999999,1.0033333333333332,1.0466666666666666,1.0833333333333333]
[null,2019,"Vasariniai rapsai",1.45,1.52,1.48,1.47,1.48,1.47,1.58,1.45,null,2019,0,7.0000000000000062E-2,0,-1.0000000000000009E-2,0,-1.0000000000000009E-2,0.10000000000000009,-3.0000000000000027E-2,null,{"$f":"_xlfn.CONCAT(B74,\", \",B75,\", \",B76)","v":"2013, 2016, 2019"},{"$f":"AVERAGE(D74:D76)","v":1.0933333333333335},1.0999999999999999,1.0666666666666667,1.0899999999999999,1.0933333333333333,0.99333333333333329,1.1399999999999999,1.0666666666666667]
[null,"Vidurkis",{"$f":"+C76","v":"Vasariniai rapsai"},{"$f":"AVERAGE(D71:D76)","v":1.5466666666666666},1.5333333333333332,1.5666666666666667,1.5616666666666665,1.4799999999999998,1.5133333333333334,1.304,1.4833333333333332,null,{"$f":"+C77","v":"Vasariniai rapsai"},0,{"$f":"+E77-$D77","v":-1.3333333333333419E-2},0,{"$f":"+G77-$F77","v":-5.0000000000001155E-3},-8.6666666666666892E-2,-5.3333333333333233E-2,-0.2626666666666666,-8.3333333333333481E-2]
[null,"Standartinis nuokrypis",{"$f":"+C77","v":"Vasariniai rapsai"},{"$f":"_xlfn.STDEV.P(D71:D76)","v":0.58342856365530216},{"$f":"_xlfn.STDEV.P(E71:E76)","v":0.56363897034262012},0.59695523748062951,0.57995450013102134,0.50133156028055303,0.69329326807315506,0.44043614747202586,0.52493385826745453]
[null,"Variacijos koef.","Vasariniai rapsai",{"$f":"+D78/D77","v":0.37721674374265224},{"$f":"+E78/E77","v":0.3675906328321436},0.38103525796635929,0.3713689435203979,0.33873754073010348,0.45812330489415531,0.33775778180370081,0.35388799433760981]
[]
[]
[null,null,"Žieminiai rapsai"]
[null,null,null,"R","S","GA","SA","SPR","SPS","TP","TS",null,"Metai","R","S","GA","SA","SPR","SPS","TP","TS",null,null,"R","S","GA","SA","SPR","SPS","TP","TS"]
[null,{"$f":"_xlfn._xlws.FILTER(Lentelė7[],Lentelė7[Crop]=C82,\"-\")","v":2022},"Žieminiai rapsai",2.69,2.84,2.37,2.39,2.48,2.85,3.11,3.37,null,{"$f":"+B84","v":2022},{"$f":"+D84-$D84","v":0},{"$f":"+E84-$D84","v":0.14999999999999991},{"$f":"+F84-$F84","v":0},2.0000000000000018E-2,0.10999999999999988,0.48,0.73999999999999977,1,null,{"$f":"+B84","v":2022},{"$f":"+D84","v":2.69},{"$f":"+E84","v":2.84},2.37,2.39,2.48,2.85,3.11,3.37]
[null,"Vidurkis",{"$f":"+C84","v":"Žieminiai rapsai"},{"$f":"AVERAGE(D84:D84)","v":2.69},2.84,2.37,2.39,2.48,2.85,3.11,3.37,null,null,0,{"$f":"+E85-$D85","v":0.14999999999999991},0,{"$f":"+G85-$F85","v":2.0000000000000018E-2},{"$f":"+H85-$F85","v":0.10999999999999988},{"$f":"+I85-$F85","v":0.48},{"$f":"+J85-$F85","v":0.73999999999999977},{"$f":"+K85-$F85","v":1}]
[null,"Standartinis nuokrypis",{"$f":"+C85","v":"Žieminiai rapsai"},{"$f":"_xlfn.STDEV.P(D84:D84)","v":0},0,0,0,0,0,0,0]
[null,"Variacijos koef.","Žieminiai rapsai",{"$f":"+D86/D85","v":0},{"$f":"+E86/E85","v":0},{"$f":"+F86/F85","v":0},{"$f":"+G86/G85","v":0},{"$f":"+H86/H85","v":0},{"$f":"+I86/I85","v":0},{"$f":"+J86/J85","v":0},{"$f":"+K86/K85","v":0}]
[]
[]
[]
[]
[null,null,null,350,{"$f":"+D92","v":350},350,350,350,350,350,350]
[null,null,null,{"$f":"+D92*D84","v":941.5},994,829.5,836.5,868,997.5,1088.5,1179.5,null,null,null,{"$f":"+E93/D93-1","v":5.5762081784386686E-2},null,{"$f":"+G93/$F93-1","v":8.4388185654007408E-3},{"$f":"+H93/$F93-1","v":4.6413502109704741E-2},0.20253164556962022,0.31223628691983119,0.42194092827004215]
[]
[]
[]
[null,null,"Žieminiai javai"]
[null,null,"Vasariniai javai"]
[null,null,"Žieminiai rapsai"]
[]
[]
[]
[null,{"$f":"TRANSPOSE(B83:K87)","v":0},2022,"Vidurkis","Standartinis nuokrypis","Variacijos koef."]
[null,0,"Žieminiai rapsai","Žieminiai rapsai","Žieminiai rapsai","Žieminiai rapsai"]
[null,"R",2.69,2.69,0,0]
[null,"S",2.84,2.84,0,0]
[null,"GA",2.37,2.37,0,0]
[null,"SA",2.39,2.39,0,0]
[null,"SPR",2.48,2.48,0,0]
[null,"SPS",2.85,2.85,0,0]
[null,"TP",3.11,3.11,0,0]
[null,"TS",3.37,3.37,0,0]
[]
[]
[]
[]
[]
[]
[null,"Gilus arimas (GA)",null,"GA - skusta ražiena, gilus arimas rudenį 23-25 cm gyliu (kontrolė, gilus arimas)"]
[null,"Seklus arimas (SA)",null,"SA - skusta ražiena, seklus arimas rudenį 10-12 cm gyliu (seklus arimas)"]
[null,"Seklus purenimas rudenį (SPR)",null,"SPR - skusta ražiena, seklus purenimas rudenį diskiniu skutikliu 8-10 cm gyliu (seklus purenimas rudenį)"]
[null,"Seklus purenimas prieš sėją (SPS)",null,"SPS - neskusta, seklus purenimas prieš sėją diskiniu skutikliu 4-5 cm gyliu (seklus purenimas prieš sėją)"]
[null,"Tarpiniai pasėliai (TP)",null,"TP - neskusta, tarpinių pasėlių sėja į neįdirbtą dirvą, seklus purenimas prieš sėją diskiniu skutikliu 4-5 cm gyliu (tarpiniai pasėliai)"]
[null,"Tiesioginė sėja (TS)",null,"TS - neskusta, tiesioginė sėja į neįdirbtą dirvą (nulinis žemės dirbimas)"]

{"sheet":"Informacija","index":2,"n_rows":0,"n_cols":0,"rows_kept":0,"cut":false,"hidden":false,"merged":[]}

{"sheet":"Duomenys","index":3,"n_rows":127,"n_cols":14,"rows_kept":127,"cut":false,"hidden":true,"merged":[]}
[]
[null,"I  ","Humusingumas"]
[null,null,"Pasirinkite","-"]
[null,null,"Labai mažo humusingumo ",1]
[null,null,"Mažo humusingumo",2]
[null,null,"Vidutinio humusingumo ",3]
[null,null,"Humusingi",4]
[null,null,"Didelio humusingumo",5]
[null,null,"Labai mažo humusingumo (≤ 0,5 proc.); mažo humusingumo (0,51 – 3,0 proc.); vidutinio humusingumo (3,01 – 4,0 proc.); humusingi (4,01 – 6,0 proc.); didelio humusingumo (≥ 6,0 proc.)."]
[]
[null,"II","Granuliometrinė sudėtis"]
[null,null,"Pasirinkite","-"]
[null,null,"Smėlis",0.5]
[null,null,"Priesmėlis",1]
[null,null,"Priemolis L",2.5]
[null,null,"Priemolis V",3]
[null,null,"Priemolis S",3.5]
[null,null,"Molis S",4]
[null,null,"Molis D",4.5]
[null,null,"Molis",5]
[null,null,"Klasifikacija pagal LR Teritorijos dirvožemio erdvinių duomenų rinkinio specifikaciją (LR žemės ūkio ministro įsakymas, 2024 m. sausio 19 d. Nr. 3D-42)"]
[]
[null,"III","Organinė medžiaga ir sėjomaina"]
[null,null,"Pasirinkite","-"]
[null,null,0,0]
[null,null,0.15,0.15]
[null,null,0.2,0.2]
[null,null,0.25,0.25]
[null,null,0.3,0.3]
[null,null,0.35,0.35]
[null,null,"Dirvožemio organinės medžiagos kiekis dirvožemio paviršiuje po tradicinio žemės dirbimo palieka mažiau nei 15 proc. organinės biomasės, bearimėje technologijoje – 30-36 proc. (pagal Choudhary et al., 2018)."]
[]
[null,"IV","Erozija "]
[null,null,"Dėl žemės dirbimo"]
[null,null,"Pasirinkite","-"]
[null,null,"Nepaveikta",1]
[null,null,"Vidutiniškai paveikta",-0.1]
[null,null,"Paveikta stipriai",0]
[null,null,"Erozija dėl žemės dirbimo – vyrauja dėl organinės medžiagos praradimo tradicinio žemės dirbimo praktikose (2-3 augalai sėjomainoje)."]
[]
[null,null,"Po derliaus nuėmimo"]
[null,null,"Pasirinkite","-"]
[null,null,"Nepaveikta",1]
[null,null,"Vidutiniškai paveikta",-0.2]
[null,null,"Paveikta stipriai",0]
[null,null,"Erozija po derliaus nuėmimo - vyrauja dėl organinės medžiagos praradimo tradicinio žemės dirbimo praktikose (2-3 augalai sėjomainoje), dirvožemis nepadengtas augalais ≥ 2 mėnesius. "]
[]
[null,null,"Dėl vandens erozijos"]
[null,null,"Pasirinkite","-"]
[null,null,"Nepaveikta",1]
[null,null,"Vidutiniškai paveikta",-0.1]
[null,null,"Paveikta stipriai",0]
[null,null,"Vandens erozija - vyrauja dėl organinės medžiagos praradimo ir dirvožemio menko struktringumo, kai matomi nuplauto dirvožemio šliūžės > negu 20 proc. pasėlio plote."]
[]
[null,null,"Dėl vėjo erozijos"]
[null,null,"Pasirinkite","-"]
[null,null,"Nepaveikta",1]
[null,null,"Vidutiniškai paveikta",-0.2]
[null,null,"Paveikta stipriai",0]
[null,null,"Vėjo erozija - dėl organinės medžiagos praradimo ir dirvožemio menko struktringumo, dirvožemio dulkių frakcijos pustymo > negu 20 proc. pasėlio plote (pagal Chappell et al., 2019)."]
[]
[null,"V","Tankis"]
[null,null,"Pasirinkite","-"]
[null,null,"Iki 1,2 g cm-3",9.5000000000000001E-2]
[null,null,"1,21 - 1,30 g cm-3",-0.16300000000000001]
[null,null,"1,4 g  cm-3 ir daugiau",-0.38500000000000001]
[]
[null,"VI","Vandens imlumas (dirvožemio geba išlaikyti vandenį dirvožemio paviršiuje)"]
[null,null,"Pasirinkite","-"]
[null,null,"Nefiksuota",-0.55100000000000005]
[null,null,"iki 5 cm nuo dirvožemio paviršiaus",0.14199999999999999]
[null,null,"5,1 - 10 cm nuo dirvožemio paviršiaus",0.27300000000000002]
[null,null,"10,1 - 15 cm ir giliau ",0.68200000000000005]
[]
[null,"VII","pH rodiklis"]
[null,null,"Pasirinkite","-"]
[null,null,"Labai rūgštus (4,5 ir mažiau)",0.01]
[null,null,"Vidutiniškai rūgštus (4,5-5,0)",8.1000000000000003E-2]
[null,null,"Mažai rūgštus (5,1-5,5)",8.6999999999999994E-2]
[null,null,"Rūgštoki (5,6-6,0)",0.84399999999999997]
[null,null,"Neutraloki (6,1 ir daugiau)",0.16300000000000001]
[]
[null,"VIII","Pasotinimas bazėmis"]
[null,null,"Pasirinkite","-"]
[null,null,"Pasotinti bazėmis (>50 proc.)",0.49099999999999999]
[null,null,"Nepasotinti (<50 proc.)",8.2000000000000003E-2]
[null,null,"Nepasotinti ir paveikti cheminės erozijos",-4.2000000000000003E-2]
[null,null,"Dirvožemio cheminė erozija vyrauja dėl dirvožemio rūgštėjimo, nesubalansuoto cheminių trąšų ir pesticidų naudojimo (Mockeviciene et al., 2024)."]
[null,null,null,null,null,null,null,null,11.51]
[null,"IX","Sliekų skaičius"]
[null,null,"Gausumas, vnt.",null,null,null,null,null,null,null,"Skirstymas",null,"Procentai"]
[null,null,"Pasirinkite",0,null,null,null,null,null,null,0.13789999999999999,null,"Pointer",{"$f":"IFERROR(Skaičiuoklė!F39*1/I89,0)","v":0}]
[null,null,"Mažas (nėra arba 1 vnt.)",0.01,null,null,null,null,null,null,0.26090000000000002,null,"Thichness",0.03]
[null,null,"Vidutinis (2 - 4 vnt.)",8.5000000000000006E-2,null,null,null,null,null,null,0.21740000000000001,null,"rest",{"$f":"2-(N92+N93)","v":1.97}]
[null,null,"Geras (5 - 7 vnt.)",0.10299999999999999,null,null,null,null,null,null,0.3478]
[null,null,"Labai geras (≥  8 vnt.)",0.308,null,null,null,null,null,null,1]
[]
[null,null,"Sliekų biomasė, g"]
[null,null,"Pasirinkite",0]
[null,null,"Mažas (nėra arba 1 vnt.)",0.01]
[null,null,"Vidutinis (2 - 4 vnt.)",0.01]
[null,null,"Geras (5 - 7 vnt.)",7.9000000000000001E-2]
[null,null,"Labai geras (≥  8 vnt.)",7.9000000000000001E-2]
[]
[null,null,"Rūšių gausumas, vnt."]
[null,null,"Pasirinkite",0]
[null,null,"Mažas (nėra arba 1 vnt.)",0.01]
[null,null,"Vidutinis (2 - 4 vnt.)",0.01]
[null,null,"Geras (5 - 7 vnt.)",0.10299999999999999]
[null,null,"Labai geras (≥  8 vnt.)",0.10299999999999999]
[null,null,"Sliekų gausumo, biomasės ir rušių skaičiaus dirvožemyje svertinės vertės modelyje adaptuotos pagal Meitasari et al., 2024."]
[]
[null,"X","Mikroorganizmų gausumas ir biomasės sankaupos"]
[null,null,"Gausumas, KFV g-1"]
[null,null,"Pasirinkite",0]
[null,null,"Nefiksuota, bet menkas",0.10299999999999999]
[null,null,"Gausumas ir aktyvumas iki 5 cm gylio",0.10299999999999999]
[null,null,"Gausumas ir aktyvumas iki 10 cm gylio",0.113]
[null,null,"Gausumas ir aktyvumas ≥ 15 cm gylyje",0.30399999999999999]
[]
[null,null,"Biomasės sankaupos"]
[null,null,"Pasirinkite",0]
[null,null,"Nefiksuota, bet menkas",0.10299999999999999]
[null,null,"Gausumas ir aktyvumas iki 5 cm gylio",0.10299999999999999]
[null,null,"Gausumas ir aktyvumas iki 10 cm gylio",0.30399999999999999]
[null,null,"Gausumas ir aktyvumas ≥ 15 cm gylyje",0.34]
[null,null,"Dirvožemio mikroorganizmų gausumo ir biomasės sankaupų svertinės vertės modelyje adaptuotos pagal Meitasari et al., 2024."]

{"sheet":"Skaičiuoklė","index":4,"n_rows":39,"n_cols":13,"rows_kept":39,"cut":false,"hidden":false,"merged":[[19,1,19,5],[19,7,19,12],[26,1,26,5],[26,7,26,12],[7,1,7,5],[7,7,7,12],[11,1,11,5],[11,7,11,12],[15,1,15,5],[15,7,15,12]]}
[]
[]
[]
[]
[]
[]
[]
[null,"Humusingumas",null,null,null,null,null,"Vandens imlumas (nuo paviršiaus ribų)"]
[]
[null,"Pasirinkite",null,null,null,{"$f":"_xlfn.XLOOKUP(B10,Duomenys!C3:C8,Duomenys!D3:D8)","v":"-"},null,"Pasirinkite",null,null,null,null,{"$f":"_xlfn.XLOOKUP(H10,Duomenys!C69:C73,Duomenys!D69:D73)","v":"-"}]
[]
[null,"Granuliometrinė sudėtis",null,null,null,null,null,"pH rodiklis"]
[]
[null,"Pasirinkite",null,null,null,{"$f":"_xlfn.XLOOKUP(B14,Duomenys!C12:C20,Duomenys!D12:D20)","v":"-"},null,"Pasirinkite",null,null,null,null,{"$f":"_xlfn.XLOOKUP(H14,Duomenys!C76:C81,Duomenys!D76:D81)","v":"-"}]
[]
[null,"Sėjomainas ir organinės liekanos",null,null,null,null,null,"Pasotinimas bazėmis"]
[]
[null,"Pasirinkite",null,null,null,{"$f":"_xlfn.XLOOKUP(B18,Duomenys!C24:C30,Duomenys!D24:D30)","v":"-"},null,"Pasirinkite",null,null,null,null,{"$f":"_xlfn.XLOOKUP(H18,Duomenys!C84:C87,Duomenys!D84:D87)","v":"-"}]
[]
[null,"Erozija",null,null,null,null,null,"Sliekų skaičius (pasirinkti vieną)"]
[]
[null,"Dėl žemės dirbimo","Pasirinkite",null,null,{"$f":"_xlfn.XLOOKUP(C22,Duomenys!C35:C38,Duomenys!D35:D38)","v":"-"},null,"Gausumas",null,"Pasirinkite",null,null,{"$f":"_xlfn.XLOOKUP(J22,Duomenys!C92:C96,Duomenys!D92:D96)","v":0}]
[null,"Po derliaus nuėmimo","Pasirinkite",null,null,{"$f":"_xlfn.XLOOKUP(C23,Duomenys!C42:C45,Duomenys!D42:D45)","v":"-"},null,"Sliekų biomasė",null,"Pasirinkite",null,null,{"$f":"_xlfn.XLOOKUP(J23,Duomenys!C99:C103,Duomenys!D99:D103)","v":0}]
[null,"Vandens","Pasirinkite",null,null,{"$f":"_xlfn.XLOOKUP(C24,Duomenys!C49:C52,Duomenys!D49:D52)","v":"-"},null,"Rūšys ir įvairovė",null,"Pasirinkite",null,null,{"$f":"_xlfn.XLOOKUP(J24,Duomenys!C106:C110,Duomenys!D106:D110)","v":0}]
[null,"Vėjo","Pasirinkite",null,null,{"$f":"_xlfn.XLOOKUP(C25,Duomenys!C56:C59,Duomenys!D56:D59)","v":"-"}]
[]
[null,"Tankis ir sutankėjimas",null,null,null,null,null,"Mikroorganizmų gausumas ir biomasės sankaupos (pasirinkti vieną)"]
[]
[null,"Pasirinkite",null,null,null,{"$f":"_xlfn.XLOOKUP(B29,Duomenys!C63:C66,Duomenys!D63:D66)","v":"-"},null,"Gausumas",null,"Pasirinkite",null,null,{"$f":"_xlfn.XLOOKUP(J29,Duomenys!C115:C119,Duomenys!D115:D119)","v":0}]
[null,null,null,null,null,null,null,"Biomasės sankaupos",null,"Pasirinkite",null,null,{"$f":"_xlfn.XLOOKUP(J30,Duomenys!C122:C126,Duomenys!D122:D126)","v":0}]
[]
[]
[]
[]
[]
[]
[]
[]
[null,"Dirvožemio sveikatos indeksas:",null,null,null,{"$f":"IFERROR((F10*F14*F18)*(IF(COUNTIF(F22:F25,0)>0,0,AVERAGE(F22:F25)))+(IF(COUNTIF(F22:F25,0)>0,0,F29+M10+M14+M18+M22+M23+M24+M29+M30)),0)","v":0}]

{"sheet":"Informacija 2","index":5,"n_rows":14,"n_cols":2,"rows_kept":14,"cut":false,"hidden":false,"merged":[]}
[]
[]
[]
[]
[]
[]
[null,"Žemės dirbimo technologijos trumpas apibūdinimas ir jos sutrumpinimas"]
[]
[null,"GA - skusta ražiena, gilus arimas rudenį 23-25 cm gyliu (kontrolė, gilus arimas)"]
[null,"SA - skusta ražiena, seklus arimas rudenį 10-12 cm gyliu (seklus arimas)"]
[null,"SPR - skusta ražiena, seklus purenimas rudenį diskiniu skutikliu 8-10 cm gyliu (seklus purenimas rudenį)"]
[null,"SPS - neskusta, seklus purenimas prieš sėją diskiniu skutikliu 4-5 cm gyliu (seklus purenimas prieš sėją)"]
[null,"TP - neskusta, tarpinių pasėlių sėja į neįdirbtą dirvą, seklus purenimas prieš sėją diskiniu skutikliu 4-5 cm gyliu (tarpiniai pasėliai)"]
[null,"TS - neskusta, tiesioginė sėja į neįdirbtą dirvą (nulinis žemės dirbimas)"]

{"sheet":"Bandymų duomenys","index":6,"n_rows":34,"n_cols":18,"rows_kept":34,"cut":false,"hidden":true,"merged":[]}
[]
[]
[]
[]
[]
[]
[null,"JAVŲ IR RAPSŲ PLOTAI, DERLINGUMAS, PAJAMOS, SĄNAUDOS IR PELNAS"]
[]
[null,"Iš viso",null,null,null,null,null,null,null,null,null,{"$f":"SUM(Ūkis20[Pajamos iš viso, Eur])","v":28744.28999999999},null,null,{"$f":"SUM(Ūkis20[Sąnaudos iš viso, Eur])","v":14099.64},null,{"$f":"SUM(Ūkis20[Pelno marža iš viso, Eur])","v":14644.649999999998}]
["Eil. Nr.","Žemės ūkio augalas, arba jų grupė","Produktas","Dirvos dirbimo technologija","Plotas ha","Vidutinis derlingumas t/ha","Vidutinis derlingumas ūkyje t/ha","Derlius t","Vidutinė rinkos kaina, Eur/t","Vidutinė ūkio pardavimo kaina, Eur/t","Pajamos, Eur/ha","Pajamos iš viso, Eur","Normatyvinės kintamosios sąnaudos, Eur/ha","Ūkio kintamosios sąnaudos, Eur/ha","Sąnaudos iš viso, Eur","Pelno marža, Eur/ha","Pelno marža iš viso, Eur","Investicijų poreikis, tūkst. Eur"]
[{"$f":"ROW()-ROW(Ūkis20[[#Headers],[Eil. Nr.]])","v":1},"Žieminiai javai","Kviečiai","Gilus arimas (GA)",1,{"$f":"IF(Ūkis20[[#This Row],[Vidutinis derlingumas ūkyje t/ha]]<>0,Ūkis20[[#This Row],[Vidutinis derlingumas ūkyje t/ha]], _xlfn._xlws.FILTER(SanaudosSuv[Vidutinis derlingumas, t/ha], (SanaudosSuv[Žemės ūkio augalas, arba jų grupė]=Ūkis20[[#This Row],[Žemės ūkio augalas, arba jų grupė]]) * (SanaudosSuv[Žemės dirbimo technologija]=Ūkis20[[#This Row],[Dirvos dirbimo technologija]]), 0))","v":8.35},null,{"$f":"Ūkis20[[#This Row],[Plotas ha]]*Ūkis20[[#This Row],[Vidutinis derlingumas t/ha]]","v":8.35},{"$f":"IF(Ūkis20[[#This Row],[Vidutinė ūkio pardavimo kaina, Eur/t]]<>0,Ūkis20[[#This Row],[Vidutinė ūkio pardavimo kaina, Eur/t]],_xlfn.XLOOKUP(Ūkis20[[#This Row],[Produktas]],Kainos[Žemės ūkio produktas],Kainos[Produkcijos kaina Eur/t],0))","v":227},null,{"$f":"+Ūkis20[[#This Row],[Vidutinė rinkos kaina, Eur/t]]*Ūkis20[[#This Row],[Vidutinis derlingumas t/ha]]","v":1895.4499999999998},{"$f":"Ūkis20[[#This Row],[Derlius t]]*Ūkis20[[#This Row],[Vidutinė rinkos kaina, Eur/t]]","v":1895.4499999999998},{"$f":"IF(Ūkis20[[#This Row],[Ūkio kintamosios sąnaudos, Eur/ha]]<>0,Ūkis20[[#This Row],[Ūkio kintamosios sąnaudos, Eur/ha]],SUMIFS(SanaudosSuv[Iš viso tiesioginių sąnaudų, Eur/t],SanaudosSuv[Žemės ūkio augalas, arba jų grupė],Ūkis20[[#This Row],[Žemės ūkio augalas, arba jų grupė]],SanaudosSuv[Žemės dirbimo technologija],Ūkis20[[#This Row],[Dirvos dirbimo technologija]]))","v":678.32},null,{"$f":"Ūkis20[[#This Row],[Plotas ha]]*Ūkis20[[#This Row],[Normatyvinės kintamosios sąnaudos, Eur/ha]]","v":678.32},{"$f":"+Ūkis20[[#This Row],[Pajamos, Eur/ha]]-Ūkis20[[#This Row],[Normatyvinės kintamosios sąnaudos, Eur/ha]]","v":1217.1299999999997},{"$f":"+Ūkis20[[#This Row],[Pelno marža, Eur/ha]]*Ūkis20[[#This Row],[Plotas ha]]","v":1217.1299999999997},{"$f":"SUMIFS(SanaudosSuv[Investicijų poreikis, tūkst. Eur],SanaudosSuv[Žemės ūkio augalas, arba jų grupė],Ūkis20[[#This Row],[Žemės ūkio augalas, arba jų grupė]],SanaudosSuv[Žemės dirbimo technologija],Ūkis20[[#This Row],[Dirvos dirbimo technologija]])","v":1159.78}]
[{"$f":"ROW()-ROW(Ūkis20[[#Headers],[Eil. Nr.]])","v":2},"Vasariniai javai","Miežiai","Gilus arimas (GA)",1,{"$f":"IF(Ūkis20[[#This Row],[Vidutinis derlingumas ūkyje t/ha]]<>0,Ūkis20[[#This Row],[Vidutinis derlingumas ūkyje t/ha]], _xlfn._xlws.FILTER(SanaudosSuv[Vidutinis derlingumas, t/ha], (SanaudosSuv[Žemės ūkio augalas, arba jų grupė]=Ūkis20[[#This Row],[Žemės ūkio augalas, arba jų grupė]]) * (SanaudosSuv[Žemės dirbimo technologija]=Ūkis20[[#This Row],[Dirvos dirbimo technologija]]), 0))","v":4.68},null,{"$f":"Ūkis20[[#This Row],[Plotas ha]]*Ūkis20[[#This Row],[Vidutinis derlingumas t/ha]]","v":4.68},{"$f":"IF(Ūkis20[[#This Row],[Vidutinė ūkio pardavimo kaina, Eur/t]]<>0,Ūkis20[[#This Row],[Vidutinė ūkio pardavimo kaina, Eur/t]],_xlfn.XLOOKUP(Ūkis20[[#This Row],[Produktas]],Kainos[Žemės ūkio produktas],Kainos[Produkcijos kaina Eur/t],0))","v":203},null,{"$f":"+Ūkis20[[#This Row],[Vidutinė rinkos kaina, Eur/t]]*Ūkis20[[#This Row],[Vidutinis derlingumas t/ha]]","v":950.04},{"$f":"Ūkis20[[#This Row],[Derlius t]]*Ūkis20[[#This Row],[Vidutinė rinkos kaina, Eur/t]]","v":950.04},{"$f":"IF(Ūkis20[[#This Row],[Ūkio kintamosios sąnaudos, Eur/ha]]<>0,Ūkis20[[#This Row],[Ūkio kintamosios sąnaudos, Eur/ha]],SUMIFS(SanaudosSuv[Iš viso tiesioginių sąnaudų, Eur/t],SanaudosSuv[Žemės ūkio augalas, arba jų grupė],Ūkis20[[#This Row],[Žemės ūkio augalas, arba jų grupė]],SanaudosSuv[Žemės dirbimo technologija],Ūkis20[[#This Row],[Dirvos dirbimo technologija]]))","v":562.32000000000005},null,{"$f":"Ūkis20[[#This Row],[Plotas ha]]*Ūkis20[[#This Row],[Normatyvinės kintamosios sąnaudos, Eur/ha]]","v":562.32000000000005},{"$f":"+Ūkis20[[#This Row],[Pajamos, Eur/ha]]-Ūkis20[[#This Row],[Normatyvinės kintamosios sąnaudos, Eur/ha]]","v":387.71999999999991},{"$f":"+Ūkis20[[#This Row],[Pelno marža, Eur/ha]]*Ūkis20[[#This Row],[Plotas ha]]","v":387.71999999999991},{"$f":"SUMIFS(SanaudosSuv[Investicijų poreikis, tūkst. Eur],SanaudosSuv[Žemės ūkio augalas, arba jų grupė],Ūkis20[[#This Row],[Žemės ūkio augalas, arba jų grupė]],SanaudosSuv[Žemės dirbimo technologija],Ūkis20[[#This Row],[Dirvos dirbimo technologija]])","v":1159.78}]
[{"$f":"ROW()-ROW(Ūkis20[[#Headers],[Eil. Nr.]])","v":3},"Žieminiai rapsai","Rapsai","Gilus arimas (GA)",1,{"$f":"IF(Ūkis20[[#This Row],[Vidutinis derlingumas ūkyje t/ha]]<>0,Ūkis20[[#This Row],[Vidutinis derlingumas ūkyje t/ha]], _xlfn._xlws.FILTER(SanaudosSuv[Vidutinis derlingumas, t/ha], (SanaudosSuv[Žemės ūkio augalas, arba jų grupė]=Ūkis20[[#This Row],[Žemės ūkio augalas, arba jų grupė]]) * (SanaudosSuv[Žemės dirbimo technologija]=Ūkis20[[#This Row],[Dirvos dirbimo technologija]]), 0))","v":2.37},null,{"$f":"Ūkis20[[#This Row],[Plotas ha]]*Ūkis20[[#This Row],[Vidutinis derlingumas t/ha]]","v":2.37},{"$f":"IF(Ūkis20[[#This Row],[Vidutinė ūkio pardavimo kaina, Eur/t]]<>0,Ūkis20[[#This Row],[Vidutinė ūkio pardavimo kaina, Eur/t]],_xlfn.XLOOKUP(Ūkis20[[#This Row],[Produktas]],Kainos[Žemės ūkio produktas],Kainos[Produkcijos kaina Eur/t],0))","v":451},null,{"$f":"+Ūkis20[[#This Row],[Vidutinė rinkos kaina, Eur/t]]*Ūkis20[[#This Row],[Vidutinis derlingumas t/ha]]","v":1068.8700000000001},{"$f":"Ūkis20[[#This Row],[Derlius t]]*Ūkis20[[#This Row],[Vidutinė rinkos kaina, Eur/t]]","v":1068.8700000000001},{"$f":"IF(Ūkis20[[#This Row],[Ūkio kintamosios sąnaudos, Eur/ha]]<>0,Ūkis20[[#This Row],[Ūkio kintamosios sąnaudos, Eur/ha]],SUMIFS(SanaudosSuv[Iš viso tiesioginių sąnaudų, Eur/t],SanaudosSuv[Žemės ūkio augalas, arba jų grupė],Ūkis20[[#This Row],[Žemės ūkio augalas, arba jų grupė]],SanaudosSuv[Žemės dirbimo technologija],Ūkis20[[#This Row],[Dirvos dirbimo technologija]]))","v":687.32},null,{"$f":"Ūkis20[[#This Row],[Plotas ha]]*Ūkis20[[#This Row],[Normatyvinės kintamosios sąnaudos, Eur/ha]]","v":687.32},{"$f":"+Ūkis20[[#This Row],[Pajamos, Eur/ha]]-Ūkis20[[#This Row],[Normatyvinės kintamosios sąnaudos, Eur/ha]]","v":381.55000000000007},{"$f":"+Ūkis20[[#This Row],[Pelno marža, Eur/ha]]*Ūkis20[[#This Row],[Plotas ha]]","v":381.55000000000007},{"$f":"SUMIFS(SanaudosSuv[Investicijų poreikis, tūkst. Eur],SanaudosSuv[Žemės ūkio augalas, arba jų grupė],Ūkis20[[#This Row],[Žemės ūkio augalas, arba jų grupė]],SanaudosSuv[Žemės dirbimo technologija],Ūkis20[[#This Row],[Dirvos dirbimo technologija]])","v":1159.78}]
[{"$f":"ROW()-ROW(Ūkis20[[#Headers],[Eil. Nr.]])","v":4},"Vasariniai rapsai","Rapsai","Gilus arimas (GA)",1,{"$f":"IF(Ūkis20[[#This Row],[Vidutinis derlingumas ūkyje t/ha]]<>0,Ūkis20[[#This Row],[Vidutinis derlingumas ūkyje t/ha]], _xlfn._xlws.FILTER(SanaudosSuv[Vidutinis derlingumas, t/ha], (SanaudosSuv[Žemės ūkio augalas, arba jų grupė]=Ūkis20[[#This Row],[Žemės ūkio augalas, arba jų grupė]]) * (SanaudosSuv[Žemės dirbimo technologija]=Ūkis20[[#This Row],[Dirvos dirbimo technologija]]), 0))","v":1.57},null,{"$f":"Ūkis20[[#This Row],[Plotas ha]]*Ūkis20[[#This Row],[Vidutinis derlingumas t/ha]]","v":1.57},{"$f":"IF(Ūkis20[[#This Row],[Vidutinė ūkio pardavimo kaina, Eur/t]]<>0,Ūkis20[[#This Row],[Vidutinė ūkio pardavimo kaina, Eur/t]],_xlfn.XLOOKUP(Ūkis20[[#This Row],[Produktas]],Kainos[Žemės ūkio produktas],Kainos[Produkcijos kaina Eur/t],0))","v":451},null,{"$f":"+Ūkis20[[#This Row],[Vidutinė rinkos kaina, Eur/t]]*Ūkis20[[#This Row],[Vidutinis derlingumas t/ha]]","v":708.07},{"$f":"Ūkis20[[#This Row],[Derlius t]]*Ūkis20[[#This Row],[Vidutinė rinkos kaina, Eur/t]]","v":708.07},{"$f":"IF(Ūkis20[[#This Row],[Ūkio kintamosios sąnaudos, Eur/ha]]<>0,Ūkis20[[#This Row],[Ūkio kintamosios sąnaudos, Eur/ha]],SUMIFS(SanaudosSuv[Iš viso tiesioginių sąnaudų, Eur/t],SanaudosSuv[Žemės ūkio augalas, arba jų grupė],Ūkis20[[#This Row],[Žemės ūkio augalas, arba jų grupė]],SanaudosSuv[Žemės dirbimo technologija],Ūkis20[[#This Row],[Dirvos dirbimo technologija]]))","v":559.32000000000005},null,{"$f":"Ūkis20[[#This Row],[Plotas ha]]*Ūkis20[[#This Row],[Normatyvinės kintamosios sąnaudos, Eur/ha]]","v":559.32000000000005},{"$f":"+Ūkis20[[#This Row],[Pajamos, Eur/ha]]-Ūkis20[[#This Row],[Normatyvinės kintamosios sąnaudos, Eur/ha]]","v":148.75},{"$f":"+Ūkis20[[#This Row],[Pelno marža, Eur/ha]]*Ūkis20[[#This Row],[Plotas ha]]","v":148.75},{"$f":"SUMIFS(SanaudosSuv[Investicijų poreikis, tūkst. Eur],SanaudosSuv[Žemės ūkio augalas, arba jų grupė],Ūkis20[[#This Row],[Žemės ūkio augalas, arba jų grupė]],SanaudosSuv[Žemės dirbimo technologija],Ūkis20[[#This Row],[Dirvos dirbimo technologija]])","v":1159.78}]
[{"$f":"ROW()-ROW(Ūkis20[[#Headers],[Eil. Nr.]])","v":5},"Žieminiai javai","Kviečiai","Seklus arimas (SA)",1,{"$f":"IF(Ūkis20[[#This Row],[Vidutinis derlingumas ūkyje t/ha]]<>0,Ūkis20[[#This Row],[Vidutinis derlingumas ūkyje t/ha]], _xlfn._xlws.FILTER(SanaudosSuv[Vidutinis derlingumas, t/ha], (SanaudosSuv[Žemės ūkio augalas, arba jų grupė]=Ūkis20[[#This Row],[Žemės ūkio augalas, arba jų grupė]]) * (SanaudosSuv[Žemės dirbimo technologija]=Ūkis20[[#This Row],[Dirvos dirbimo technologija]]), 0))","v":8.16},null,{"$f":"Ūkis20[[#This Row],[Plotas ha]]*Ūkis20[[#This Row],[Vidutinis derlingumas t/ha]]","v":8.16},{"$f":"IF(Ūkis20[[#This Row],[Vidutinė ūkio pardavimo kaina, Eur/t]]<>0,Ūkis20[[#This Row],[Vidutinė ūkio pardavimo kaina, Eur/t]],_xlfn.XLOOKUP(Ūkis20[[#This Row],[Produktas]],Kainos[Žemės ūkio produktas],Kainos[Produkcijos kaina Eur/t],0))","v":227},null,{"$f":"+Ūkis20[[#This Row],[Vidutinė rinkos kaina, Eur/t]]*Ūkis20[[#This Row],[Vidutinis derlingumas t/ha]]","v":1852.32},{"$f":"Ūkis20[[#This Row],[Derlius t]]*Ūkis20[[#This Row],[Vidutinė rinkos kaina, Eur/t]]","v":1852.32},{"$f":"IF(Ūkis20[[#This Row],[Ūkio kintamosios sąnaudos, Eur/ha]]<>0,Ūkis20[[#This Row],[Ūkio kintamosios sąnaudos, Eur/ha]],SUMIFS(SanaudosSuv[Iš viso tiesioginių sąnaudų, Eur/t],SanaudosSuv[Žemės ūkio augalas, arba jų grupė],Ūkis20[[#This Row],[Žemės ūkio augalas, arba jų grupė]],SanaudosSuv[Žemės dirbimo technologija],Ūkis20[[#This Row],[Dirvos dirbimo technologija]]))","v":658.74},null,{"$f":"Ūkis20[[#This Row],[Plotas ha]]*Ūkis20[[#This Row],[Normatyvinės kintamosios sąnaudos, Eur/ha]]","v":658.74},{"$f":"+Ūkis20[[#This Row],[Pajamos, Eur/ha]]-Ūkis20[[#This Row],[Normatyvinės kintamosios sąnaudos, Eur/ha]]","v":1193.58},{"$f":"+Ūkis20[[#This Row],[Pelno marža, Eur/ha]]*Ūkis20[[#This Row],[Plotas ha]]","v":1193.58},{"$f":"SUMIFS(SanaudosSuv[Investicijų poreikis, tūkst. Eur],SanaudosSuv[Žemės ūkio augalas, arba jų grupė],Ūkis20[[#This Row],[Žemės ūkio augalas, arba jų grupė]],SanaudosSuv[Žemės dirbimo technologija],Ūkis20[[#This Row],[Dirvos dirbimo technologija]])","v":1159.78}]
[{"$f":"ROW()-ROW(Ūkis20[[#Headers],[Eil. Nr.]])","v":6},"Vasariniai javai","Miežiai","Seklus arimas (SA)",1,{"$f":"IF(Ūkis20[[#This Row],[Vidutinis derlingumas ūkyje t/ha]]<>0,Ūkis20[[#This Row],[Vidutinis derlingumas ūkyje t/ha]], _xlfn._xlws.FILTER(SanaudosSuv[Vidutinis derlingumas, t/ha], (SanaudosSuv[Žemės ūkio augalas, arba jų grupė]=Ūkis20[[#This Row],[Žemės ūkio augalas, arba jų grupė]]) * (SanaudosSuv[Žemės dirbimo technologija]=Ūkis20[[#This Row],[Dirvos dirbimo technologija]]), 0))","v":4.41},null,{"$f":"Ūkis20[[#This Row],[Plotas ha]]*Ūkis20[[#This Row],[Vidutinis derlingumas t/ha]]","v":4.41},{"$f":"IF(Ūkis20[[#This Row],[Vidutinė ūkio pardavimo kaina, Eur/t]]<>0,Ūkis20[[#This Row],[Vidutinė ūkio pardavimo kaina, Eur/t]],_xlfn.XLOOKUP(Ūkis20[[#This Row],[Produktas]],Kainos[Žemės ūkio produktas],Kainos[Produkcijos kaina Eur/t],0))","v":203},null,{"$f":"+Ūkis20[[#This Row],[Vidutinė rinkos kaina, Eur/t]]*Ūkis20[[#This Row],[Vidutinis derlingumas t/ha]]","v":895.23},{"$f":"Ūkis20[[#This Row],[Derlius t]]*Ūkis20[[#This Row],[Vidutinė rinkos kaina, Eur/t]]","v":895.23},{"$f":"IF(Ūkis20[[#This Row],[Ūkio kintamosios sąnaudos, Eur/ha]]<>0,Ūkis20[[#This Row],[Ūkio kintamosios sąnaudos, Eur/ha]],SUMIFS(SanaudosSuv[Iš viso tiesioginių sąnaudų, Eur/t],SanaudosSuv[Žemės ūkio augalas, arba jų grupė],Ūkis20[[#This Row],[Žemės ūkio augalas, arba jų grupė]],SanaudosSuv[Žemės dirbimo technologija],Ūkis20[[#This Row],[Dirvos dirbimo technologija]]))","v":542.74},null,{"$f":"Ūkis20[[#This Row],[Plotas ha]]*Ūkis20[[#This Row],[Normatyvinės kintamosios sąnaudos, Eur/ha]]","v":542.74},{"$f":"+Ūkis20[[#This Row],[Pajamos, Eur/ha]]-Ūkis20[[#This Row],[Normatyvinės kintamosios sąnaudos, Eur/ha]]","v":352.49},{"$f":"+Ūkis20[[#This Row],[Pelno marža, Eur/ha]]*Ūkis20[[#This Row],[Plotas ha]]","v":352.49},{"$f":"SUMIFS(SanaudosSuv[Investicijų poreikis, tūkst. Eur],SanaudosSuv[Žemės ūkio augalas, arba jų grupė],Ūkis20[[#This Row],[Žemės ūkio augalas, arba jų grupė]],SanaudosSuv[Žemės dirbimo technologija],Ūkis20[[#This Row],[Dirvos dirbimo technologija]])","v":1159.78}]
[{"$f":"ROW()-ROW(Ūkis20[[#Headers],[Eil. Nr.]])","v":7},"Žieminiai rapsai","Rapsai","Seklus arimas (SA)",1,{"$f":"IF(Ūkis20[[#This Row],[Vidutinis derlingumas ūkyje t/ha]]<>0,Ūkis20[[#This Row],[Vidutinis derlingumas ūkyje t/ha]], _xlfn._xlws.FILTER(SanaudosSuv[Vidutinis derlingumas, t/ha], (SanaudosSuv[Žemės ūkio augalas, arba jų grupė]=Ūkis20[[#This Row],[Žemės ūkio augalas, arba jų grupė]]) * (SanaudosSuv[Žemės dirbimo technologija]=Ūkis20[[#This Row],[Dirvos dirbimo technologija]]), 0))","v":2.39},null,{"$f":"Ūkis20[[#This Row],[Plotas ha]]*Ūkis20[[#This Row],[Vidutinis derlingumas t/ha]]","v":2.39},{"$f":"IF(Ūkis20[[#This Row],[Vidutinė ūkio pardavimo kaina, Eur/t]]<>0,Ūkis20[[#This Row],[Vidutinė ūkio pardavimo kaina, Eur/t]],_xlfn.XLOOKUP(Ūkis20[[#This Row],[Produktas]],Kainos[Žemės ūkio produktas],Kainos[Produkcijos kaina Eur/t],0))","v":451},null,{"$f":"+Ūkis20[[#This Row],[Vidutinė rinkos kaina, Eur/t]]*Ūkis20[[#This Row],[Vidutinis derlingumas t/ha]]","v":1077.8900000000001},{"$f":"Ūkis20[[#This Row],[Derlius t]]*Ūkis20[[#This Row],[Vidutinė rinkos kaina, Eur/t]]","v":1077.8900000000001},{"$f":"IF(Ūkis20[[#This Row],[Ūkio kintamosios sąnaudos, Eur/ha]]<>0,Ūkis20[[#This Row],[Ūkio kintamosios sąnaudos, Eur/ha]],SUMIFS(SanaudosSuv[Iš viso tiesioginių sąnaudų, Eur/t],SanaudosSuv[Žemės ūkio augalas, arba jų grupė],Ūkis20[[#This Row],[Žemės ūkio augalas, arba jų grupė]],SanaudosSuv[Žemės dirbimo technologija],Ūkis20[[#This Row],[Dirvos dirbimo technologija]]))","v":667.74},null,{"$f":"Ūkis20[[#This Row],[Plotas ha]]*Ūkis20[[#This Row],[Normatyvinės kintamosios sąnaudos, Eur/ha]]","v":667.74},{"$f":"+Ūkis20[[#This Row],[Pajamos, Eur/ha]]-Ūkis20[[#This Row],[Normatyvinės kintamosios sąnaudos, Eur/ha]]","v":410.15000000000009},{"$f":"+Ūkis20[[#This Row],[Pelno marža, Eur/ha]]*Ūkis20[[#This Row],[Plotas ha]]","v":410.15000000000009},{"$f":"SUMIFS(SanaudosSuv[Investicijų poreikis, tūkst. Eur],SanaudosSuv[Žemės ūkio augalas, arba jų grupė],Ūkis20[[#This Row],[Žemės ūkio augalas, arba jų grupė]],SanaudosSuv[Žemės dirbimo technologija],Ūkis20[[#This Row],[Dirvos dirbimo technologija]])","v":1159.78}]
[{"$f":"ROW()-ROW(Ūkis20[[#Headers],[Eil. Nr.]])","v":8},"Vasariniai rapsai","Rapsai","Seklus arimas (SA)",1,{"$f":"IF(Ūkis20[[#This Row],[Vidutinis derlingumas ūkyje t/ha]]<>0,Ūkis20[[#This Row],[Vidutinis derlingumas ūkyje t/ha]], _xlfn._xlws.FILTER(SanaudosSuv[Vidutinis derlingumas, t/ha], (SanaudosSuv[Žemės ūkio augalas, arba jų grupė]=Ūkis20[[#This Row],[Žemės ūkio augalas, arba jų grupė]]) * (SanaudosSuv[Žemės dirbimo technologija]=Ūkis20[[#This Row],[Dirvos dirbimo technologija]]), 0))","v":1.56},null,{"$f":"Ūkis20[[#This Row],[Plotas ha]]*Ūkis20[[#This Row],[Vidutinis derlingumas t/ha]]","v":1.56},{"$f":"IF(Ūkis20[[#This Row],[Vidutinė ūkio pardavimo kaina, Eur/t]]<>0,Ūkis20[[#This Row],[Vidutinė ūkio pardavimo kaina, Eur/t]],_xlfn.XLOOKUP(Ūkis20[[#This Row],[Produktas]],Kainos[Žemės ūkio produktas],Kainos[Produkcijos kaina Eur/t],0))","v":451},null,{"$f":"+Ūkis20[[#This Row],[Vidutinė rinkos kaina, Eur/t]]*Ūkis20[[#This Row],[Vidutinis derlingumas t/ha]]","v":703.56000000000006},{"$f":"Ūkis20[[#This Row],[Derlius t]]*Ūkis20[[#This Row],[Vidutinė rinkos kaina, Eur/t]]","v":703.56000000000006},{"$f":"IF(Ūkis20[[#This Row],[Ūkio kintamosios sąnaudos, Eur/ha]]<>0,Ūkis20[[#This Row],[Ūkio kintamosios sąnaudos, Eur/ha]],SUMIFS(SanaudosSuv[Iš viso tiesioginių sąnaudų, Eur/t],SanaudosSuv[Žemės ūkio augalas, arba jų grupė],Ūkis20[[#This Row],[Žemės ūkio augalas, arba jų grupė]],SanaudosSuv[Žemės dirbimo technologija],Ūkis20[[#This Row],[Dirvos dirbimo technologija]]))","v":539.74},null,{"$f":"Ūkis20[[#This Row],[Plotas ha]]*Ūkis20[[#This Row],[Normatyvinės kintamosios sąnaudos, Eur/ha]]","v":539.74},{"$f":"+Ūkis20[[#This Row],[Pajamos, Eur/ha]]-Ūkis20[[#This Row],[Normatyvinės kintamosios sąnaudos, Eur/ha]]","v":163.82000000000005},{"$f":"+Ūkis20[[#This Row],[Pelno marža, Eur/ha]]*Ūkis20[[#This Row],[Plotas ha]]","v":163.82000000000005},{"$f":"SUMIFS(SanaudosSuv[Investicijų poreikis, tūkst. Eur],SanaudosSuv[Žemės ūkio augalas, arba jų grupė],Ūkis20[[#This Row],[Žemės ūkio augalas, arba jų grupė]],SanaudosSuv[Žemės dirbimo technologija],Ūkis20[[#This Row],[Dirvos dirbimo technologija]])","v":1159.78}]
[{"$f":"ROW()-ROW(Ūkis20[[#Headers],[Eil. Nr.]])","v":9},"Žieminiai javai","Kviečiai","Seklus purenimas rudenį (SPR)",1,{"$f":"IF(Ūkis20[[#This Row],[Vidutinis derlingumas ūkyje t/ha]]<>0,Ūkis20[[#This Row],[Vidutinis derlingumas ūkyje t/ha]], _xlfn._xlws.FILTER(SanaudosSuv[Vidutinis derlingumas, t/ha], (SanaudosSuv[Žemės ūkio augalas, arba jų grupė]=Ūkis20[[#This Row],[Žemės ūkio augalas, arba jų grupė]]) * (SanaudosSuv[Žemės dirbimo technologija]=Ūkis20[[#This Row],[Dirvos dirbimo technologija]]), 0))","v":8.26},null,{"$f":"Ūkis20[[#This Row],[Plotas ha]]*Ūkis20[[#This Row],[Vidutinis derlingumas t/ha]]","v":8.26},{"$f":"IF(Ūkis20[[#This Row],[Vidutinė ūkio pardavimo kaina, Eur/t]]<>0,Ūkis20[[#This Row],[Vidutinė ūkio pardavimo kaina, Eur/t]],_xlfn.XLOOKUP(Ūkis20[[#This Row],[Produktas]],Kainos[Žemės ūkio produktas],Kainos[Produkcijos kaina Eur/t],0))","v":227},null,{"$f":"+Ūkis20[[#This Row],[Vidutinė rinkos kaina, Eur/t]]*Ūkis20[[#This Row],[Vidutinis derlingumas t/ha]]","v":1875.02},{"$f":"Ūkis20[[#This Row],[Derlius t]]*Ūkis20[[#This Row],[Vidutinė rinkos kaina, Eur/t]]","v":1875.02},{"$f":"IF(Ūkis20[[#This Row],[Ūkio kintamosios sąnaudos, Eur/ha]]<>0,Ūkis20[[#This Row],[Ūkio kintamosios sąnaudos, Eur/ha]],SUMIFS(SanaudosSuv[Iš viso tiesioginių sąnaudų, Eur/t],SanaudosSuv[Žemės ūkio augalas, arba jų grupė],Ūkis20[[#This Row],[Žemės ūkio augalas, arba jų grupė]],SanaudosSuv[Žemės dirbimo technologija],Ūkis20[[#This Row],[Dirvos dirbimo technologija]]))","v":573.19000000000005},null,{"$f":"Ūkis20[[#This Row],[Plotas ha]]*Ūkis20[[#This Row],[Normatyvinės kintamosios sąnaudos, Eur/ha]]","v":573.19000000000005},{"$f":"+Ūkis20[[#This Row],[Pajamos, Eur/ha]]-Ūkis20[[#This Row],[Normatyvinės kintamosios sąnaudos, Eur/ha]]","v":1301.83},{"$f":"+Ūkis20[[#This Row],[Pelno marža, Eur/ha]]*Ūkis20[[#This Row],[Plotas ha]]","v":1301.83},{"$f":"SUMIFS(SanaudosSuv[Investicijų poreikis, tūkst. Eur],SanaudosSuv[Žemės ūkio augalas, arba jų grupė],Ūkis20[[#This Row],[Žemės ūkio augalas, arba jų grupė]],SanaudosSuv[Žemės dirbimo technologija],Ūkis20[[#This Row],[Dirvos dirbimo technologija]])","v":1109.22}]
[{"$f":"ROW()-ROW(Ūkis20[[#Headers],[Eil. Nr.]])","v":10},"Vasariniai javai","Miežiai","Seklus purenimas rudenį (SPR)",1,{"$f":"IF(Ūkis20[[#This Row],[Vidutinis derlingumas ūkyje t/ha]]<>0,Ūkis20[[#This Row],[Vidutinis derlingumas ūkyje t/ha]], _xlfn._xlws.FILTER(SanaudosSuv[Vidutinis derlingumas, t/ha], (SanaudosSuv[Žemės ūkio augalas, arba jų grupė]=Ūkis20[[#This Row],[Žemės ūkio augalas, arba jų grupė]]) * (SanaudosSuv[Žemės dirbimo technologija]=Ūkis20[[#This Row],[Dirvos dirbimo technologija]]), 0))","v":4.41},null,{"$f":"Ūkis20[[#This Row],[Plotas ha]]*Ūkis20[[#This Row],[Vidutinis derlingumas t/ha]]","v":4.41},{"$f":"IF(Ūkis20[[#This Row],[Vidutinė ūkio pardavimo kaina, Eur/t]]<>0,Ūkis20[[#This Row],[Vidutinė ūkio pardavimo kaina, Eur/t]],_xlfn.XLOOKUP(Ūkis20[[#This Row],[Produktas]],Kainos[Žemės ūkio produktas],Kainos[Produkcijos kaina Eur/t],0))","v":203},null,{"$f":"+Ūkis20[[#This Row],[Vidutinė rinkos kaina, Eur/t]]*Ūkis20[[#This Row],[Vidutinis derlingumas t/ha]]","v":895.23},{"$f":"Ūkis20[[#This Row],[Derlius t]]*Ūkis20[[#This Row],[Vidutinė rinkos kaina, Eur/t]]","v":895.23},{"$f":"IF(Ūkis20[[#This Row],[Ūkio kintamosios sąnaudos, Eur/ha]]<>0,Ūkis20[[#This Row],[Ūkio kintamosios sąnaudos, Eur/ha]],SUMIFS(SanaudosSuv[Iš viso tiesioginių sąnaudų, Eur/t],SanaudosSuv[Žemės ūkio augalas, arba jų grupė],Ūkis20[[#This Row],[Žemės ūkio augalas, arba jų grupė]],SanaudosSuv[Žemės dirbimo technologija],Ūkis20[[#This Row],[Dirvos dirbimo technologija]]))","v":457.19},null,{"$f":"Ūkis20[[#This Row],[Plotas ha]]*Ūkis20[[#This Row],[Normatyvinės kintamosios sąnaudos, Eur/ha]]","v":457.19},{"$f":"+Ūkis20[[#This Row],[Pajamos, Eur/ha]]-Ūkis20[[#This Row],[Normatyvinės kintamosios sąnaudos, Eur/ha]]","v":438.04},{"$f":"+Ūkis20[[#This Row],[Pelno marža, Eur/ha]]*Ūkis20[[#This Row],[Plotas ha]]","v":438.04},{"$f":"SUMIFS(SanaudosSuv[Investicijų poreikis, tūkst. Eur],SanaudosSuv[Žemės ūkio augalas, arba jų grupė],Ūkis20[[#This Row],[Žemės ūkio augalas, arba jų grupė]],SanaudosSuv[Žemės dirbimo technologija],Ūkis20[[#This Row],[Dirvos dirbimo technologija]])","v":1109.22}]
[{"$f":"ROW()-ROW(Ūkis20[[#Headers],[Eil. Nr.]])","v":11},"Žieminiai rapsai","Rapsai","Seklus purenimas rudenį (SPR)",1,{"$f":"IF(Ūkis20[[#This Row],[Vidutinis derlingumas ūkyje t/ha]]<>0,Ūkis20[[#This Row],[Vidutinis derlingumas ūkyje t/ha]], _xlfn._xlws.FILTER(SanaudosSuv[Vidutinis derlingumas, t/ha], (SanaudosSuv[Žemės ūkio augalas, arba jų grupė]=Ūkis20[[#This Row],[Žemės ūkio augalas, arba jų grupė]]) * (SanaudosSuv[Žemės dirbimo technologija]=Ūkis20[[#This Row],[Dirvos dirbimo technologija]]), 0))","v":2.48},null,{"$f":"Ūkis20[[#This Row],[Plotas ha]]*Ūkis20[[#This Row],[Vidutinis derlingumas t/ha]]","v":2.48},{"$f":"IF(Ūkis20[[#This Row],[Vidutinė ūkio pardavimo kaina, Eur/t]]<>0,Ūkis20[[#This Row],[Vidutinė ūkio pardavimo kaina, Eur/t]],_xlfn.XLOOKUP(Ūkis20[[#This Row],[Produktas]],Kainos[Žemės ūkio produktas],Kainos[Produkcijos kaina Eur/t],0))","v":451},null,{"$f":"+Ūkis20[[#This Row],[Vidutinė rinkos kaina, Eur/t]]*Ūkis20[[#This Row],[Vidutinis derlingumas t/ha]]","v":1118.48},{"$f":"Ūkis20[[#This Row],[Derlius t]]*Ūkis20[[#This Row],[Vidutinė rinkos kaina, Eur/t]]","v":1118.48},{"$f":"IF(Ūkis20[[#This Row],[Ūkio kintamosios sąnaudos, Eur/ha]]<>0,Ūkis20[[#This Row],[Ūkio kintamosios sąnaudos, Eur/ha]],SUMIFS(SanaudosSuv[Iš viso tiesioginių sąnaudų, Eur/t],SanaudosSuv[Žemės ūkio augalas, arba jų grupė],Ūkis20[[#This Row],[Žemės ūkio augalas, arba jų grupė]],SanaudosSuv[Žemės dirbimo technologija],Ūkis20[[#This Row],[Dirvos dirbimo technologija]]))","v":582.19000000000005},null,{"$f":"Ūkis20[[#This Row],[Plotas ha]]*Ūkis20[[#This Row],[Normatyvinės kintamosios sąnaudos, Eur/ha]]","v":582.19000000000005},{"$f":"+Ūkis20[[#This Row],[Pajamos, Eur/ha]]-Ūkis20[[#This Row],[Normatyvinės kintamosios sąnaudos, Eur/ha]]","v":536.29},{"$f":"+Ūkis20[[#This Row],[Pelno marža, Eur/ha]]*Ūkis20[[#This Row],[Plotas ha]]","v":536.29},{"$f":"SUMIFS(SanaudosSuv[Investicijų poreikis, tūkst. Eur],SanaudosSuv[Žemės ūkio augalas, arba jų grupė],Ūkis20[[#This Row],[Žemės ūkio augalas, arba jų grupė]],SanaudosSuv[Žemės dirbimo technologija],Ūkis20[[#This Row],[Dirvos dirbimo technologija]])","v":1109.22}]
[{"$f":"ROW()-ROW(Ūkis20[[#Headers],[Eil. Nr.]])","v":12},"Vasariniai rapsai","Rapsai","Seklus purenimas rudenį (SPR)",1,{"$f":"IF(Ūkis20[[#This Row],[Vidutinis derlingumas ūkyje t/ha]]<>0,Ūkis20[[#This Row],[Vidutinis derlingumas ūkyje t/ha]], _xlfn._xlws.FILTER(SanaudosSuv[Vidutinis derlingumas, t/ha], (SanaudosSuv[Žemės ūkio augalas, arba jų grupė]=Ūkis20[[#This Row],[Žemės ūkio augalas, arba jų grupė]]) * (SanaudosSuv[Žemės dirbimo technologija]=Ūkis20[[#This Row],[Dirvos dirbimo technologija]]), 0))","v":1.48},null,{"$f":"Ūkis20[[#This Row],[Plotas ha]]*Ūkis20[[#This Row],[Vidutinis derlingumas t/ha]]","v":1.48},{"$f":"IF(Ūkis20[[#This Row],[Vidutinė ūkio pardavimo kaina, Eur/t]]<>0,Ūkis20[[#This Row],[Vidutinė ūkio pardavimo kaina, Eur/t]],_xlfn.XLOOKUP(Ūkis20[[#This Row],[Produktas]],Kainos[Žemės ūkio produktas],Kainos[Produkcijos kaina Eur/t],0))","v":451},null,{"$f":"+Ūkis20[[#This Row],[Vidutinė rinkos kaina, Eur/t]]*Ūkis20[[#This Row],[Vidutinis derlingumas t/ha]]","v":667.48},{"$f":"Ūkis20[[#This Row],[Derlius t]]*Ūkis20[[#This Row],[Vidutinė rinkos kaina, Eur/t]]","v":667.48},{"$f":"IF(Ūkis20[[#This Row],[Ūkio kintamosios sąnaudos, Eur/ha]]<>0,Ūkis20[[#This Row],[Ūkio kintamosios sąnaudos, Eur/ha]],SUMIFS(SanaudosSuv[Iš viso tiesioginių sąnaudų, Eur/t],SanaudosSuv[Žemės ūkio augalas, arba jų grupė],Ūkis20[[#This Row],[Žemės ūkio augalas, arba jų grupė]],SanaudosSuv[Žemės dirbimo technologija],Ūkis20[[#This Row],[Dirvos dirbimo technologija]]))","v":454.19},null,{"$f":"Ūkis20[[#This Row],[Plotas ha]]*Ūkis20[[#This Row],[Normatyvinės kintamosios sąnaudos, Eur/ha]]","v":454.19},{"$f":"+Ūkis20[[#This Row],[Pajamos, Eur/ha]]-Ūkis20[[#This Row],[Normatyvinės kintamosios sąnaudos, Eur/ha]]","v":213.29000000000002},{"$f":"+Ūkis20[[#This Row],[Pelno marža, Eur/ha]]*Ūkis20[[#This Row],[Plotas ha]]","v":213.29000000000002},{"$f":"SUMIFS(SanaudosSuv[Investicijų poreikis, tūkst. Eur],SanaudosSuv[Žemės ūkio augalas, arba jų grupė],Ūkis20[[#This Row],[Žemės ūkio augalas, arba jų grupė]],SanaudosSuv[Žemės dirbimo technologija],Ūkis20[[#This Row],[Dirvos dirbimo technologija]])","v":1109.22}]
[{"$f":"ROW()-ROW(Ūkis20[[#Headers],[Eil. Nr.]])","v":13},"Žieminiai javai","Kviečiai","Seklus purenimas prieš sėją (SPS)",1,{"$f":"IF(Ūkis20[[#This Row],[Vidutinis derlingumas ūkyje t/ha]]<>0,Ūkis20[[#This Row],[Vidutinis derlingumas ūkyje t/ha]], _xlfn._xlws.FILTER(SanaudosSuv[Vidutinis derlingumas, t/ha], (SanaudosSuv[Žemės ūkio augalas, arba jų grupė]=Ūkis20[[#This Row],[Žemės ūkio augalas, arba jų grupė]]) * (SanaudosSuv[Žemės dirbimo technologija]=Ūkis20[[#This Row],[Dirvos dirbimo technologija]]), 0))","v":9.2799999999999994},null,{"$f":"Ūkis20[[#This Row],[Plotas ha]]*Ūkis20[[#This Row],[Vidutinis derlingumas t/ha]]","v":9.2799999999999994},{"$f":"IF(Ūkis20[[#This Row],[Vidutinė ūkio pardavimo kaina, Eur/t]]<>0,Ūkis20[[#This Row],[Vidutinė ūkio pardavimo kaina, Eur/t]],_xlfn.XLOOKUP(Ūkis20[[#This Row],[Produktas]],Kainos[Žemės ūkio produktas],Kainos[Produkcijos kaina Eur/t],0))","v":227},null,{"$f":"+Ūkis20[[#This Row],[Vidutinė rinkos kaina, Eur/t]]*Ūkis20[[#This Row],[Vidutinis derlingumas t/ha]]","v":2106.56},{"$f":"Ūkis20[[#This Row],[Derlius t]]*Ūkis20[[#This Row],[Vidutinė rinkos kaina, Eur/t]]","v":2106.56},{"$f":"IF(Ūkis20[[#This Row],[Ūkio kintamosios sąnaudos, Eur/ha]]<>0,Ūkis20[[#This Row],[Ūkio kintamosios sąnaudos, Eur/ha]],SUMIFS(SanaudosSuv[Iš viso tiesioginių sąnaudų, Eur/t],SanaudosSuv[Žemės ūkio augalas, arba jų grupė],Ūkis20[[#This Row],[Žemės ūkio augalas, arba jų grupė]],SanaudosSuv[Žemės dirbimo technologija],Ūkis20[[#This Row],[Dirvos dirbimo technologija]]))","v":658.81999999999994},null,{"$f":"Ūkis20[[#This Row],[Plotas ha]]*Ūkis20[[#This Row],[Normatyvinės kintamosios sąnaudos, Eur/ha]]","v":658.81999999999994},{"$f":"+Ūkis20[[#This Row],[Pajamos, Eur/ha]]-Ūkis20[[#This Row],[Normatyvinės kintamosios sąnaudos, Eur/ha]]","v":1447.74},{"$f":"+Ūkis20[[#This Row],[Pelno marža, Eur/ha]]*Ūkis20[[#This Row],[Plotas ha]]","v":1447.74},{"$f":"SUMIFS(SanaudosSuv[Investicijų poreikis, tūkst. Eur],SanaudosSuv[Žemės ūkio augalas, arba jų grupė],Ūkis20[[#This Row],[Žemės ūkio augalas, arba jų grupė]],SanaudosSuv[Žemės dirbimo technologija],Ūkis20[[#This Row],[Dirvos dirbimo technologija]])","v":1029.46}]
[{"$f":"ROW()-ROW(Ūkis20[[#Headers],[Eil. Nr.]])","v":14},"Vasariniai javai","Miežiai","Seklus purenimas prieš sėją (SPS)",1,{"$f":"IF(Ūkis20[[#This Row],[Vidutinis derlingumas ūkyje t/ha]]<>0,Ūkis20[[#This Row],[Vidutinis derlingumas ūkyje t/ha]], _xlfn._xlws.FILTER(SanaudosSuv[Vidutinis derlingumas, t/ha], (SanaudosSuv[Žemės ūkio augalas, arba jų grupė]=Ūkis20[[#This Row],[Žemės ūkio augalas, arba jų grupė]]) * (SanaudosSuv[Žemės dirbimo technologija]=Ūkis20[[#This Row],[Dirvos dirbimo technologija]]), 0))","v":4.38},null,{"$f":"Ūkis20[[#This Row],[Plotas ha]]*Ūkis20[[#This Row],[Vidutinis derlingumas t/ha]]","v":4.38},{"$f":"IF(Ūkis20[[#This Row],[Vidutinė ūkio pardavimo kaina, Eur/t]]<>0,Ūkis20[[#This Row],[Vidutinė ūkio pardavimo kaina, Eur/t]],_xlfn.XLOOKUP(Ūkis20[[#This Row],[Produktas]],Kainos[Žemės ūkio produktas],Kainos[Produkcijos kaina Eur/t],0))","v":203},null,{"$f":"+Ūkis20[[#This Row],[Vidutinė rinkos kaina, Eur/t]]*Ūkis20[[#This Row],[Vidutinis derlingumas t/ha]]","v":889.14},{"$f":"Ūkis20[[#This Row],[Derlius t]]*Ūkis20[[#This Row],[Vidutinė rinkos kaina, Eur/t]]","v":889.14},{"$f":"IF(Ūkis20[[#This Row],[Ūkio kintamosios sąnaudos, Eur/ha]]<>0,Ūkis20[[#This Row],[Ūkio kintamosios sąnaudos, Eur/ha]],SUMIFS(SanaudosSuv[Iš viso tiesioginių sąnaudų, Eur/t],SanaudosSuv[Žemės ūkio augalas, arba jų grupė],Ūkis20[[#This Row],[Žemės ūkio augalas, arba jų grupė]],SanaudosSuv[Žemės dirbimo technologija],Ūkis20[[#This Row],[Dirvos dirbimo technologija]]))","v":542.81999999999994},null,{"$f":"Ūkis20[[#This Row],[Plotas ha]]*Ūkis20[[#This Row],[Normatyvinės kintamosios sąnaudos, Eur/ha]]","v":542.81999999999994},{"$f":"+Ūkis20[[#This Row],[Pajamos, Eur/ha]]-Ūkis20[[#This Row],[Normatyvinės kintamosios sąnaudos, Eur/ha]]","v":346.32000000000005},{"$f":"+Ūkis20[[#This Row],[Pelno marža, Eur/ha]]*Ūkis20[[#This Row],[Plotas ha]]","v":346.32000000000005},{"$f":"SUMIFS(SanaudosSuv[Investicijų poreikis, tūkst. Eur],SanaudosSuv[Žemės ūkio augalas, arba jų grupė],Ūkis20[[#This Row],[Žemės ūkio augalas, arba jų grupė]],SanaudosSuv[Žemės dirbimo technologija],Ūkis20[[#This Row],[Dirvos dirbimo technologija]])","v":1029.46}]
[{"$f":"ROW()-ROW(Ūkis20[[#Headers],[Eil. Nr.]])","v":15},"Žieminiai rapsai","Rapsai","Seklus purenimas prieš sėją (SPS)",1,{"$f":"IF(Ūkis20[[#This Row],[Vidutinis derlingumas ūkyje t/ha]]<>0,Ūkis20[[#This Row],[Vidutinis derlingumas ūkyje t/ha]], _xlfn._xlws.FILTER(SanaudosSuv[Vidutinis derlingumas, t/ha], (SanaudosSuv[Žemės ūkio augalas, arba jų grupė]=Ūkis20[[#This Row],[Žemės ūkio augalas, arba jų grupė]]) * (SanaudosSuv[Žemės dirbimo technologija]=Ūkis20[[#This Row],[Dirvos dirbimo technologija]]), 0))","v":2.85},null,{"$f":"Ūkis20[[#This Row],[Plotas ha]]*Ūkis20[[#This Row],[Vidutinis derlingumas t/ha]]","v":2.85},{"$f":"IF(Ūkis20[[#This Row],[Vidutinė ūkio pardavimo kaina, Eur/t]]<>0,Ūkis20[[#This Row],[Vidutinė ūkio pardavimo kaina, Eur/t]],_xlfn.XLOOKUP(Ūkis20[[#This Row],[Produktas]],Kainos[Žemės ūkio produktas],Kainos[Produkcijos kaina Eur/t],0))","v":451},null,{"$f":"+Ūkis20[[#This Row],[Vidutinė rinkos kaina, Eur/t]]*Ūkis20[[#This Row],[Vidutinis derlingumas t/ha]]","v":1285.3500000000001},{"$f":"Ūkis20[[#This Row],[Derlius t]]*Ūkis20[[#This Row],[Vidutinė rinkos kaina, Eur/t]]","v":1285.3500000000001},{"$f":"IF(Ūkis20[[#This Row],[Ūkio kintamosios sąnaudos, Eur/ha]]<>0,Ūkis20[[#This Row],[Ūkio kintamosios sąnaudos, Eur/ha]],SUMIFS(SanaudosSuv[Iš viso tiesioginių sąnaudų, Eur/t],SanaudosSuv[Žemės ūkio augalas, arba jų grupė],Ūkis20[[#This Row],[Žemės ūkio augalas, arba jų grupė]],SanaudosSuv[Žemės dirbimo technologija],Ūkis20[[#This Row],[Dirvos dirbimo technologija]]))","v":667.81999999999994},null,{"$f":"Ūkis20[[#This Row],[Plotas ha]]*Ūkis20[[#This Row],[Normatyvinės kintamosios sąnaudos, Eur/ha]]","v":667.81999999999994},{"$f":"+Ūkis20[[#This Row],[Pajamos, Eur/ha]]-Ūkis20[[#This Row],[Normatyvinės kintamosios sąnaudos, Eur/ha]]","v":617.5300000000002},{"$f":"+Ūkis20[[#This Row],[Pelno marža, Eur/ha]]*Ūkis20[[#This Row],[Plotas ha]]","v":617.5300000000002},{"$f":"SUMIFS(SanaudosSuv[Investicijų poreikis, tūkst. Eur],SanaudosSuv[Žemės ūkio augalas, arba jų grupė],Ūkis20[[#This Row],[Žemės ūkio augalas, arba jų grupė]],SanaudosSuv[Žemės dirbimo technologija],Ūkis20[[#This Row],[Dirvos dirbimo technologija]])","v":1029.46}]
[{"$f":"ROW()-ROW(Ūkis20[[#Headers],[Eil. Nr.]])","v":16},"Vasariniai rapsai","Rapsai","Seklus purenimas prieš sėją (SPS)",1,{"$f":"IF(Ūkis20[[#This Row],[Vidutinis derlingumas ūkyje t/ha]]<>0,Ūkis20[[#This Row],[Vidutinis derlingumas ūkyje t/ha]], _xlfn._xlws.FILTER(SanaudosSuv[Vidutinis derlingumas, t/ha], (SanaudosSuv[Žemės ūkio augalas, arba jų grupė]=Ūkis20[[#This Row],[Žemės ūkio augalas, arba jų grupė]]) * (SanaudosSuv[Žemės dirbimo technologija]=Ūkis20[[#This Row],[Dirvos dirbimo technologija]]), 0))","v":1.51},null,{"$f":"Ūkis20[[#This Row],[Plotas ha]]*Ūkis20[[#This Row],[Vidutinis derlingumas t/ha]]","v":1.51},{"$f":"IF(Ūkis20[[#This Row],[Vidutinė ūkio pardavimo kaina, Eur/t]]<>0,Ūkis20[[#This Row],[Vidutinė ūkio pardavimo kaina, Eur/t]],_xlfn.XLOOKUP(Ūkis20[[#This Row],[Produktas]],Kainos[Žemės ūkio produktas],Kainos[Produkcijos kaina Eur/t],0))","v":451},null,{"$f":"+Ūkis20[[#This Row],[Vidutinė rinkos kaina, Eur/t]]*Ūkis20[[#This Row],[Vidutinis derlingumas t/ha]]","v":681.01},{"$f":"Ūkis20[[#This Row],[Derlius t]]*Ūkis20[[#This Row],[Vidutinė rinkos kaina, Eur/t]]","v":681.01},{"$f":"IF(Ūkis20[[#This Row],[Ūkio kintamosios sąnaudos, Eur/ha]]<>0,Ūkis20[[#This Row],[Ūkio kintamosios sąnaudos, Eur/ha]],SUMIFS(SanaudosSuv[Iš viso tiesioginių sąnaudų, Eur/t],SanaudosSuv[Žemės ūkio augalas, arba jų grupė],Ūkis20[[#This Row],[Žemės ūkio augalas, arba jų grupė]],SanaudosSuv[Žemės dirbimo technologija],Ūkis20[[#This Row],[Dirvos dirbimo technologija]]))","v":539.81999999999994},null,{"$f":"Ūkis20[[#This Row],[Plotas ha]]*Ūkis20[[#This Row],[Normatyvinės kintamosios sąnaudos, Eur/ha]]","v":539.81999999999994},{"$f":"+Ūkis20[[#This Row],[Pajamos, Eur/ha]]-Ūkis20[[#This Row],[Normatyvinės kintamosios sąnaudos, Eur/ha]]","v":141.19000000000005},{"$f":"+Ūkis20[[#This Row],[Pelno marža, Eur/ha]]*Ūkis20[[#This Row],[Plotas ha]]","v":141.19000000000005},{"$f":"SUMIFS(SanaudosSuv[Investicijų poreikis, tūkst. Eur],SanaudosSuv[Žemės ūkio augalas, arba jų grupė],Ūkis20[[#This Row],[Žemės ūkio augalas, arba jų grupė]],SanaudosSuv[Žemės dirbimo technologija],Ūkis20[[#This Row],[Dirvos dirbimo technologija]])","v":1029.46}]
[{"$f":"ROW()-ROW(Ūkis20[[#Headers],[Eil. Nr.]])","v":17},"Žieminiai javai","Kviečiai","Tarpiniai pasėliai (TP)",1,{"$f":"IF(Ūkis20[[#This Row],[Vidutinis derlingumas ūkyje t/ha]]<>0,Ūkis20[[#This Row],[Vidutinis derlingumas ūkyje t/ha]], _xlfn._xlws.FILTER(SanaudosSuv[Vidutinis derlingumas, t/ha], (SanaudosSuv[Žemės ūkio augalas, arba jų grupė]=Ūkis20[[#This Row],[Žemės ūkio augalas, arba jų grupė]]) * (SanaudosSuv[Žemės dirbimo technologija]=Ūkis20[[#This Row],[Dirvos dirbimo technologija]]), 0))","v":9.23},null,{"$f":"Ūkis20[[#This Row],[Plotas ha]]*Ūkis20[[#This Row],[Vidutinis derlingumas t/ha]]","v":9.23},{"$f":"IF(Ūkis20[[#This Row],[Vidutinė ūkio pardavimo kaina, Eur/t]]<>0,Ūkis20[[#This Row],[Vidutinė ūkio pardavimo kaina, Eur/t]],_xlfn.XLOOKUP(Ūkis20[[#This Row],[Produktas]],Kainos[Žemės ūkio produktas],Kainos[Produkcijos kaina Eur/t],0))","v":227},null,{"$f":"+Ūkis20[[#This Row],[Vidutinė rinkos kaina, Eur/t]]*Ūkis20[[#This Row],[Vidutinis derlingumas t/ha]]","v":2095.21},{"$f":"Ūkis20[[#This Row],[Derlius t]]*Ūkis20[[#This Row],[Vidutinė rinkos kaina, Eur/t]]","v":2095.21},{"$f":"IF(Ūkis20[[#This Row],[Ūkio kintamosios sąnaudos, Eur/ha]]<>0,Ūkis20[[#This Row],[Ūkio kintamosios sąnaudos, Eur/ha]],SUMIFS(SanaudosSuv[Iš viso tiesioginių sąnaudų, Eur/t],SanaudosSuv[Žemės ūkio augalas, arba jų grupė],Ūkis20[[#This Row],[Žemės ūkio augalas, arba jų grupė]],SanaudosSuv[Žemės dirbimo technologija],Ūkis20[[#This Row],[Dirvos dirbimo technologija]]))","v":675.81},null,{"$f":"Ūkis20[[#This Row],[Plotas ha]]*Ūkis20[[#This Row],[Normatyvinės kintamosios sąnaudos, Eur/ha]]","v":675.81},{"$f":"+Ūkis20[[#This Row],[Pajamos, Eur/ha]]-Ūkis20[[#This Row],[Normatyvinės kintamosios sąnaudos, Eur/ha]]","v":1419.4},{"$f":"+Ūkis20[[#This Row],[Pelno marža, Eur/ha]]*Ūkis20[[#This Row],[Plotas ha]]","v":1419.4},{"$f":"SUMIFS(SanaudosSuv[Investicijų poreikis, tūkst. Eur],SanaudosSuv[Žemės ūkio augalas, arba jų grupė],Ūkis20[[#This Row],[Žemės ūkio augalas, arba jų grupė]],SanaudosSuv[Žemės dirbimo technologija],Ūkis20[[#This Row],[Dirvos dirbimo technologija]])","v":965.6}]
[{"$f":"ROW()-ROW(Ūkis20[[#Headers],[Eil. Nr.]])","v":18},"Vasariniai javai","Miežiai","Tarpiniai pasėliai (TP)",1,{"$f":"IF(Ūkis20[[#This Row],[Vidutinis derlingumas ūkyje t/ha]]<>0,Ūkis20[[#This Row],[Vidutinis derlingumas ūkyje t/ha]], _xlfn._xlws.FILTER(SanaudosSuv[Vidutinis derlingumas, t/ha], (SanaudosSuv[Žemės ūkio augalas, arba jų grupė]=Ūkis20[[#This Row],[Žemės ūkio augalas, arba jų grupė]]) * (SanaudosSuv[Žemės dirbimo technologija]=Ūkis20[[#This Row],[Dirvos dirbimo technologija]]), 0))","v":4.34},null,{"$f":"Ūkis20[[#This Row],[Plotas ha]]*Ūkis20[[#This Row],[Vidutinis derlingumas t/ha]]","v":4.34},{"$f":"IF(Ūkis20[[#This Row],[Vidutinė ūkio pardavimo kaina, Eur/t]]<>0,Ūkis20[[#This Row],[Vidutinė ūkio pardavimo kaina, Eur/t]],_xlfn.XLOOKUP(Ūkis20[[#This Row],[Produktas]],Kainos[Žemės ūkio produktas],Kainos[Produkcijos kaina Eur/t],0))","v":203},null,{"$f":"+Ūkis20[[#This Row],[Vidutinė rinkos kaina, Eur/t]]*Ūkis20[[#This Row],[Vidutinis derlingumas t/ha]]","v":881.02},{"$f":"Ūkis20[[#This Row],[Derlius t]]*Ūkis20[[#This Row],[Vidutinė rinkos kaina, Eur/t]]","v":881.02},{"$f":"IF(Ūkis20[[#This Row],[Ūkio kintamosios sąnaudos, Eur/ha]]<>0,Ūkis20[[#This Row],[Ūkio kintamosios sąnaudos, Eur/ha]],SUMIFS(SanaudosSuv[Iš viso tiesioginių sąnaudų, Eur/t],SanaudosSuv[Žemės ūkio augalas, arba jų grupė],Ūkis20[[#This Row],[Žemės ūkio augalas, arba jų grupė]],SanaudosSuv[Žemės dirbimo technologija],Ūkis20[[#This Row],[Dirvos dirbimo technologija]]))","v":559.80999999999995},null,{"$f":"Ūkis20[[#This Row],[Plotas ha]]*Ūkis20[[#This Row],[Normatyvinės kintamosios sąnaudos, Eur/ha]]","v":559.80999999999995},{"$f":"+Ūkis20[[#This Row],[Pajamos, Eur/ha]]-Ūkis20[[#This Row],[Normatyvinės kintamosios sąnaudos, Eur/ha]]","v":321.21000000000004},{"$f":"+Ūkis20[[#This Row],[Pelno marža, Eur/ha]]*Ūkis20[[#This Row],[Plotas ha]]","v":321.21000000000004},{"$f":"SUMIFS(SanaudosSuv[Investicijų poreikis, tūkst. Eur],SanaudosSuv[Žemės ūkio augalas, arba jų grupė],Ūkis20[[#This Row],[Žemės ūkio augalas, arba jų grupė]],SanaudosSuv[Žemės dirbimo technologija],Ūkis20[[#This Row],[Dirvos dirbimo technologija]])","v":965.6}]
[{"$f":"ROW()-ROW(Ūkis20[[#Headers],[Eil. Nr.]])","v":19},"Žieminiai rapsai","Rapsai","Tarpiniai pasėliai (TP)",1,{"$f":"IF(Ūkis20[[#This Row],[Vidutinis derlingumas ūkyje t/ha]]<>0,Ūkis20[[#This Row],[Vidutinis derlingumas ūkyje t/ha]], _xlfn._xlws.FILTER(SanaudosSuv[Vidutinis derlingumas, t/ha], (SanaudosSuv[Žemės ūkio augalas, arba jų grupė]=Ūkis20[[#This Row],[Žemės ūkio augalas, arba jų grupė]]) * (SanaudosSuv[Žemės dirbimo technologija]=Ūkis20[[#This Row],[Dirvos dirbimo technologija]]), 0))","v":3.11},null,{"$f":"Ūkis20[[#This Row],[Plotas ha]]*Ūkis20[[#This Row],[Vidutinis derlingumas t/ha]]","v":3.11},{"$f":"IF(Ūkis20[[#This Row],[Vidutinė ūkio pardavimo kaina, Eur/t]]<>0,Ūkis20[[#This Row],[Vidutinė ūkio pardavimo kaina, Eur/t]],_xlfn.XLOOKUP(Ūkis20[[#This Row],[Produktas]],Kainos[Žemės ūkio produktas],Kainos[Produkcijos kaina Eur/t],0))","v":451},null,{"$f":"+Ūkis20[[#This Row],[Vidutinė rinkos kaina, Eur/t]]*Ūkis20[[#This Row],[Vidutinis derlingumas t/ha]]","v":1402.61},{"$f":"Ūkis20[[#This Row],[Derlius t]]*Ūkis20[[#This Row],[Vidutinė rinkos kaina, Eur/t]]","v":1402.61},{"$f":"IF(Ūkis20[[#This Row],[Ūkio kintamosios sąnaudos, Eur/ha]]<>0,Ūkis20[[#This Row],[Ūkio kintamosios sąnaudos, Eur/ha]],SUMIFS(SanaudosSuv[Iš viso tiesioginių sąnaudų, Eur/t],SanaudosSuv[Žemės ūkio augalas, arba jų grupė],Ūkis20[[#This Row],[Žemės ūkio augalas, arba jų grupė]],SanaudosSuv[Žemės dirbimo technologija],Ūkis20[[#This Row],[Dirvos dirbimo technologija]]))","v":684.81},null,{"$f":"Ūkis20[[#This Row],[Plotas ha]]*Ūkis20[[#This Row],[Normatyvinės kintamosios sąnaudos, Eur/ha]]","v":684.81},{"$f":"+Ūkis20[[#This Row],[Pajamos, Eur/ha]]-Ūkis20[[#This Row],[Normatyvinės kintamosios sąnaudos, Eur/ha]]","v":717.8},{"$f":"+Ūkis20[[#This Row],[Pelno marža, Eur/ha]]*Ūkis20[[#This Row],[Plotas ha]]","v":717.8},{"$f":"SUMIFS(SanaudosSuv[Investicijų poreikis, tūkst. Eur],SanaudosSuv[Žemės ūkio augalas, arba jų grupė],Ūkis20[[#This Row],[Žemės ūkio augalas, arba jų grupė]],SanaudosSuv[Žemės dirbimo technologija],Ūkis20[[#This Row],[Dirvos dirbimo technologija]])","v":965.6}]
[{"$f":"ROW()-ROW(Ūkis20[[#Headers],[Eil. Nr.]])","v":20},"Vasariniai rapsai","Rapsai","Tarpiniai pasėliai (TP)",1,{"$f":"IF(Ūkis20[[#This Row],[Vidutinis derlingumas ūkyje t/ha]]<>0,Ūkis20[[#This Row],[Vidutinis derlingumas ūkyje t/ha]], _xlfn._xlws.FILTER(SanaudosSuv[Vidutinis derlingumas, t/ha], (SanaudosSuv[Žemės ūkio augalas, arba jų grupė]=Ūkis20[[#This Row],[Žemės ūkio augalas, arba jų grupė]]) * (SanaudosSuv[Žemės dirbimo technologija]=Ūkis20[[#This Row],[Dirvos dirbimo technologija]]), 0))","v":1.3},null,{"$f":"Ūkis20[[#This Row],[Plotas ha]]*Ūkis20[[#This Row],[Vidutinis derlingumas t/ha]]","v":1.3},{"$f":"IF(Ūkis20[[#This Row],[Vidutinė ūkio pardavimo kaina, Eur/t]]<>0,Ūkis20[[#This Row],[Vidutinė ūkio pardavimo kaina, Eur/t]],_xlfn.XLOOKUP(Ūkis20[[#This Row],[Produktas]],Kainos[Žemės ūkio produktas],Kainos[Produkcijos kaina Eur/t],0))","v":451},null,{"$f":"+Ūkis20[[#This Row],[Vidutinė rinkos kaina, Eur/t]]*Ūkis20[[#This Row],[Vidutinis derlingumas t/ha]]","v":586.30000000000007},{"$f":"Ūkis20[[#This Row],[Derlius t]]*Ūkis20[[#This Row],[Vidutinė rinkos kaina, Eur/t]]","v":586.30000000000007},{"$f":"IF(Ūkis20[[#This Row],[Ūkio kintamosios sąnaudos, Eur/ha]]<>0,Ūkis20[[#This Row],[Ūkio kintamosios sąnaudos, Eur/ha]],SUMIFS(SanaudosSuv[Iš viso tiesioginių sąnaudų, Eur/t],SanaudosSuv[Žemės ūkio augalas, arba jų grupė],Ūkis20[[#This Row],[Žemės ūkio augalas, arba jų grupė]],SanaudosSuv[Žemės dirbimo technologija],Ūkis20[[#This Row],[Dirvos dirbimo technologija]]))","v":551.80999999999995},null,{"$f":"Ūkis20[[#This Row],[Plotas ha]]*Ūkis20[[#This Row],[Normatyvinės kintamosios sąnaudos, Eur/ha]]","v":551.80999999999995},{"$f":"+Ūkis20[[#This Row],[Pajamos, Eur/ha]]-Ūkis20[[#This Row],[Normatyvinės kintamosios sąnaudos, Eur/ha]]","v":34.490000000000123},{"$f":"+Ūkis20[[#This Row],[Pelno marža, Eur/ha]]*Ūkis20[[#This Row],[Plotas ha]]","v":34.490000000000123},{"$f":"SUMIFS(SanaudosSuv[Investicijų poreikis, tūkst. Eur],SanaudosSuv[Žemės ūkio augalas, arba jų grupė],Ūkis20[[#This Row],[Žemės ūkio augalas, arba jų grupė]],SanaudosSuv[Žemės dirbimo technologija],Ūkis20[[#This Row],[Dirvos dirbimo technologija]])","v":965.6}]
[{"$f":"ROW()-ROW(Ūkis20[[#Headers],[Eil. Nr.]])","v":21},"Žieminiai javai","Kviečiai","Tiesioginė sėja (TS)",1,{"$f":"IF(Ūkis20[[#This Row],[Vidutinis derlingumas ūkyje t/ha]]<>0,Ūkis20[[#This Row],[Vidutinis derlingumas ūkyje t/ha]], _xlfn._xlws.FILTER(SanaudosSuv[Vidutinis derlingumas, t/ha], (SanaudosSuv[Žemės ūkio augalas, arba jų grupė]=Ūkis20[[#This Row],[Žemės ūkio augalas, arba jų grupė]]) * (SanaudosSuv[Žemės dirbimo technologija]=Ūkis20[[#This Row],[Dirvos dirbimo technologija]]), 0))","v":8.92},null,{"$f":"Ūkis20[[#This Row],[Plotas ha]]*Ūkis20[[#This Row],[Vidutinis derlingumas t/ha]]","v":8.92},{"$f":"IF(Ūkis20[[#This Row],[Vidutinė ūkio pardavimo kaina, Eur/t]]<>0,Ūkis20[[#This Row],[Vidutinė ūkio pardavimo kaina, Eur/t]],_xlfn.XLOOKUP(Ūkis20[[#This Row],[Produktas]],Kainos[Žemės ūkio produktas],Kainos[Produkcijos kaina Eur/t],0))","v":227},null,{"$f":"+Ūkis20[[#This Row],[Vidutinė rinkos kaina, Eur/t]]*Ūkis20[[#This Row],[Vidutinis derlingumas t/ha]]","v":2024.84},{"$f":"Ūkis20[[#This Row],[Derlius t]]*Ūkis20[[#This Row],[Vidutinė rinkos kaina, Eur/t]]","v":2024.84},{"$f":"IF(Ūkis20[[#This Row],[Ūkio kintamosios sąnaudos, Eur/ha]]<>0,Ūkis20[[#This Row],[Ūkio kintamosios sąnaudos, Eur/ha]],SUMIFS(SanaudosSuv[Iš viso tiesioginių sąnaudų, Eur/t],SanaudosSuv[Žemės ūkio augalas, arba jų grupė],Ūkis20[[#This Row],[Žemės ūkio augalas, arba jų grupė]],SanaudosSuv[Žemės dirbimo technologija],Ūkis20[[#This Row],[Dirvos dirbimo technologija]]))","v":621.53},null,{"$f":"Ūkis20[[#This Row],[Plotas ha]]*Ūkis20[[#This Row],[Normatyvinės kintamosios sąnaudos, Eur/ha]]","v":621.53},{"$f":"+Ūkis20[[#This Row],[Pajamos, Eur/ha]]-Ūkis20[[#This Row],[Normatyvinės kintamosios sąnaudos, Eur/ha]]","v":1403.31},{"$f":"+Ūkis20[[#This Row],[Pelno marža, Eur/ha]]*Ūkis20[[#This Row],[Plotas ha]]","v":1403.31},{"$f":"SUMIFS(SanaudosSuv[Investicijų poreikis, tūkst. Eur],SanaudosSuv[Žemės ūkio augalas, arba jų grupė],Ūkis20[[#This Row],[Žemės ūkio augalas, arba jų grupė]],SanaudosSuv[Žemės dirbimo technologija],Ūkis20[[#This Row],[Dirvos dirbimo technologija]])","v":965.6}]
[{"$f":"ROW()-ROW(Ūkis20[[#Headers],[Eil. Nr.]])","v":22},"Vasariniai javai","Miežiai","Tiesioginė sėja (TS)",1,{"$f":"IF(Ūkis20[[#This Row],[Vidutinis derlingumas ūkyje t/ha]]<>0,Ūkis20[[#This Row],[Vidutinis derlingumas ūkyje t/ha]], _xlfn._xlws.FILTER(SanaudosSuv[Vidutinis derlingumas, t/ha], (SanaudosSuv[Žemės ūkio augalas, arba jų grupė]=Ūkis20[[#This Row],[Žemės ūkio augalas, arba jų grupė]]) * (SanaudosSuv[Žemės dirbimo technologija]=Ūkis20[[#This Row],[Dirvos dirbimo technologija]]), 0))","v":4.42},null,{"$f":"Ūkis20[[#This Row],[Plotas ha]]*Ūkis20[[#This Row],[Vidutinis derlingumas t/ha]]","v":4.42},{"$f":"IF(Ūkis20[[#This Row],[Vidutinė ūkio pardavimo kaina, Eur/t]]<>0,Ūkis20[[#This Row],[Vidutinė ūkio pardavimo kaina, Eur/t]],_xlfn.XLOOKUP(Ūkis20[[#This Row],[Produktas]],Kainos[Žemės ūkio produktas],Kainos[Produkcijos kaina Eur/t],0))","v":203},null,{"$f":"+Ūkis20[[#This Row],[Vidutinė rinkos kaina, Eur/t]]*Ūkis20[[#This Row],[Vidutinis derlingumas t/ha]]","v":897.26},{"$f":"Ūkis20[[#This Row],[Derlius t]]*Ūkis20[[#This Row],[Vidutinė rinkos kaina, Eur/t]]","v":897.26},{"$f":"IF(Ūkis20[[#This Row],[Ūkio kintamosios sąnaudos, Eur/ha]]<>0,Ūkis20[[#This Row],[Ūkio kintamosios sąnaudos, Eur/ha]],SUMIFS(SanaudosSuv[Iš viso tiesioginių sąnaudų, Eur/t],SanaudosSuv[Žemės ūkio augalas, arba jų grupė],Ūkis20[[#This Row],[Žemės ūkio augalas, arba jų grupė]],SanaudosSuv[Žemės dirbimo technologija],Ūkis20[[#This Row],[Dirvos dirbimo technologija]]))","v":505.53},null,{"$f":"Ūkis20[[#This Row],[Plotas ha]]*Ūkis20[[#This Row],[Normatyvinės kintamosios sąnaudos, Eur/ha]]","v":505.53},{"$f":"+Ūkis20[[#This Row],[Pajamos, Eur/ha]]-Ūkis20[[#This Row],[Normatyvinės kintamosios sąnaudos, Eur/ha]]","v":391.73},{"$f":"+Ūkis20[[#This Row],[Pelno marža, Eur/ha]]*Ūkis20[[#This Row],[Plotas ha]]","v":391.73},{"$f":"SUMIFS(SanaudosSuv[Investicijų poreikis, tūkst. Eur],SanaudosSuv[Žemės ūkio augalas, arba jų grupė],Ūkis20[[#This Row],[Žemės ūkio augalas, arba jų grupė]],SanaudosSuv[Žemės dirbimo technologija],Ūkis20[[#This Row],[Dirvos dirbimo technologija]])","v":965.6}]
[{"$f":"ROW()-ROW(Ūkis20[[#Headers],[Eil. Nr.]])","v":23},"Žieminiai rapsai","Rapsai","Tiesioginė sėja (TS)",1,{"$f":"IF(Ūkis20[[#This Row],[Vidutinis derlingumas ūkyje t/ha]]<>0,Ūkis20[[#This Row],[Vidutinis derlingumas ūkyje t/ha]], _xlfn._xlws.FILTER(SanaudosSuv[Vidutinis derlingumas, t/ha], (SanaudosSuv[Žemės ūkio augalas, arba jų grupė]=Ūkis20[[#This Row],[Žemės ūkio augalas, arba jų grupė]]) * (SanaudosSuv[Žemės dirbimo technologija]=Ūkis20[[#This Row],[Dirvos dirbimo technologija]]), 0))","v":3.37},null,{"$f":"Ūkis20[[#This Row],[Plotas ha]]*Ūkis20[[#This Row],[Vidutinis derlingumas t/ha]]","v":3.37},{"$f":"IF(Ūkis20[[#This Row],[Vidutinė ūkio pardavimo kaina, Eur/t]]<>0,Ūkis20[[#This Row],[Vidutinė ūkio pardavimo kaina, Eur/t]],_xlfn.XLOOKUP(Ūkis20[[#This Row],[Produktas]],Kainos[Žemės ūkio produktas],Kainos[Produkcijos kaina Eur/t],0))","v":451},null,{"$f":"+Ūkis20[[#This Row],[Vidutinė rinkos kaina, Eur/t]]*Ūkis20[[#This Row],[Vidutinis derlingumas t/ha]]","v":1519.8700000000001},{"$f":"Ūkis20[[#This Row],[Derlius t]]*Ūkis20[[#This Row],[Vidutinė rinkos kaina, Eur/t]]","v":1519.8700000000001},{"$f":"IF(Ūkis20[[#This Row],[Ūkio kintamosios sąnaudos, Eur/ha]]<>0,Ūkis20[[#This Row],[Ūkio kintamosios sąnaudos, Eur/ha]],SUMIFS(SanaudosSuv[Iš viso tiesioginių sąnaudų, Eur/t],SanaudosSuv[Žemės ūkio augalas, arba jų grupė],Ūkis20[[#This Row],[Žemės ūkio augalas, arba jų grupė]],SanaudosSuv[Žemės dirbimo technologija],Ūkis20[[#This Row],[Dirvos dirbimo technologija]]))","v":630.53},null,{"$f":"Ūkis20[[#This Row],[Plotas ha]]*Ūkis20[[#This Row],[Normatyvinės kintamosios sąnaudos, Eur/ha]]","v":630.53},{"$f":"+Ūkis20[[#This Row],[Pajamos, Eur/ha]]-Ūkis20[[#This Row],[Normatyvinės kintamosios sąnaudos, Eur/ha]]","v":889.34000000000015},{"$f":"+Ūkis20[[#This Row],[Pelno marža, Eur/ha]]*Ūkis20[[#This Row],[Plotas ha]]","v":889.34000000000015},{"$f":"SUMIFS(SanaudosSuv[Investicijų poreikis, tūkst. Eur],SanaudosSuv[Žemės ūkio augalas, arba jų grupė],Ūkis20[[#This Row],[Žemės ūkio augalas, arba jų grupė]],SanaudosSuv[Žemės dirbimo technologija],Ūkis20[[#This Row],[Dirvos dirbimo technologija]])","v":965.6}]
[{"$f":"ROW()-ROW(Ūkis20[[#Headers],[Eil. Nr.]])","v":24},"Vasariniai rapsai","Rapsai","Tiesioginė sėja (TS)",1,{"$f":"IF(Ūkis20[[#This Row],[Vidutinis derlingumas ūkyje t/ha]]<>0,Ūkis20[[#This Row],[Vidutinis derlingumas ūkyje t/ha]], _xlfn._xlws.FILTER(SanaudosSuv[Vidutinis derlingumas, t/ha], (SanaudosSuv[Žemės ūkio augalas, arba jų grupė]=Ūkis20[[#This Row],[Žemės ūkio augalas, arba jų grupė]]) * (SanaudosSuv[Žemės dirbimo technologija]=Ūkis20[[#This Row],[Dirvos dirbimo technologija]]), 0))","v":1.48},null,{"$f":"Ūkis20[[#This Row],[Plotas ha]]*Ūkis20[[#This Row],[Vidutinis derlingumas t/ha]]","v":1.48},{"$f":"IF(Ūkis20[[#This Row],[Vidutinė ūkio pardavimo kaina, Eur/t]]<>0,Ūkis20[[#This Row],[Vidutinė ūkio pardavimo kaina, Eur/t]],_xlfn.XLOOKUP(Ūkis20[[#This Row],[Produktas]],Kainos[Žemės ūkio produktas],Kainos[Produkcijos kaina Eur/t],0))","v":451},null,{"$f":"+Ūkis20[[#This Row],[Vidutinė rinkos kaina, Eur/t]]*Ūkis20[[#This Row],[Vidutinis derlingumas t/ha]]","v":667.48},{"$f":"Ūkis20[[#This Row],[Derlius t]]*Ūkis20[[#This Row],[Vidutinė rinkos kaina, Eur/t]]","v":667.48},{"$f":"IF(Ūkis20[[#This Row],[Ūkio kintamosios sąnaudos, Eur/ha]]<>0,Ūkis20[[#This Row],[Ūkio kintamosios sąnaudos, Eur/ha]],SUMIFS(SanaudosSuv[Iš viso tiesioginių sąnaudų, Eur/t],SanaudosSuv[Žemės ūkio augalas, arba jų grupė],Ūkis20[[#This Row],[Žemės ūkio augalas, arba jų grupė]],SanaudosSuv[Žemės dirbimo technologija],Ūkis20[[#This Row],[Dirvos dirbimo technologija]]))","v":497.53},null,{"$f":"Ūkis20[[#This Row],[Plotas ha]]*Ūkis20[[#This Row],[Normatyvinės kintamosios sąnaudos, Eur/ha]]","v":497.53},{"$f":"+Ūkis20[[#This Row],[Pajamos, Eur/ha]]-Ūkis20[[#This Row],[Normatyvinės kintamosios sąnaudos, Eur/ha]]","v":169.95000000000005},{"$f":"+Ūkis20[[#This Row],[Pelno marža, Eur/ha]]*Ūkis20[[#This Row],[Plotas ha]]","v":169.95000000000005},{"$f":"SUMIFS(SanaudosSuv[Investicijų poreikis, tūkst. Eur],SanaudosSuv[Žemės ūkio augalas, arba jų grupė],Ūkis20[[#This Row],[Žemės ūkio augalas, arba jų grupė]],SanaudosSuv[Žemės dirbimo technologija],Ūkis20[[#This Row],[Dirvos dirbimo technologija]])","v":965.6}]

{"sheet":"Ūkio duomenys","index":7,"n_rows":55,"n_cols":22,"rows_kept":55,"cut":false,"hidden":false,"merged":[]}
[]
["INVESTICIJŲ Į DIRVOS DIRBIMO TECHNOLOGIJAS EKONOMINIS VERTINIMAS"]
[]
[]
["1.","Atsakykite į klausimus:"]
[]
["1.1.","Šiuo metu ūkyje augalinės atliekos, įskaitant šiaudus, paliekamos lauke","Ne",{"$f":"IF(C7=\"Ne\", \"Šiaudai nepaliekami (R)\", \"Šiaudai paliekami lauke (S)\")","v":"Šiaudai nepaliekami (R)"}]
["1.2.","Ateityje ūkyje augalinės atliekos, įskaitant šiaudus, bus paliekamos lauke","Taip",{"$f":"IF(C8=\"Ne\", \"Šiaudai nepaliekami (R)\", \"Šiaudai paliekami lauke (S)\")","v":"Šiaudai paliekami lauke (S)"}]
[]
["2.","Turimos ir planuojamos investicijos javams ir rapsams auginti"]
["2.1.","Žemės ūkio mašinų ir įrenginių, naudojamų javams ir rapsams, balansinė vertė, Eur",125000]
["2.2.","Papildomų investicijų poreikis, siekiant taikyti naujas technologijas",500000]
["2.3.","Apskaičiuotas investicijų poreikis veiklai vykdyti (pradedant veiklą nuo \"nulio\")",{"$f":"MAX(Ūkis[Investicijų vertė tūkst. Eur])*1000","v":965600}]
[]
["3.","Tiesioginių išmokų dydis, Eur/ha",170]
[]
[]
["3.","Įveskite duomenis apie auginamus pasėlius:"]
[]
[null,"JAVŲ IR RAPSŲ PLOTAI, DERLINGUMAS, PAJAMOS, SĄNAUDOS IR PELNAS"]
[]
[null,"Iš viso",null,null,null,{"$f":"SUM(Ūkis[Plotas ha])","v":260},null,null,null,null,null,null,{"$f":"SUMPRODUCT(Ūkis[Plotas ha],Ūkis[Pajamų pokytis, Eur/ha])","v":27629.999999999989},null,{"$f":"SUMPRODUCT(Ūkis[Plotas ha],Ūkis[Galimas sąnaudų pokytis, Eur/ha])","v":-13287.00000000002},null,null,{"$f":"SUM(Ūkis[Pelno maržos pokytis iš viso, Eur])","v":40917.000000000007},null,null,{"$f":"SUM(Ūkis[Pelnas])","v":160417}]
["Eil. Nr.","Žemės ūkio augalas, arba jų grupė","Produktas","Taikoma dirvos dirbimo technologija","Planuojama dirvos dirbimo technologija","Plotas ha","Vidutinis derlingumas ūkyje t/ha","Galimas derlingumo pokytis dėl atliekų, t/ha","Galimas derlingumo pokytis dėl technologijos, t/ha","Derlingumo pokytis, proc.","Derlingumo pokytis, t/ha","Vidutinė pardavimo kaina, Eur/t","Pajamų pokytis, Eur/ha","Ūkio kintamosios sąnaudos, Eur/ha","Galimas sąnaudų pokytis, Eur/ha","Sąnaudų pokytis, proc.","Pelno maržos pokytis, Eur/ha","Pelno maržos pokytis iš viso, Eur","Pajamos","Sąnaudos","Pelnas","Investicijų vertė tūkst. Eur"]
[1,"Žieminiai javai","Kviečiai","Gilus arimas (GA)","Tiesioginė sėja (TS)",100,6,{"$f":"ROUND(_xlfn._xlws.FILTER(SanaudosSuv[Vidutinis derlingumas, t/ha],(SanaudosSuv[Žemės ūkio augalas, arba jų grupė]=Ūkis[[#This Row],[Žemės ūkio augalas, arba jų grupė]]) * (SanaudosSuv[Žemės dirbimo technologija]=$D$8),) / _xlfn._xlws.FILTER(SanaudosSuv[Vidutinis derlingumas, t/ha],(SanaudosSuv[Žemės ūkio augalas, arba jų grupė]=Ūkis[[#This Row],[Žemės ūkio augalas, arba jų grupė]]) * (SanaudosSuv[Žemės dirbimo technologija]=$D$7),) * Ūkis[[#This Row],[Vidutinis derlingumas ūkyje t/ha]],2) - Ūkis[[#This Row],[Vidutinis derlingumas ūkyje t/ha]]","v":0.21999999999999975},{"$f":"ROUND(_xlfn._xlws.FILTER(SanaudosSuv[Vidutinis derlingumas, t/ha],(SanaudosSuv[Žemės ūkio augalas, arba jų grupė]=Ūkis[[#This Row],[Žemės ūkio augalas, arba jų grupė]]) * (SanaudosSuv[Žemės dirbimo technologija]=Ūkis[[#This Row],[Planuojama dirvos dirbimo technologija]]),) / _xlfn._xlws.FILTER(SanaudosSuv[Vidutinis derlingumas, t/ha],(SanaudosSuv[Žemės ūkio augalas, arba jų grupė]=Ūkis[[#This Row],[Žemės ūkio augalas, arba jų grupė]]) * (SanaudosSuv[Žemės dirbimo technologija]=Ūkis[[#This Row],[Taikoma dirvos dirbimo technologija]]),) * Ūkis[[#This Row],[Vidutinis derlingumas ūkyje t/ha]],2) - Ūkis[[#This Row],[Vidutinis derlingumas ūkyje t/ha]]","v":0.41000000000000014},{"$f":"ROUND((Ūkis[[#This Row],[Galimas derlingumo pokytis dėl technologijos, t/ha]]+Ūkis[[#This Row],[Galimas derlingumo pokytis dėl atliekų, t/ha]])/Ūkis[[#This Row],[Vidutinis derlingumas ūkyje t/ha]],4)","v":0.105},{"$f":"(Ūkis[[#This Row],[Vidutinis derlingumas ūkyje t/ha]] + Ūkis[[#This Row],[Galimas derlingumo pokytis dėl technologijos, t/ha]] + Ūkis[[#This Row],[Galimas derlingumo pokytis dėl atliekų, t/ha]]) - Ūkis[[#This Row],[Vidutinis derlingumas ūkyje t/ha]]","v":0.62999999999999989},200,{"$f":"Ūkis[[#This Row],[Vidutinė pardavimo kaina, Eur/t]]*Ūkis[[#This Row],[Derlingumo pokytis, t/ha]]","v":125.99999999999997},600,{"$f":"SUMIFS(SanaudosSuv[Iš viso tiesioginių sąnaudų, Eur/t],SanaudosSuv[Žemės ūkio augalas, arba jų grupė],Ūkis[[#This Row],[Žemės ūkio augalas, arba jų grupė]],SanaudosSuv[Žemės dirbimo technologija],Ūkis[[#This Row],[Planuojama dirvos dirbimo technologija]]) - SUMIFS(SanaudosSuv[Iš viso tiesioginių sąnaudų, Eur/t],SanaudosSuv[Žemės ūkio augalas, arba jų grupė],Ūkis[[#This Row],[Žemės ūkio augalas, arba jų grupė]],SanaudosSuv[Žemės dirbimo technologija],Ūkis[[#This Row],[Taikoma dirvos dirbimo technologija]])","v":-56.790000000000077},{"$f":"SUMIFS(SanaudosSuv[Iš viso tiesioginių sąnaudų, Eur/t],SanaudosSuv[Žemės ūkio augalas, arba jų grupė],Ūkis[[#This Row],[Žemės ūkio augalas, arba jų grupė]],SanaudosSuv[Žemės dirbimo technologija],Ūkis[[#This Row],[Planuojama dirvos dirbimo technologija]]) / SUMIFS(SanaudosSuv[Iš viso tiesioginių sąnaudų, Eur/t],SanaudosSuv[Žemės ūkio augalas, arba jų grupė],Ūkis[[#This Row],[Žemės ūkio augalas, arba jų grupė]],SanaudosSuv[Žemės dirbimo technologija],Ūkis[[#This Row],[Taikoma dirvos dirbimo technologija]]) - 1","v":-8.3721547352282211E-2},{"$f":"Ūkis[[#This Row],[Pajamų pokytis, Eur/ha]]-Ūkis[[#This Row],[Galimas sąnaudų pokytis, Eur/ha]]","v":182.79000000000005},{"$f":"+Ūkis[[#This Row],[Pelno maržos pokytis, Eur/ha]]*Ūkis[[#This Row],[Plotas ha]]","v":18279.000000000004},{"$f":"Ūkis[[#This Row],[Plotas ha]]*(Ūkis[[#This Row],[Derlingumo pokytis, t/ha]]+Ūkis[[#This Row],[Vidutinis derlingumas ūkyje t/ha]])*Ūkis[[#This Row],[Vidutinė pardavimo kaina, Eur/t]]","v":132600},{"$f":"Ūkis[[#This Row],[Plotas ha]]*(Ūkis[[#This Row],[Ūkio kintamosios sąnaudos, Eur/ha]]+Ūkis[[#This Row],[Galimas sąnaudų pokytis, Eur/ha]])","v":54320.999999999993},{"$f":"Ūkis[[#This Row],[Pajamos]]-Ūkis[[#This Row],[Sąnaudos]]","v":78279},{"$f":"SUMIFS(SanaudosSuv[Investicijų poreikis, tūkst. Eur],SanaudosSuv[Žemės ūkio augalas, arba jų grupė],Ūkis[[#This Row],[Žemės ūkio augalas, arba jų grupė]],SanaudosSuv[Žemės dirbimo technologija],Ūkis[[#This Row],[Planuojama dirvos dirbimo technologija]])","v":965.6}]
[2,"Vasariniai javai","Miežiai","Gilus arimas (GA)","Tiesioginė sėja (TS)",100,5,{"$f":"ROUND(_xlfn._xlws.FILTER(SanaudosSuv[Vidutinis derlingumas, t/ha],(SanaudosSuv[Žemės ūkio augalas, arba jų grupė]=Ūkis[[#This Row],[Žemės ūkio augalas, arba jų grupė]]) * (SanaudosSuv[Žemės dirbimo technologija]=$D$8),) / _xlfn._xlws.FILTER(SanaudosSuv[Vidutinis derlingumas, t/ha],(SanaudosSuv[Žemės ūkio augalas, arba jų grupė]=Ūkis[[#This Row],[Žemės ūkio augalas, arba jų grupė]]) * (SanaudosSuv[Žemės dirbimo technologija]=$D$7),) * Ūkis[[#This Row],[Vidutinis derlingumas ūkyje t/ha]],2) - Ūkis[[#This Row],[Vidutinis derlingumas ūkyje t/ha]]","v":0.21999999999999975},{"$f":"ROUND(_xlfn._xlws.FILTER(SanaudosSuv[Vidutinis derlingumas, t/ha],(SanaudosSuv[Žemės ūkio augalas, arba jų grupė]=Ūkis[[#This Row],[Žemės ūkio augalas, arba jų grupė]]) * (SanaudosSuv[Žemės dirbimo technologija]=Ūkis[[#This Row],[Planuojama dirvos dirbimo technologija]]),) / _xlfn._xlws.FILTER(SanaudosSuv[Vidutinis derlingumas, t/ha],(SanaudosSuv[Žemės ūkio augalas, arba jų grupė]=Ūkis[[#This Row],[Žemės ūkio augalas, arba jų grupė]]) * (SanaudosSuv[Žemės dirbimo technologija]=Ūkis[[#This Row],[Taikoma dirvos dirbimo technologija]]),) * Ūkis[[#This Row],[Vidutinis derlingumas ūkyje t/ha]],2) - Ūkis[[#This Row],[Vidutinis derlingumas ūkyje t/ha]]","v":-0.28000000000000025},{"$f":"ROUND((Ūkis[[#This Row],[Galimas derlingumo pokytis dėl technologijos, t/ha]]+Ūkis[[#This Row],[Galimas derlingumo pokytis dėl atliekų, t/ha]])/Ūkis[[#This Row],[Vidutinis derlingumas ūkyje t/ha]],4)","v":-1.2E-2},{"$f":"(Ūkis[[#This Row],[Vidutinis derlingumas ūkyje t/ha]] + Ūkis[[#This Row],[Galimas derlingumo pokytis dėl technologijos, t/ha]] + Ūkis[[#This Row],[Galimas derlingumo pokytis dėl atliekų, t/ha]]) - Ūkis[[#This Row],[Vidutinis derlingumas ūkyje t/ha]]","v":-6.0000000000000497E-2},150,{"$f":"Ūkis[[#This Row],[Vidutinė pardavimo kaina, Eur/t]]*Ūkis[[#This Row],[Derlingumo pokytis, t/ha]]","v":-9.0000000000000746},500,{"$f":"SUMIFS(SanaudosSuv[Iš viso tiesioginių sąnaudų, Eur/t],SanaudosSuv[Žemės ūkio augalas, arba jų grupė],Ūkis[[#This Row],[Žemės ūkio augalas, arba jų grupė]],SanaudosSuv[Žemės dirbimo technologija],Ūkis[[#This Row],[Planuojama dirvos dirbimo technologija]]) - SUMIFS(SanaudosSuv[Iš viso tiesioginių sąnaudų, Eur/t],SanaudosSuv[Žemės ūkio augalas, arba jų grupė],Ūkis[[#This Row],[Žemės ūkio augalas, arba jų grupė]],SanaudosSuv[Žemės dirbimo technologija],Ūkis[[#This Row],[Taikoma dirvos dirbimo technologija]])","v":-56.790000000000077},{"$f":"SUMIFS(SanaudosSuv[Iš viso tiesioginių sąnaudų, Eur/t],SanaudosSuv[Žemės ūkio augalas, arba jų grupė],Ūkis[[#This Row],[Žemės ūkio augalas, arba jų grupė]],SanaudosSuv[Žemės dirbimo technologija],Ūkis[[#This Row],[Planuojama dirvos dirbimo technologija]]) / SUMIFS(SanaudosSuv[Iš viso tiesioginių sąnaudų, Eur/t],SanaudosSuv[Žemės ūkio augalas, arba jų grupė],Ūkis[[#This Row],[Žemės ūkio augalas, arba jų grupė]],SanaudosSuv[Žemės dirbimo technologija],Ūkis[[#This Row],[Taikoma dirvos dirbimo technologija]]) - 1","v":-0.10099231754161342},{"$f":"Ūkis[[#This Row],[Pajamų pokytis, Eur/ha]]-Ūkis[[#This Row],[Galimas sąnaudų pokytis, Eur/ha]]","v":47.790000000000006},{"$f":"+Ūkis[[#This Row],[Pelno maržos pokytis, Eur/ha]]*Ūkis[[#This Row],[Plotas ha]]","v":4779.0000000000009},{"$f":"Ūkis[[#This Row],[Plotas ha]]*(Ūkis[[#This Row],[Derlingumo pokytis, t/ha]]+Ūkis[[#This Row],[Vidutinis derlingumas ūkyje t/ha]])*Ūkis[[#This Row],[Vidutinė pardavimo kaina, Eur/t]]","v":74099.999999999985},{"$f":"Ūkis[[#This Row],[Plotas ha]]*(Ūkis[[#This Row],[Ūkio kintamosios sąnaudos, Eur/ha]]+Ūkis[[#This Row],[Galimas sąnaudų pokytis, Eur/ha]])","v":44320.999999999993},{"$f":"Ūkis[[#This Row],[Pajamos]]-Ūkis[[#This Row],[Sąnaudos]]","v":29778.999999999993},{"$f":"SUMIFS(SanaudosSuv[Investicijų poreikis, tūkst. Eur],SanaudosSuv[Žemės ūkio augalas, arba jų grupė],Ūkis[[#This Row],[Žemės ūkio augalas, arba jų grupė]],SanaudosSuv[Žemės dirbimo technologija],Ūkis[[#This Row],[Planuojama dirvos dirbimo technologija]])","v":965.6}]
[3,"Žieminiai rapsai","Rapsai","Gilus arimas (GA)","Tarpiniai pasėliai (TP)",30,3.5,{"$f":"ROUND(_xlfn._xlws.FILTER(SanaudosSuv[Vidutinis derlingumas, t/ha],(SanaudosSuv[Žemės ūkio augalas, arba jų grupė]=Ūkis[[#This Row],[Žemės ūkio augalas, arba jų grupė]]) * (SanaudosSuv[Žemės dirbimo technologija]=$D$8),) / _xlfn._xlws.FILTER(SanaudosSuv[Vidutinis derlingumas, t/ha],(SanaudosSuv[Žemės ūkio augalas, arba jų grupė]=Ūkis[[#This Row],[Žemės ūkio augalas, arba jų grupė]]) * (SanaudosSuv[Žemės dirbimo technologija]=$D$7),) * Ūkis[[#This Row],[Vidutinis derlingumas ūkyje t/ha]],2) - Ūkis[[#This Row],[Vidutinis derlingumas ūkyje t/ha]]","v":0.20000000000000018},{"$f":"ROUND(_xlfn._xlws.FILTER(SanaudosSuv[Vidutinis derlingumas, t/ha],(SanaudosSuv[Žemės ūkio augalas, arba jų grupė]=Ūkis[[#This Row],[Žemės ūkio augalas, arba jų grupė]]) * (SanaudosSuv[Žemės dirbimo technologija]=Ūkis[[#This Row],[Planuojama dirvos dirbimo technologija]]),) / _xlfn._xlws.FILTER(SanaudosSuv[Vidutinis derlingumas, t/ha],(SanaudosSuv[Žemės ūkio augalas, arba jų grupė]=Ūkis[[#This Row],[Žemės ūkio augalas, arba jų grupė]]) * (SanaudosSuv[Žemės dirbimo technologija]=Ūkis[[#This Row],[Taikoma dirvos dirbimo technologija]]),) * Ūkis[[#This Row],[Vidutinis derlingumas ūkyje t/ha]],2) - Ūkis[[#This Row],[Vidutinis derlingumas ūkyje t/ha]]","v":1.0899999999999999},{"$f":"ROUND((Ūkis[[#This Row],[Galimas derlingumo pokytis dėl technologijos, t/ha]]+Ūkis[[#This Row],[Galimas derlingumo pokytis dėl atliekų, t/ha]])/Ūkis[[#This Row],[Vidutinis derlingumas ūkyje t/ha]],4)","v":0.36859999999999998},{"$f":"(Ūkis[[#This Row],[Vidutinis derlingumas ūkyje t/ha]] + Ūkis[[#This Row],[Galimas derlingumo pokytis dėl technologijos, t/ha]] + Ūkis[[#This Row],[Galimas derlingumo pokytis dėl atliekų, t/ha]]) - Ūkis[[#This Row],[Vidutinis derlingumas ūkyje t/ha]]","v":1.29},450,{"$f":"Ūkis[[#This Row],[Vidutinė pardavimo kaina, Eur/t]]*Ūkis[[#This Row],[Derlingumo pokytis, t/ha]]","v":580.5},600,{"$f":"SUMIFS(SanaudosSuv[Iš viso tiesioginių sąnaudų, Eur/t],SanaudosSuv[Žemės ūkio augalas, arba jų grupė],Ūkis[[#This Row],[Žemės ūkio augalas, arba jų grupė]],SanaudosSuv[Žemės dirbimo technologija],Ūkis[[#This Row],[Planuojama dirvos dirbimo technologija]]) - SUMIFS(SanaudosSuv[Iš viso tiesioginių sąnaudų, Eur/t],SanaudosSuv[Žemės ūkio augalas, arba jų grupė],Ūkis[[#This Row],[Žemės ūkio augalas, arba jų grupė]],SanaudosSuv[Žemės dirbimo technologija],Ūkis[[#This Row],[Taikoma dirvos dirbimo technologija]])","v":-2.5100000000001046},{"$f":"SUMIFS(SanaudosSuv[Iš viso tiesioginių sąnaudų, Eur/t],SanaudosSuv[Žemės ūkio augalas, arba jų grupė],Ūkis[[#This Row],[Žemės ūkio augalas, arba jų grupė]],SanaudosSuv[Žemės dirbimo technologija],Ūkis[[#This Row],[Planuojama dirvos dirbimo technologija]]) / SUMIFS(SanaudosSuv[Iš viso tiesioginių sąnaudų, Eur/t],SanaudosSuv[Žemės ūkio augalas, arba jų grupė],Ūkis[[#This Row],[Žemės ūkio augalas, arba jų grupė]],SanaudosSuv[Žemės dirbimo technologija],Ūkis[[#This Row],[Taikoma dirvos dirbimo technologija]]) - 1","v":-3.6518652156202203E-3},{"$f":"Ūkis[[#This Row],[Pajamų pokytis, Eur/ha]]-Ūkis[[#This Row],[Galimas sąnaudų pokytis, Eur/ha]]","v":583.0100000000001},{"$f":"+Ūkis[[#This Row],[Pelno maržos pokytis, Eur/ha]]*Ūkis[[#This Row],[Plotas ha]]","v":17490.300000000003},{"$f":"Ūkis[[#This Row],[Plotas ha]]*(Ūkis[[#This Row],[Derlingumo pokytis, t/ha]]+Ūkis[[#This Row],[Vidutinis derlingumas ūkyje t/ha]])*Ūkis[[#This Row],[Vidutinė pardavimo kaina, Eur/t]]","v":64664.999999999993},{"$f":"Ūkis[[#This Row],[Plotas ha]]*(Ūkis[[#This Row],[Ūkio kintamosios sąnaudos, Eur/ha]]+Ūkis[[#This Row],[Galimas sąnaudų pokytis, Eur/ha]])","v":17924.699999999997},{"$f":"Ūkis[[#This Row],[Pajamos]]-Ūkis[[#This Row],[Sąnaudos]]","v":46740.299999999996},{"$f":"SUMIFS(SanaudosSuv[Investicijų poreikis, tūkst. Eur],SanaudosSuv[Žemės ūkio augalas, arba jų grupė],Ūkis[[#This Row],[Žemės ūkio augalas, arba jų grupė]],SanaudosSuv[Žemės dirbimo technologija],Ūkis[[#This Row],[Planuojama dirvos dirbimo technologija]])","v":965.6}]
[4,"Vasariniai rapsai","Rapsai","Gilus arimas (GA)","Tiesioginė sėja (TS)",30,1.5,{"$f":"ROUND(_xlfn._xlws.FILTER(SanaudosSuv[Vidutinis derlingumas, t/ha],(SanaudosSuv[Žemės ūkio augalas, arba jų grupė]=Ūkis[[#This Row],[Žemės ūkio augalas, arba jų grupė]]) * (SanaudosSuv[Žemės dirbimo technologija]=$D$8),) / _xlfn._xlws.FILTER(SanaudosSuv[Vidutinis derlingumas, t/ha],(SanaudosSuv[Žemės ūkio augalas, arba jų grupė]=Ūkis[[#This Row],[Žemės ūkio augalas, arba jų grupė]]) * (SanaudosSuv[Žemės dirbimo technologija]=$D$7),) * Ūkis[[#This Row],[Vidutinis derlingumas ūkyje t/ha]],2) - Ūkis[[#This Row],[Vidutinis derlingumas ūkyje t/ha]]","v":-2.0000000000000018E-2},{"$f":"ROUND(_xlfn._xlws.FILTER(SanaudosSuv[Vidutinis derlingumas, t/ha],(SanaudosSuv[Žemės ūkio augalas, arba jų grupė]=Ūkis[[#This Row],[Žemės ūkio augalas, arba jų grupė]]) * (SanaudosSuv[Žemės dirbimo technologija]=Ūkis[[#This Row],[Planuojama dirvos dirbimo technologija]]),) / _xlfn._xlws.FILTER(SanaudosSuv[Vidutinis derlingumas, t/ha],(SanaudosSuv[Žemės ūkio augalas, arba jų grupė]=Ūkis[[#This Row],[Žemės ūkio augalas, arba jų grupė]]) * (SanaudosSuv[Žemės dirbimo technologija]=Ūkis[[#This Row],[Taikoma dirvos dirbimo technologija]]),) * Ūkis[[#This Row],[Vidutinis derlingumas ūkyje t/ha]],2) - Ūkis[[#This Row],[Vidutinis derlingumas ūkyje t/ha]]","v":-9.000000000000008E-2},{"$f":"ROUND((Ūkis[[#This Row],[Galimas derlingumo pokytis dėl technologijos, t/ha]]+Ūkis[[#This Row],[Galimas derlingumo pokytis dėl atliekų, t/ha]])/Ūkis[[#This Row],[Vidutinis derlingumas ūkyje t/ha]],4)","v":-7.3300000000000004E-2},{"$f":"(Ūkis[[#This Row],[Vidutinis derlingumas ūkyje t/ha]] + Ūkis[[#This Row],[Galimas derlingumo pokytis dėl technologijos, t/ha]] + Ūkis[[#This Row],[Galimas derlingumo pokytis dėl atliekų, t/ha]]) - Ūkis[[#This Row],[Vidutinis derlingumas ūkyje t/ha]]","v":-0.1100000000000001},450,{"$f":"Ūkis[[#This Row],[Vidutinė pardavimo kaina, Eur/t]]*Ūkis[[#This Row],[Derlingumo pokytis, t/ha]]","v":-49.500000000000043},500,{"$f":"SUMIFS(SanaudosSuv[Iš viso tiesioginių sąnaudų, Eur/t],SanaudosSuv[Žemės ūkio augalas, arba jų grupė],Ūkis[[#This Row],[Žemės ūkio augalas, arba jų grupė]],SanaudosSuv[Žemės dirbimo technologija],Ūkis[[#This Row],[Planuojama dirvos dirbimo technologija]]) - SUMIFS(SanaudosSuv[Iš viso tiesioginių sąnaudų, Eur/t],SanaudosSuv[Žemės ūkio augalas, arba jų grupė],Ūkis[[#This Row],[Žemės ūkio augalas, arba jų grupė]],SanaudosSuv[Žemės dirbimo technologija],Ūkis[[#This Row],[Taikoma dirvos dirbimo technologija]])","v":-61.790000000000077},{"$f":"SUMIFS(SanaudosSuv[Iš viso tiesioginių sąnaudų, Eur/t],SanaudosSuv[Žemės ūkio augalas, arba jų grupė],Ūkis[[#This Row],[Žemės ūkio augalas, arba jų grupė]],SanaudosSuv[Žemės dirbimo technologija],Ūkis[[#This Row],[Planuojama dirvos dirbimo technologija]]) / SUMIFS(SanaudosSuv[Iš viso tiesioginių sąnaudų, Eur/t],SanaudosSuv[Žemės ūkio augalas, arba jų grupė],Ūkis[[#This Row],[Žemės ūkio augalas, arba jų grupė]],SanaudosSuv[Žemės dirbimo technologija],Ūkis[[#This Row],[Taikoma dirvos dirbimo technologija]]) - 1","v":-0.11047343202460147},{"$f":"Ūkis[[#This Row],[Pajamų pokytis, Eur/ha]]-Ūkis[[#This Row],[Galimas sąnaudų pokytis, Eur/ha]]","v":12.290000000000035},{"$f":"+Ūkis[[#This Row],[Pelno maržos pokytis, Eur/ha]]*Ūkis[[#This Row],[Plotas ha]]","v":368.70000000000107},{"$f":"Ūkis[[#This Row],[Plotas ha]]*(Ūkis[[#This Row],[Derlingumo pokytis, t/ha]]+Ūkis[[#This Row],[Vidutinis derlingumas ūkyje t/ha]])*Ūkis[[#This Row],[Vidutinė pardavimo kaina, Eur/t]]","v":18764.999999999996},{"$f":"Ūkis[[#This Row],[Plotas ha]]*(Ūkis[[#This Row],[Ūkio kintamosios sąnaudos, Eur/ha]]+Ūkis[[#This Row],[Galimas sąnaudų pokytis, Eur/ha]])","v":13146.299999999997},{"$f":"Ūkis[[#This Row],[Pajamos]]-Ūkis[[#This Row],[Sąnaudos]]","v":5618.6999999999989},{"$f":"SUMIFS(SanaudosSuv[Investicijų poreikis, tūkst. Eur],SanaudosSuv[Žemės ūkio augalas, arba jų grupė],Ūkis[[#This Row],[Žemės ūkio augalas, arba jų grupė]],SanaudosSuv[Žemės dirbimo technologija],Ūkis[[#This Row],[Planuojama dirvos dirbimo technologija]])","v":965.6}]
[]
[]
[null,null,null,null,"Apskaičiuoti pinigų srautai planuojamų investicijų (projekto), į dirvos dirbimo technologijas, pagrindu"]
[null,null,null,null,"Metai",0,{"$f":"+F31+1","v":1},{"$f":"+G31+1","v":2},3,4,5]
[null,null,null,null,"Pinigų srautas",null,{"$f":"+$R$22+($C$15*$F$22)","v":85117},{"$f":"+G32","v":85117},{"$f":"+H32","v":85117},{"$f":"+I32","v":85117},{"$f":"+J32","v":85117}]
[null,null,null,null,"Investicijos",{"$f":"-(C12)","v":-500000}]
[null,null,null,null,"Pinigų srautas iš viso",{"$f":"+F33+F32","v":-500000},{"$f":"+G33+G32","v":85117},85117,85117,85117,85117]
[]
[null,null,null,null,"Vidinė grąžos norma",{"$f":"IRR(F34:K34)","v":-5.1417233592269795E-2}]
[null,null,null,null,"Investicijų atsipirkimo trukmė, metais",{"$f":"-F34/G32","v":5.8742671851686499}]
[]
[null,null,null,null,"Apskaičiuoti pinigų srautai investicijų, naudojamų ir planuojamų įsigyti, pagrindu"]
[null,null,null,null,"Metai",0,{"$f":"+F40+1","v":1},{"$f":"+G40+1","v":2},3,4,5]
[null,null,null,null,"Pinigų srautas",null,{"$f":"$U$22+($C$15*$F$22)","v":204617},{"$f":"+G41","v":204617},{"$f":"+H41","v":204617},{"$f":"+I41","v":204617},{"$f":"+J41","v":204617}]
[null,null,null,null,"Investicijos",{"$f":"-(C11+C12)","v":-625000}]
[null,null,null,null,"Pinigų srautas iš viso",{"$f":"+F42+F41","v":-625000},{"$f":"+G42+G41","v":204617},{"$f":"+H42+H41","v":204617},{"$f":"+I42+I41","v":204617},{"$f":"+J42+J41","v":204617},{"$f":"+K42+K41","v":204617}]
[]
[null,null,null,null,"Vidinė grąžos norma",{"$f":"IRR(F43:K43)","v":0.19046153545456113}]
[null,null,null,null,"Investicijų atsipirkimo trukmė, metais",{"$f":"-F43/G41","v":3.0544871638231426}]
[]
[null,null,null,null,"Apskaičiuoti pinigų srautai pradinių investicijų, pagrindu"]
[null,null,null,null,"Metai",0,{"$f":"+F49+1","v":1},{"$f":"+G49+1","v":2},3,4,5]
[null,null,null,null,"Pinigų srautas",null,{"$f":"$U$22+($C$15*$F$22)","v":204617},{"$f":"+G50","v":204617},{"$f":"+H50","v":204617},{"$f":"+I50","v":204617},{"$f":"+J50","v":204617}]
[null,null,null,null,"Investicijos",{"$f":"-C13","v":-965600}]
[null,null,null,null,"Pinigų srautas iš viso",{"$f":"+F51+F50","v":-965600},{"$f":"+G51+G50","v":204617},{"$f":"+H51+H50","v":204617},{"$f":"+I51+I50","v":204617},{"$f":"+J51+J50","v":204617},{"$f":"+K51+K50","v":204617}]
[]
[null,null,null,null,"Vidinė grąžos norma",{"$f":"IRR(F52:K52)","v":1.9590956026585227E-2}]
[null,null,null,null,"Investicijų atsipirkimo trukmė, metais",{"$f":"-F52/G50","v":4.7190604886202028}]

{"sheet":"SanaudosSUV","index":8,"n_rows":42,"n_cols":9,"rows_kept":42,"cut":false,"hidden":false,"merged":[]}
[]
[]
["SĄNAUDOS HEKTARUI, DERLINGUMAS IR INVESTICIJŲ POREIKIS"]
[]
[]
[]
[]
[]
[]
["Eil. Nr.","Žemės ūkio augalas, arba jų grupė","Žemės dirbimo technologija","Mechanizuotų darbų sąnaudos, Eur/ha","Sunaudotos žaliavos ir medžiagos, Eur/ha","Iš viso tiesioginių sąnaudų, Eur/t","Vidutinis derlingumas, t/ha","Investicijų poreikis, tūkst. Eur","Žemės ūkio augalas"]
[{"$f":"ROW()-ROW(SanaudosSuv[[#Headers],[Eil. Nr.]])","v":1},"Vasariniai javai","Gilus arimas (GA)",{"$f":"SUMIFS(Tech_SąnaudosSuv[Iš viso, Eur],Tech_SąnaudosSuv[Technologija],SanaudosSuv[[#This Row],[Žemės dirbimo technologija]])","v":212.32000000000002},{"$f":"SUMIFS(MedžiagųSąnaudosPasėliui[Eur/ha],MedžiagųSąnaudosPasėliui[Pasėlis],SanaudosSuv[[#This Row],[Žemės ūkio augalas]],MedžiagųSąnaudosPasėliui[Technologija],SanaudosSuv[[#This Row],[Žemės dirbimo technologija]])","v":350},{"$f":"SUM(SanaudosSuv[[#This Row],[Mechanizuotų darbų sąnaudos, Eur/ha]:[Sunaudotos žaliavos ir medžiagos, Eur/ha]])","v":562.32000000000005},{"$f":"ROUND(AVERAGEIFS(DerlingBandRez[Derlingumas],DerlingBandRez[Žemės ūkio augalas],SanaudosSuv[[#This Row],[Žemės ūkio augalas]],DerlingBandRez[Technologija],SanaudosSuv[[#This Row],[Žemės dirbimo technologija]]),2)","v":4.68},{"$f":"IF(SanaudosSuv[[#This Row],[Mechanizuotų darbų sąnaudos, Eur/ha]]=0,0,SUMIFS(Tech_SąnaudosSuv[Padargo kaina, tūkst. Eur],Tech_SąnaudosSuv[Technologija],SanaudosSuv[[#This Row],[Žemės dirbimo technologija]]) + SUM(Sąnaudos!$L$7:$L$8))","v":1159.78},"Vasariniai miežiai"]
[{"$f":"ROW()-ROW(SanaudosSuv[[#Headers],[Eil. Nr.]])","v":2},"Vasariniai javai","Seklus arimas (SA)",{"$f":"SUMIFS(Tech_SąnaudosSuv[Iš viso, Eur],Tech_SąnaudosSuv[Technologija],SanaudosSuv[[#This Row],[Žemės dirbimo technologija]])","v":192.74},{"$f":"SUMIFS(MedžiagųSąnaudosPasėliui[Eur/ha],MedžiagųSąnaudosPasėliui[Pasėlis],SanaudosSuv[[#This Row],[Žemės ūkio augalas]],MedžiagųSąnaudosPasėliui[Technologija],SanaudosSuv[[#This Row],[Žemės dirbimo technologija]])","v":350},{"$f":"SUM(SanaudosSuv[[#This Row],[Mechanizuotų darbų sąnaudos, Eur/ha]:[Sunaudotos žaliavos ir medžiagos, Eur/ha]])","v":542.74},{"$f":"ROUND(AVERAGEIFS(DerlingBandRez[Derlingumas],DerlingBandRez[Žemės ūkio augalas],SanaudosSuv[[#This Row],[Žemės ūkio augalas]],DerlingBandRez[Technologija],SanaudosSuv[[#This Row],[Žemės dirbimo technologija]]),2)","v":4.41},{"$f":"IF(SanaudosSuv[[#This Row],[Mechanizuotų darbų sąnaudos, Eur/ha]]=0,0,SUMIFS(Tech_SąnaudosSuv[Padargo kaina, tūkst. Eur],Tech_SąnaudosSuv[Technologija],SanaudosSuv[[#This Row],[Žemės dirbimo technologija]]) + SUM(Sąnaudos!$L$7:$L$8))","v":1159.78},"Vasariniai miežiai"]
[{"$f":"ROW()-ROW(SanaudosSuv[[#Headers],[Eil. Nr.]])","v":3},"Vasariniai javai","Seklus purenimas rudenį (SPR)",{"$f":"SUMIFS(Tech_SąnaudosSuv[Iš viso, Eur],Tech_SąnaudosSuv[Technologija],SanaudosSuv[[#This Row],[Žemės dirbimo technologija]])","v":107.19},{"$f":"SUMIFS(MedžiagųSąnaudosPasėliui[Eur/ha],MedžiagųSąnaudosPasėliui[Pasėlis],SanaudosSuv[[#This Row],[Žemės ūkio augalas]],MedžiagųSąnaudosPasėliui[Technologija],SanaudosSuv[[#This Row],[Žemės dirbimo technologija]])","v":350},{"$f":"SUM(SanaudosSuv[[#This Row],[Mechanizuotų darbų sąnaudos, Eur/ha]:[Sunaudotos žaliavos ir medžiagos, Eur/ha]])","v":457.19},{"$f":"ROUND(AVERAGEIFS(DerlingBandRez[Derlingumas],DerlingBandRez[Žemės ūkio augalas],SanaudosSuv[[#This Row],[Žemės ūkio augalas]],DerlingBandRez[Technologija],SanaudosSuv[[#This Row],[Žemės dirbimo technologija]]),2)","v":4.41},{"$f":"IF(SanaudosSuv[[#This Row],[Mechanizuotų darbų sąnaudos, Eur/ha]]=0,0,SUMIFS(Tech_SąnaudosSuv[Padargo kaina, tūkst. Eur],Tech_SąnaudosSuv[Technologija],SanaudosSuv[[#This Row],[Žemės dirbimo technologija]]) + SUM(Sąnaudos!$L$7:$L$8))","v":1109.22},"Vasariniai miežiai"]
[{"$f":"ROW()-ROW(SanaudosSuv[[#Headers],[Eil. Nr.]])","v":4},"Vasariniai javai","Seklus purenimas prieš sėją (SPS)",{"$f":"SUMIFS(Tech_SąnaudosSuv[Iš viso, Eur],Tech_SąnaudosSuv[Technologija],SanaudosSuv[[#This Row],[Žemės dirbimo technologija]])","v":192.82},{"$f":"SUMIFS(MedžiagųSąnaudosPasėliui[Eur/ha],MedžiagųSąnaudosPasėliui[Pasėlis],SanaudosSuv[[#This Row],[Žemės ūkio augalas]],MedžiagųSąnaudosPasėliui[Technologija],SanaudosSuv[[#This Row],[Žemės dirbimo technologija]])","v":350},{"$f":"SUM(SanaudosSuv[[#This Row],[Mechanizuotų darbų sąnaudos, Eur/ha]:[Sunaudotos žaliavos ir medžiagos, Eur/ha]])","v":542.81999999999994},{"$f":"ROUND(AVERAGEIFS(DerlingBandRez[Derlingumas],DerlingBandRez[Žemės ūkio augalas],SanaudosSuv[[#This Row],[Žemės ūkio augalas]],DerlingBandRez[Technologija],SanaudosSuv[[#This Row],[Žemės dirbimo technologija]]),2)","v":4.38},{"$f":"IF(SanaudosSuv[[#This Row],[Mechanizuotų darbų sąnaudos, Eur/ha]]=0,0,SUMIFS(Tech_SąnaudosSuv[Padargo kaina, tūkst. Eur],Tech_SąnaudosSuv[Technologija],SanaudosSuv[[#This Row],[Žemės dirbimo technologija]]) + SUM(Sąnaudos!$L$7:$L$8))","v":1029.46},"Vasariniai miežiai"]
[{"$f":"ROW()-ROW(SanaudosSuv[[#Headers],[Eil. Nr.]])","v":5},"Vasariniai javai","Tarpiniai pasėliai (TP)",{"$f":"SUMIFS(Tech_SąnaudosSuv[Iš viso, Eur],Tech_SąnaudosSuv[Technologija],SanaudosSuv[[#This Row],[Žemės dirbimo technologija]])","v":127.81},{"$f":"SUMIFS(MedžiagųSąnaudosPasėliui[Eur/ha],MedžiagųSąnaudosPasėliui[Pasėlis],SanaudosSuv[[#This Row],[Žemės ūkio augalas]],MedžiagųSąnaudosPasėliui[Technologija],SanaudosSuv[[#This Row],[Žemės dirbimo technologija]])","v":432},{"$f":"SUM(SanaudosSuv[[#This Row],[Mechanizuotų darbų sąnaudos, Eur/ha]:[Sunaudotos žaliavos ir medžiagos, Eur/ha]])","v":559.80999999999995},{"$f":"ROUND(AVERAGEIFS(DerlingBandRez[Derlingumas],DerlingBandRez[Žemės ūkio augalas],SanaudosSuv[[#This Row],[Žemės ūkio augalas]],DerlingBandRez[Technologija],SanaudosSuv[[#This Row],[Žemės dirbimo technologija]]),2)","v":4.34},{"$f":"IF(SanaudosSuv[[#This Row],[Mechanizuotų darbų sąnaudos, Eur/ha]]=0,0,SUMIFS(Tech_SąnaudosSuv[Padargo kaina, tūkst. Eur],Tech_SąnaudosSuv[Technologija],SanaudosSuv[[#This Row],[Žemės dirbimo technologija]]) + SUM(Sąnaudos!$L$7:$L$8))","v":965.6},"Vasariniai miežiai"]
[{"$f":"ROW()-ROW(SanaudosSuv[[#Headers],[Eil. Nr.]])","v":6},"Vasariniai javai","Tiesioginė sėja (TS)",{"$f":"SUMIFS(Tech_SąnaudosSuv[Iš viso, Eur],Tech_SąnaudosSuv[Technologija],SanaudosSuv[[#This Row],[Žemės dirbimo technologija]])","v":123.53},{"$f":"SUMIFS(MedžiagųSąnaudosPasėliui[Eur/ha],MedžiagųSąnaudosPasėliui[Pasėlis],SanaudosSuv[[#This Row],[Žemės ūkio augalas]],MedžiagųSąnaudosPasėliui[Technologija],SanaudosSuv[[#This Row],[Žemės dirbimo technologija]])","v":382},{"$f":"SUM(SanaudosSuv[[#This Row],[Mechanizuotų darbų sąnaudos, Eur/ha]:[Sunaudotos žaliavos ir medžiagos, Eur/ha]])","v":505.53},{"$f":"ROUND(AVERAGEIFS(DerlingBandRez[Derlingumas],DerlingBandRez[Žemės ūkio augalas],SanaudosSuv[[#This Row],[Žemės ūkio augalas]],DerlingBandRez[Technologija],SanaudosSuv[[#This Row],[Žemės dirbimo technologija]]),2)","v":4.42},{"$f":"IF(SanaudosSuv[[#This Row],[Mechanizuotų darbų sąnaudos, Eur/ha]]=0,0,SUMIFS(Tech_SąnaudosSuv[Padargo kaina, tūkst. Eur],Tech_SąnaudosSuv[Technologija],SanaudosSuv[[#This Row],[Žemės dirbimo technologija]]) + SUM(Sąnaudos!$L$7:$L$8))","v":965.6},"Vasariniai miežiai"]
[{"$f":"ROW()-ROW(SanaudosSuv[[#Headers],[Eil. Nr.]])","v":7},"Vasariniai rapsai","Gilus arimas (GA)",{"$f":"SUMIFS(Tech_SąnaudosSuv[Iš viso, Eur],Tech_SąnaudosSuv[Technologija],SanaudosSuv[[#This Row],[Žemės dirbimo technologija]])","v":212.32000000000002},{"$f":"SUMIFS(MedžiagųSąnaudosPasėliui[Eur/ha],MedžiagųSąnaudosPasėliui[Pasėlis],SanaudosSuv[[#This Row],[Žemės ūkio augalas]],MedžiagųSąnaudosPasėliui[Technologija],SanaudosSuv[[#This Row],[Žemės dirbimo technologija]])","v":347},{"$f":"SUM(SanaudosSuv[[#This Row],[Mechanizuotų darbų sąnaudos, Eur/ha]:[Sunaudotos žaliavos ir medžiagos, Eur/ha]])","v":559.32000000000005},{"$f":"ROUND(AVERAGEIFS(DerlingBandRez[Derlingumas],DerlingBandRez[Žemės ūkio augalas],SanaudosSuv[[#This Row],[Žemės ūkio augalas]],DerlingBandRez[Technologija],SanaudosSuv[[#This Row],[Žemės dirbimo technologija]]),2)","v":1.57},{"$f":"IF(SanaudosSuv[[#This Row],[Mechanizuotų darbų sąnaudos, Eur/ha]]=0,0,SUMIFS(Tech_SąnaudosSuv[Padargo kaina, tūkst. Eur],Tech_SąnaudosSuv[Technologija],SanaudosSuv[[#This Row],[Žemės dirbimo technologija]]) + SUM(Sąnaudos!$L$7:$L$8))","v":1159.78},"Vasariniai rapsai"]
[{"$f":"ROW()-ROW(SanaudosSuv[[#Headers],[Eil. Nr.]])","v":8},"Vasariniai rapsai","Seklus arimas (SA)",{"$f":"SUMIFS(Tech_SąnaudosSuv[Iš viso, Eur],Tech_SąnaudosSuv[Technologija],SanaudosSuv[[#This Row],[Žemės dirbimo technologija]])","v":192.74},{"$f":"SUMIFS(MedžiagųSąnaudosPasėliui[Eur/ha],MedžiagųSąnaudosPasėliui[Pasėlis],SanaudosSuv[[#This Row],[Žemės ūkio augalas]],MedžiagųSąnaudosPasėliui[Technologija],SanaudosSuv[[#This Row],[Žemės dirbimo technologija]])","v":347},{"$f":"SUM(SanaudosSuv[[#This Row],[Mechanizuotų darbų sąnaudos, Eur/ha]:[Sunaudotos žaliavos ir medžiagos, Eur/ha]])","v":539.74},{"$f":"ROUND(AVERAGEIFS(DerlingBandRez[Derlingumas],DerlingBandRez[Žemės ūkio augalas],SanaudosSuv[[#This Row],[Žemės ūkio augalas]],DerlingBandRez[Technologija],SanaudosSuv[[#This Row],[Žemės dirbimo technologija]]),2)","v":1.56},{"$f":"IF(SanaudosSuv[[#This Row],[Mechanizuotų darbų sąnaudos, Eur/ha]]=0,0,SUMIFS(Tech_SąnaudosSuv[Padargo kaina, tūkst. Eur],Tech_SąnaudosSuv[Technologija],SanaudosSuv[[#This Row],[Žemės dirbimo technologija]]) + SUM(Sąnaudos!$L$7:$L$8))","v":1159.78},"Vasariniai rapsai"]
[{"$f":"ROW()-ROW(SanaudosSuv[[#Headers],[Eil. Nr.]])","v":9},"Vasariniai rapsai","Seklus purenimas rudenį (SPR)",{"$f":"SUMIFS(Tech_SąnaudosSuv[Iš viso, Eur],Tech_SąnaudosSuv[Technologija],SanaudosSuv[[#This Row],[Žemės dirbimo technologija]])","v":107.19},{"$f":"SUMIFS(MedžiagųSąnaudosPasėliui[Eur/ha],MedžiagųSąnaudosPasėliui[Pasėlis],SanaudosSuv[[#This Row],[Žemės ūkio augalas]],MedžiagųSąnaudosPasėliui[Technologija],SanaudosSuv[[#This Row],[Žemės dirbimo technologija]])","v":347},{"$f":"SUM(SanaudosSuv[[#This Row],[Mechanizuotų darbų sąnaudos, Eur/ha]:[Sunaudotos žaliavos ir medžiagos, Eur/ha]])","v":454.19},{"$f":"ROUND(AVERAGEIFS(DerlingBandRez[Derlingumas],DerlingBandRez[Žemės ūkio augalas],SanaudosSuv[[#This Row],[Žemės ūkio augalas]],DerlingBandRez[Technologija],SanaudosSuv[[#This Row],[Žemės dirbimo technologija]]),2)","v":1.48},{"$f":"IF(SanaudosSuv[[#This Row],[Mechanizuotų darbų sąnaudos, Eur/ha]]=0,0,SUMIFS(Tech_SąnaudosSuv[Padargo kaina, tūkst. Eur],Tech_SąnaudosSuv[Technologija],SanaudosSuv[[#This Row],[Žemės dirbimo technologija]]) + SUM(Sąnaudos!$L$7:$L$8))","v":1109.22},"Vasariniai rapsai"]
[{"$f":"ROW()-ROW(SanaudosSuv[[#Headers],[Eil. Nr.]])","v":10},"Vasariniai rapsai","Seklus purenimas prieš sėją (SPS)",{"$f":"SUMIFS(Tech_SąnaudosSuv[Iš viso, Eur],Tech_SąnaudosSuv[Technologija],SanaudosSuv[[#This Row],[Žemės dirbimo technologija]])","v":192.82},{"$f":"SUMIFS(MedžiagųSąnaudosPasėliui[Eur/ha],MedžiagųSąnaudosPasėliui[Pasėlis],SanaudosSuv[[#This Row],[Žemės ūkio augalas]],MedžiagųSąnaudosPasėliui[Technologija],SanaudosSuv[[#This Row],[Žemės dirbimo technologija]])","v":347},{"$f":"SUM(SanaudosSuv[[#This Row],[Mechanizuotų darbų sąnaudos, Eur/ha]:[Sunaudotos žaliavos ir medžiagos, Eur/ha]])","v":539.81999999999994},{"$f":"ROUND(AVERAGEIFS(DerlingBandRez[Derlingumas],DerlingBandRez[Žemės ūkio augalas],SanaudosSuv[[#This Row],[Žemės ūkio augalas]],DerlingBandRez[Technologija],SanaudosSuv[[#This Row],[Žemės dirbimo technologija]]),2)","v":1.51},{"$f":"IF(SanaudosSuv[[#This Row],[Mechanizuotų darbų sąnaudos, Eur/ha]]=0,0,SUMIFS(Tech_SąnaudosSuv[Padargo kaina, tūkst. Eur],Tech_SąnaudosSuv[Technologija],SanaudosSuv[[#This Row],[Žemės dirbimo technologija]]) + SUM(Sąnaudos!$L$7:$L$8))","v":1029.46},"Vasariniai rapsai"]
[{"$f":"ROW()-ROW(SanaudosSuv[[#Headers],[Eil. Nr.]])","v":11},"Vasariniai rapsai","Tarpiniai pasėliai (TP)",{"$f":"SUMIFS(Tech_SąnaudosSuv[Iš viso, Eur],Tech_SąnaudosSuv[Technologija],SanaudosSuv[[#This Row],[Žemės dirbimo technologija]])","v":127.81},{"$f":"SUMIFS(MedžiagųSąnaudosPasėliui[Eur/ha],MedžiagųSąnaudosPasėliui[Pasėlis],SanaudosSuv[[#This Row],[Žemės ūkio augalas]],MedžiagųSąnaudosPasėliui[Technologija],SanaudosSuv[[#This Row],[Žemės dirbimo technologija]])","v":424},{"$f":"SUM(SanaudosSuv[[#This Row],[Mechanizuotų darbų sąnaudos, Eur/ha]:[Sunaudotos žaliavos ir medžiagos, Eur/ha]])","v":551.80999999999995},{"$f":"ROUND(AVERAGEIFS(DerlingBandRez[Derlingumas],DerlingBandRez[Žemės ūkio augalas],SanaudosSuv[[#This Row],[Žemės ūkio augalas]],DerlingBandRez[Technologija],SanaudosSuv[[#This Row],[Žemės dirbimo technologija]]),2)","v":1.3},{"$f":"IF(SanaudosSuv[[#This Row],[Mechanizuotų darbų sąnaudos, Eur/ha]]=0,0,SUMIFS(Tech_SąnaudosSuv[Padargo kaina, tūkst. Eur],Tech_SąnaudosSuv[Technologija],SanaudosSuv[[#This Row],[Žemės dirbimo technologija]]) + SUM(Sąnaudos!$L$7:$L$8))","v":965.6},"Vasariniai rapsai"]
[{"$f":"ROW()-ROW(SanaudosSuv[[#Headers],[Eil. Nr.]])","v":12},"Vasariniai rapsai","Tiesioginė sėja (TS)",{"$f":"SUMIFS(Tech_SąnaudosSuv[Iš viso, Eur],Tech_SąnaudosSuv[Technologija],SanaudosSuv[[#This Row],[Žemės dirbimo technologija]])","v":123.53},{"$f":"SUMIFS(MedžiagųSąnaudosPasėliui[Eur/ha],MedžiagųSąnaudosPasėliui[Pasėlis],SanaudosSuv[[#This Row],[Žemės ūkio augalas]],MedžiagųSąnaudosPasėliui[Technologija],SanaudosSuv[[#This Row],[Žemės dirbimo technologija]])","v":374},{"$f":"SUM(SanaudosSuv[[#This Row],[Mechanizuotų darbų sąnaudos, Eur/ha]:[Sunaudotos žaliavos ir medžiagos, Eur/ha]])","v":497.53},{"$f":"ROUND(AVERAGEIFS(DerlingBandRez[Derlingumas],DerlingBandRez[Žemės ūkio augalas],SanaudosSuv[[#This Row],[Žemės ūkio augalas]],DerlingBandRez[Technologija],SanaudosSuv[[#This Row],[Žemės dirbimo technologija]]),2)","v":1.48},{"$f":"IF(SanaudosSuv[[#This Row],[Mechanizuotų darbų sąnaudos, Eur/ha]]=0,0,SUMIFS(Tech_SąnaudosSuv[Padargo kaina, tūkst. Eur],Tech_SąnaudosSuv[Technologija],SanaudosSuv[[#This Row],[Žemės dirbimo technologija]]) + SUM(Sąnaudos!$L$7:$L$8))","v":965.6},"Vasariniai rapsai"]
[{"$f":"ROW()-ROW(SanaudosSuv[[#Headers],[Eil. Nr.]])","v":13},"Žieminiai javai","Gilus arimas (GA)",{"$f":"SUMIFS(Tech_SąnaudosSuv[Iš viso, Eur],Tech_SąnaudosSuv[Technologija],SanaudosSuv[[#This Row],[Žemės dirbimo technologija]])","v":212.32000000000002},{"$f":"SUMIFS(MedžiagųSąnaudosPasėliui[Eur/ha],MedžiagųSąnaudosPasėliui[Pasėlis],SanaudosSuv[[#This Row],[Žemės ūkio augalas]],MedžiagųSąnaudosPasėliui[Technologija],SanaudosSuv[[#This Row],[Žemės dirbimo technologija]])","v":466},{"$f":"SUM(SanaudosSuv[[#This Row],[Mechanizuotų darbų sąnaudos, Eur/ha]:[Sunaudotos žaliavos ir medžiagos, Eur/ha]])","v":678.32},{"$f":"ROUND(AVERAGEIFS(DerlingBandRez[Derlingumas],DerlingBandRez[Žemės ūkio augalas],SanaudosSuv[[#This Row],[Žemės ūkio augalas]],DerlingBandRez[Technologija],SanaudosSuv[[#This Row],[Žemės dirbimo technologija]]),2)","v":8.35},{"$f":"IF(SanaudosSuv[[#This Row],[Mechanizuotų darbų sąnaudos, Eur/ha]]=0,0,SUMIFS(Tech_SąnaudosSuv[Padargo kaina, tūkst. Eur],Tech_SąnaudosSuv[Technologija],SanaudosSuv[[#This Row],[Žemės dirbimo technologija]]) + SUM(Sąnaudos!$L$7:$L$8))","v":1159.78},"Žieminiai kviečiai"]
[{"$f":"ROW()-ROW(SanaudosSuv[[#Headers],[Eil. Nr.]])","v":14},"Žieminiai javai","Seklus arimas (SA)",{"$f":"SUMIFS(Tech_SąnaudosSuv[Iš viso, Eur],Tech_SąnaudosSuv[Technologija],SanaudosSuv[[#This Row],[Žemės dirbimo technologija]])","v":192.74},{"$f":"SUMIFS(MedžiagųSąnaudosPasėliui[Eur/ha],MedžiagųSąnaudosPasėliui[Pasėlis],SanaudosSuv[[#This Row],[Žemės ūkio augalas]],MedžiagųSąnaudosPasėliui[Technologija],SanaudosSuv[[#This Row],[Žemės dirbimo technologija]])","v":466},{"$f":"SUM(SanaudosSuv[[#This Row],[Mechanizuotų darbų sąnaudos, Eur/ha]:[Sunaudotos žaliavos ir medžiagos, Eur/ha]])","v":658.74},{"$f":"ROUND(AVERAGEIFS(DerlingBandRez[Derlingumas],DerlingBandRez[Žemės ūkio augalas],SanaudosSuv[[#This Row],[Žemės ūkio augalas]],DerlingBandRez[Technologija],SanaudosSuv[[#This Row],[Žemės dirbimo technologija]]),2)","v":8.16},{"$f":"IF(SanaudosSuv[[#This Row],[Mechanizuotų darbų sąnaudos, Eur/ha]]=0,0,SUMIFS(Tech_SąnaudosSuv[Padargo kaina, tūkst. Eur],Tech_SąnaudosSuv[Technologija],SanaudosSuv[[#This Row],[Žemės dirbimo technologija]]) + SUM(Sąnaudos!$L$7:$L$8))","v":1159.78},"Žieminiai kviečiai"]
[{"$f":"ROW()-ROW(SanaudosSuv[[#Headers],[Eil. Nr.]])","v":15},"Žieminiai javai","Seklus purenimas rudenį (SPR)",{"$f":"SUMIFS(Tech_SąnaudosSuv[Iš viso, Eur],Tech_SąnaudosSuv[Technologija],SanaudosSuv[[#This Row],[Žemės dirbimo technologija]])","v":107.19},{"$f":"SUMIFS(MedžiagųSąnaudosPasėliui[Eur/ha],MedžiagųSąnaudosPasėliui[Pasėlis],SanaudosSuv[[#This Row],[Žemės ūkio augalas]],MedžiagųSąnaudosPasėliui[Technologija],SanaudosSuv[[#This Row],[Žemės dirbimo technologija]])","v":466},{"$f":"SUM(SanaudosSuv[[#This Row],[Mechanizuotų darbų sąnaudos, Eur/ha]:[Sunaudotos žaliavos ir medžiagos, Eur/ha]])","v":573.19000000000005},{"$f":"ROUND(AVERAGEIFS(DerlingBandRez[Derlingumas],DerlingBandRez[Žemės ūkio augalas],SanaudosSuv[[#This Row],[Žemės ūkio augalas]],DerlingBandRez[Technologija],SanaudosSuv[[#This Row],[Žemės dirbimo technologija]]),2)","v":8.26},{"$f":"IF(SanaudosSuv[[#This Row],[Mechanizuotų darbų sąnaudos, Eur/ha]]=0,0,SUMIFS(Tech_SąnaudosSuv[Padargo kaina, tūkst. Eur],Tech_SąnaudosSuv[Technologija],SanaudosSuv[[#This Row],[Žemės dirbimo technologija]]) + SUM(Sąnaudos!$L$7:$L$8))","v":1109.22},"Žieminiai kviečiai"]
[{"$f":"ROW()-ROW(SanaudosSuv[[#Headers],[Eil. Nr.]])","v":16},"Žieminiai javai","Seklus purenimas prieš sėją (SPS)",{"$f":"SUMIFS(Tech_SąnaudosSuv[Iš viso, Eur],Tech_SąnaudosSuv[Technologija],SanaudosSuv[[#This Row],[Žemės dirbimo technologija]])","v":192.82},{"$f":"SUMIFS(MedžiagųSąnaudosPasėliui[Eur/ha],MedžiagųSąnaudosPasėliui[Pasėlis],SanaudosSuv[[#This Row],[Žemės ūkio augalas]],MedžiagųSąnaudosPasėliui[Technologija],SanaudosSuv[[#This Row],[Žemės dirbimo technologija]])","v":466},{"$f":"SUM(SanaudosSuv[[#This Row],[Mechanizuotų darbų sąnaudos, Eur/ha]:[Sunaudotos žaliavos ir medžiagos, Eur/ha]])","v":658.81999999999994},{"$f":"ROUND(AVERAGEIFS(DerlingBandRez[Derlingumas],DerlingBandRez[Žemės ūkio augalas],SanaudosSuv[[#This Row],[Žemės ūkio augalas]],DerlingBandRez[Technologija],SanaudosSuv[[#This Row],[Žemės dirbimo technologija]]),2)","v":9.2799999999999994},{"$f":"IF(SanaudosSuv[[#This Row],[Mechanizuotų darbų sąnaudos, Eur/ha]]=0,0,SUMIFS(Tech_SąnaudosSuv[Padargo kaina, tūkst. Eur],Tech_SąnaudosSuv[Technologija],SanaudosSuv[[#This Row],[Žemės dirbimo technologija]]) + SUM(Sąnaudos!$L$7:$L$8))","v":1029.46},"Žieminiai kviečiai"]
[{"$f":"ROW()-ROW(SanaudosSuv[[#Headers],[Eil. Nr.]])","v":17},"Žieminiai javai","Tarpiniai pasėliai (TP)",{"$f":"SUMIFS(Tech_SąnaudosSuv[Iš viso, Eur],Tech_SąnaudosSuv[Technologija],SanaudosSuv[[#This Row],[Žemės dirbimo technologija]])","v":127.81},{"$f":"SUMIFS(MedžiagųSąnaudosPasėliui[Eur/ha],MedžiagųSąnaudosPasėliui[Pasėlis],SanaudosSuv[[#This Row],[Žemės ūkio augalas]],MedžiagųSąnaudosPasėliui[Technologija],SanaudosSuv[[#This Row],[Žemės dirbimo technologija]])","v":548},{"$f":"SUM(SanaudosSuv[[#This Row],[Mechanizuotų darbų sąnaudos, Eur/ha]:[Sunaudotos žaliavos ir medžiagos, Eur/ha]])","v":675.81},{"$f":"ROUND(AVERAGEIFS(DerlingBandRez[Derlingumas],DerlingBandRez[Žemės ūkio augalas],SanaudosSuv[[#This Row],[Žemės ūkio augalas]],DerlingBandRez[Technologija],SanaudosSuv[[#This Row],[Žemės dirbimo technologija]]),2)","v":9.23},{"$f":"IF(SanaudosSuv[[#This Row],[Mechanizuotų darbų sąnaudos, Eur/ha]]=0,0,SUMIFS(Tech_SąnaudosSuv[Padargo kaina, tūkst. Eur],Tech_SąnaudosSuv[Technologija],SanaudosSuv[[#This Row],[Žemės dirbimo technologija]]) + SUM(Sąnaudos!$L$7:$L$8))","v":965.6},"Žieminiai kviečiai"]
[{"$f":"ROW()-ROW(SanaudosSuv[[#Headers],[Eil. Nr.]])","v":18},"Žieminiai javai","Tiesioginė sėja (TS)",{"$f":"SUMIFS(Tech_SąnaudosSuv[Iš viso, Eur],Tech_SąnaudosSuv[Technologija],SanaudosSuv[[#This Row],[Žemės dirbimo technologija]])","v":123.53},{"$f":"SUMIFS(MedžiagųSąnaudosPasėliui[Eur/ha],MedžiagųSąnaudosPasėliui[Pasėlis],SanaudosSuv[[#This Row],[Žemės ūkio augalas]],MedžiagųSąnaudosPasėliui[Technologija],SanaudosSuv[[#This Row],[Žemės dirbimo technologija]])","v":498},{"$f":"SUM(SanaudosSuv[[#This Row],[Mechanizuotų darbų sąnaudos, Eur/ha]:[Sunaudotos žaliavos ir medžiagos, Eur/ha]])","v":621.53},{"$f":"ROUND(AVERAGEIFS(DerlingBandRez[Derlingumas],DerlingBandRez[Žemės ūkio augalas],SanaudosSuv[[#This Row],[Žemės ūkio augalas]],DerlingBandRez[Technologija],SanaudosSuv[[#This Row],[Žemės dirbimo technologija]]),2)","v":8.92},{"$f":"IF(SanaudosSuv[[#This Row],[Mechanizuotų darbų sąnaudos, Eur/ha]]=0,0,SUMIFS(Tech_SąnaudosSuv[Padargo kaina, tūkst. Eur],Tech_SąnaudosSuv[Technologija],SanaudosSuv[[#This Row],[Žemės dirbimo technologija]]) + SUM(Sąnaudos!$L$7:$L$8))","v":965.6},"Žieminiai kviečiai"]
[{"$f":"ROW()-ROW(SanaudosSuv[[#Headers],[Eil. Nr.]])","v":19},"Žieminiai rapsai","Gilus arimas (GA)",{"$f":"SUMIFS(Tech_SąnaudosSuv[Iš viso, Eur],Tech_SąnaudosSuv[Technologija],SanaudosSuv[[#This Row],[Žemės dirbimo technologija]])","v":212.32000000000002},{"$f":"SUMIFS(MedžiagųSąnaudosPasėliui[Eur/ha],MedžiagųSąnaudosPasėliui[Pasėlis],SanaudosSuv[[#This Row],[Žemės ūkio augalas]],MedžiagųSąnaudosPasėliui[Technologija],SanaudosSuv[[#This Row],[Žemės dirbimo technologija]])","v":475},{"$f":"SUM(SanaudosSuv[[#This Row],[Mechanizuotų darbų sąnaudos, Eur/ha]:[Sunaudotos žaliavos ir medžiagos, Eur/ha]])","v":687.32},{"$f":"ROUND(AVERAGEIFS(DerlingBandRez[Derlingumas],DerlingBandRez[Žemės ūkio augalas],SanaudosSuv[[#This Row],[Žemės ūkio augalas]],DerlingBandRez[Technologija],SanaudosSuv[[#This Row],[Žemės dirbimo technologija]]),2)","v":2.37},{"$f":"IF(SanaudosSuv[[#This Row],[Mechanizuotų darbų sąnaudos, Eur/ha]]=0,0,SUMIFS(Tech_SąnaudosSuv[Padargo kaina, tūkst. Eur],Tech_SąnaudosSuv[Technologija],SanaudosSuv[[#This Row],[Žemės dirbimo technologija]]) + SUM(Sąnaudos!$L$7:$L$8))","v":1159.78},"Žieminiai rapsai"]
[{"$f":"ROW()-ROW(SanaudosSuv[[#Headers],[Eil. Nr.]])","v":20},"Žieminiai rapsai","Seklus arimas (SA)",{"$f":"SUMIFS(Tech_SąnaudosSuv[Iš viso, Eur],Tech_SąnaudosSuv[Technologija],SanaudosSuv[[#This Row],[Žemės dirbimo technologija]])","v":192.74},{"$f":"SUMIFS(MedžiagųSąnaudosPasėliui[Eur/ha],MedžiagųSąnaudosPasėliui[Pasėlis],SanaudosSuv[[#This Row],[Žemės ūkio augalas]],MedžiagųSąnaudosPasėliui[Technologija],SanaudosSuv[[#This Row],[Žemės dirbimo technologija]])","v":475},{"$f":"SUM(SanaudosSuv[[#This Row],[Mechanizuotų darbų sąnaudos, Eur/ha]:[Sunaudotos žaliavos ir medžiagos, Eur/ha]])","v":667.74},{"$f":"ROUND(AVERAGEIFS(DerlingBandRez[Derlingumas],DerlingBandRez[Žemės ūkio augalas],SanaudosSuv[[#This Row],[Žemės ūkio augalas]],DerlingBandRez[Technologija],SanaudosSuv[[#This Row],[Žemės dirbimo technologija]]),2)","v":2.39},{"$f":"IF(SanaudosSuv[[#This Row],[Mechanizuotų darbų sąnaudos, Eur/ha]]=0,0,SUMIFS(Tech_SąnaudosSuv[Padargo kaina, tūkst. Eur],Tech_SąnaudosSuv[Technologija],SanaudosSuv[[#This Row],[Žemės dirbimo technologija]]) + SUM(Sąnaudos!$L$7:$L$8))","v":1159.78},"Žieminiai rapsai"]
[{"$f":"ROW()-ROW(SanaudosSuv[[#Headers],[Eil. Nr.]])","v":21},"Žieminiai rapsai","Seklus purenimas rudenį (SPR)",{"$f":"SUMIFS(Tech_SąnaudosSuv[Iš viso, Eur],Tech_SąnaudosSuv[Technologija],SanaudosSuv[[#This Row],[Žemės dirbimo technologija]])","v":107.19},{"$f":"SUMIFS(MedžiagųSąnaudosPasėliui[Eur/ha],MedžiagųSąnaudosPasėliui[Pasėlis],SanaudosSuv[[#This Row],[Žemės ūkio augalas]],MedžiagųSąnaudosPasėliui[Technologija],SanaudosSuv[[#This Row],[Žemės dirbimo technologija]])","v":475},{"$f":"SUM(SanaudosSuv[[#This Row],[Mechanizuotų darbų sąnaudos, Eur/ha]:[Sunaudotos žaliavos ir medžiagos, Eur/ha]])","v":582.19000000000005},{"$f":"ROUND(AVERAGEIFS(DerlingBandRez[Derlingumas],DerlingBandRez[Žemės ūkio augalas],SanaudosSuv[[#This Row],[Žemės ūkio augalas]],DerlingBandRez[Technologija],SanaudosSuv[[#This Row],[Žemės dirbimo technologija]]),2)","v":2.48},{"$f":"IF(SanaudosSuv[[#This Row],[Mechanizuotų darbų sąnaudos, Eur/ha]]=0,0,SUMIFS(Tech_SąnaudosSuv[Padargo kaina, tūkst. Eur],Tech_SąnaudosSuv[Technologija],SanaudosSuv[[#This Row],[Žemės dirbimo technologija]]) + SUM(Sąnaudos!$L$7:$L$8))","v":1109.22},"Žieminiai rapsai"]
[{"$f":"ROW()-ROW(SanaudosSuv[[#Headers],[Eil. Nr.]])","v":22},"Žieminiai rapsai","Seklus purenimas prieš sėją (SPS)",{"$f":"SUMIFS(Tech_SąnaudosSuv[Iš viso, Eur],Tech_SąnaudosSuv[Technologija],SanaudosSuv[[#This Row],[Žemės dirbimo technologija]])","v":192.82},{"$f":"SUMIFS(MedžiagųSąnaudosPasėliui[Eur/ha],MedžiagųSąnaudosPasėliui[Pasėlis],SanaudosSuv[[#This Row],[Žemės ūkio augalas]],MedžiagųSąnaudosPasėliui[Technologija],SanaudosSuv[[#This Row],[Žemės dirbimo technologija]])","v":475},{"$f":"SUM(SanaudosSuv[[#This Row],[Mechanizuotų darbų sąnaudos, Eur/ha]:[Sunaudotos žaliavos ir medžiagos, Eur/ha]])","v":667.81999999999994},{"$f":"ROUND(AVERAGEIFS(DerlingBandRez[Derlingumas],DerlingBandRez[Žemės ūkio augalas],SanaudosSuv[[#This Row],[Žemės ūkio augalas]],DerlingBandRez[Technologija],SanaudosSuv[[#This Row],[Žemės dirbimo technologija]]),2)","v":2.85},{"$f":"IF(SanaudosSuv[[#This Row],[Mechanizuotų darbų sąnaudos, Eur/ha]]=0,0,SUMIFS(Tech_SąnaudosSuv[Padargo kaina, tūkst. Eur],Tech_SąnaudosSuv[Technologija],SanaudosSuv[[#This Row],[Žemės dirbimo technologija]]) + SUM(Sąnaudos!$L$7:$L$8))","v":1029.46},"Žieminiai rapsai"]
[{"$f":"ROW()-ROW(SanaudosSuv[[#Headers],[Eil. Nr.]])","v":23},"Žieminiai rapsai","Tarpiniai pasėliai (TP)",{"$f":"SUMIFS(Tech_SąnaudosSuv[Iš viso, Eur],Tech_SąnaudosSuv[Technologija],SanaudosSuv[[#This Row],[Žemės dirbimo technologija]])","v":127.81},{"$f":"SUMIFS(MedžiagųSąnaudosPasėliui[Eur/ha],MedžiagųSąnaudosPasėliui[Pasėlis],SanaudosSuv[[#This Row],[Žemės ūkio augalas]],MedžiagųSąnaudosPasėliui[Technologija],SanaudosSuv[[#This Row],[Žemės dirbimo technologija]])","v":557},{"$f":"SUM(SanaudosSuv[[#This Row],[Mechanizuotų darbų sąnaudos, Eur/ha]:[Sunaudotos žaliavos ir medžiagos, Eur/ha]])","v":684.81},{"$f":"ROUND(AVERAGEIFS(DerlingBandRez[Derlingumas],DerlingBandRez[Žemės ūkio augalas],SanaudosSuv[[#This Row],[Žemės ūkio augalas]],DerlingBandRez[Technologija],SanaudosSuv[[#This Row],[Žemės dirbimo technologija]]),2)","v":3.11},{"$f":"IF(SanaudosSuv[[#This Row],[Mechanizuotų darbų sąnaudos, Eur/ha]]=0,0,SUMIFS(Tech_SąnaudosSuv[Padargo kaina, tūkst. Eur],Tech_SąnaudosSuv[Technologija],SanaudosSuv[[#This Row],[Žemės dirbimo technologija]]) + SUM(Sąnaudos!$L$7:$L$8))","v":965.6},"Žieminiai rapsai"]
[{"$f":"ROW()-ROW(SanaudosSuv[[#Headers],[Eil. Nr.]])","v":24},"Žieminiai rapsai","Tiesioginė sėja (TS)",{"$f":"SUMIFS(Tech_SąnaudosSuv[Iš viso, Eur],Tech_SąnaudosSuv[Technologija],SanaudosSuv[[#This Row],[Žemės dirbimo technologija]])","v":123.53},{"$f":"SUMIFS(MedžiagųSąnaudosPasėliui[Eur/ha],MedžiagųSąnaudosPasėliui[Pasėlis],SanaudosSuv[[#This Row],[Žemės ūkio augalas]],MedžiagųSąnaudosPasėliui[Technologija],SanaudosSuv[[#This Row],[Žemės dirbimo technologija]])","v":507},{"$f":"SUM(SanaudosSuv[[#This Row],[Mechanizuotų darbų sąnaudos, Eur/ha]:[Sunaudotos žaliavos ir medžiagos, Eur/ha]])","v":630.53},{"$f":"ROUND(AVERAGEIFS(DerlingBandRez[Derlingumas],DerlingBandRez[Žemės ūkio augalas],SanaudosSuv[[#This Row],[Žemės ūkio augalas]],DerlingBandRez[Technologija],SanaudosSuv[[#This Row],[Žemės dirbimo technologija]]),2)","v":3.37},{"$f":"IF(SanaudosSuv[[#This Row],[Mechanizuotų darbų sąnaudos, Eur/ha]]=0,0,SUMIFS(Tech_SąnaudosSuv[Padargo kaina, tūkst. Eur],Tech_SąnaudosSuv[Technologija],SanaudosSuv[[#This Row],[Žemės dirbimo technologija]]) + SUM(Sąnaudos!$L$7:$L$8))","v":965.6},"Žieminiai rapsai"]
[{"$f":"ROW()-ROW(SanaudosSuv[[#Headers],[Eil. Nr.]])","v":25},"Vasariniai javai","Šiaudai nepaliekami (R)",{"$f":"SUMIFS(Tech_SąnaudosSuv[Iš viso, Eur],Tech_SąnaudosSuv[Technologija],SanaudosSuv[[#This Row],[Žemės dirbimo technologija]])","v":0},{"$f":"SUMIFS(MedžiagųSąnaudosPasėliui[Eur/ha],MedžiagųSąnaudosPasėliui[Pasėlis],SanaudosSuv[[#This Row],[Žemės ūkio augalas]],MedžiagųSąnaudosPasėliui[Technologija],SanaudosSuv[[#This Row],[Žemės dirbimo technologija]])","v":0},{"$f":"SUM(SanaudosSuv[[#This Row],[Mechanizuotų darbų sąnaudos, Eur/ha]:[Sunaudotos žaliavos ir medžiagos, Eur/ha]])","v":0},{"$f":"ROUND(AVERAGEIFS(DerlingBandRez[Derlingumas],DerlingBandRez[Žemės ūkio augalas],SanaudosSuv[[#This Row],[Žemės ūkio augalas]],DerlingBandRez[Technologija],SanaudosSuv[[#This Row],[Žemės dirbimo technologija]]),2)","v":4.34},{"$f":"IF(SanaudosSuv[[#This Row],[Mechanizuotų darbų sąnaudos, Eur/ha]]=0,0,SUMIFS(Tech_SąnaudosSuv[Padargo kaina, tūkst. Eur],Tech_SąnaudosSuv[Technologija],SanaudosSuv[[#This Row],[Žemės dirbimo technologija]]) + SUM(Sąnaudos!$L$7:$L$8))","v":0},"Vasariniai miežiai"]
[{"$f":"ROW()-ROW(SanaudosSuv[[#Headers],[Eil. Nr.]])","v":26},"Vasariniai javai","Šiaudai paliekami lauke (S)",{"$f":"SUMIFS(Tech_SąnaudosSuv[Iš viso, Eur],Tech_SąnaudosSuv[Technologija],SanaudosSuv[[#This Row],[Žemės dirbimo technologija]])","v":0},{"$f":"SUMIFS(MedžiagųSąnaudosPasėliui[Eur/ha],MedžiagųSąnaudosPasėliui[Pasėlis],SanaudosSuv[[#This Row],[Žemės ūkio augalas]],MedžiagųSąnaudosPasėliui[Technologija],SanaudosSuv[[#This Row],[Žemės dirbimo technologija]])","v":0},{"$f":"SUM(SanaudosSuv[[#This Row],[Mechanizuotų darbų sąnaudos, Eur/ha]:[Sunaudotos žaliavos ir medžiagos, Eur/ha]])","v":0},{"$f":"ROUND(AVERAGEIFS(DerlingBandRez[Derlingumas],DerlingBandRez[Žemės ūkio augalas],SanaudosSuv[[#This Row],[Žemės ūkio augalas]],DerlingBandRez[Technologija],SanaudosSuv[[#This Row],[Žemės dirbimo technologija]]),2)","v":4.53},{"$f":"IF(SanaudosSuv[[#This Row],[Mechanizuotų darbų sąnaudos, Eur/ha]]=0,0,SUMIFS(Tech_SąnaudosSuv[Padargo kaina, tūkst. Eur],Tech_SąnaudosSuv[Technologija],SanaudosSuv[[#This Row],[Žemės dirbimo technologija]]) + SUM(Sąnaudos!$L$7:$L$8))","v":0},"Vasariniai miežiai"]
[{"$f":"ROW()-ROW(SanaudosSuv[[#Headers],[Eil. Nr.]])","v":27},"Vasariniai rapsai","Šiaudai nepaliekami (R)",{"$f":"SUMIFS(Tech_SąnaudosSuv[Iš viso, Eur],Tech_SąnaudosSuv[Technologija],SanaudosSuv[[#This Row],[Žemės dirbimo technologija]])","v":0},{"$f":"SUMIFS(MedžiagųSąnaudosPasėliui[Eur/ha],MedžiagųSąnaudosPasėliui[Pasėlis],SanaudosSuv[[#This Row],[Žemės ūkio augalas]],MedžiagųSąnaudosPasėliui[Technologija],SanaudosSuv[[#This Row],[Žemės dirbimo technologija]])","v":0},{"$f":"SUM(SanaudosSuv[[#This Row],[Mechanizuotų darbų sąnaudos, Eur/ha]:[Sunaudotos žaliavos ir medžiagos, Eur/ha]])","v":0},{"$f":"ROUND(AVERAGEIFS(DerlingBandRez[Derlingumas],DerlingBandRez[Žemės ūkio augalas],SanaudosSuv[[#This Row],[Žemės ūkio augalas]],DerlingBandRez[Technologija],SanaudosSuv[[#This Row],[Žemės dirbimo technologija]]),2)","v":1.55},{"$f":"IF(SanaudosSuv[[#This Row],[Mechanizuotų darbų sąnaudos, Eur/ha]]=0,0,SUMIFS(Tech_SąnaudosSuv[Padargo kaina, tūkst. Eur],Tech_SąnaudosSuv[Technologija],SanaudosSuv[[#This Row],[Žemės dirbimo technologija]]) + SUM(Sąnaudos!$L$7:$L$8))","v":0},"Vasariniai rapsai"]
[{"$f":"ROW()-ROW(SanaudosSuv[[#Headers],[Eil. Nr.]])","v":28},"Vasariniai rapsai","Šiaudai paliekami lauke (S)",{"$f":"SUMIFS(Tech_SąnaudosSuv[Iš viso, Eur],Tech_SąnaudosSuv[Technologija],SanaudosSuv[[#This Row],[Žemės dirbimo technologija]])","v":0},{"$f":"SUMIFS(MedžiagųSąnaudosPasėliui[Eur/ha],MedžiagųSąnaudosPasėliui[Pasėlis],SanaudosSuv[[#This Row],[Žemės ūkio augalas]],MedžiagųSąnaudosPasėliui[Technologija],SanaudosSuv[[#This Row],[Žemės dirbimo technologija]])","v":0},{"$f":"SUM(SanaudosSuv[[#This Row],[Mechanizuotų darbų sąnaudos, Eur/ha]:[Sunaudotos žaliavos ir medžiagos, Eur/ha]])","v":0},{"$f":"ROUND(AVERAGEIFS(DerlingBandRez[Derlingumas],DerlingBandRez[Žemės ūkio augalas],SanaudosSuv[[#This Row],[Žemės ūkio augalas]],DerlingBandRez[Technologija],SanaudosSuv[[#This Row],[Žemės dirbimo technologija]]),2)","v":1.53},{"$f":"IF(SanaudosSuv[[#This Row],[Mechanizuotų darbų sąnaudos, Eur/ha]]=0,0,SUMIFS(Tech_SąnaudosSuv[Padargo kaina, tūkst. Eur],Tech_SąnaudosSuv[Technologija],SanaudosSuv[[#This Row],[Žemės dirbimo technologija]]) + SUM(Sąnaudos!$L$7:$L$8))","v":0},"Vasariniai rapsai"]
[{"$f":"ROW()-ROW(SanaudosSuv[[#Headers],[Eil. Nr.]])","v":29},"Žieminiai javai","Šiaudai nepaliekami (R)",{"$f":"SUMIFS(Tech_SąnaudosSuv[Iš viso, Eur],Tech_SąnaudosSuv[Technologija],SanaudosSuv[[#This Row],[Žemės dirbimo technologija]])","v":0},{"$f":"SUMIFS(MedžiagųSąnaudosPasėliui[Eur/ha],MedžiagųSąnaudosPasėliui[Pasėlis],SanaudosSuv[[#This Row],[Žemės ūkio augalas]],MedžiagųSąnaudosPasėliui[Technologija],SanaudosSuv[[#This Row],[Žemės dirbimo technologija]])","v":0},{"$f":"SUM(SanaudosSuv[[#This Row],[Mechanizuotų darbų sąnaudos, Eur/ha]:[Sunaudotos žaliavos ir medžiagos, Eur/ha]])","v":0},{"$f":"ROUND(AVERAGEIFS(DerlingBandRez[Derlingumas],DerlingBandRez[Žemės ūkio augalas],SanaudosSuv[[#This Row],[Žemės ūkio augalas]],DerlingBandRez[Technologija],SanaudosSuv[[#This Row],[Žemės dirbimo technologija]]),2)","v":8.52},{"$f":"IF(SanaudosSuv[[#This Row],[Mechanizuotų darbų sąnaudos, Eur/ha]]=0,0,SUMIFS(Tech_SąnaudosSuv[Padargo kaina, tūkst. Eur],Tech_SąnaudosSuv[Technologija],SanaudosSuv[[#This Row],[Žemės dirbimo technologija]]) + SUM(Sąnaudos!$L$7:$L$8))","v":0},"Žieminiai kviečiai"]
[{"$f":"ROW()-ROW(SanaudosSuv[[#Headers],[Eil. Nr.]])","v":30},"Žieminiai javai","Šiaudai paliekami lauke (S)",{"$f":"SUMIFS(Tech_SąnaudosSuv[Iš viso, Eur],Tech_SąnaudosSuv[Technologija],SanaudosSuv[[#This Row],[Žemės dirbimo technologija]])","v":0},{"$f":"SUMIFS(MedžiagųSąnaudosPasėliui[Eur/ha],MedžiagųSąnaudosPasėliui[Pasėlis],SanaudosSuv[[#This Row],[Žemės ūkio augalas]],MedžiagųSąnaudosPasėliui[Technologija],SanaudosSuv[[#This Row],[Žemės dirbimo technologija]])","v":0},{"$f":"SUM(SanaudosSuv[[#This Row],[Mechanizuotų darbų sąnaudos, Eur/ha]:[Sunaudotos žaliavos ir medžiagos, Eur/ha]])","v":0},{"$f":"ROUND(AVERAGEIFS(DerlingBandRez[Derlingumas],DerlingBandRez[Žemės ūkio augalas],SanaudosSuv[[#This Row],[Žemės ūkio augalas]],DerlingBandRez[Technologija],SanaudosSuv[[#This Row],[Žemės dirbimo technologija]]),2)","v":8.83},{"$f":"IF(SanaudosSuv[[#This Row],[Mechanizuotų darbų sąnaudos, Eur/ha]]=0,0,SUMIFS(Tech_SąnaudosSuv[Padargo kaina, tūkst. Eur],Tech_SąnaudosSuv[Technologija],SanaudosSuv[[#This Row],[Žemės dirbimo technologija]]) + SUM(Sąnaudos!$L$7:$L$8))","v":0},"Žieminiai kviečiai"]
[{"$f":"ROW()-ROW(SanaudosSuv[[#Headers],[Eil. Nr.]])","v":31},"Žieminiai rapsai","Šiaudai nepaliekami (R)",{"$f":"SUMIFS(Tech_SąnaudosSuv[Iš viso, Eur],Tech_SąnaudosSuv[Technologija],SanaudosSuv[[#This Row],[Žemės dirbimo technologija]])","v":0},{"$f":"SUMIFS(MedžiagųSąnaudosPasėliui[Eur/ha],MedžiagųSąnaudosPasėliui[Pasėlis],SanaudosSuv[[#This Row],[Žemės ūkio augalas]],MedžiagųSąnaudosPasėliui[Technologija],SanaudosSuv[[#This Row],[Žemės dirbimo technologija]])","v":0},{"$f":"SUM(SanaudosSuv[[#This Row],[Mechanizuotų darbų sąnaudos, Eur/ha]:[Sunaudotos žaliavos ir medžiagos, Eur/ha]])","v":0},{"$f":"ROUND(AVERAGEIFS(DerlingBandRez[Derlingumas],DerlingBandRez[Žemės ūkio augalas],SanaudosSuv[[#This Row],[Žemės ūkio augalas]],DerlingBandRez[Technologija],SanaudosSuv[[#This Row],[Žemės dirbimo technologija]]),2)","v":2.69},{"$f":"IF(SanaudosSuv[[#This Row],[Mechanizuotų darbų sąnaudos, Eur/ha]]=0,0,SUMIFS(Tech_SąnaudosSuv[Padargo kaina, tūkst. Eur],Tech_SąnaudosSuv[Technologija],SanaudosSuv[[#This Row],[Žemės dirbimo technologija]]) + SUM(Sąnaudos!$L$7:$L$8))","v":0},"Žieminiai rapsai"]
[{"$f":"ROW()-ROW(SanaudosSuv[[#Headers],[Eil. Nr.]])","v":32},"Žieminiai rapsai","Šiaudai paliekami lauke (S)",{"$f":"SUMIFS(Tech_SąnaudosSuv[Iš viso, Eur],Tech_SąnaudosSuv[Technologija],SanaudosSuv[[#This Row],[Žemės dirbimo technologija]])","v":0},{"$f":"SUMIFS(MedžiagųSąnaudosPasėliui[Eur/ha],MedžiagųSąnaudosPasėliui[Pasėlis],SanaudosSuv[[#This Row],[Žemės ūkio augalas]],MedžiagųSąnaudosPasėliui[Technologija],SanaudosSuv[[#This Row],[Žemės dirbimo technologija]])","v":0},{"$f":"SUM(SanaudosSuv[[#This Row],[Mechanizuotų darbų sąnaudos, Eur/ha]:[Sunaudotos žaliavos ir medžiagos, Eur/ha]])","v":0},{"$f":"ROUND(AVERAGEIFS(DerlingBandRez[Derlingumas],DerlingBandRez[Žemės ūkio augalas],SanaudosSuv[[#This Row],[Žemės ūkio augalas]],DerlingBandRez[Technologija],SanaudosSuv[[#This Row],[Žemės dirbimo technologija]]),2)","v":2.84},{"$f":"IF(SanaudosSuv[[#This Row],[Mechanizuotų darbų sąnaudos, Eur/ha]]=0,0,SUMIFS(Tech_SąnaudosSuv[Padargo kaina, tūkst. Eur],Tech_SąnaudosSuv[Technologija],SanaudosSuv[[#This Row],[Žemės dirbimo technologija]]) + SUM(Sąnaudos!$L$7:$L$8))","v":0},"Žieminiai rapsai"]

{"sheet":"Sąnaudos","index":9,"n_rows":58,"n_cols":37,"rows_kept":58,"cut":false,"hidden":true,"merged":[]}
[null,null,null,null,null,null,null,null,null,null,null,null,null,null,null,null,"Min kW","Max kW"]
[null,null,null,null,null,null,null,null,null,null,null,null,null,null,null,"Traktorius",{"$f":"+'ŽŪ mašinos pagal plotą'!G86","v":232.65836006399999},{"$f":"+'ŽŪ mašinos pagal plotą'!H86","v":290.82295008}]
[null,null,null,null,null,null,null,null,null,null,null,null,null,null,null,null,"Parametras","Dienos"]
[null,null,null,null,null,null,null,null,null,null,null,null,null,null,null,"Kombainas",{"$f":"U18","v":10.5},{"$f":"ROUND('ŽŪ mašinos pagal plotą'!I49,1)","v":8.6},{"$f":"'ŽŪ mašinos pagal plotą'!N49","v":18.059999999999999}]
[null,null,null,null,null,null,null,null,null,null,null,null,null,null,null,"Purkštuvas (nesavaeigiai)",{"$f":"U17","v":15},{"$f":"ROUND('ŽŪ mašinos pagal plotą'!I50,1)","v":4.8}]
[null,null,null,null,null,null,null,null,null,null,null,null,null,null,null,"Sėjamoji",{"$f":"U16","v":9},{"$f":"ROUND('ŽŪ mašinos pagal plotą'!I51,1)","v":5.2}]
[null,null,null,null,null,100,"ha",null,null,null,"Traktorius",{"$f":"MAX(X11:X17,X19:X21)","v":263.75},null,null,null,"Plūgas",{"$f":"+U12","v":3.5},{"$f":"ROUND('ŽŪ mašinos pagal plotą'!I52,1)","v":14.5}]
[null,null,null,null,null,{"$f":"SUM(AK11:AK22)","v":308.03999999999996},"Eur/ha",null,null,null,"Kombainas",{"$f":"X18","v":456.14},null,null,null,"Skutikas (diskinis)",{"$f":"U11","v":10},{"$f":"ROUND('ŽŪ mašinos pagal plotą'!I53,1)","v":9.3000000000000007}]
[null,null,null,null,null,null,null,null,null,null,null,null,null,null,null,"Sėjamoji",null,null,null,null,"Iš viso",null,null,null,{"$f":"SUM(Y11:Y22)","v":657.30000000000007},64.08,118.87,215.62,152.32,89.18,30.450000000000006,487.57000000000005,36.089999999999996,523.66,26.190000000000005,549.84999999999991,{"$f":"SUM(AK11:AK22)","v":308.03999999999996}]
["Eil. Nr.","Technologija","Sutrumpinimas","Technologinė operacija","Operacijos skaičius","Degalai ir tepalai, Eur/ha","Išlaidos remontui ir tech. aptarnavimui, Eur/ha","Darbo užmokesčio sąnaudos, Eur/ha","Kitos, Eur/ha","Žemės ūkio paslaugos pirkimas, Eur","Iš viso, Eur","Padargo kaina, tūkst. Eur",null,null,null,"Unikalių darbų sąrašas",null,null,null,"Darbas","Darbinis plotis, m","Papildomas parametras","Traktoriaus (kombaino) galia, kW","Traktoriaus (kombaino) kaina, tūkst. Eur","Žemės ūkio mašinos (cisternos) kaina, tūkst. Eur","Išdirbio norma, ha/val.","Degalų sąnaudų norma, l/ha","Išlaidos atnaujinimui, Eur/ha","Išlaidos remontui ir tech. aptarnavimui, Eur/ha","Išlaidos degalams ir tepalams, Eur/ha","Darbo užmokesčio sąnaudos, Eur/ha","Išlaidos iš viso, Eur/ha","Kitos, Eur/ha","Savikaina, Eur/ha","Pelnas, Eur/ha","Įkainis, Eur/ha","Kintamieji kaštai, Eur/ha"]
[{"$f":"ROW()-ROW(Tech_SąnaudosSuv[[#Headers],[Eil. Nr.]])","v":1},"Gilus arimas (GA)","GA","Seklus ražienų skutimas",1,{"$f":"SUMIFS($AD$11:$AD$22,_xlfn.ANCHORARRAY($P$11),Tech_SąnaudosSuv[[#This Row],[Technologinė operacija]:[Technologinė operacija]])*Tech_SąnaudosSuv[[#This Row],[Operacijos skaičius]:[Operacijos skaičius]]","v":6.53},{"$f":"SUMIFS($AC$11:$AC$22,_xlfn.ANCHORARRAY($P$11),Tech_SąnaudosSuv[[#This Row],[Technologinė operacija]:[Technologinė operacija]])*Tech_SąnaudosSuv[[#This Row],[Operacijos skaičius]:[Operacijos skaičius]]","v":8.9700000000000006},{"$f":"SUMIFS($AE$11:$AE$22,_xlfn.ANCHORARRAY($P$11),Tech_SąnaudosSuv[[#This Row],[Technologinė operacija]:[Technologinė operacija]])*Tech_SąnaudosSuv[[#This Row],[Operacijos skaičius]:[Operacijos skaičius]]","v":1.56},{"$f":"SUMIFS($AG$11:$AG$22,_xlfn.ANCHORARRAY($P$11),Tech_SąnaudosSuv[[#This Row],[Technologinė operacija]:[Technologinė operacija]])*Tech_SąnaudosSuv[[#This Row],[Operacijos skaičius]:[Operacijos skaičius]]","v":1.19},{"$f":"IF(AND(Tech_SąnaudosSuv[[#This Row],[Technologinė operacija]] = $P$22, $W$22 > $R$2), $AJ$22, 0)","v":0},{"$f":"SUM(Tech_SąnaudosSuv[[#This Row],[Degalai ir tepalai, Eur/ha]:[Kitos, Eur/ha]])","v":18.25},{"$f":"IF(Tech_SąnaudosSuv[[#This Row],[Žemės ūkio paslaugos pirkimas, Eur]]=0,SUMIFS($Y$11:$Y$22,_xlfn.ANCHORARRAY($P$11),Tech_SąnaudosSuv[[#This Row],[Technologinė operacija]:[Technologinė operacija]]),0)","v":79.760000000000005},null,null,null,{"$f":"_xlfn.UNIQUE(Tech_SąnaudosSuv[Technologinė operacija])","v":"Seklus ražienų skutimas"},null,null,null,{"$f":"_xlfn.LET(_xlpm.Masyvas, _xlfn._xlws.FILTER(DarbųĮkainiai2024[[Žemės ūkio mašina]:[Kintamieji kaštai, Eur/ha]], (DarbųĮkainiai2024[Aktualus darbo pavadinimas] = Sąnaudos!P11) * (DarbųĮkainiai2024[Traktoriaus (kombaino) galia, kW] <= IF(Sąnaudos!$R$2<67,67,Sąnaudos!$R$2)   ) * (DarbųĮkainiai2024[Traktoriaus (kombaino) galia, kW] = MAX(_xlfn._xlws.FILTER(DarbųĮkainiai2024[Traktoriaus (kombaino) galia, kW], (DarbųĮkainiai2024[Aktualus darbo pavadinimas] = Sąnaudos!P11) * (DarbųĮkainiai2024[Traktoriaus (kombaino) galia, kW] <= IF(Sąnaudos!$R$2<67,67,Sąnaudos!$R$2)) * (DarbųĮkainiai2024[Žemės ūkio mašinų kilmė] <> \"NVS\"), 0))) * (DarbųĮkainiai2024[Žemės ūkio mašinų kilmė] <> \"NVS\"), \"\"),_xlpm.MasyvoMax, _xlfn._xlws.FILTER(_xlpm.Masyvas, INDEX(_xlpm.Masyvas,,2)=MAX(INDEX(_xlpm.Masyvas,, 2))), _xlpm.MasyvoMax)","v":"Seklusis ražienų skutimas"},10,0,233,229.38,79.760000000000005,7.14,8.6999999999999993,11.46,8.9700000000000006,6.53,1.56,28.52,1.19,29.71,1.49,31.2,18.25]
[{"$f":"ROW()-ROW(Tech_SąnaudosSuv[[#Headers],[Eil. Nr.]])","v":2},"Gilus arimas (GA)","GA","Gilus arimas",1,{"$f":"SUMIFS($AD$11:$AD$22,_xlfn.ANCHORARRAY($P$11),Tech_SąnaudosSuv[[#This Row],[Technologinė operacija]:[Technologinė operacija]])*Tech_SąnaudosSuv[[#This Row],[Operacijos skaičius]:[Operacijos skaičius]]","v":20.93},{"$f":"SUMIFS($AC$11:$AC$22,_xlfn.ANCHORARRAY($P$11),Tech_SąnaudosSuv[[#This Row],[Technologinė operacija]:[Technologinė operacija]])*Tech_SąnaudosSuv[[#This Row],[Operacijos skaičius]:[Operacijos skaičius]]","v":33.22},{"$f":"SUMIFS($AE$11:$AE$22,_xlfn.ANCHORARRAY($P$11),Tech_SąnaudosSuv[[#This Row],[Technologinė operacija]:[Technologinė operacija]])*Tech_SąnaudosSuv[[#This Row],[Operacijos skaičius]:[Operacijos skaičius]]","v":6.35},{"$f":"SUMIFS($AG$11:$AG$22,_xlfn.ANCHORARRAY($P$11),Tech_SąnaudosSuv[[#This Row],[Technologinė operacija]:[Technologinė operacija]])*Tech_SąnaudosSuv[[#This Row],[Operacijos skaičius]:[Operacijos skaičius]]","v":6.29},{"$f":"IF(AND(Tech_SąnaudosSuv[[#This Row],[Technologinė operacija]] = $P$22, $W$22 > $R$2), $AJ$22, 0)","v":0},{"$f":"SUM(Tech_SąnaudosSuv[[#This Row],[Degalai ir tepalai, Eur/ha]:[Kitos, Eur/ha]])","v":66.790000000000006},{"$f":"IF(Tech_SąnaudosSuv[[#This Row],[Žemės ūkio paslaugos pirkimas, Eur]]=0,SUMIFS($Y$11:$Y$22,_xlfn.ANCHORARRAY($P$11),Tech_SąnaudosSuv[[#This Row],[Technologinė operacija]:[Technologinė operacija]]),0)","v":79.150000000000006},null,null,null,"Gilus arimas",null,null,null,{"$f":"_xlfn.LET(_xlpm.Masyvas, _xlfn._xlws.FILTER(DarbųĮkainiai2024[[Žemės ūkio mašina]:[Kintamieji kaštai, Eur/ha]], (DarbųĮkainiai2024[Aktualus darbo pavadinimas] = Sąnaudos!P12) * (DarbųĮkainiai2024[Traktoriaus (kombaino) galia, kW] <= IF(Sąnaudos!$R$2<67,67,Sąnaudos!$R$2)   ) * (DarbųĮkainiai2024[Traktoriaus (kombaino) galia, kW] = MAX(_xlfn._xlws.FILTER(DarbųĮkainiai2024[Traktoriaus (kombaino) galia, kW], (DarbųĮkainiai2024[Aktualus darbo pavadinimas] = Sąnaudos!P12) * (DarbųĮkainiai2024[Traktoriaus (kombaino) galia, kW] <= IF(Sąnaudos!$R$2<67,67,Sąnaudos!$R$2)) * (DarbųĮkainiai2024[Žemės ūkio mašinų kilmė] <> \"NVS\"), 0))) * (DarbųĮkainiai2024[Žemės ūkio mašinų kilmė] <> \"NVS\"), \"\"),_xlpm.MasyvoMax, _xlfn._xlws.FILTER(_xlpm.Masyvas, INDEX(_xlpm.Masyvas,,2)=MAX(INDEX(_xlpm.Masyvas,, 2))), _xlpm.MasyvoMax)","v":"Prikabinamaisiais apverčiamaisiais plūgais su tankintuvais"},3.5,0,275,263.75,79.150000000000006,1.75,27.9,34.36,33.22,20.93,6.35,94.859999999999985,6.29,101.14999999999999,5.0599999999999996,106.21,66.789999999999992]
[{"$f":"ROW()-ROW(Tech_SąnaudosSuv[[#Headers],[Eil. Nr.]])","v":3},"Gilus arimas (GA)","GA","Pirminis kultivavimas",1,{"$f":"SUMIFS($AD$11:$AD$22,_xlfn.ANCHORARRAY($P$11),Tech_SąnaudosSuv[[#This Row],[Technologinė operacija]:[Technologinė operacija]])*Tech_SąnaudosSuv[[#This Row],[Operacijos skaičius]:[Operacijos skaičius]]","v":7.35},{"$f":"SUMIFS($AC$11:$AC$22,_xlfn.ANCHORARRAY($P$11),Tech_SąnaudosSuv[[#This Row],[Technologinė operacija]:[Technologinė operacija]])*Tech_SąnaudosSuv[[#This Row],[Operacijos skaičius]:[Operacijos skaičius]]","v":11.11},{"$f":"SUMIFS($AE$11:$AE$22,_xlfn.ANCHORARRAY($P$11),Tech_SąnaudosSuv[[#This Row],[Technologinė operacija]:[Technologinė operacija]])*Tech_SąnaudosSuv[[#This Row],[Operacijos skaičius]:[Operacijos skaičius]]","v":2.82},{"$f":"SUMIFS($AG$11:$AG$22,_xlfn.ANCHORARRAY($P$11),Tech_SąnaudosSuv[[#This Row],[Technologinė operacija]:[Technologinė operacija]])*Tech_SąnaudosSuv[[#This Row],[Operacijos skaičius]:[Operacijos skaičius]]","v":2.34},{"$f":"IF(AND(Tech_SąnaudosSuv[[#This Row],[Technologinė operacija]] = $P$22, $W$22 > $R$2), $AJ$22, 0)","v":0},{"$f":"SUM(Tech_SąnaudosSuv[[#This Row],[Degalai ir tepalai, Eur/ha]:[Kitos, Eur/ha]])","v":23.62},{"$f":"IF(Tech_SąnaudosSuv[[#This Row],[Žemės ūkio paslaugos pirkimas, Eur]]=0,SUMIFS($Y$11:$Y$22,_xlfn.ANCHORARRAY($P$11),Tech_SąnaudosSuv[[#This Row],[Technologinė operacija]:[Technologinė operacija]]),0)","v":53.99},null,null,null,"Pirminis kultivavimas",null,null,null,{"$f":"_xlfn.LET(_xlpm.Masyvas, _xlfn._xlws.FILTER(DarbųĮkainiai2024[[Žemės ūkio mašina]:[Kintamieji kaštai, Eur/ha]], (DarbųĮkainiai2024[Aktualus darbo pavadinimas] = Sąnaudos!P13) * (DarbųĮkainiai2024[Traktoriaus (kombaino) galia, kW] <= IF(Sąnaudos!$R$2<67,67,Sąnaudos!$R$2)   ) * (DarbųĮkainiai2024[Traktoriaus (kombaino) galia, kW] = MAX(_xlfn._xlws.FILTER(DarbųĮkainiai2024[Traktoriaus (kombaino) galia, kW], (DarbųĮkainiai2024[Aktualus darbo pavadinimas] = Sąnaudos!P13) * (DarbųĮkainiai2024[Traktoriaus (kombaino) galia, kW] <= IF(Sąnaudos!$R$2<67,67,Sąnaudos!$R$2)) * (DarbųĮkainiai2024[Žemės ūkio mašinų kilmė] <> \"NVS\"), 0))) * (DarbųĮkainiai2024[Žemės ūkio mašinų kilmė] <> \"NVS\"), \"\"),_xlpm.MasyvoMax, _xlfn._xlws.FILTER(_xlpm.Masyvas, INDEX(_xlpm.Masyvas,,2)=MAX(INDEX(_xlpm.Masyvas,, 2))), _xlpm.MasyvoMax)","v":"lėkštinėmis akėčiomis"},8,0,176,161.54,53.99,3.94,9.8000000000000007,14.23,11.11,7.35,2.82,35.51,2.34,37.849999999999994,1.89,39.739999999999995,23.619999999999994]
[{"$f":"ROW()-ROW(Tech_SąnaudosSuv[[#Headers],[Eil. Nr.]])","v":4},"Gilus arimas (GA)","GA","Priešsėjinis kultivavimas",1,{"$f":"SUMIFS($AD$11:$AD$22,_xlfn.ANCHORARRAY($P$11),Tech_SąnaudosSuv[[#This Row],[Technologinė operacija]:[Technologinė operacija]])*Tech_SąnaudosSuv[[#This Row],[Operacijos skaičius]:[Operacijos skaičius]]","v":4.8},{"$f":"SUMIFS($AC$11:$AC$22,_xlfn.ANCHORARRAY($P$11),Tech_SąnaudosSuv[[#This Row],[Technologinė operacija]:[Technologinė operacija]])*Tech_SąnaudosSuv[[#This Row],[Operacijos skaičius]:[Operacijos skaičius]]","v":5.48},{"$f":"SUMIFS($AE$11:$AE$22,_xlfn.ANCHORARRAY($P$11),Tech_SąnaudosSuv[[#This Row],[Technologinė operacija]:[Technologinė operacija]])*Tech_SąnaudosSuv[[#This Row],[Operacijos skaičius]:[Operacijos skaičius]]","v":2.14},{"$f":"SUMIFS($AG$11:$AG$22,_xlfn.ANCHORARRAY($P$11),Tech_SąnaudosSuv[[#This Row],[Technologinė operacija]:[Technologinė operacija]])*Tech_SąnaudosSuv[[#This Row],[Operacijos skaičius]:[Operacijos skaičius]]","v":1.18},{"$f":"IF(AND(Tech_SąnaudosSuv[[#This Row],[Technologinė operacija]] = $P$22, $W$22 > $R$2), $AJ$22, 0)","v":0},{"$f":"SUM(Tech_SąnaudosSuv[[#This Row],[Degalai ir tepalai, Eur/ha]:[Kitos, Eur/ha]])","v":13.600000000000001},{"$f":"IF(Tech_SąnaudosSuv[[#This Row],[Žemės ūkio paslaugos pirkimas, Eur]]=0,SUMIFS($Y$11:$Y$22,_xlfn.ANCHORARRAY($P$11),Tech_SąnaudosSuv[[#This Row],[Technologinė operacija]:[Technologinė operacija]]),0)","v":28.59},null,null,null,"Priešsėjinis kultivavimas",null,null,null,{"$f":"_xlfn.LET(_xlpm.Masyvas, _xlfn._xlws.FILTER(DarbųĮkainiai2024[[Žemės ūkio mašina]:[Kintamieji kaštai, Eur/ha]], (DarbųĮkainiai2024[Aktualus darbo pavadinimas] = Sąnaudos!P14) * (DarbųĮkainiai2024[Traktoriaus (kombaino) galia, kW] <= IF(Sąnaudos!$R$2<67,67,Sąnaudos!$R$2)   ) * (DarbųĮkainiai2024[Traktoriaus (kombaino) galia, kW] = MAX(_xlfn._xlws.FILTER(DarbųĮkainiai2024[Traktoriaus (kombaino) galia, kW], (DarbųĮkainiai2024[Aktualus darbo pavadinimas] = Sąnaudos!P14) * (DarbųĮkainiai2024[Traktoriaus (kombaino) galia, kW] <= IF(Sąnaudos!$R$2<67,67,Sąnaudos!$R$2)) * (DarbųĮkainiai2024[Žemės ūkio mašinų kilmė] <> \"NVS\"), 0))) * (DarbųĮkainiai2024[Žemės ūkio mašinų kilmė] <> \"NVS\"), \"\"),_xlpm.MasyvoMax, _xlfn._xlws.FILTER(_xlpm.Masyvas, INDEX(_xlpm.Masyvas,,2)=MAX(INDEX(_xlpm.Masyvas,, 2))), _xlpm.MasyvoMax)","v":"kultivatoriais"},8,0,138,119.07,28.59,5.18,6.4,5.82,5.48,4.8,2.14,18.240000000000002,1.18,19.420000000000002,0.97,20.39,13.600000000000001]
[{"$f":"ROW()-ROW(Tech_SąnaudosSuv[[#Headers],[Eil. Nr.]])","v":5},"Gilus arimas (GA)","GA","Tręšimas",1,{"$f":"SUMIFS($AD$11:$AD$22,_xlfn.ANCHORARRAY($P$11),Tech_SąnaudosSuv[[#This Row],[Technologinė operacija]:[Technologinė operacija]])*Tech_SąnaudosSuv[[#This Row],[Operacijos skaičius]:[Operacijos skaičius]]","v":0.53},{"$f":"SUMIFS($AC$11:$AC$22,_xlfn.ANCHORARRAY($P$11),Tech_SąnaudosSuv[[#This Row],[Technologinė operacija]:[Technologinė operacija]])*Tech_SąnaudosSuv[[#This Row],[Operacijos skaičius]:[Operacijos skaičius]]","v":0.8},{"$f":"SUMIFS($AE$11:$AE$22,_xlfn.ANCHORARRAY($P$11),Tech_SąnaudosSuv[[#This Row],[Technologinė operacija]:[Technologinė operacija]])*Tech_SąnaudosSuv[[#This Row],[Operacijos skaičius]:[Operacijos skaičius]]","v":0.55000000000000004},{"$f":"SUMIFS($AG$11:$AG$22,_xlfn.ANCHORARRAY($P$11),Tech_SąnaudosSuv[[#This Row],[Technologinė operacija]:[Technologinė operacija]])*Tech_SąnaudosSuv[[#This Row],[Operacijos skaičius]:[Operacijos skaičius]]","v":0.12},{"$f":"IF(AND(Tech_SąnaudosSuv[[#This Row],[Technologinė operacija]] = $P$22, $W$22 > $R$2), $AJ$22, 0)","v":0},{"$f":"SUM(Tech_SąnaudosSuv[[#This Row],[Degalai ir tepalai, Eur/ha]:[Kitos, Eur/ha]])","v":2},{"$f":"IF(Tech_SąnaudosSuv[[#This Row],[Žemės ūkio paslaugos pirkimas, Eur]]=0,SUMIFS($Y$11:$Y$22,_xlfn.ANCHORARRAY($P$11),Tech_SąnaudosSuv[[#This Row],[Technologinė operacija]:[Technologinė operacija]]),0)","v":30.68},null,null,null,"Tręšimas",null,null,null,{"$f":"_xlfn.LET(_xlpm.Masyvas, _xlfn._xlws.FILTER(DarbųĮkainiai2024[[Žemės ūkio mašina]:[Kintamieji kaštai, Eur/ha]], (DarbųĮkainiai2024[Aktualus darbo pavadinimas] = Sąnaudos!P15) * (DarbųĮkainiai2024[Traktoriaus (kombaino) galia, kW] <= IF(Sąnaudos!$R$2<67,67,Sąnaudos!$R$2)   ) * (DarbųĮkainiai2024[Traktoriaus (kombaino) galia, kW] = MAX(_xlfn._xlws.FILTER(DarbųĮkainiai2024[Traktoriaus (kombaino) galia, kW], (DarbųĮkainiai2024[Aktualus darbo pavadinimas] = Sąnaudos!P15) * (DarbųĮkainiai2024[Traktoriaus (kombaino) galia, kW] <= IF(Sąnaudos!$R$2<67,67,Sąnaudos!$R$2)) * (DarbųĮkainiai2024[Žemės ūkio mašinų kilmė] <> \"NVS\"), 0))) * (DarbųĮkainiai2024[Žemės ūkio mašinų kilmė] <> \"NVS\"), \"\"),_xlpm.MasyvoMax, _xlfn._xlws.FILTER(_xlpm.Masyvas, INDEX(_xlpm.Masyvas,,2)=MAX(INDEX(_xlpm.Masyvas,, 2))), _xlpm.MasyvoMax)","v":"4,0 m3 talpos prikabinamaisiais barstytuvais"},36,200,83,74.66,30.68,20.13,0.7,1.1200000000000001,0.8,0.53,0.55000000000000004,3,0.12,3.12,0.16,3.2800000000000002,2]
[{"$f":"ROW()-ROW(Tech_SąnaudosSuv[[#Headers],[Eil. Nr.]])","v":6},"Gilus arimas (GA)","GA","Sėja",1,{"$f":"SUMIFS($AD$11:$AD$22,_xlfn.ANCHORARRAY($P$11),Tech_SąnaudosSuv[[#This Row],[Technologinė operacija]:[Technologinė operacija]])*Tech_SąnaudosSuv[[#This Row],[Operacijos skaičius]:[Operacijos skaičius]]","v":2.7},{"$f":"SUMIFS($AC$11:$AC$22,_xlfn.ANCHORARRAY($P$11),Tech_SąnaudosSuv[[#This Row],[Technologinė operacija]:[Technologinė operacija]])*Tech_SąnaudosSuv[[#This Row],[Operacijos skaičius]:[Operacijos skaičius]]","v":10.25},{"$f":"SUMIFS($AE$11:$AE$22,_xlfn.ANCHORARRAY($P$11),Tech_SąnaudosSuv[[#This Row],[Technologinė operacija]:[Technologinė operacija]])*Tech_SąnaudosSuv[[#This Row],[Operacijos skaičius]:[Operacijos skaičius]]","v":2.37},{"$f":"SUMIFS($AG$11:$AG$22,_xlfn.ANCHORARRAY($P$11),Tech_SąnaudosSuv[[#This Row],[Technologinė operacija]:[Technologinė operacija]])*Tech_SąnaudosSuv[[#This Row],[Operacijos skaičius]:[Operacijos skaičius]]","v":1.32},{"$f":"IF(AND(Tech_SąnaudosSuv[[#This Row],[Technologinė operacija]] = $P$22, $W$22 > $R$2), $AJ$22, 0)","v":0},{"$f":"SUM(Tech_SąnaudosSuv[[#This Row],[Degalai ir tepalai, Eur/ha]:[Kitos, Eur/ha]])","v":16.64},{"$f":"IF(Tech_SąnaudosSuv[[#This Row],[Žemės ūkio paslaugos pirkimas, Eur]]=0,SUMIFS($Y$11:$Y$22,_xlfn.ANCHORARRAY($P$11),Tech_SąnaudosSuv[[#This Row],[Technologinė operacija]:[Technologinė operacija]]),0)","v":115.04},null,null,null,"Sėja",null,null,null,{"$f":"_xlfn.LET(_xlpm.Masyvas, _xlfn._xlws.FILTER(DarbųĮkainiai2024[[Žemės ūkio mašina]:[Kintamieji kaštai, Eur/ha]], (DarbųĮkainiai2024[Aktualus darbo pavadinimas] = Sąnaudos!P16) * (DarbųĮkainiai2024[Traktoriaus (kombaino) galia, kW] <= IF(Sąnaudos!$R$2<67,67,Sąnaudos!$R$2)   ) * (DarbųĮkainiai2024[Traktoriaus (kombaino) galia, kW] = MAX(_xlfn._xlws.FILTER(DarbųĮkainiai2024[Traktoriaus (kombaino) galia, kW], (DarbųĮkainiai2024[Aktualus darbo pavadinimas] = Sąnaudos!P16) * (DarbųĮkainiai2024[Traktoriaus (kombaino) galia, kW] <= IF(Sąnaudos!$R$2<67,67,Sąnaudos!$R$2)) * (DarbųĮkainiai2024[Žemės ūkio mašinų kilmė] <> \"NVS\"), 0))) * (DarbųĮkainiai2024[Žemės ūkio mašinų kilmė] <> \"NVS\"), \"\"),_xlpm.MasyvoMax, _xlfn._xlws.FILTER(_xlpm.Masyvas, INDEX(_xlpm.Masyvas,,2)=MAX(INDEX(_xlpm.Masyvas,, 2))), _xlpm.MasyvoMax)","v":"prikabinamosiomis pneumatinėmis sėjamosiomis"},9,200,120,109,115.04,4.68,3.6,17.75,10.25,2.7,2.37,33.07,1.32,34.39,1.72,36.11,16.64]
[{"$f":"ROW()-ROW(Tech_SąnaudosSuv[[#Headers],[Eil. Nr.]])","v":7},"Gilus arimas (GA)","GA","Purškimas",4,{"$f":"SUMIFS($AD$11:$AD$22,_xlfn.ANCHORARRAY($P$11),Tech_SąnaudosSuv[[#This Row],[Technologinė operacija]:[Technologinė operacija]])*Tech_SąnaudosSuv[[#This Row],[Operacijos skaičius]:[Operacijos skaičius]]","v":2.84},{"$f":"SUMIFS($AC$11:$AC$22,_xlfn.ANCHORARRAY($P$11),Tech_SąnaudosSuv[[#This Row],[Technologinė operacija]:[Technologinė operacija]])*Tech_SąnaudosSuv[[#This Row],[Operacijos skaičius]:[Operacijos skaičius]]","v":4.24},{"$f":"SUMIFS($AE$11:$AE$22,_xlfn.ANCHORARRAY($P$11),Tech_SąnaudosSuv[[#This Row],[Technologinė operacija]:[Technologinė operacija]])*Tech_SąnaudosSuv[[#This Row],[Operacijos skaičius]:[Operacijos skaičius]]","v":6.48},{"$f":"SUMIFS($AG$11:$AG$22,_xlfn.ANCHORARRAY($P$11),Tech_SąnaudosSuv[[#This Row],[Technologinė operacija]:[Technologinė operacija]])*Tech_SąnaudosSuv[[#This Row],[Operacijos skaičius]:[Operacijos skaičius]]","v":1.92},{"$f":"IF(AND(Tech_SąnaudosSuv[[#This Row],[Technologinė operacija]] = $P$22, $W$22 > $R$2), $AJ$22, 0)","v":0},{"$f":"SUM(Tech_SąnaudosSuv[[#This Row],[Degalai ir tepalai, Eur/ha]:[Kitos, Eur/ha]])","v":15.48},{"$f":"IF(Tech_SąnaudosSuv[[#This Row],[Žemės ūkio paslaugos pirkimas, Eur]]=0,SUMIFS($Y$11:$Y$22,_xlfn.ANCHORARRAY($P$11),Tech_SąnaudosSuv[[#This Row],[Technologinė operacija]:[Technologinė operacija]]),0)","v":22},null,null,null,"Purškimas",null,null,null,{"$f":"_xlfn.LET(_xlpm.Masyvas, _xlfn._xlws.FILTER(DarbųĮkainiai2024[[Žemės ūkio mašina]:[Kintamieji kaštai, Eur/ha]], (DarbųĮkainiai2024[Aktualus darbo pavadinimas] = Sąnaudos!P17) * (DarbųĮkainiai2024[Traktoriaus (kombaino) galia, kW] <= IF(Sąnaudos!$R$2<67,67,Sąnaudos!$R$2)   ) * (DarbųĮkainiai2024[Traktoriaus (kombaino) galia, kW] = MAX(_xlfn._xlws.FILTER(DarbųĮkainiai2024[Traktoriaus (kombaino) galia, kW], (DarbųĮkainiai2024[Aktualus darbo pavadinimas] = Sąnaudos!P17) * (DarbųĮkainiai2024[Traktoriaus (kombaino) galia, kW] <= IF(Sąnaudos!$R$2<67,67,Sąnaudos!$R$2)) * (DarbųĮkainiai2024[Žemės ūkio mašinų kilmė] <> \"NVS\"), 0))) * (DarbųĮkainiai2024[Žemės ūkio mašinų kilmė] <> \"NVS\"), \"\"),_xlpm.MasyvoMax, _xlfn._xlws.FILTER(_xlpm.Masyvas, INDEX(_xlpm.Masyvas,,2)=MAX(INDEX(_xlpm.Masyvas,, 2))), _xlpm.MasyvoMax)","v":"pakabinamaisiais purkštuvais"},15,300,54,41.08,22,6.86,0.94,2.17,1.06,0.71,1.62,5.5600000000000005,0.48,6.0400000000000009,0.3,6.3400000000000007,3.870000000000001]
[{"$f":"ROW()-ROW(Tech_SąnaudosSuv[[#Headers],[Eil. Nr.]])","v":8},"Gilus arimas (GA)","GA","Tręšimas",2,{"$f":"SUMIFS($AD$11:$AD$22,_xlfn.ANCHORARRAY($P$11),Tech_SąnaudosSuv[[#This Row],[Technologinė operacija]:[Technologinė operacija]])*Tech_SąnaudosSuv[[#This Row],[Operacijos skaičius]:[Operacijos skaičius]]","v":1.06},{"$f":"SUMIFS($AC$11:$AC$22,_xlfn.ANCHORARRAY($P$11),Tech_SąnaudosSuv[[#This Row],[Technologinė operacija]:[Technologinė operacija]])*Tech_SąnaudosSuv[[#This Row],[Operacijos skaičius]:[Operacijos skaičius]]","v":1.6},{"$f":"SUMIFS($AE$11:$AE$22,_xlfn.ANCHORARRAY($P$11),Tech_SąnaudosSuv[[#This Row],[Technologinė operacija]:[Technologinė operacija]])*Tech_SąnaudosSuv[[#This Row],[Operacijos skaičius]:[Operacijos skaičius]]","v":1.1000000000000001},{"$f":"SUMIFS($AG$11:$AG$22,_xlfn.ANCHORARRAY($P$11),Tech_SąnaudosSuv[[#This Row],[Technologinė operacija]:[Technologinė operacija]])*Tech_SąnaudosSuv[[#This Row],[Operacijos skaičius]:[Operacijos skaičius]]","v":0.24},{"$f":"IF(AND(Tech_SąnaudosSuv[[#This Row],[Technologinė operacija]] = $P$22, $W$22 > $R$2), $AJ$22, 0)","v":0},{"$f":"SUM(Tech_SąnaudosSuv[[#This Row],[Degalai ir tepalai, Eur/ha]:[Kitos, Eur/ha]])","v":4},{"$f":"IF(Tech_SąnaudosSuv[[#This Row],[Žemės ūkio paslaugos pirkimas, Eur]]=0,SUMIFS($Y$11:$Y$22,_xlfn.ANCHORARRAY($P$11),Tech_SąnaudosSuv[[#This Row],[Technologinė operacija]:[Technologinė operacija]]),0)","v":30.68},null,null,null,"Derliaus nuėmimas",null,null,null,{"$f":"_xlfn.LET(_xlpm.Masyvas, _xlfn._xlws.FILTER(DarbųĮkainiai2024[[Žemės ūkio mašina]:[Kintamieji kaštai, Eur/ha]], (DarbųĮkainiai2024[Aktualus darbo pavadinimas] = Sąnaudos!P18) * (DarbųĮkainiai2024[Darbinis plotis, m] <= IF(Sąnaudos!$S$4<3,3,Sąnaudos!$S$4)) * (DarbųĮkainiai2024[Traktoriaus (kombaino) galia, kW] = MAX(_xlfn._xlws.FILTER(DarbųĮkainiai2024[Traktoriaus (kombaino) galia, kW], (DarbųĮkainiai2024[Aktualus darbo pavadinimas] = Sąnaudos!P18) * (DarbųĮkainiai2024[Darbinis plotis, m] <= IF(Sąnaudos!$S$4<3,3,Sąnaudos!$S$4)) * (DarbųĮkainiai2024[Žemės ūkio mašinų kilmė] <> \"NVS\"), 0))) * (DarbųĮkainiai2024[Žemės ūkio mašinų kilmė] <> \"NVS\"), \"\"),_xlpm.MasyvoMax, _xlfn._xlws.FILTER(_xlpm.Masyvas, INDEX(_xlpm.Masyvas,,3)=MAX(INDEX(_xlpm.Masyvas,, 3))), _xlpm.MasyvoMax)","v":"Vakarų Europos gamybos kombainais"},10.5,8,400,456.14,0,3.23,20.43,51.79,26.52,15.32,3.44,97.07,6.66,103.72999999999999,5.19,108.91999999999999,51.939999999999991]
[{"$f":"ROW()-ROW(Tech_SąnaudosSuv[[#Headers],[Eil. Nr.]])","v":9},"Gilus arimas (GA)","GA","Derliaus nuėmimas",1,{"$f":"SUMIFS($AD$11:$AD$22,_xlfn.ANCHORARRAY($P$11),Tech_SąnaudosSuv[[#This Row],[Technologinė operacija]:[Technologinė operacija]])*Tech_SąnaudosSuv[[#This Row],[Operacijos skaičius]:[Operacijos skaičius]]","v":15.32},{"$f":"SUMIFS($AC$11:$AC$22,_xlfn.ANCHORARRAY($P$11),Tech_SąnaudosSuv[[#This Row],[Technologinė operacija]:[Technologinė operacija]])*Tech_SąnaudosSuv[[#This Row],[Operacijos skaičius]:[Operacijos skaičius]]","v":26.52},{"$f":"SUMIFS($AE$11:$AE$22,_xlfn.ANCHORARRAY($P$11),Tech_SąnaudosSuv[[#This Row],[Technologinė operacija]:[Technologinė operacija]])*Tech_SąnaudosSuv[[#This Row],[Operacijos skaičius]:[Operacijos skaičius]]","v":3.44},{"$f":"SUMIFS($AG$11:$AG$22,_xlfn.ANCHORARRAY($P$11),Tech_SąnaudosSuv[[#This Row],[Technologinė operacija]:[Technologinė operacija]])*Tech_SąnaudosSuv[[#This Row],[Operacijos skaičius]:[Operacijos skaičius]]","v":6.66},{"$f":"IF(AND(Tech_SąnaudosSuv[[#This Row],[Technologinė operacija]] = $P$22, $W$22 > $R$2), $AJ$22, 0)","v":0},{"$f":"SUM(Tech_SąnaudosSuv[[#This Row],[Degalai ir tepalai, Eur/ha]:[Kitos, Eur/ha]])","v":51.94},{"$f":"IF(Tech_SąnaudosSuv[[#This Row],[Žemės ūkio paslaugos pirkimas, Eur]]=0,SUMIFS($Y$11:$Y$22,_xlfn.ANCHORARRAY($P$11),Tech_SąnaudosSuv[[#This Row],[Technologinė operacija]:[Technologinė operacija]]),0)","v":0},null,null,null,"Seklus arimas",null,null,null,{"$f":"_xlfn.LET(_xlpm.Masyvas, _xlfn._xlws.FILTER(DarbųĮkainiai2024[[Žemės ūkio mašina]:[Kintamieji kaštai, Eur/ha]], (DarbųĮkainiai2024[Aktualus darbo pavadinimas] = Sąnaudos!P19) * (DarbųĮkainiai2024[Traktoriaus (kombaino) galia, kW] <= IF(Sąnaudos!$R$2<67,67,Sąnaudos!$R$2)   ) * (DarbųĮkainiai2024[Traktoriaus (kombaino) galia, kW] = MAX(_xlfn._xlws.FILTER(DarbųĮkainiai2024[Traktoriaus (kombaino) galia, kW], (DarbųĮkainiai2024[Aktualus darbo pavadinimas] = Sąnaudos!P19) * (DarbųĮkainiai2024[Traktoriaus (kombaino) galia, kW] <= IF(Sąnaudos!$R$2<67,67,Sąnaudos!$R$2)) * (DarbųĮkainiai2024[Žemės ūkio mašinų kilmė] <> \"NVS\"), 0))) * (DarbųĮkainiai2024[Žemės ūkio mašinų kilmė] <> \"NVS\"), \"\"),_xlpm.MasyvoMax, _xlfn._xlws.FILTER(_xlpm.Masyvas, INDEX(_xlpm.Masyvas,,2)=MAX(INDEX(_xlpm.Masyvas,, 2))), _xlpm.MasyvoMax)","v":"Prikabinamaisiais apverčiamaisiais plūgais su tankintuvais"},3.5,0,275,263.75,79.150000000000006,2.77,16.7,27.49,26.58,12.53,4.01,70.61,4.09,74.7,3.74,78.44,47.210000000000008]
[{"$f":"ROW()-ROW(Tech_SąnaudosSuv[[#Headers],[Eil. Nr.]])","v":10},"Seklus arimas (SA)","SA","Seklus ražienų skutimas",1,{"$f":"SUMIFS($AD$11:$AD$22,_xlfn.ANCHORARRAY($P$11),Tech_SąnaudosSuv[[#This Row],[Technologinė operacija]:[Technologinė operacija]])*Tech_SąnaudosSuv[[#This Row],[Operacijos skaičius]:[Operacijos skaičius]]","v":6.53},{"$f":"SUMIFS($AC$11:$AC$22,_xlfn.ANCHORARRAY($P$11),Tech_SąnaudosSuv[[#This Row],[Technologinė operacija]:[Technologinė operacija]])*Tech_SąnaudosSuv[[#This Row],[Operacijos skaičius]:[Operacijos skaičius]]","v":8.9700000000000006},{"$f":"SUMIFS($AE$11:$AE$22,_xlfn.ANCHORARRAY($P$11),Tech_SąnaudosSuv[[#This Row],[Technologinė operacija]:[Technologinė operacija]])*Tech_SąnaudosSuv[[#This Row],[Operacijos skaičius]:[Operacijos skaičius]]","v":1.56},{"$f":"SUMIFS($AG$11:$AG$22,_xlfn.ANCHORARRAY($P$11),Tech_SąnaudosSuv[[#This Row],[Technologinė operacija]:[Technologinė operacija]])*Tech_SąnaudosSuv[[#This Row],[Operacijos skaičius]:[Operacijos skaičius]]","v":1.19},{"$f":"IF(AND(Tech_SąnaudosSuv[[#This Row],[Technologinė operacija]] = $P$22, $W$22 > $R$2), $AJ$22, 0)","v":0},{"$f":"SUM(Tech_SąnaudosSuv[[#This Row],[Degalai ir tepalai, Eur/ha]:[Kitos, Eur/ha]])","v":18.25},{"$f":"IF(Tech_SąnaudosSuv[[#This Row],[Žemės ūkio paslaugos pirkimas, Eur]]=0,SUMIFS($Y$11:$Y$22,_xlfn.ANCHORARRAY($P$11),Tech_SąnaudosSuv[[#This Row],[Technologinė operacija]:[Technologinė operacija]]),0)","v":79.760000000000005},null,null,null,"Seklus purenimas",null,null,null,{"$f":"_xlfn.LET(_xlpm.Masyvas, _xlfn._xlws.FILTER(DarbųĮkainiai2024[[Žemės ūkio mašina]:[Kintamieji kaštai, Eur/ha]], (DarbųĮkainiai2024[Aktualus darbo pavadinimas] = Sąnaudos!P20) * (DarbųĮkainiai2024[Traktoriaus (kombaino) galia, kW] <= IF(Sąnaudos!$R$2<67,67,Sąnaudos!$R$2)   ) * (DarbųĮkainiai2024[Traktoriaus (kombaino) galia, kW] = MAX(_xlfn._xlws.FILTER(DarbųĮkainiai2024[Traktoriaus (kombaino) galia, kW], (DarbųĮkainiai2024[Aktualus darbo pavadinimas] = Sąnaudos!P20) * (DarbųĮkainiai2024[Traktoriaus (kombaino) galia, kW] <= IF(Sąnaudos!$R$2<67,67,Sąnaudos!$R$2)) * (DarbųĮkainiai2024[Žemės ūkio mašinų kilmė] <> \"NVS\"), 0))) * (DarbųĮkainiai2024[Žemės ūkio mašinų kilmė] <> \"NVS\"), \"\"),_xlpm.MasyvoMax, _xlfn._xlws.FILTER(_xlpm.Masyvas, INDEX(_xlpm.Masyvas,,2)=MAX(INDEX(_xlpm.Masyvas,, 2))), _xlpm.MasyvoMax)","v":"kultivatoriais"},8,0,138,119.07,28.59,5.18,6.4,5.82,5.48,4.8,2.14,18.240000000000002,1.18,19.420000000000002,0.97,20.39,13.600000000000001]
[{"$f":"ROW()-ROW(Tech_SąnaudosSuv[[#Headers],[Eil. Nr.]])","v":11},"Seklus arimas (SA)","SA","Seklus arimas",1,{"$f":"SUMIFS($AD$11:$AD$22,_xlfn.ANCHORARRAY($P$11),Tech_SąnaudosSuv[[#This Row],[Technologinė operacija]:[Technologinė operacija]])*Tech_SąnaudosSuv[[#This Row],[Operacijos skaičius]:[Operacijos skaičius]]","v":12.53},{"$f":"SUMIFS($AC$11:$AC$22,_xlfn.ANCHORARRAY($P$11),Tech_SąnaudosSuv[[#This Row],[Technologinė operacija]:[Technologinė operacija]])*Tech_SąnaudosSuv[[#This Row],[Operacijos skaičius]:[Operacijos skaičius]]","v":26.58},{"$f":"SUMIFS($AE$11:$AE$22,_xlfn.ANCHORARRAY($P$11),Tech_SąnaudosSuv[[#This Row],[Technologinė operacija]:[Technologinė operacija]])*Tech_SąnaudosSuv[[#This Row],[Operacijos skaičius]:[Operacijos skaičius]]","v":4.01},{"$f":"SUMIFS($AG$11:$AG$22,_xlfn.ANCHORARRAY($P$11),Tech_SąnaudosSuv[[#This Row],[Technologinė operacija]:[Technologinė operacija]])*Tech_SąnaudosSuv[[#This Row],[Operacijos skaičius]:[Operacijos skaičius]]","v":4.09},{"$f":"IF(AND(Tech_SąnaudosSuv[[#This Row],[Technologinė operacija]] = $P$22, $W$22 > $R$2), $AJ$22, 0)","v":0},{"$f":"SUM(Tech_SąnaudosSuv[[#This Row],[Degalai ir tepalai, Eur/ha]:[Kitos, Eur/ha]])","v":47.209999999999994},{"$f":"IF(Tech_SąnaudosSuv[[#This Row],[Žemės ūkio paslaugos pirkimas, Eur]]=0,SUMIFS($Y$11:$Y$22,_xlfn.ANCHORARRAY($P$11),Tech_SąnaudosSuv[[#This Row],[Technologinė operacija]:[Technologinė operacija]]),0)","v":79.150000000000006},null,null,null,"Tarpinių pasėlių sėja",null,null,null,{"$f":"_xlfn.LET(_xlpm.Masyvas, _xlfn._xlws.FILTER(DarbųĮkainiai2024[[Žemės ūkio mašina]:[Kintamieji kaštai, Eur/ha]], (DarbųĮkainiai2024[Aktualus darbo pavadinimas] = Sąnaudos!P21) * (DarbųĮkainiai2024[Traktoriaus (kombaino) galia, kW] <= IF(Sąnaudos!$R$2<67,67,Sąnaudos!$R$2)   ) * (DarbųĮkainiai2024[Traktoriaus (kombaino) galia, kW] = MAX(_xlfn._xlws.FILTER(DarbųĮkainiai2024[Traktoriaus (kombaino) galia, kW], (DarbųĮkainiai2024[Aktualus darbo pavadinimas] = Sąnaudos!P21) * (DarbųĮkainiai2024[Traktoriaus (kombaino) galia, kW] <= IF(Sąnaudos!$R$2<67,67,Sąnaudos!$R$2)) * (DarbųĮkainiai2024[Žemės ūkio mašinų kilmė] <> \"NVS\"), 0))) * (DarbųĮkainiai2024[Žemės ūkio mašinų kilmė] <> \"NVS\"), \"\"),_xlpm.MasyvoMax, _xlfn._xlws.FILTER(_xlpm.Masyvas, INDEX(_xlpm.Masyvas,,2)=MAX(INDEX(_xlpm.Masyvas,, 2))), _xlpm.MasyvoMax)","v":"Seklusis ražienų skutimas su tarpinių pasėlių sėja"},10,0,233,0,0,0,0,0,0,0,0,0,4.28,4.28,0.21,4.49,4.28]
[{"$f":"ROW()-ROW(Tech_SąnaudosSuv[[#Headers],[Eil. Nr.]])","v":12},"Seklus arimas (SA)","SA","Pirminis kultivavimas",1,{"$f":"SUMIFS($AD$11:$AD$22,_xlfn.ANCHORARRAY($P$11),Tech_SąnaudosSuv[[#This Row],[Technologinė operacija]:[Technologinė operacija]])*Tech_SąnaudosSuv[[#This Row],[Operacijos skaičius]:[Operacijos skaičius]]","v":7.35},{"$f":"SUMIFS($AC$11:$AC$22,_xlfn.ANCHORARRAY($P$11),Tech_SąnaudosSuv[[#This Row],[Technologinė operacija]:[Technologinė operacija]])*Tech_SąnaudosSuv[[#This Row],[Operacijos skaičius]:[Operacijos skaičius]]","v":11.11},{"$f":"SUMIFS($AE$11:$AE$22,_xlfn.ANCHORARRAY($P$11),Tech_SąnaudosSuv[[#This Row],[Technologinė operacija]:[Technologinė operacija]])*Tech_SąnaudosSuv[[#This Row],[Operacijos skaičius]:[Operacijos skaičius]]","v":2.82},{"$f":"SUMIFS($AG$11:$AG$22,_xlfn.ANCHORARRAY($P$11),Tech_SąnaudosSuv[[#This Row],[Technologinė operacija]:[Technologinė operacija]])*Tech_SąnaudosSuv[[#This Row],[Operacijos skaičius]:[Operacijos skaičius]]","v":2.34},{"$f":"IF(AND(Tech_SąnaudosSuv[[#This Row],[Technologinė operacija]] = $P$22, $W$22 > $R$2), $AJ$22, 0)","v":0},{"$f":"SUM(Tech_SąnaudosSuv[[#This Row],[Degalai ir tepalai, Eur/ha]:[Kitos, Eur/ha]])","v":23.62},{"$f":"IF(Tech_SąnaudosSuv[[#This Row],[Žemės ūkio paslaugos pirkimas, Eur]]=0,SUMIFS($Y$11:$Y$22,_xlfn.ANCHORARRAY($P$11),Tech_SąnaudosSuv[[#This Row],[Technologinė operacija]:[Technologinė operacija]]),0)","v":53.99},null,null,null,"Tiesioginė sėja",null,null,null,{"$f":"_xlfn.LET(_xlpm.Masyvas, _xlfn._xlws.FILTER(DarbųĮkainiai2024[[Žemės ūkio mašina]:[Kintamieji kaštai, Eur/ha]], (DarbųĮkainiai2024[Aktualus darbo pavadinimas] = Sąnaudos!P22) * (DarbųĮkainiai2024[Traktoriaus (kombaino) galia, kW] <= IF(Sąnaudos!$R$2<240,240,Sąnaudos!$R$2)   ) * (DarbųĮkainiai2024[Traktoriaus (kombaino) galia, kW] = MAX(_xlfn._xlws.FILTER(DarbųĮkainiai2024[Traktoriaus (kombaino) galia, kW], (DarbųĮkainiai2024[Aktualus darbo pavadinimas] = Sąnaudos!P22) * (DarbųĮkainiai2024[Traktoriaus (kombaino) galia, kW] <= IF(Sąnaudos!$R$2<240,240,Sąnaudos!$R$2)) * (DarbųĮkainiai2024[Žemės ūkio mašinų kilmė] <> \"NVS\"), 0))) * (DarbųĮkainiai2024[Žemės ūkio mašinų kilmė] <> \"NVS\"), \"\"),_xlpm.MasyvoMax, _xlfn._xlws.FILTER(_xlpm.Masyvas, INDEX(_xlpm.Masyvas,,2)=MAX(INDEX(_xlpm.Masyvas,, 2))), _xlpm.MasyvoMax)","v":"tiesioginės sėjos (ražieninėmis) sėjamosiomis"},4,200,240,221.18,140.35,3.22,17.3,43.61,22.85,12.98,3.45,82.890000000000015,6.96,89.850000000000009,4.49,94.34,46.240000000000009]
[{"$f":"ROW()-ROW(Tech_SąnaudosSuv[[#Headers],[Eil. Nr.]])","v":13},"Seklus arimas (SA)","SA","Priešsėjinis kultivavimas",1,{"$f":"SUMIFS($AD$11:$AD$22,_xlfn.ANCHORARRAY($P$11),Tech_SąnaudosSuv[[#This Row],[Technologinė operacija]:[Technologinė operacija]])*Tech_SąnaudosSuv[[#This Row],[Operacijos skaičius]:[Operacijos skaičius]]","v":4.8},{"$f":"SUMIFS($AC$11:$AC$22,_xlfn.ANCHORARRAY($P$11),Tech_SąnaudosSuv[[#This Row],[Technologinė operacija]:[Technologinė operacija]])*Tech_SąnaudosSuv[[#This Row],[Operacijos skaičius]:[Operacijos skaičius]]","v":5.48},{"$f":"SUMIFS($AE$11:$AE$22,_xlfn.ANCHORARRAY($P$11),Tech_SąnaudosSuv[[#This Row],[Technologinė operacija]:[Technologinė operacija]])*Tech_SąnaudosSuv[[#This Row],[Operacijos skaičius]:[Operacijos skaičius]]","v":2.14},{"$f":"SUMIFS($AG$11:$AG$22,_xlfn.ANCHORARRAY($P$11),Tech_SąnaudosSuv[[#This Row],[Technologinė operacija]:[Technologinė operacija]])*Tech_SąnaudosSuv[[#This Row],[Operacijos skaičius]:[Operacijos skaičius]]","v":1.18},{"$f":"IF(AND(Tech_SąnaudosSuv[[#This Row],[Technologinė operacija]] = $P$22, $W$22 > $R$2), $AJ$22, 0)","v":0},{"$f":"SUM(Tech_SąnaudosSuv[[#This Row],[Degalai ir tepalai, Eur/ha]:[Kitos, Eur/ha]])","v":13.600000000000001},{"$f":"IF(Tech_SąnaudosSuv[[#This Row],[Žemės ūkio paslaugos pirkimas, Eur]]=0,SUMIFS($Y$11:$Y$22,_xlfn.ANCHORARRAY($P$11),Tech_SąnaudosSuv[[#This Row],[Technologinė operacija]:[Technologinė operacija]]),0)","v":28.59}]
[{"$f":"ROW()-ROW(Tech_SąnaudosSuv[[#Headers],[Eil. Nr.]])","v":14},"Seklus arimas (SA)","SA","Tręšimas",1,{"$f":"SUMIFS($AD$11:$AD$22,_xlfn.ANCHORARRAY($P$11),Tech_SąnaudosSuv[[#This Row],[Technologinė operacija]:[Technologinė operacija]])*Tech_SąnaudosSuv[[#This Row],[Operacijos skaičius]:[Operacijos skaičius]]","v":0.53},{"$f":"SUMIFS($AC$11:$AC$22,_xlfn.ANCHORARRAY($P$11),Tech_SąnaudosSuv[[#This Row],[Technologinė operacija]:[Technologinė operacija]])*Tech_SąnaudosSuv[[#This Row],[Operacijos skaičius]:[Operacijos skaičius]]","v":0.8},{"$f":"SUMIFS($AE$11:$AE$22,_xlfn.ANCHORARRAY($P$11),Tech_SąnaudosSuv[[#This Row],[Technologinė operacija]:[Technologinė operacija]])*Tech_SąnaudosSuv[[#This Row],[Operacijos skaičius]:[Operacijos skaičius]]","v":0.55000000000000004},{"$f":"SUMIFS($AG$11:$AG$22,_xlfn.ANCHORARRAY($P$11),Tech_SąnaudosSuv[[#This Row],[Technologinė operacija]:[Technologinė operacija]])*Tech_SąnaudosSuv[[#This Row],[Operacijos skaičius]:[Operacijos skaičius]]","v":0.12},{"$f":"IF(AND(Tech_SąnaudosSuv[[#This Row],[Technologinė operacija]] = $P$22, $W$22 > $R$2), $AJ$22, 0)","v":0},{"$f":"SUM(Tech_SąnaudosSuv[[#This Row],[Degalai ir tepalai, Eur/ha]:[Kitos, Eur/ha]])","v":2},{"$f":"IF(Tech_SąnaudosSuv[[#This Row],[Žemės ūkio paslaugos pirkimas, Eur]]=0,SUMIFS($Y$11:$Y$22,_xlfn.ANCHORARRAY($P$11),Tech_SąnaudosSuv[[#This Row],[Technologinė operacija]:[Technologinė operacija]]),0)","v":30.68}]
[{"$f":"ROW()-ROW(Tech_SąnaudosSuv[[#Headers],[Eil. Nr.]])","v":15},"Seklus arimas (SA)","SA","Sėja",1,{"$f":"SUMIFS($AD$11:$AD$22,_xlfn.ANCHORARRAY($P$11),Tech_SąnaudosSuv[[#This Row],[Technologinė operacija]:[Technologinė operacija]])*Tech_SąnaudosSuv[[#This Row],[Operacijos skaičius]:[Operacijos skaičius]]","v":2.7},{"$f":"SUMIFS($AC$11:$AC$22,_xlfn.ANCHORARRAY($P$11),Tech_SąnaudosSuv[[#This Row],[Technologinė operacija]:[Technologinė operacija]])*Tech_SąnaudosSuv[[#This Row],[Operacijos skaičius]:[Operacijos skaičius]]","v":10.25},{"$f":"SUMIFS($AE$11:$AE$22,_xlfn.ANCHORARRAY($P$11),Tech_SąnaudosSuv[[#This Row],[Technologinė operacija]:[Technologinė operacija]])*Tech_SąnaudosSuv[[#This Row],[Operacijos skaičius]:[Operacijos skaičius]]","v":2.37},{"$f":"SUMIFS($AG$11:$AG$22,_xlfn.ANCHORARRAY($P$11),Tech_SąnaudosSuv[[#This Row],[Technologinė operacija]:[Technologinė operacija]])*Tech_SąnaudosSuv[[#This Row],[Operacijos skaičius]:[Operacijos skaičius]]","v":1.32},{"$f":"IF(AND(Tech_SąnaudosSuv[[#This Row],[Technologinė operacija]] = $P$22, $W$22 > $R$2), $AJ$22, 0)","v":0},{"$f":"SUM(Tech_SąnaudosSuv[[#This Row],[Degalai ir tepalai, Eur/ha]:[Kitos, Eur/ha]])","v":16.64},{"$f":"IF(Tech_SąnaudosSuv[[#This Row],[Žemės ūkio paslaugos pirkimas, Eur]]=0,SUMIFS($Y$11:$Y$22,_xlfn.ANCHORARRAY($P$11),Tech_SąnaudosSuv[[#This Row],[Technologinė operacija]:[Technologinė operacija]]),0)","v":115.04}]
[{"$f":"ROW()-ROW(Tech_SąnaudosSuv[[#Headers],[Eil. Nr.]])","v":16},"Seklus arimas (SA)","SA","Purškimas",4,{"$f":"SUMIFS($AD$11:$AD$22,_xlfn.ANCHORARRAY($P$11),Tech_SąnaudosSuv[[#This Row],[Technologinė operacija]:[Technologinė operacija]])*Tech_SąnaudosSuv[[#This Row],[Operacijos skaičius]:[Operacijos skaičius]]","v":2.84},{"$f":"SUMIFS($AC$11:$AC$22,_xlfn.ANCHORARRAY($P$11),Tech_SąnaudosSuv[[#This Row],[Technologinė operacija]:[Technologinė operacija]])*Tech_SąnaudosSuv[[#This Row],[Operacijos skaičius]:[Operacijos skaičius]]","v":4.24},{"$f":"SUMIFS($AE$11:$AE$22,_xlfn.ANCHORARRAY($P$11),Tech_SąnaudosSuv[[#This Row],[Technologinė operacija]:[Technologinė operacija]])*Tech_SąnaudosSuv[[#This Row],[Operacijos skaičius]:[Operacijos skaičius]]","v":6.48},{"$f":"SUMIFS($AG$11:$AG$22,_xlfn.ANCHORARRAY($P$11),Tech_SąnaudosSuv[[#This Row],[Technologinė operacija]:[Technologinė operacija]])*Tech_SąnaudosSuv[[#This Row],[Operacijos skaičius]:[Operacijos skaičius]]","v":1.92},{"$f":"IF(AND(Tech_SąnaudosSuv[[#This Row],[Technologinė operacija]] = $P$22, $W$22 > $R$2), $AJ$22, 0)","v":0},{"$f":"SUM(Tech_SąnaudosSuv[[#This Row],[Degalai ir tepalai, Eur/ha]:[Kitos, Eur/ha]])","v":15.48},{"$f":"IF(Tech_SąnaudosSuv[[#This Row],[Žemės ūkio paslaugos pirkimas, Eur]]=0,SUMIFS($Y$11:$Y$22,_xlfn.ANCHORARRAY($P$11),Tech_SąnaudosSuv[[#This Row],[Technologinė operacija]:[Technologinė operacija]]),0)","v":22}]
[{"$f":"ROW()-ROW(Tech_SąnaudosSuv[[#Headers],[Eil. Nr.]])","v":17},"Seklus arimas (SA)","SA","Tręšimas",2,{"$f":"SUMIFS($AD$11:$AD$22,_xlfn.ANCHORARRAY($P$11),Tech_SąnaudosSuv[[#This Row],[Technologinė operacija]:[Technologinė operacija]])*Tech_SąnaudosSuv[[#This Row],[Operacijos skaičius]:[Operacijos skaičius]]","v":1.06},{"$f":"SUMIFS($AC$11:$AC$22,_xlfn.ANCHORARRAY($P$11),Tech_SąnaudosSuv[[#This Row],[Technologinė operacija]:[Technologinė operacija]])*Tech_SąnaudosSuv[[#This Row],[Operacijos skaičius]:[Operacijos skaičius]]","v":1.6},{"$f":"SUMIFS($AE$11:$AE$22,_xlfn.ANCHORARRAY($P$11),Tech_SąnaudosSuv[[#This Row],[Technologinė operacija]:[Technologinė operacija]])*Tech_SąnaudosSuv[[#This Row],[Operacijos skaičius]:[Operacijos skaičius]]","v":1.1000000000000001},{"$f":"SUMIFS($AG$11:$AG$22,_xlfn.ANCHORARRAY($P$11),Tech_SąnaudosSuv[[#This Row],[Technologinė operacija]:[Technologinė operacija]])*Tech_SąnaudosSuv[[#This Row],[Operacijos skaičius]:[Operacijos skaičius]]","v":0.24},{"$f":"IF(AND(Tech_SąnaudosSuv[[#This Row],[Technologinė operacija]] = $P$22, $W$22 > $R$2), $AJ$22, 0)","v":0},{"$f":"SUM(Tech_SąnaudosSuv[[#This Row],[Degalai ir tepalai, Eur/ha]:[Kitos, Eur/ha]])","v":4},{"$f":"IF(Tech_SąnaudosSuv[[#This Row],[Žemės ūkio paslaugos pirkimas, Eur]]=0,SUMIFS($Y$11:$Y$22,_xlfn.ANCHORARRAY($P$11),Tech_SąnaudosSuv[[#This Row],[Technologinė operacija]:[Technologinė operacija]]),0)","v":30.68}]
[{"$f":"ROW()-ROW(Tech_SąnaudosSuv[[#Headers],[Eil. Nr.]])","v":18},"Seklus arimas (SA)","SA","Derliaus nuėmimas",1,{"$f":"SUMIFS($AD$11:$AD$22,_xlfn.ANCHORARRAY($P$11),Tech_SąnaudosSuv[[#This Row],[Technologinė operacija]:[Technologinė operacija]])*Tech_SąnaudosSuv[[#This Row],[Operacijos skaičius]:[Operacijos skaičius]]","v":15.32},{"$f":"SUMIFS($AC$11:$AC$22,_xlfn.ANCHORARRAY($P$11),Tech_SąnaudosSuv[[#This Row],[Technologinė operacija]:[Technologinė operacija]])*Tech_SąnaudosSuv[[#This Row],[Operacijos skaičius]:[Operacijos skaičius]]","v":26.52},{"$f":"SUMIFS($AE$11:$AE$22,_xlfn.ANCHORARRAY($P$11),Tech_SąnaudosSuv[[#This Row],[Technologinė operacija]:[Technologinė operacija]])*Tech_SąnaudosSuv[[#This Row],[Operacijos skaičius]:[Operacijos skaičius]]","v":3.44},{"$f":"SUMIFS($AG$11:$AG$22,_xlfn.ANCHORARRAY($P$11),Tech_SąnaudosSuv[[#This Row],[Technologinė operacija]:[Technologinė operacija]])*Tech_SąnaudosSuv[[#This Row],[Operacijos skaičius]:[Operacijos skaičius]]","v":6.66},{"$f":"IF(AND(Tech_SąnaudosSuv[[#This Row],[Technologinė operacija]] = $P$22, $W$22 > $R$2), $AJ$22, 0)","v":0},{"$f":"SUM(Tech_SąnaudosSuv[[#This Row],[Degalai ir tepalai, Eur/ha]:[Kitos, Eur/ha]])","v":51.94},{"$f":"IF(Tech_SąnaudosSuv[[#This Row],[Žemės ūkio paslaugos pirkimas, Eur]]=0,SUMIFS($Y$11:$Y$22,_xlfn.ANCHORARRAY($P$11),Tech_SąnaudosSuv[[#This Row],[Technologinė operacija]:[Technologinė operacija]]),0)","v":0}]
[{"$f":"ROW()-ROW(Tech_SąnaudosSuv[[#Headers],[Eil. Nr.]])","v":19},"Seklus purenimas rudenį (SPR)","SPR","Seklus ražienų skutimas",1,{"$f":"SUMIFS($AD$11:$AD$22,_xlfn.ANCHORARRAY($P$11),Tech_SąnaudosSuv[[#This Row],[Technologinė operacija]:[Technologinė operacija]])*Tech_SąnaudosSuv[[#This Row],[Operacijos skaičius]:[Operacijos skaičius]]","v":6.53},{"$f":"SUMIFS($AC$11:$AC$22,_xlfn.ANCHORARRAY($P$11),Tech_SąnaudosSuv[[#This Row],[Technologinė operacija]:[Technologinė operacija]])*Tech_SąnaudosSuv[[#This Row],[Operacijos skaičius]:[Operacijos skaičius]]","v":8.9700000000000006},{"$f":"SUMIFS($AE$11:$AE$22,_xlfn.ANCHORARRAY($P$11),Tech_SąnaudosSuv[[#This Row],[Technologinė operacija]:[Technologinė operacija]])*Tech_SąnaudosSuv[[#This Row],[Operacijos skaičius]:[Operacijos skaičius]]","v":1.56},{"$f":"SUMIFS($AG$11:$AG$22,_xlfn.ANCHORARRAY($P$11),Tech_SąnaudosSuv[[#This Row],[Technologinė operacija]:[Technologinė operacija]])*Tech_SąnaudosSuv[[#This Row],[Operacijos skaičius]:[Operacijos skaičius]]","v":1.19},{"$f":"IF(AND(Tech_SąnaudosSuv[[#This Row],[Technologinė operacija]] = $P$22, $W$22 > $R$2), $AJ$22, 0)","v":0},{"$f":"SUM(Tech_SąnaudosSuv[[#This Row],[Degalai ir tepalai, Eur/ha]:[Kitos, Eur/ha]])","v":18.25},{"$f":"IF(Tech_SąnaudosSuv[[#This Row],[Žemės ūkio paslaugos pirkimas, Eur]]=0,SUMIFS($Y$11:$Y$22,_xlfn.ANCHORARRAY($P$11),Tech_SąnaudosSuv[[#This Row],[Technologinė operacija]:[Technologinė operacija]]),0)","v":79.760000000000005}]
[{"$f":"ROW()-ROW(Tech_SąnaudosSuv[[#Headers],[Eil. Nr.]])","v":20},"Seklus purenimas rudenį (SPR)","SPR","Seklus purenimas",1,{"$f":"SUMIFS($AD$11:$AD$22,_xlfn.ANCHORARRAY($P$11),Tech_SąnaudosSuv[[#This Row],[Technologinė operacija]:[Technologinė operacija]])*Tech_SąnaudosSuv[[#This Row],[Operacijos skaičius]:[Operacijos skaičius]]","v":4.8},{"$f":"SUMIFS($AC$11:$AC$22,_xlfn.ANCHORARRAY($P$11),Tech_SąnaudosSuv[[#This Row],[Technologinė operacija]:[Technologinė operacija]])*Tech_SąnaudosSuv[[#This Row],[Operacijos skaičius]:[Operacijos skaičius]]","v":5.48},{"$f":"SUMIFS($AE$11:$AE$22,_xlfn.ANCHORARRAY($P$11),Tech_SąnaudosSuv[[#This Row],[Technologinė operacija]:[Technologinė operacija]])*Tech_SąnaudosSuv[[#This Row],[Operacijos skaičius]:[Operacijos skaičius]]","v":2.14},{"$f":"SUMIFS($AG$11:$AG$22,_xlfn.ANCHORARRAY($P$11),Tech_SąnaudosSuv[[#This Row],[Technologinė operacija]:[Technologinė operacija]])*Tech_SąnaudosSuv[[#This Row],[Operacijos skaičius]:[Operacijos skaičius]]","v":1.18},{"$f":"IF(AND(Tech_SąnaudosSuv[[#This Row],[Technologinė operacija]] = $P$22, $W$22 > $R$2), $AJ$22, 0)","v":0},{"$f":"SUM(Tech_SąnaudosSuv[[#This Row],[Degalai ir tepalai, Eur/ha]:[Kitos, Eur/ha]])","v":13.600000000000001},{"$f":"IF(Tech_SąnaudosSuv[[#This Row],[Žemės ūkio paslaugos pirkimas, Eur]]=0,SUMIFS($Y$11:$Y$22,_xlfn.ANCHORARRAY($P$11),Tech_SąnaudosSuv[[#This Row],[Technologinė operacija]:[Technologinė operacija]]),0)","v":28.59}]
[{"$f":"ROW()-ROW(Tech_SąnaudosSuv[[#Headers],[Eil. Nr.]])","v":21},"Seklus purenimas rudenį (SPR)","SPR","Pirminis kultivavimas",1,{"$f":"SUMIFS($AD$11:$AD$22,_xlfn.ANCHORARRAY($P$11),Tech_SąnaudosSuv[[#This Row],[Technologinė operacija]:[Technologinė operacija]])*Tech_SąnaudosSuv[[#This Row],[Operacijos skaičius]:[Operacijos skaičius]]","v":7.35},{"$f":"SUMIFS($AC$11:$AC$22,_xlfn.ANCHORARRAY($P$11),Tech_SąnaudosSuv[[#This Row],[Technologinė operacija]:[Technologinė operacija]])*Tech_SąnaudosSuv[[#This Row],[Operacijos skaičius]:[Operacijos skaičius]]","v":11.11},{"$f":"SUMIFS($AE$11:$AE$22,_xlfn.ANCHORARRAY($P$11),Tech_SąnaudosSuv[[#This Row],[Technologinė operacija]:[Technologinė operacija]])*Tech_SąnaudosSuv[[#This Row],[Operacijos skaičius]:[Operacijos skaičius]]","v":2.82},{"$f":"SUMIFS($AG$11:$AG$22,_xlfn.ANCHORARRAY($P$11),Tech_SąnaudosSuv[[#This Row],[Technologinė operacija]:[Technologinė operacija]])*Tech_SąnaudosSuv[[#This Row],[Operacijos skaičius]:[Operacijos skaičius]]","v":2.34},{"$f":"IF(AND(Tech_SąnaudosSuv[[#This Row],[Technologinė operacija]] = $P$22, $W$22 > $R$2), $AJ$22, 0)","v":0},{"$f":"SUM(Tech_SąnaudosSuv[[#This Row],[Degalai ir tepalai, Eur/ha]:[Kitos, Eur/ha]])","v":23.62},{"$f":"IF(Tech_SąnaudosSuv[[#This Row],[Žemės ūkio paslaugos pirkimas, Eur]]=0,SUMIFS($Y$11:$Y$22,_xlfn.ANCHORARRAY($P$11),Tech_SąnaudosSuv[[#This Row],[Technologinė operacija]:[Technologinė operacija]]),0)","v":53.99}]
[{"$f":"ROW()-ROW(Tech_SąnaudosSuv[[#Headers],[Eil. Nr.]])","v":22},"Seklus purenimas rudenį (SPR)","SPR","Priešsėjinis kultivavimas",1,{"$f":"SUMIFS($AD$11:$AD$22,_xlfn.ANCHORARRAY($P$11),Tech_SąnaudosSuv[[#This Row],[Technologinė operacija]:[Technologinė operacija]])*Tech_SąnaudosSuv[[#This Row],[Operacijos skaičius]:[Operacijos skaičius]]","v":4.8},{"$f":"SUMIFS($AC$11:$AC$22,_xlfn.ANCHORARRAY($P$11),Tech_SąnaudosSuv[[#This Row],[Technologinė operacija]:[Technologinė operacija]])*Tech_SąnaudosSuv[[#This Row],[Operacijos skaičius]:[Operacijos skaičius]]","v":5.48},{"$f":"SUMIFS($AE$11:$AE$22,_xlfn.ANCHORARRAY($P$11),Tech_SąnaudosSuv[[#This Row],[Technologinė operacija]:[Technologinė operacija]])*Tech_SąnaudosSuv[[#This Row],[Operacijos skaičius]:[Operacijos skaičius]]","v":2.14},{"$f":"SUMIFS($AG$11:$AG$22,_xlfn.ANCHORARRAY($P$11),Tech_SąnaudosSuv[[#This Row],[Technologinė operacija]:[Technologinė operacija]])*Tech_SąnaudosSuv[[#This Row],[Operacijos skaičius]:[Operacijos skaičius]]","v":1.18},{"$f":"IF(AND(Tech_SąnaudosSuv[[#This Row],[Technologinė operacija]] = $P$22, $W$22 > $R$2), $AJ$22, 0)","v":0},{"$f":"SUM(Tech_SąnaudosSuv[[#This Row],[Degalai ir tepalai, Eur/ha]:[Kitos, Eur/ha]])","v":13.600000000000001},{"$f":"IF(Tech_SąnaudosSuv[[#This Row],[Žemės ūkio paslaugos pirkimas, Eur]]=0,SUMIFS($Y$11:$Y$22,_xlfn.ANCHORARRAY($P$11),Tech_SąnaudosSuv[[#This Row],[Technologinė operacija]:[Technologinė operacija]]),0)","v":28.59}]
[{"$f":"ROW()-ROW(Tech_SąnaudosSuv[[#Headers],[Eil. Nr.]])","v":23},"Seklus purenimas rudenį (SPR)","SPR","Tręšimas",1,{"$f":"SUMIFS($AD$11:$AD$22,_xlfn.ANCHORARRAY($P$11),Tech_SąnaudosSuv[[#This Row],[Technologinė operacija]:[Technologinė operacija]])*Tech_SąnaudosSuv[[#This Row],[Operacijos skaičius]:[Operacijos skaičius]]","v":0.53},{"$f":"SUMIFS($AC$11:$AC$22,_xlfn.ANCHORARRAY($P$11),Tech_SąnaudosSuv[[#This Row],[Technologinė operacija]:[Technologinė operacija]])*Tech_SąnaudosSuv[[#This Row],[Operacijos skaičius]:[Operacijos skaičius]]","v":0.8},{"$f":"SUMIFS($AE$11:$AE$22,_xlfn.ANCHORARRAY($P$11),Tech_SąnaudosSuv[[#This Row],[Technologinė operacija]:[Technologinė operacija]])*Tech_SąnaudosSuv[[#This Row],[Operacijos skaičius]:[Operacijos skaičius]]","v":0.55000000000000004},{"$f":"SUMIFS($AG$11:$AG$22,_xlfn.ANCHORARRAY($P$11),Tech_SąnaudosSuv[[#This Row],[Technologinė operacija]:[Technologinė operacija]])*Tech_SąnaudosSuv[[#This Row],[Operacijos skaičius]:[Operacijos skaičius]]","v":0.12},{"$f":"IF(AND(Tech_SąnaudosSuv[[#This Row],[Technologinė operacija]] = $P$22, $W$22 > $R$2), $AJ$22, 0)","v":0},{"$f":"SUM(Tech_SąnaudosSuv[[#This Row],[Degalai ir tepalai, Eur/ha]:[Kitos, Eur/ha]])","v":2},{"$f":"IF(Tech_SąnaudosSuv[[#This Row],[Žemės ūkio paslaugos pirkimas, Eur]]=0,SUMIFS($Y$11:$Y$22,_xlfn.ANCHORARRAY($P$11),Tech_SąnaudosSuv[[#This Row],[Technologinė operacija]:[Technologinė operacija]]),0)","v":30.68}]
[{"$f":"ROW()-ROW(Tech_SąnaudosSuv[[#Headers],[Eil. Nr.]])","v":24},"Seklus purenimas rudenį (SPR)","SPR","Sėja",1,{"$f":"SUMIFS($AD$11:$AD$22,_xlfn.ANCHORARRAY($P$11),Tech_SąnaudosSuv[[#This Row],[Technologinė operacija]:[Technologinė operacija]])*Tech_SąnaudosSuv[[#This Row],[Operacijos skaičius]:[Operacijos skaičius]]","v":2.7},{"$f":"SUMIFS($AC$11:$AC$22,_xlfn.ANCHORARRAY($P$11),Tech_SąnaudosSuv[[#This Row],[Technologinė operacija]:[Technologinė operacija]])*Tech_SąnaudosSuv[[#This Row],[Operacijos skaičius]:[Operacijos skaičius]]","v":10.25},{"$f":"SUMIFS($AE$11:$AE$22,_xlfn.ANCHORARRAY($P$11),Tech_SąnaudosSuv[[#This Row],[Technologinė operacija]:[Technologinė operacija]])*Tech_SąnaudosSuv[[#This Row],[Operacijos skaičius]:[Operacijos skaičius]]","v":2.37},{"$f":"SUMIFS($AG$11:$AG$22,_xlfn.ANCHORARRAY($P$11),Tech_SąnaudosSuv[[#This Row],[Technologinė operacija]:[Technologinė operacija]])*Tech_SąnaudosSuv[[#This Row],[Operacijos skaičius]:[Operacijos skaičius]]","v":1.32},{"$f":"IF(AND(Tech_SąnaudosSuv[[#This Row],[Technologinė operacija]] = $P$22, $W$22 > $R$2), $AJ$22, 0)","v":0},{"$f":"SUM(Tech_SąnaudosSuv[[#This Row],[Degalai ir tepalai, Eur/ha]:[Kitos, Eur/ha]])","v":16.64},{"$f":"IF(Tech_SąnaudosSuv[[#This Row],[Žemės ūkio paslaugos pirkimas, Eur]]=0,SUMIFS($Y$11:$Y$22,_xlfn.ANCHORARRAY($P$11),Tech_SąnaudosSuv[[#This Row],[Technologinė operacija]:[Technologinė operacija]]),0)","v":115.04}]
[{"$f":"ROW()-ROW(Tech_SąnaudosSuv[[#Headers],[Eil. Nr.]])","v":25},"Seklus purenimas rudenį (SPR)","SPR","Purškimas",4,{"$f":"SUMIFS($AD$11:$AD$22,_xlfn.ANCHORARRAY($P$11),Tech_SąnaudosSuv[[#This Row],[Technologinė operacija]:[Technologinė operacija]])*Tech_SąnaudosSuv[[#This Row],[Operacijos skaičius]:[Operacijos skaičius]]","v":2.84},{"$f":"SUMIFS($AC$11:$AC$22,_xlfn.ANCHORARRAY($P$11),Tech_SąnaudosSuv[[#This Row],[Technologinė operacija]:[Technologinė operacija]])*Tech_SąnaudosSuv[[#This Row],[Operacijos skaičius]:[Operacijos skaičius]]","v":4.24},{"$f":"SUMIFS($AE$11:$AE$22,_xlfn.ANCHORARRAY($P$11),Tech_SąnaudosSuv[[#This Row],[Technologinė operacija]:[Technologinė operacija]])*Tech_SąnaudosSuv[[#This Row],[Operacijos skaičius]:[Operacijos skaičius]]","v":6.48},{"$f":"SUMIFS($AG$11:$AG$22,_xlfn.ANCHORARRAY($P$11),Tech_SąnaudosSuv[[#This Row],[Technologinė operacija]:[Technologinė operacija]])*Tech_SąnaudosSuv[[#This Row],[Operacijos skaičius]:[Operacijos skaičius]]","v":1.92},{"$f":"IF(AND(Tech_SąnaudosSuv[[#This Row],[Technologinė operacija]] = $P$22, $W$22 > $R$2), $AJ$22, 0)","v":0},{"$f":"SUM(Tech_SąnaudosSuv[[#This Row],[Degalai ir tepalai, Eur/ha]:[Kitos, Eur/ha]])","v":15.48},{"$f":"IF(Tech_SąnaudosSuv[[#This Row],[Žemės ūkio paslaugos pirkimas, Eur]]=0,SUMIFS($Y$11:$Y$22,_xlfn.ANCHORARRAY($P$11),Tech_SąnaudosSuv[[#This Row],[Technologinė operacija]:[Technologinė operacija]]),0)","v":22}]
[{"$f":"ROW()-ROW(Tech_SąnaudosSuv[[#Headers],[Eil. Nr.]])","v":26},"Seklus purenimas rudenį (SPR)","SPR","Tręšimas",2,{"$f":"SUMIFS($AD$11:$AD$22,_xlfn.ANCHORARRAY($P$11),Tech_SąnaudosSuv[[#This Row],[Technologinė operacija]:[Technologinė operacija]])*Tech_SąnaudosSuv[[#This Row],[Operacijos skaičius]:[Operacijos skaičius]]","v":1.06},{"$f":"SUMIFS($AC$11:$AC$22,_xlfn.ANCHORARRAY($P$11),Tech_SąnaudosSuv[[#This Row],[Technologinė operacija]:[Technologinė operacija]])*Tech_SąnaudosSuv[[#This Row],[Operacijos skaičius]:[Operacijos skaičius]]","v":1.6},{"$f":"SUMIFS($AE$11:$AE$22,_xlfn.ANCHORARRAY($P$11),Tech_SąnaudosSuv[[#This Row],[Technologinė operacija]:[Technologinė operacija]])*Tech_SąnaudosSuv[[#This Row],[Operacijos skaičius]:[Operacijos skaičius]]","v":1.1000000000000001},{"$f":"SUMIFS($AG$11:$AG$22,_xlfn.ANCHORARRAY($P$11),Tech_SąnaudosSuv[[#This Row],[Technologinė operacija]:[Technologinė operacija]])*Tech_SąnaudosSuv[[#This Row],[Operacijos skaičius]:[Operacijos skaičius]]","v":0.24},{"$f":"IF(AND(Tech_SąnaudosSuv[[#This Row],[Technologinė operacija]] = $P$22, $W$22 > $R$2), $AJ$22, 0)","v":0},{"$f":"SUM(Tech_SąnaudosSuv[[#This Row],[Degalai ir tepalai, Eur/ha]:[Kitos, Eur/ha]])","v":4},{"$f":"IF(Tech_SąnaudosSuv[[#This Row],[Žemės ūkio paslaugos pirkimas, Eur]]=0,SUMIFS($Y$11:$Y$22,_xlfn.ANCHORARRAY($P$11),Tech_SąnaudosSuv[[#This Row],[Technologinė operacija]:[Technologinė operacija]]),0)","v":30.68}]
[{"$f":"ROW()-ROW(Tech_SąnaudosSuv[[#Headers],[Eil. Nr.]])","v":27},"Seklus purenimas prieš sėją (SPS)","SPR","Derliaus nuėmimas",1,{"$f":"SUMIFS($AD$11:$AD$22,_xlfn.ANCHORARRAY($P$11),Tech_SąnaudosSuv[[#This Row],[Technologinė operacija]:[Technologinė operacija]])*Tech_SąnaudosSuv[[#This Row],[Operacijos skaičius]:[Operacijos skaičius]]","v":15.32},{"$f":"SUMIFS($AC$11:$AC$22,_xlfn.ANCHORARRAY($P$11),Tech_SąnaudosSuv[[#This Row],[Technologinė operacija]:[Technologinė operacija]])*Tech_SąnaudosSuv[[#This Row],[Operacijos skaičius]:[Operacijos skaičius]]","v":26.52},{"$f":"SUMIFS($AE$11:$AE$22,_xlfn.ANCHORARRAY($P$11),Tech_SąnaudosSuv[[#This Row],[Technologinė operacija]:[Technologinė operacija]])*Tech_SąnaudosSuv[[#This Row],[Operacijos skaičius]:[Operacijos skaičius]]","v":3.44},{"$f":"SUMIFS($AG$11:$AG$22,_xlfn.ANCHORARRAY($P$11),Tech_SąnaudosSuv[[#This Row],[Technologinė operacija]:[Technologinė operacija]])*Tech_SąnaudosSuv[[#This Row],[Operacijos skaičius]:[Operacijos skaičius]]","v":6.66},{"$f":"IF(AND(Tech_SąnaudosSuv[[#This Row],[Technologinė operacija]] = $P$22, $W$22 > $R$2), $AJ$22, 0)","v":0},{"$f":"SUM(Tech_SąnaudosSuv[[#This Row],[Degalai ir tepalai, Eur/ha]:[Kitos, Eur/ha]])","v":51.94},{"$f":"IF(Tech_SąnaudosSuv[[#This Row],[Žemės ūkio paslaugos pirkimas, Eur]]=0,SUMIFS($Y$11:$Y$22,_xlfn.ANCHORARRAY($P$11),Tech_SąnaudosSuv[[#This Row],[Technologinė operacija]:[Technologinė operacija]]),0)","v":0}]
[{"$f":"ROW()-ROW(Tech_SąnaudosSuv[[#Headers],[Eil. Nr.]])","v":28},"Seklus purenimas prieš sėją (SPS)","SPS","Seklus purenimas",1,{"$f":"SUMIFS($AD$11:$AD$22,_xlfn.ANCHORARRAY($P$11),Tech_SąnaudosSuv[[#This Row],[Technologinė operacija]:[Technologinė operacija]])*Tech_SąnaudosSuv[[#This Row],[Operacijos skaičius]:[Operacijos skaičius]]","v":4.8},{"$f":"SUMIFS($AC$11:$AC$22,_xlfn.ANCHORARRAY($P$11),Tech_SąnaudosSuv[[#This Row],[Technologinė operacija]:[Technologinė operacija]])*Tech_SąnaudosSuv[[#This Row],[Operacijos skaičius]:[Operacijos skaičius]]","v":5.48},{"$f":"SUMIFS($AE$11:$AE$22,_xlfn.ANCHORARRAY($P$11),Tech_SąnaudosSuv[[#This Row],[Technologinė operacija]:[Technologinė operacija]])*Tech_SąnaudosSuv[[#This Row],[Operacijos skaičius]:[Operacijos skaičius]]","v":2.14},{"$f":"SUMIFS($AG$11:$AG$22,_xlfn.ANCHORARRAY($P$11),Tech_SąnaudosSuv[[#This Row],[Technologinė operacija]:[Technologinė operacija]])*Tech_SąnaudosSuv[[#This Row],[Operacijos skaičius]:[Operacijos skaičius]]","v":1.18},{"$f":"IF(AND(Tech_SąnaudosSuv[[#This Row],[Technologinė operacija]] = $P$22, $W$22 > $R$2), $AJ$22, 0)","v":0},{"$f":"SUM(Tech_SąnaudosSuv[[#This Row],[Degalai ir tepalai, Eur/ha]:[Kitos, Eur/ha]])","v":13.600000000000001},{"$f":"IF(Tech_SąnaudosSuv[[#This Row],[Žemės ūkio paslaugos pirkimas, Eur]]=0,SUMIFS($Y$11:$Y$22,_xlfn.ANCHORARRAY($P$11),Tech_SąnaudosSuv[[#This Row],[Technologinė operacija]:[Technologinė operacija]]),0)","v":28.59}]
[{"$f":"ROW()-ROW(Tech_SąnaudosSuv[[#Headers],[Eil. Nr.]])","v":29},"Seklus purenimas prieš sėją (SPS)","SPS","Pirminis kultivavimas",1,{"$f":"SUMIFS($AD$11:$AD$22,_xlfn.ANCHORARRAY($P$11),Tech_SąnaudosSuv[[#This Row],[Technologinė operacija]:[Technologinė operacija]])*Tech_SąnaudosSuv[[#This Row],[Operacijos skaičius]:[Operacijos skaičius]]","v":7.35},{"$f":"SUMIFS($AC$11:$AC$22,_xlfn.ANCHORARRAY($P$11),Tech_SąnaudosSuv[[#This Row],[Technologinė operacija]:[Technologinė operacija]])*Tech_SąnaudosSuv[[#This Row],[Operacijos skaičius]:[Operacijos skaičius]]","v":11.11},{"$f":"SUMIFS($AE$11:$AE$22,_xlfn.ANCHORARRAY($P$11),Tech_SąnaudosSuv[[#This Row],[Technologinė operacija]:[Technologinė operacija]])*Tech_SąnaudosSuv[[#This Row],[Operacijos skaičius]:[Operacijos skaičius]]","v":2.82},{"$f":"SUMIFS($AG$11:$AG$22,_xlfn.ANCHORARRAY($P$11),Tech_SąnaudosSuv[[#This Row],[Technologinė operacija]:[Technologinė operacija]])*Tech_SąnaudosSuv[[#This Row],[Operacijos skaičius]:[Operacijos skaičius]]","v":2.34},{"$f":"IF(AND(Tech_SąnaudosSuv[[#This Row],[Technologinė operacija]] = $P$22, $W$22 > $R$2), $AJ$22, 0)","v":0},{"$f":"SUM(Tech_SąnaudosSuv[[#This Row],[Degalai ir tepalai, Eur/ha]:[Kitos, Eur/ha]])","v":23.62},{"$f":"IF(Tech_SąnaudosSuv[[#This Row],[Žemės ūkio paslaugos pirkimas, Eur]]=0,SUMIFS($Y$11:$Y$22,_xlfn.ANCHORARRAY($P$11),Tech_SąnaudosSuv[[#This Row],[Technologinė operacija]:[Technologinė operacija]]),0)","v":53.99}]
[{"$f":"ROW()-ROW(Tech_SąnaudosSuv[[#Headers],[Eil. Nr.]])","v":30},"Seklus purenimas prieš sėją (SPS)","SPS","Priešsėjinis kultivavimas",1,{"$f":"SUMIFS($AD$11:$AD$22,_xlfn.ANCHORARRAY($P$11),Tech_SąnaudosSuv[[#This Row],[Technologinė operacija]:[Technologinė operacija]])*Tech_SąnaudosSuv[[#This Row],[Operacijos skaičius]:[Operacijos skaičius]]","v":4.8},{"$f":"SUMIFS($AC$11:$AC$22,_xlfn.ANCHORARRAY($P$11),Tech_SąnaudosSuv[[#This Row],[Technologinė operacija]:[Technologinė operacija]])*Tech_SąnaudosSuv[[#This Row],[Operacijos skaičius]:[Operacijos skaičius]]","v":5.48},{"$f":"SUMIFS($AE$11:$AE$22,_xlfn.ANCHORARRAY($P$11),Tech_SąnaudosSuv[[#This Row],[Technologinė operacija]:[Technologinė operacija]])*Tech_SąnaudosSuv[[#This Row],[Operacijos skaičius]:[Operacijos skaičius]]","v":2.14},{"$f":"SUMIFS($AG$11:$AG$22,_xlfn.ANCHORARRAY($P$11),Tech_SąnaudosSuv[[#This Row],[Technologinė operacija]:[Technologinė operacija]])*Tech_SąnaudosSuv[[#This Row],[Operacijos skaičius]:[Operacijos skaičius]]","v":1.18},{"$f":"IF(AND(Tech_SąnaudosSuv[[#This Row],[Technologinė operacija]] = $P$22, $W$22 > $R$2), $AJ$22, 0)","v":0},{"$f":"SUM(Tech_SąnaudosSuv[[#This Row],[Degalai ir tepalai, Eur/ha]:[Kitos, Eur/ha]])","v":13.600000000000001},{"$f":"IF(Tech_SąnaudosSuv[[#This Row],[Žemės ūkio paslaugos pirkimas, Eur]]=0,SUMIFS($Y$11:$Y$22,_xlfn.ANCHORARRAY($P$11),Tech_SąnaudosSuv[[#This Row],[Technologinė operacija]:[Technologinė operacija]]),0)","v":28.59}]
[{"$f":"ROW()-ROW(Tech_SąnaudosSuv[[#Headers],[Eil. Nr.]])","v":31},"Seklus purenimas prieš sėją (SPS)","SPS","Tręšimas",1,{"$f":"SUMIFS($AD$11:$AD$22,_xlfn.ANCHORARRAY($P$11),Tech_SąnaudosSuv[[#This Row],[Technologinė operacija]:[Technologinė operacija]])*Tech_SąnaudosSuv[[#This Row],[Operacijos skaičius]:[Operacijos skaičius]]","v":0.53},{"$f":"SUMIFS($AC$11:$AC$22,_xlfn.ANCHORARRAY($P$11),Tech_SąnaudosSuv[[#This Row],[Technologinė operacija]:[Technologinė operacija]])*Tech_SąnaudosSuv[[#This Row],[Operacijos skaičius]:[Operacijos skaičius]]","v":0.8},{"$f":"SUMIFS($AE$11:$AE$22,_xlfn.ANCHORARRAY($P$11),Tech_SąnaudosSuv[[#This Row],[Technologinė operacija]:[Technologinė operacija]])*Tech_SąnaudosSuv[[#This Row],[Operacijos skaičius]:[Operacijos skaičius]]","v":0.55000000000000004},{"$f":"SUMIFS($AG$11:$AG$22,_xlfn.ANCHORARRAY($P$11),Tech_SąnaudosSuv[[#This Row],[Technologinė operacija]:[Technologinė operacija]])*Tech_SąnaudosSuv[[#This Row],[Operacijos skaičius]:[Operacijos skaičius]]","v":0.12},{"$f":"IF(AND(Tech_SąnaudosSuv[[#This Row],[Technologinė operacija]] = $P$22, $W$22 > $R$2), $AJ$22, 0)","v":0},{"$f":"SUM(Tech_SąnaudosSuv[[#This Row],[Degalai ir tepalai, Eur/ha]:[Kitos, Eur/ha]])","v":2},{"$f":"IF(Tech_SąnaudosSuv[[#This Row],[Žemės ūkio paslaugos pirkimas, Eur]]=0,SUMIFS($Y$11:$Y$22,_xlfn.ANCHORARRAY($P$11),Tech_SąnaudosSuv[[#This Row],[Technologinė operacija]:[Technologinė operacija]]),0)","v":30.68}]
[{"$f":"ROW()-ROW(Tech_SąnaudosSuv[[#Headers],[Eil. Nr.]])","v":32},"Seklus purenimas prieš sėją (SPS)","SPS","Sėja",1,{"$f":"SUMIFS($AD$11:$AD$22,_xlfn.ANCHORARRAY($P$11),Tech_SąnaudosSuv[[#This Row],[Technologinė operacija]:[Technologinė operacija]])*Tech_SąnaudosSuv[[#This Row],[Operacijos skaičius]:[Operacijos skaičius]]","v":2.7},{"$f":"SUMIFS($AC$11:$AC$22,_xlfn.ANCHORARRAY($P$11),Tech_SąnaudosSuv[[#This Row],[Technologinė operacija]:[Technologinė operacija]])*Tech_SąnaudosSuv[[#This Row],[Operacijos skaičius]:[Operacijos skaičius]]","v":10.25},{"$f":"SUMIFS($AE$11:$AE$22,_xlfn.ANCHORARRAY($P$11),Tech_SąnaudosSuv[[#This Row],[Technologinė operacija]:[Technologinė operacija]])*Tech_SąnaudosSuv[[#This Row],[Operacijos skaičius]:[Operacijos skaičius]]","v":2.37},{"$f":"SUMIFS($AG$11:$AG$22,_xlfn.ANCHORARRAY($P$11),Tech_SąnaudosSuv[[#This Row],[Technologinė operacija]:[Technologinė operacija]])*Tech_SąnaudosSuv[[#This Row],[Operacijos skaičius]:[Operacijos skaičius]]","v":1.32},{"$f":"IF(AND(Tech_SąnaudosSuv[[#This Row],[Technologinė operacija]] = $P$22, $W$22 > $R$2), $AJ$22, 0)","v":0},{"$f":"SUM(Tech_SąnaudosSuv[[#This Row],[Degalai ir tepalai, Eur/ha]:[Kitos, Eur/ha]])","v":16.64},{"$f":"IF(Tech_SąnaudosSuv[[#This Row],[Žemės ūkio paslaugos pirkimas, Eur]]=0,SUMIFS($Y$11:$Y$22,_xlfn.ANCHORARRAY($P$11),Tech_SąnaudosSuv[[#This Row],[Technologinė operacija]:[Technologinė operacija]]),0)","v":115.04}]
[{"$f":"ROW()-ROW(Tech_SąnaudosSuv[[#Headers],[Eil. Nr.]])","v":33},"Seklus purenimas prieš sėją (SPS)","SPS","Purškimas",4,{"$f":"SUMIFS($AD$11:$AD$22,_xlfn.ANCHORARRAY($P$11),Tech_SąnaudosSuv[[#This Row],[Technologinė operacija]:[Technologinė operacija]])*Tech_SąnaudosSuv[[#This Row],[Operacijos skaičius]:[Operacijos skaičius]]","v":2.84},{"$f":"SUMIFS($AC$11:$AC$22,_xlfn.ANCHORARRAY($P$11),Tech_SąnaudosSuv[[#This Row],[Technologinė operacija]:[Technologinė operacija]])*Tech_SąnaudosSuv[[#This Row],[Operacijos skaičius]:[Operacijos skaičius]]","v":4.24},{"$f":"SUMIFS($AE$11:$AE$22,_xlfn.ANCHORARRAY($P$11),Tech_SąnaudosSuv[[#This Row],[Technologinė operacija]:[Technologinė operacija]])*Tech_SąnaudosSuv[[#This Row],[Operacijos skaičius]:[Operacijos skaičius]]","v":6.48},{"$f":"SUMIFS($AG$11:$AG$22,_xlfn.ANCHORARRAY($P$11),Tech_SąnaudosSuv[[#This Row],[Technologinė operacija]:[Technologinė operacija]])*Tech_SąnaudosSuv[[#This Row],[Operacijos skaičius]:[Operacijos skaičius]]","v":1.92},{"$f":"IF(AND(Tech_SąnaudosSuv[[#This Row],[Technologinė operacija]] = $P$22, $W$22 > $R$2), $AJ$22, 0)","v":0},{"$f":"SUM(Tech_SąnaudosSuv[[#This Row],[Degalai ir tepalai, Eur/ha]:[Kitos, Eur/ha]])","v":15.48},{"$f":"IF(Tech_SąnaudosSuv[[#This Row],[Žemės ūkio paslaugos pirkimas, Eur]]=0,SUMIFS($Y$11:$Y$22,_xlfn.ANCHORARRAY($P$11),Tech_SąnaudosSuv[[#This Row],[Technologinė operacija]:[Technologinė operacija]]),0)","v":22}]
[{"$f":"ROW()-ROW(Tech_SąnaudosSuv[[#Headers],[Eil. Nr.]])","v":34},"Seklus purenimas prieš sėją (SPS)","SPS","Tręšimas",2,{"$f":"SUMIFS($AD$11:$AD$22,_xlfn.ANCHORARRAY($P$11),Tech_SąnaudosSuv[[#This Row],[Technologinė operacija]:[Technologinė operacija]])*Tech_SąnaudosSuv[[#This Row],[Operacijos skaičius]:[Operacijos skaičius]]","v":1.06},{"$f":"SUMIFS($AC$11:$AC$22,_xlfn.ANCHORARRAY($P$11),Tech_SąnaudosSuv[[#This Row],[Technologinė operacija]:[Technologinė operacija]])*Tech_SąnaudosSuv[[#This Row],[Operacijos skaičius]:[Operacijos skaičius]]","v":1.6},{"$f":"SUMIFS($AE$11:$AE$22,_xlfn.ANCHORARRAY($P$11),Tech_SąnaudosSuv[[#This Row],[Technologinė operacija]:[Technologinė operacija]])*Tech_SąnaudosSuv[[#This Row],[Operacijos skaičius]:[Operacijos skaičius]]","v":1.1000000000000001},{"$f":"SUMIFS($AG$11:$AG$22,_xlfn.ANCHORARRAY($P$11),Tech_SąnaudosSuv[[#This Row],[Technologinė operacija]:[Technologinė operacija]])*Tech_SąnaudosSuv[[#This Row],[Operacijos skaičius]:[Operacijos skaičius]]","v":0.24},{"$f":"IF(AND(Tech_SąnaudosSuv[[#This Row],[Technologinė operacija]] = $P$22, $W$22 > $R$2), $AJ$22, 0)","v":0},{"$f":"SUM(Tech_SąnaudosSuv[[#This Row],[Degalai ir tepalai, Eur/ha]:[Kitos, Eur/ha]])","v":4},{"$f":"IF(Tech_SąnaudosSuv[[#This Row],[Žemės ūkio paslaugos pirkimas, Eur]]=0,SUMIFS($Y$11:$Y$22,_xlfn.ANCHORARRAY($P$11),Tech_SąnaudosSuv[[#This Row],[Technologinė operacija]:[Technologinė operacija]]),0)","v":30.68}]
[{"$f":"ROW()-ROW(Tech_SąnaudosSuv[[#Headers],[Eil. Nr.]])","v":35},"Seklus purenimas prieš sėją (SPS)","SPS","Derliaus nuėmimas",1,{"$f":"SUMIFS($AD$11:$AD$22,_xlfn.ANCHORARRAY($P$11),Tech_SąnaudosSuv[[#This Row],[Technologinė operacija]:[Technologinė operacija]])*Tech_SąnaudosSuv[[#This Row],[Operacijos skaičius]:[Operacijos skaičius]]","v":15.32},{"$f":"SUMIFS($AC$11:$AC$22,_xlfn.ANCHORARRAY($P$11),Tech_SąnaudosSuv[[#This Row],[Technologinė operacija]:[Technologinė operacija]])*Tech_SąnaudosSuv[[#This Row],[Operacijos skaičius]:[Operacijos skaičius]]","v":26.52},{"$f":"SUMIFS($AE$11:$AE$22,_xlfn.ANCHORARRAY($P$11),Tech_SąnaudosSuv[[#This Row],[Technologinė operacija]:[Technologinė operacija]])*Tech_SąnaudosSuv[[#This Row],[Operacijos skaičius]:[Operacijos skaičius]]","v":3.44},{"$f":"SUMIFS($AG$11:$AG$22,_xlfn.ANCHORARRAY($P$11),Tech_SąnaudosSuv[[#This Row],[Technologinė operacija]:[Technologinė operacija]])*Tech_SąnaudosSuv[[#This Row],[Operacijos skaičius]:[Operacijos skaičius]]","v":6.66},{"$f":"IF(AND(Tech_SąnaudosSuv[[#This Row],[Technologinė operacija]] = $P$22, $W$22 > $R$2), $AJ$22, 0)","v":0},{"$f":"SUM(Tech_SąnaudosSuv[[#This Row],[Degalai ir tepalai, Eur/ha]:[Kitos, Eur/ha]])","v":51.94},{"$f":"IF(Tech_SąnaudosSuv[[#This Row],[Žemės ūkio paslaugos pirkimas, Eur]]=0,SUMIFS($Y$11:$Y$22,_xlfn.ANCHORARRAY($P$11),Tech_SąnaudosSuv[[#This Row],[Technologinė operacija]:[Technologinė operacija]]),0)","v":0}]
[{"$f":"ROW()-ROW(Tech_SąnaudosSuv[[#Headers],[Eil. Nr.]])","v":36},"Tarpiniai pasėliai (TP)","TP","Tarpinių pasėlių sėja",1,{"$f":"SUMIFS($AD$11:$AD$22,_xlfn.ANCHORARRAY($P$11),Tech_SąnaudosSuv[[#This Row],[Technologinė operacija]:[Technologinė operacija]])*Tech_SąnaudosSuv[[#This Row],[Operacijos skaičius]:[Operacijos skaičius]]","v":0},{"$f":"SUMIFS($AC$11:$AC$22,_xlfn.ANCHORARRAY($P$11),Tech_SąnaudosSuv[[#This Row],[Technologinė operacija]:[Technologinė operacija]])*Tech_SąnaudosSuv[[#This Row],[Operacijos skaičius]:[Operacijos skaičius]]","v":0},{"$f":"SUMIFS($AE$11:$AE$22,_xlfn.ANCHORARRAY($P$11),Tech_SąnaudosSuv[[#This Row],[Technologinė operacija]:[Technologinė operacija]])*Tech_SąnaudosSuv[[#This Row],[Operacijos skaičius]:[Operacijos skaičius]]","v":0},{"$f":"SUMIFS($AG$11:$AG$22,_xlfn.ANCHORARRAY($P$11),Tech_SąnaudosSuv[[#This Row],[Technologinė operacija]:[Technologinė operacija]])*Tech_SąnaudosSuv[[#This Row],[Operacijos skaičius]:[Operacijos skaičius]]","v":4.28},{"$f":"IF(AND(Tech_SąnaudosSuv[[#This Row],[Technologinė operacija]] = $P$22, $W$22 > $R$2), $AJ$22, 0)","v":0},{"$f":"SUM(Tech_SąnaudosSuv[[#This Row],[Degalai ir tepalai, Eur/ha]:[Kitos, Eur/ha]])","v":4.28},{"$f":"IF(Tech_SąnaudosSuv[[#This Row],[Žemės ūkio paslaugos pirkimas, Eur]]=0,SUMIFS($Y$11:$Y$22,_xlfn.ANCHORARRAY($P$11),Tech_SąnaudosSuv[[#This Row],[Technologinė operacija]:[Technologinė operacija]]),0)","v":0}]
[{"$f":"ROW()-ROW(Tech_SąnaudosSuv[[#Headers],[Eil. Nr.]])","v":37},"Tarpiniai pasėliai (TP)","TP","Tręšimas",1,{"$f":"SUMIFS($AD$11:$AD$22,_xlfn.ANCHORARRAY($P$11),Tech_SąnaudosSuv[[#This Row],[Technologinė operacija]:[Technologinė operacija]])*Tech_SąnaudosSuv[[#This Row],[Operacijos skaičius]:[Operacijos skaičius]]","v":0.53},{"$f":"SUMIFS($AC$11:$AC$22,_xlfn.ANCHORARRAY($P$11),Tech_SąnaudosSuv[[#This Row],[Technologinė operacija]:[Technologinė operacija]])*Tech_SąnaudosSuv[[#This Row],[Operacijos skaičius]:[Operacijos skaičius]]","v":0.8},{"$f":"SUMIFS($AE$11:$AE$22,_xlfn.ANCHORARRAY($P$11),Tech_SąnaudosSuv[[#This Row],[Technologinė operacija]:[Technologinė operacija]])*Tech_SąnaudosSuv[[#This Row],[Operacijos skaičius]:[Operacijos skaičius]]","v":0.55000000000000004},{"$f":"SUMIFS($AG$11:$AG$22,_xlfn.ANCHORARRAY($P$11),Tech_SąnaudosSuv[[#This Row],[Technologinė operacija]:[Technologinė operacija]])*Tech_SąnaudosSuv[[#This Row],[Operacijos skaičius]:[Operacijos skaičius]]","v":0.12},{"$f":"IF(AND(Tech_SąnaudosSuv[[#This Row],[Technologinė operacija]] = $P$22, $W$22 > $R$2), $AJ$22, 0)","v":0},{"$f":"SUM(Tech_SąnaudosSuv[[#This Row],[Degalai ir tepalai, Eur/ha]:[Kitos, Eur/ha]])","v":2},{"$f":"IF(Tech_SąnaudosSuv[[#This Row],[Žemės ūkio paslaugos pirkimas, Eur]]=0,SUMIFS($Y$11:$Y$22,_xlfn.ANCHORARRAY($P$11),Tech_SąnaudosSuv[[#This Row],[Technologinė operacija]:[Technologinė operacija]]),0)","v":30.68}]
[{"$f":"ROW()-ROW(Tech_SąnaudosSuv[[#Headers],[Eil. Nr.]])","v":38},"Tarpiniai pasėliai (TP)","TP","Purškimas",1,{"$f":"SUMIFS($AD$11:$AD$22,_xlfn.ANCHORARRAY($P$11),Tech_SąnaudosSuv[[#This Row],[Technologinė operacija]:[Technologinė operacija]])*Tech_SąnaudosSuv[[#This Row],[Operacijos skaičius]:[Operacijos skaičius]]","v":0.71},{"$f":"SUMIFS($AC$11:$AC$22,_xlfn.ANCHORARRAY($P$11),Tech_SąnaudosSuv[[#This Row],[Technologinė operacija]:[Technologinė operacija]])*Tech_SąnaudosSuv[[#This Row],[Operacijos skaičius]:[Operacijos skaičius]]","v":1.06},{"$f":"SUMIFS($AE$11:$AE$22,_xlfn.ANCHORARRAY($P$11),Tech_SąnaudosSuv[[#This Row],[Technologinė operacija]:[Technologinė operacija]])*Tech_SąnaudosSuv[[#This Row],[Operacijos skaičius]:[Operacijos skaičius]]","v":1.62},{"$f":"SUMIFS($AG$11:$AG$22,_xlfn.ANCHORARRAY($P$11),Tech_SąnaudosSuv[[#This Row],[Technologinė operacija]:[Technologinė operacija]])*Tech_SąnaudosSuv[[#This Row],[Operacijos skaičius]:[Operacijos skaičius]]","v":0.48},{"$f":"IF(AND(Tech_SąnaudosSuv[[#This Row],[Technologinė operacija]] = $P$22, $W$22 > $R$2), $AJ$22, 0)","v":0},{"$f":"SUM(Tech_SąnaudosSuv[[#This Row],[Degalai ir tepalai, Eur/ha]:[Kitos, Eur/ha]])","v":3.87},{"$f":"IF(Tech_SąnaudosSuv[[#This Row],[Žemės ūkio paslaugos pirkimas, Eur]]=0,SUMIFS($Y$11:$Y$22,_xlfn.ANCHORARRAY($P$11),Tech_SąnaudosSuv[[#This Row],[Technologinė operacija]:[Technologinė operacija]]),0)","v":22}]
[{"$f":"ROW()-ROW(Tech_SąnaudosSuv[[#Headers],[Eil. Nr.]])","v":39},"Tarpiniai pasėliai (TP)","TP","Tiesioginė sėja",1,{"$f":"SUMIFS($AD$11:$AD$22,_xlfn.ANCHORARRAY($P$11),Tech_SąnaudosSuv[[#This Row],[Technologinė operacija]:[Technologinė operacija]])*Tech_SąnaudosSuv[[#This Row],[Operacijos skaičius]:[Operacijos skaičius]]","v":12.98},{"$f":"SUMIFS($AC$11:$AC$22,_xlfn.ANCHORARRAY($P$11),Tech_SąnaudosSuv[[#This Row],[Technologinė operacija]:[Technologinė operacija]])*Tech_SąnaudosSuv[[#This Row],[Operacijos skaičius]:[Operacijos skaičius]]","v":22.85},{"$f":"SUMIFS($AE$11:$AE$22,_xlfn.ANCHORARRAY($P$11),Tech_SąnaudosSuv[[#This Row],[Technologinė operacija]:[Technologinė operacija]])*Tech_SąnaudosSuv[[#This Row],[Operacijos skaičius]:[Operacijos skaičius]]","v":3.45},{"$f":"SUMIFS($AG$11:$AG$22,_xlfn.ANCHORARRAY($P$11),Tech_SąnaudosSuv[[#This Row],[Technologinė operacija]:[Technologinė operacija]])*Tech_SąnaudosSuv[[#This Row],[Operacijos skaičius]:[Operacijos skaičius]]","v":6.96},{"$f":"IF(AND(Tech_SąnaudosSuv[[#This Row],[Technologinė operacija]] = $P$22, $W$22 > $R$2), $AJ$22, 0)","v":0},{"$f":"SUM(Tech_SąnaudosSuv[[#This Row],[Degalai ir tepalai, Eur/ha]:[Kitos, Eur/ha]])","v":46.24},{"$f":"IF(Tech_SąnaudosSuv[[#This Row],[Žemės ūkio paslaugos pirkimas, Eur]]=0,SUMIFS($Y$11:$Y$22,_xlfn.ANCHORARRAY($P$11),Tech_SąnaudosSuv[[#This Row],[Technologinė operacija]:[Technologinė operacija]]),0)","v":140.35}]
[{"$f":"ROW()-ROW(Tech_SąnaudosSuv[[#Headers],[Eil. Nr.]])","v":40},"Tarpiniai pasėliai (TP)","TP","Purškimas",4,{"$f":"SUMIFS($AD$11:$AD$22,_xlfn.ANCHORARRAY($P$11),Tech_SąnaudosSuv[[#This Row],[Technologinė operacija]:[Technologinė operacija]])*Tech_SąnaudosSuv[[#This Row],[Operacijos skaičius]:[Operacijos skaičius]]","v":2.84},{"$f":"SUMIFS($AC$11:$AC$22,_xlfn.ANCHORARRAY($P$11),Tech_SąnaudosSuv[[#This Row],[Technologinė operacija]:[Technologinė operacija]])*Tech_SąnaudosSuv[[#This Row],[Operacijos skaičius]:[Operacijos skaičius]]","v":4.24},{"$f":"SUMIFS($AE$11:$AE$22,_xlfn.ANCHORARRAY($P$11),Tech_SąnaudosSuv[[#This Row],[Technologinė operacija]:[Technologinė operacija]])*Tech_SąnaudosSuv[[#This Row],[Operacijos skaičius]:[Operacijos skaičius]]","v":6.48},{"$f":"SUMIFS($AG$11:$AG$22,_xlfn.ANCHORARRAY($P$11),Tech_SąnaudosSuv[[#This Row],[Technologinė operacija]:[Technologinė operacija]])*Tech_SąnaudosSuv[[#This Row],[Operacijos skaičius]:[Operacijos skaičius]]","v":1.92},{"$f":"IF(AND(Tech_SąnaudosSuv[[#This Row],[Technologinė operacija]] = $P$22, $W$22 > $R$2), $AJ$22, 0)","v":0},{"$f":"SUM(Tech_SąnaudosSuv[[#This Row],[Degalai ir tepalai, Eur/ha]:[Kitos, Eur/ha]])","v":15.48},{"$f":"IF(Tech_SąnaudosSuv[[#This Row],[Žemės ūkio paslaugos pirkimas, Eur]]=0,SUMIFS($Y$11:$Y$22,_xlfn.ANCHORARRAY($P$11),Tech_SąnaudosSuv[[#This Row],[Technologinė operacija]:[Technologinė operacija]]),0)","v":22}]
[{"$f":"ROW()-ROW(Tech_SąnaudosSuv[[#Headers],[Eil. Nr.]])","v":41},"Tarpiniai pasėliai (TP)","TP","Tręšimas",2,{"$f":"SUMIFS($AD$11:$AD$22,_xlfn.ANCHORARRAY($P$11),Tech_SąnaudosSuv[[#This Row],[Technologinė operacija]:[Technologinė operacija]])*Tech_SąnaudosSuv[[#This Row],[Operacijos skaičius]:[Operacijos skaičius]]","v":1.06},{"$f":"SUMIFS($AC$11:$AC$22,_xlfn.ANCHORARRAY($P$11),Tech_SąnaudosSuv[[#This Row],[Technologinė operacija]:[Technologinė operacija]])*Tech_SąnaudosSuv[[#This Row],[Operacijos skaičius]:[Operacijos skaičius]]","v":1.6},{"$f":"SUMIFS($AE$11:$AE$22,_xlfn.ANCHORARRAY($P$11),Tech_SąnaudosSuv[[#This Row],[Technologinė operacija]:[Technologinė operacija]])*Tech_SąnaudosSuv[[#This Row],[Operacijos skaičius]:[Operacijos skaičius]]","v":1.1000000000000001},{"$f":"SUMIFS($AG$11:$AG$22,_xlfn.ANCHORARRAY($P$11),Tech_SąnaudosSuv[[#This Row],[Technologinė operacija]:[Technologinė operacija]])*Tech_SąnaudosSuv[[#This Row],[Operacijos skaičius]:[Operacijos skaičius]]","v":0.24},{"$f":"IF(AND(Tech_SąnaudosSuv[[#This Row],[Technologinė operacija]] = $P$22, $W$22 > $R$2), $AJ$22, 0)","v":0},{"$f":"SUM(Tech_SąnaudosSuv[[#This Row],[Degalai ir tepalai, Eur/ha]:[Kitos, Eur/ha]])","v":4},{"$f":"IF(Tech_SąnaudosSuv[[#This Row],[Žemės ūkio paslaugos pirkimas, Eur]]=0,SUMIFS($Y$11:$Y$22,_xlfn.ANCHORARRAY($P$11),Tech_SąnaudosSuv[[#This Row],[Technologinė operacija]:[Technologinė operacija]]),0)","v":30.68}]
[{"$f":"ROW()-ROW(Tech_SąnaudosSuv[[#Headers],[Eil. Nr.]])","v":42},"Tarpiniai pasėliai (TP)","TP","Derliaus nuėmimas",1,{"$f":"SUMIFS($AD$11:$AD$22,_xlfn.ANCHORARRAY($P$11),Tech_SąnaudosSuv[[#This Row],[Technologinė operacija]:[Technologinė operacija]])*Tech_SąnaudosSuv[[#This Row],[Operacijos skaičius]:[Operacijos skaičius]]","v":15.32},{"$f":"SUMIFS($AC$11:$AC$22,_xlfn.ANCHORARRAY($P$11),Tech_SąnaudosSuv[[#This Row],[Technologinė operacija]:[Technologinė operacija]])*Tech_SąnaudosSuv[[#This Row],[Operacijos skaičius]:[Operacijos skaičius]]","v":26.52},{"$f":"SUMIFS($AE$11:$AE$22,_xlfn.ANCHORARRAY($P$11),Tech_SąnaudosSuv[[#This Row],[Technologinė operacija]:[Technologinė operacija]])*Tech_SąnaudosSuv[[#This Row],[Operacijos skaičius]:[Operacijos skaičius]]","v":3.44},{"$f":"SUMIFS($AG$11:$AG$22,_xlfn.ANCHORARRAY($P$11),Tech_SąnaudosSuv[[#This Row],[Technologinė operacija]:[Technologinė operacija]])*Tech_SąnaudosSuv[[#This Row],[Operacijos skaičius]:[Operacijos skaičius]]","v":6.66},{"$f":"IF(AND(Tech_SąnaudosSuv[[#This Row],[Technologinė operacija]] = $P$22, $W$22 > $R$2), $AJ$22, 0)","v":0},{"$f":"SUM(Tech_SąnaudosSuv[[#This Row],[Degalai ir tepalai, Eur/ha]:[Kitos, Eur/ha]])","v":51.94},{"$f":"IF(Tech_SąnaudosSuv[[#This Row],[Žemės ūkio paslaugos pirkimas, Eur]]=0,SUMIFS($Y$11:$Y$22,_xlfn.ANCHORARRAY($P$11),Tech_SąnaudosSuv[[#This Row],[Technologinė operacija]:[Technologinė operacija]]),0)","v":0}]
[{"$f":"ROW()-ROW(Tech_SąnaudosSuv[[#Headers],[Eil. Nr.]])","v":43},"Tiesioginė sėja (TS)","TS","Purškimas",1,{"$f":"SUMIFS($AD$11:$AD$22,_xlfn.ANCHORARRAY($P$11),Tech_SąnaudosSuv[[#This Row],[Technologinė operacija]:[Technologinė operacija]])*Tech_SąnaudosSuv[[#This Row],[Operacijos skaičius]:[Operacijos skaičius]]","v":0.71},{"$f":"SUMIFS($AC$11:$AC$22,_xlfn.ANCHORARRAY($P$11),Tech_SąnaudosSuv[[#This Row],[Technologinė operacija]:[Technologinė operacija]])*Tech_SąnaudosSuv[[#This Row],[Operacijos skaičius]:[Operacijos skaičius]]","v":1.06},{"$f":"SUMIFS($AE$11:$AE$22,_xlfn.ANCHORARRAY($P$11),Tech_SąnaudosSuv[[#This Row],[Technologinė operacija]:[Technologinė operacija]])*Tech_SąnaudosSuv[[#This Row],[Operacijos skaičius]:[Operacijos skaičius]]","v":1.62},{"$f":"SUMIFS($AG$11:$AG$22,_xlfn.ANCHORARRAY($P$11),Tech_SąnaudosSuv[[#This Row],[Technologinė operacija]:[Technologinė operacija]])*Tech_SąnaudosSuv[[#This Row],[Operacijos skaičius]:[Operacijos skaičius]]","v":0.48},{"$f":"IF(AND(Tech_SąnaudosSuv[[#This Row],[Technologinė operacija]] = $P$22, $W$22 > $R$2), $AJ$22, 0)","v":0},{"$f":"SUM(Tech_SąnaudosSuv[[#This Row],[Degalai ir tepalai, Eur/ha]:[Kitos, Eur/ha]])","v":3.87},{"$f":"IF(Tech_SąnaudosSuv[[#This Row],[Žemės ūkio paslaugos pirkimas, Eur]]=0,SUMIFS($Y$11:$Y$22,_xlfn.ANCHORARRAY($P$11),Tech_SąnaudosSuv[[#This Row],[Technologinė operacija]:[Technologinė operacija]]),0)","v":22}]
[{"$f":"ROW()-ROW(Tech_SąnaudosSuv[[#Headers],[Eil. Nr.]])","v":44},"Tiesioginė sėja (TS)","TS","Tręšimas",1,{"$f":"SUMIFS($AD$11:$AD$22,_xlfn.ANCHORARRAY($P$11),Tech_SąnaudosSuv[[#This Row],[Technologinė operacija]:[Technologinė operacija]])*Tech_SąnaudosSuv[[#This Row],[Operacijos skaičius]:[Operacijos skaičius]]","v":0.53},{"$f":"SUMIFS($AC$11:$AC$22,_xlfn.ANCHORARRAY($P$11),Tech_SąnaudosSuv[[#This Row],[Technologinė operacija]:[Technologinė operacija]])*Tech_SąnaudosSuv[[#This Row],[Operacijos skaičius]:[Operacijos skaičius]]","v":0.8},{"$f":"SUMIFS($AE$11:$AE$22,_xlfn.ANCHORARRAY($P$11),Tech_SąnaudosSuv[[#This Row],[Technologinė operacija]:[Technologinė operacija]])*Tech_SąnaudosSuv[[#This Row],[Operacijos skaičius]:[Operacijos skaičius]]","v":0.55000000000000004},{"$f":"SUMIFS($AG$11:$AG$22,_xlfn.ANCHORARRAY($P$11),Tech_SąnaudosSuv[[#This Row],[Technologinė operacija]:[Technologinė operacija]])*Tech_SąnaudosSuv[[#This Row],[Operacijos skaičius]:[Operacijos skaičius]]","v":0.12},{"$f":"IF(AND(Tech_SąnaudosSuv[[#This Row],[Technologinė operacija]] = $P$22, $W$22 > $R$2), $AJ$22, 0)","v":0},{"$f":"SUM(Tech_SąnaudosSuv[[#This Row],[Degalai ir tepalai, Eur/ha]:[Kitos, Eur/ha]])","v":2},{"$f":"IF(Tech_SąnaudosSuv[[#This Row],[Žemės ūkio paslaugos pirkimas, Eur]]=0,SUMIFS($Y$11:$Y$22,_xlfn.ANCHORARRAY($P$11),Tech_SąnaudosSuv[[#This Row],[Technologinė operacija]:[Technologinė operacija]]),0)","v":30.68}]
[{"$f":"ROW()-ROW(Tech_SąnaudosSuv[[#Headers],[Eil. Nr.]])","v":45},"Tiesioginė sėja (TS)","TS","Tiesioginė sėja",1,{"$f":"SUMIFS($AD$11:$AD$22,_xlfn.ANCHORARRAY($P$11),Tech_SąnaudosSuv[[#This Row],[Technologinė operacija]:[Technologinė operacija]])*Tech_SąnaudosSuv[[#This Row],[Operacijos skaičius]:[Operacijos skaičius]]","v":12.98},{"$f":"SUMIFS($AC$11:$AC$22,_xlfn.ANCHORARRAY($P$11),Tech_SąnaudosSuv[[#This Row],[Technologinė operacija]:[Technologinė operacija]])*Tech_SąnaudosSuv[[#This Row],[Operacijos skaičius]:[Operacijos skaičius]]","v":22.85},{"$f":"SUMIFS($AE$11:$AE$22,_xlfn.ANCHORARRAY($P$11),Tech_SąnaudosSuv[[#This Row],[Technologinė operacija]:[Technologinė operacija]])*Tech_SąnaudosSuv[[#This Row],[Operacijos skaičius]:[Operacijos skaičius]]","v":3.45},{"$f":"SUMIFS($AG$11:$AG$22,_xlfn.ANCHORARRAY($P$11),Tech_SąnaudosSuv[[#This Row],[Technologinė operacija]:[Technologinė operacija]])*Tech_SąnaudosSuv[[#This Row],[Operacijos skaičius]:[Operacijos skaičius]]","v":6.96},{"$f":"IF(AND(Tech_SąnaudosSuv[[#This Row],[Technologinė operacija]] = $P$22, $W$22 > $R$2), $AJ$22, 0)","v":0},{"$f":"SUM(Tech_SąnaudosSuv[[#This Row],[Degalai ir tepalai, Eur/ha]:[Kitos, Eur/ha]])","v":46.24},{"$f":"IF(Tech_SąnaudosSuv[[#This Row],[Žemės ūkio paslaugos pirkimas, Eur]]=0,SUMIFS($Y$11:$Y$22,_xlfn.ANCHORARRAY($P$11),Tech_SąnaudosSuv[[#This Row],[Technologinė operacija]:[Technologinė operacija]]),0)","v":140.35}]
[{"$f":"ROW()-ROW(Tech_SąnaudosSuv[[#Headers],[Eil. Nr.]])","v":46},"Tiesioginė sėja (TS)","TS","Purškimas",4,{"$f":"SUMIFS($AD$11:$AD$22,_xlfn.ANCHORARRAY($P$11),Tech_SąnaudosSuv[[#This Row],[Technologinė operacija]:[Technologinė operacija]])*Tech_SąnaudosSuv[[#This Row],[Operacijos skaičius]:[Operacijos skaičius]]","v":2.84},{"$f":"SUMIFS($AC$11:$AC$22,_xlfn.ANCHORARRAY($P$11),Tech_SąnaudosSuv[[#This Row],[Technologinė operacija]:[Technologinė operacija]])*Tech_SąnaudosSuv[[#This Row],[Operacijos skaičius]:[Operacijos skaičius]]","v":4.24},{"$f":"SUMIFS($AE$11:$AE$22,_xlfn.ANCHORARRAY($P$11),Tech_SąnaudosSuv[[#This Row],[Technologinė operacija]:[Technologinė operacija]])*Tech_SąnaudosSuv[[#This Row],[Operacijos skaičius]:[Operacijos skaičius]]","v":6.48},{"$f":"SUMIFS($AG$11:$AG$22,_xlfn.ANCHORARRAY($P$11),Tech_SąnaudosSuv[[#This Row],[Technologinė operacija]:[Technologinė operacija]])*Tech_SąnaudosSuv[[#This Row],[Operacijos skaičius]:[Operacijos skaičius]]","v":1.92},{"$f":"IF(AND(Tech_SąnaudosSuv[[#This Row],[Technologinė operacija]] = $P$22, $W$22 > $R$2), $AJ$22, 0)","v":0},{"$f":"SUM(Tech_SąnaudosSuv[[#This Row],[Degalai ir tepalai, Eur/ha]:[Kitos, Eur/ha]])","v":15.48},{"$f":"IF(Tech_SąnaudosSuv[[#This Row],[Žemės ūkio paslaugos pirkimas, Eur]]=0,SUMIFS($Y$11:$Y$22,_xlfn.ANCHORARRAY($P$11),Tech_SąnaudosSuv[[#This Row],[Technologinė operacija]:[Technologinė operacija]]),0)","v":22}]
[{"$f":"ROW()-ROW(Tech_SąnaudosSuv[[#Headers],[Eil. Nr.]])","v":47},"Tiesioginė sėja (TS)","TS","Tręšimas",2,{"$f":"SUMIFS($AD$11:$AD$22,_xlfn.ANCHORARRAY($P$11),Tech_SąnaudosSuv[[#This Row],[Technologinė operacija]:[Technologinė operacija]])*Tech_SąnaudosSuv[[#This Row],[Operacijos skaičius]:[Operacijos skaičius]]","v":1.06},{"$f":"SUMIFS($AC$11:$AC$22,_xlfn.ANCHORARRAY($P$11),Tech_SąnaudosSuv[[#This Row],[Technologinė operacija]:[Technologinė operacija]])*Tech_SąnaudosSuv[[#This Row],[Operacijos skaičius]:[Operacijos skaičius]]","v":1.6},{"$f":"SUMIFS($AE$11:$AE$22,_xlfn.ANCHORARRAY($P$11),Tech_SąnaudosSuv[[#This Row],[Technologinė operacija]:[Technologinė operacija]])*Tech_SąnaudosSuv[[#This Row],[Operacijos skaičius]:[Operacijos skaičius]]","v":1.1000000000000001},{"$f":"SUMIFS($AG$11:$AG$22,_xlfn.ANCHORARRAY($P$11),Tech_SąnaudosSuv[[#This Row],[Technologinė operacija]:[Technologinė operacija]])*Tech_SąnaudosSuv[[#This Row],[Operacijos skaičius]:[Operacijos skaičius]]","v":0.24},{"$f":"IF(AND(Tech_SąnaudosSuv[[#This Row],[Technologinė operacija]] = $P$22, $W$22 > $R$2), $AJ$22, 0)","v":0},{"$f":"SUM(Tech_SąnaudosSuv[[#This Row],[Degalai ir tepalai, Eur/ha]:[Kitos, Eur/ha]])","v":4},{"$f":"IF(Tech_SąnaudosSuv[[#This Row],[Žemės ūkio paslaugos pirkimas, Eur]]=0,SUMIFS($Y$11:$Y$22,_xlfn.ANCHORARRAY($P$11),Tech_SąnaudosSuv[[#This Row],[Technologinė operacija]:[Technologinė operacija]]),0)","v":30.68}]
[{"$f":"ROW()-ROW(Tech_SąnaudosSuv[[#Headers],[Eil. Nr.]])","v":48},"Tiesioginė sėja (TS)","TS","Derliaus nuėmimas",1,{"$f":"SUMIFS($AD$11:$AD$22,_xlfn.ANCHORARRAY($P$11),Tech_SąnaudosSuv[[#This Row],[Technologinė operacija]:[Technologinė operacija]])*Tech_SąnaudosSuv[[#This Row],[Operacijos skaičius]:[Operacijos skaičius]]","v":15.32},{"$f":"SUMIFS($AC$11:$AC$22,_xlfn.ANCHORARRAY($P$11),Tech_SąnaudosSuv[[#This Row],[Technologinė operacija]:[Technologinė operacija]])*Tech_SąnaudosSuv[[#This Row],[Operacijos skaičius]:[Operacijos skaičius]]","v":26.52},{"$f":"SUMIFS($AE$11:$AE$22,_xlfn.ANCHORARRAY($P$11),Tech_SąnaudosSuv[[#This Row],[Technologinė operacija]:[Technologinė operacija]])*Tech_SąnaudosSuv[[#This Row],[Operacijos skaičius]:[Operacijos skaičius]]","v":3.44},{"$f":"SUMIFS($AG$11:$AG$22,_xlfn.ANCHORARRAY($P$11),Tech_SąnaudosSuv[[#This Row],[Technologinė operacija]:[Technologinė operacija]])*Tech_SąnaudosSuv[[#This Row],[Operacijos skaičius]:[Operacijos skaičius]]","v":6.66},{"$f":"IF(AND(Tech_SąnaudosSuv[[#This Row],[Technologinė operacija]] = $P$22, $W$22 > $R$2), $AJ$22, 0)","v":0},{"$f":"SUM(Tech_SąnaudosSuv[[#This Row],[Degalai ir tepalai, Eur/ha]:[Kitos, Eur/ha]])","v":51.94},{"$f":"IF(Tech_SąnaudosSuv[[#This Row],[Žemės ūkio paslaugos pirkimas, Eur]]=0,SUMIFS($Y$11:$Y$22,_xlfn.ANCHORARRAY($P$11),Tech_SąnaudosSuv[[#This Row],[Technologinė operacija]:[Technologinė operacija]]),0)","v":0}]

{"sheet":"DerlingBandRez","index":10,"n_rows":202,"n_cols":5,"rows_kept":202,"cut":false,"hidden":true,"merged":[]}
[]
[]
[]
[]
[]
[]
[]
[]
[]
["Eil. Nr.","Metai","Žemės ūkio augalas","Derlingumas","Technologija"]
[{"$f":"ROW()-ROW(DerlingBandRez[[#Headers],[Eil. Nr.]])","v":1},2000,"Vasariniai miežiai",2.2999999999999998,"Šiaudai nepaliekami (R)"]
[{"$f":"ROW()-ROW(DerlingBandRez[[#Headers],[Eil. Nr.]])","v":2},2000,"Vasariniai miežiai",2.2999999999999998,"Šiaudai paliekami lauke (S)"]
[{"$f":"ROW()-ROW(DerlingBandRez[[#Headers],[Eil. Nr.]])","v":3},2000,"Vasariniai miežiai",2.5,"Gilus arimas (GA)"]
[{"$f":"ROW()-ROW(DerlingBandRez[[#Headers],[Eil. Nr.]])","v":4},2000,"Vasariniai miežiai",2.4,"Seklus arimas (SA)"]
[{"$f":"ROW()-ROW(DerlingBandRez[[#Headers],[Eil. Nr.]])","v":5},2000,"Vasariniai miežiai",2.2999999999999998,"Seklus purenimas rudenį (SPR)"]
[{"$f":"ROW()-ROW(DerlingBandRez[[#Headers],[Eil. Nr.]])","v":6},2000,"Vasariniai miežiai",2.2999999999999998,"Seklus purenimas prieš sėją (SPS)"]
[{"$f":"ROW()-ROW(DerlingBandRez[[#Headers],[Eil. Nr.]])","v":7},2000,"Vasariniai miežiai",2.1,"Tarpiniai pasėliai (TP)"]
[{"$f":"ROW()-ROW(DerlingBandRez[[#Headers],[Eil. Nr.]])","v":8},2000,"Vasariniai miežiai",2.1,"Tiesioginė sėja (TS)"]
[{"$f":"ROW()-ROW(DerlingBandRez[[#Headers],[Eil. Nr.]])","v":9},2001,"Vasariniai miežiai",4,"Šiaudai nepaliekami (R)"]
[{"$f":"ROW()-ROW(DerlingBandRez[[#Headers],[Eil. Nr.]])","v":10},2001,"Vasariniai miežiai",4.2,"Šiaudai paliekami lauke (S)"]
[{"$f":"ROW()-ROW(DerlingBandRez[[#Headers],[Eil. Nr.]])","v":11},2001,"Vasariniai miežiai",4.4000000000000004,"Gilus arimas (GA)"]
[{"$f":"ROW()-ROW(DerlingBandRez[[#Headers],[Eil. Nr.]])","v":12},2001,"Vasariniai miežiai",4.4000000000000004,"Seklus arimas (SA)"]
[{"$f":"ROW()-ROW(DerlingBandRez[[#Headers],[Eil. Nr.]])","v":13},2001,"Vasariniai miežiai",4.4000000000000004,"Seklus purenimas rudenį (SPR)"]
[{"$f":"ROW()-ROW(DerlingBandRez[[#Headers],[Eil. Nr.]])","v":14},2001,"Vasariniai miežiai",3.9,"Seklus purenimas prieš sėją (SPS)"]
[{"$f":"ROW()-ROW(DerlingBandRez[[#Headers],[Eil. Nr.]])","v":15},2001,"Vasariniai miežiai",3.7,"Tarpiniai pasėliai (TP)"]
[{"$f":"ROW()-ROW(DerlingBandRez[[#Headers],[Eil. Nr.]])","v":16},2001,"Vasariniai miežiai",3.7,"Tiesioginė sėja (TS)"]
[{"$f":"ROW()-ROW(DerlingBandRez[[#Headers],[Eil. Nr.]])","v":17},2002,"Vasariniai miežiai",5,"Šiaudai nepaliekami (R)"]
[{"$f":"ROW()-ROW(DerlingBandRez[[#Headers],[Eil. Nr.]])","v":18},2002,"Vasariniai miežiai",5.0999999999999996,"Šiaudai paliekami lauke (S)"]
[{"$f":"ROW()-ROW(DerlingBandRez[[#Headers],[Eil. Nr.]])","v":19},2002,"Vasariniai miežiai",5.4,"Gilus arimas (GA)"]
[{"$f":"ROW()-ROW(DerlingBandRez[[#Headers],[Eil. Nr.]])","v":20},2002,"Vasariniai miežiai",4.9000000000000004,"Seklus arimas (SA)"]
[{"$f":"ROW()-ROW(DerlingBandRez[[#Headers],[Eil. Nr.]])","v":21},2002,"Vasariniai miežiai",5.2,"Seklus purenimas rudenį (SPR)"]
[{"$f":"ROW()-ROW(DerlingBandRez[[#Headers],[Eil. Nr.]])","v":22},2002,"Vasariniai miežiai",5.2,"Seklus purenimas prieš sėją (SPS)"]
[{"$f":"ROW()-ROW(DerlingBandRez[[#Headers],[Eil. Nr.]])","v":23},2002,"Vasariniai miežiai",4.8,"Tarpiniai pasėliai (TP)"]
[{"$f":"ROW()-ROW(DerlingBandRez[[#Headers],[Eil. Nr.]])","v":24},2002,"Vasariniai miežiai",4.9000000000000004,"Tiesioginė sėja (TS)"]
[{"$f":"ROW()-ROW(DerlingBandRez[[#Headers],[Eil. Nr.]])","v":25},2003,"Vasariniai miežiai",4.0999999999999996,"Šiaudai nepaliekami (R)"]
[{"$f":"ROW()-ROW(DerlingBandRez[[#Headers],[Eil. Nr.]])","v":26},2003,"Vasariniai miežiai",4.4000000000000004,"Šiaudai paliekami lauke (S)"]
[{"$f":"ROW()-ROW(DerlingBandRez[[#Headers],[Eil. Nr.]])","v":27},2003,"Vasariniai miežiai",4.5,"Gilus arimas (GA)"]
[{"$f":"ROW()-ROW(DerlingBandRez[[#Headers],[Eil. Nr.]])","v":28},2003,"Vasariniai miežiai",4.3,"Seklus arimas (SA)"]
[{"$f":"ROW()-ROW(DerlingBandRez[[#Headers],[Eil. Nr.]])","v":29},2003,"Vasariniai miežiai",4.0999999999999996,"Seklus purenimas rudenį (SPR)"]
[{"$f":"ROW()-ROW(DerlingBandRez[[#Headers],[Eil. Nr.]])","v":30},2003,"Vasariniai miežiai",4.2,"Seklus purenimas prieš sėją (SPS)"]
[{"$f":"ROW()-ROW(DerlingBandRez[[#Headers],[Eil. Nr.]])","v":31},2003,"Vasariniai miežiai",4.3,"Tarpiniai pasėliai (TP)"]
[{"$f":"ROW()-ROW(DerlingBandRez[[#Headers],[Eil. Nr.]])","v":32},2003,"Vasariniai miežiai",4.0999999999999996,"Tiesioginė sėja (TS)"]
[{"$f":"ROW()-ROW(DerlingBandRez[[#Headers],[Eil. Nr.]])","v":33},2004,"Vasariniai rapsai",2.4,"Šiaudai nepaliekami (R)"]
[{"$f":"ROW()-ROW(DerlingBandRez[[#Headers],[Eil. Nr.]])","v":34},2004,"Vasariniai rapsai",2.2999999999999998,"Šiaudai paliekami lauke (S)"]
[{"$f":"ROW()-ROW(DerlingBandRez[[#Headers],[Eil. Nr.]])","v":35},2004,"Vasariniai rapsai",2.4,"Gilus arimas (GA)"]
[{"$f":"ROW()-ROW(DerlingBandRez[[#Headers],[Eil. Nr.]])","v":36},2004,"Vasariniai rapsai",2.2999999999999998,"Seklus arimas (SA)"]
[{"$f":"ROW()-ROW(DerlingBandRez[[#Headers],[Eil. Nr.]])","v":37},2004,"Vasariniai rapsai",2,"Seklus purenimas rudenį (SPR)"]
[{"$f":"ROW()-ROW(DerlingBandRez[[#Headers],[Eil. Nr.]])","v":38},2004,"Vasariniai rapsai",2.5,"Seklus purenimas prieš sėją (SPS)"]
[{"$f":"ROW()-ROW(DerlingBandRez[[#Headers],[Eil. Nr.]])","v":39},2004,"Vasariniai rapsai","-","Tarpiniai pasėliai (TP)"]
[{"$f":"ROW()-ROW(DerlingBandRez[[#Headers],[Eil. Nr.]])","v":40},2004,"Vasariniai rapsai",2.1,"Tiesioginė sėja (TS)"]
[{"$f":"ROW()-ROW(DerlingBandRez[[#Headers],[Eil. Nr.]])","v":41},2005,"Žieminiai kviečiai",9.8000000000000007,"Šiaudai nepaliekami (R)"]
[{"$f":"ROW()-ROW(DerlingBandRez[[#Headers],[Eil. Nr.]])","v":42},2005,"Žieminiai kviečiai",10.4,"Šiaudai paliekami lauke (S)"]
[{"$f":"ROW()-ROW(DerlingBandRez[[#Headers],[Eil. Nr.]])","v":43},2005,"Žieminiai kviečiai",9.6999999999999993,"Gilus arimas (GA)"]
[{"$f":"ROW()-ROW(DerlingBandRez[[#Headers],[Eil. Nr.]])","v":44},2005,"Žieminiai kviečiai",9.1,"Seklus arimas (SA)"]
[{"$f":"ROW()-ROW(DerlingBandRez[[#Headers],[Eil. Nr.]])","v":45},2005,"Žieminiai kviečiai",9.6,"Seklus purenimas rudenį (SPR)"]
[{"$f":"ROW()-ROW(DerlingBandRez[[#Headers],[Eil. Nr.]])","v":46},2005,"Žieminiai kviečiai",10.9,"Seklus purenimas prieš sėją (SPS)"]
[{"$f":"ROW()-ROW(DerlingBandRez[[#Headers],[Eil. Nr.]])","v":47},2005,"Žieminiai kviečiai",10.9,"Tarpiniai pasėliai (TP)"]
[{"$f":"ROW()-ROW(DerlingBandRez[[#Headers],[Eil. Nr.]])","v":48},2005,"Žieminiai kviečiai",10.4,"Tiesioginė sėja (TS)"]
[{"$f":"ROW()-ROW(DerlingBandRez[[#Headers],[Eil. Nr.]])","v":49},2006,"Vasariniai miežiai",3.3,"Šiaudai nepaliekami (R)"]
[{"$f":"ROW()-ROW(DerlingBandRez[[#Headers],[Eil. Nr.]])","v":50},2006,"Vasariniai miežiai",3.6,"Šiaudai paliekami lauke (S)"]
[{"$f":"ROW()-ROW(DerlingBandRez[[#Headers],[Eil. Nr.]])","v":51},2006,"Vasariniai miežiai",3.6,"Gilus arimas (GA)"]
[{"$f":"ROW()-ROW(DerlingBandRez[[#Headers],[Eil. Nr.]])","v":52},2006,"Vasariniai miežiai",3.2,"Seklus arimas (SA)"]
[{"$f":"ROW()-ROW(DerlingBandRez[[#Headers],[Eil. Nr.]])","v":53},2006,"Vasariniai miežiai",3.7,"Seklus purenimas rudenį (SPR)"]
[{"$f":"ROW()-ROW(DerlingBandRez[[#Headers],[Eil. Nr.]])","v":54},2006,"Vasariniai miežiai",3.2,"Seklus purenimas prieš sėją (SPS)"]
[{"$f":"ROW()-ROW(DerlingBandRez[[#Headers],[Eil. Nr.]])","v":55},2006,"Vasariniai miežiai",3.6,"Tarpiniai pasėliai (TP)"]
[{"$f":"ROW()-ROW(DerlingBandRez[[#Headers],[Eil. Nr.]])","v":56},2006,"Vasariniai miežiai",3.4,"Tiesioginė sėja (TS)"]
[{"$f":"ROW()-ROW(DerlingBandRez[[#Headers],[Eil. Nr.]])","v":57},2007,"Vasariniai rapsai",2.1,"Šiaudai nepaliekami (R)"]
[{"$f":"ROW()-ROW(DerlingBandRez[[#Headers],[Eil. Nr.]])","v":58},2007,"Vasariniai rapsai",2.1,"Šiaudai paliekami lauke (S)"]
[{"$f":"ROW()-ROW(DerlingBandRez[[#Headers],[Eil. Nr.]])","v":59},2007,"Vasariniai rapsai",2.1,"Gilus arimas (GA)"]
[{"$f":"ROW()-ROW(DerlingBandRez[[#Headers],[Eil. Nr.]])","v":60},2007,"Vasariniai rapsai",2.2000000000000002,"Seklus arimas (SA)"]
[{"$f":"ROW()-ROW(DerlingBandRez[[#Headers],[Eil. Nr.]])","v":61},2007,"Vasariniai rapsai",2.1,"Seklus purenimas rudenį (SPR)"]
[{"$f":"ROW()-ROW(DerlingBandRez[[#Headers],[Eil. Nr.]])","v":62},2007,"Vasariniai rapsai",2.1,"Seklus purenimas prieš sėją (SPS)"]
[{"$f":"ROW()-ROW(DerlingBandRez[[#Headers],[Eil. Nr.]])","v":63},2007,"Vasariniai rapsai",1.8,"Tarpiniai pasėliai (TP)"]
[{"$f":"ROW()-ROW(DerlingBandRez[[#Headers],[Eil. Nr.]])","v":64},2007,"Vasariniai rapsai",2.1,"Tiesioginė sėja (TS)"]
[{"$f":"ROW()-ROW(DerlingBandRez[[#Headers],[Eil. Nr.]])","v":65},2008,"Žieminiai kviečiai",7.1,"Šiaudai nepaliekami (R)"]
[{"$f":"ROW()-ROW(DerlingBandRez[[#Headers],[Eil. Nr.]])","v":66},2008,"Žieminiai kviečiai",7.6,"Šiaudai paliekami lauke (S)"]
[{"$f":"ROW()-ROW(DerlingBandRez[[#Headers],[Eil. Nr.]])","v":67},2008,"Žieminiai kviečiai",7.2,"Gilus arimas (GA)"]
[{"$f":"ROW()-ROW(DerlingBandRez[[#Headers],[Eil. Nr.]])","v":68},2008,"Žieminiai kviečiai",6.7,"Seklus arimas (SA)"]
[{"$f":"ROW()-ROW(DerlingBandRez[[#Headers],[Eil. Nr.]])","v":69},2008,"Žieminiai kviečiai",7.1,"Seklus purenimas rudenį (SPR)"]
[{"$f":"ROW()-ROW(DerlingBandRez[[#Headers],[Eil. Nr.]])","v":70},2008,"Žieminiai kviečiai",7.9,"Seklus purenimas prieš sėją (SPS)"]
[{"$f":"ROW()-ROW(DerlingBandRez[[#Headers],[Eil. Nr.]])","v":71},2008,"Žieminiai kviečiai",7.3,"Tarpiniai pasėliai (TP)"]
[{"$f":"ROW()-ROW(DerlingBandRez[[#Headers],[Eil. Nr.]])","v":72},2008,"Žieminiai kviečiai",7.8,"Tiesioginė sėja (TS)"]
[{"$f":"ROW()-ROW(DerlingBandRez[[#Headers],[Eil. Nr.]])","v":73},2009,"Vasariniai miežiai",4.5999999999999996,"Šiaudai nepaliekami (R)"]
[{"$f":"ROW()-ROW(DerlingBandRez[[#Headers],[Eil. Nr.]])","v":74},2009,"Vasariniai miežiai",5.0999999999999996,"Šiaudai paliekami lauke (S)"]
[{"$f":"ROW()-ROW(DerlingBandRez[[#Headers],[Eil. Nr.]])","v":75},2009,"Vasariniai miežiai",5.4,"Gilus arimas (GA)"]
[{"$f":"ROW()-ROW(DerlingBandRez[[#Headers],[Eil. Nr.]])","v":76},2009,"Vasariniai miežiai",5.0999999999999996,"Seklus arimas (SA)"]
[{"$f":"ROW()-ROW(DerlingBandRez[[#Headers],[Eil. Nr.]])","v":77},2009,"Vasariniai miežiai",5.2,"Seklus purenimas rudenį (SPR)"]
[{"$f":"ROW()-ROW(DerlingBandRez[[#Headers],[Eil. Nr.]])","v":78},2009,"Vasariniai miežiai",4.5,"Seklus purenimas prieš sėją (SPS)"]
[{"$f":"ROW()-ROW(DerlingBandRez[[#Headers],[Eil. Nr.]])","v":79},2009,"Vasariniai miežiai",4.5999999999999996,"Tarpiniai pasėliai (TP)"]
[{"$f":"ROW()-ROW(DerlingBandRez[[#Headers],[Eil. Nr.]])","v":80},2009,"Vasariniai miežiai",4.5,"Tiesioginė sėja (TS)"]
[{"$f":"ROW()-ROW(DerlingBandRez[[#Headers],[Eil. Nr.]])","v":81},2010,"Vasariniai rapsai",1.5,"Šiaudai nepaliekami (R)"]
[{"$f":"ROW()-ROW(DerlingBandRez[[#Headers],[Eil. Nr.]])","v":82},2010,"Vasariniai rapsai",1.5,"Šiaudai paliekami lauke (S)"]
[{"$f":"ROW()-ROW(DerlingBandRez[[#Headers],[Eil. Nr.]])","v":83},2010,"Vasariniai rapsai",1.7,"Gilus arimas (GA)"]
[{"$f":"ROW()-ROW(DerlingBandRez[[#Headers],[Eil. Nr.]])","v":84},2010,"Vasariniai rapsai",1.6,"Seklus arimas (SA)"]
[{"$f":"ROW()-ROW(DerlingBandRez[[#Headers],[Eil. Nr.]])","v":85},2010,"Vasariniai rapsai",1.5,"Seklus purenimas rudenį (SPR)"]
[{"$f":"ROW()-ROW(DerlingBandRez[[#Headers],[Eil. Nr.]])","v":86},2010,"Vasariniai rapsai",1.5,"Seklus purenimas prieš sėją (SPS)"]
[{"$f":"ROW()-ROW(DerlingBandRez[[#Headers],[Eil. Nr.]])","v":87},2010,"Vasariniai rapsai",1.3,"Tarpiniai pasėliai (TP)"]
[{"$f":"ROW()-ROW(DerlingBandRez[[#Headers],[Eil. Nr.]])","v":88},2010,"Vasariniai rapsai",1.5,"Tiesioginė sėja (TS)"]
[{"$f":"ROW()-ROW(DerlingBandRez[[#Headers],[Eil. Nr.]])","v":89},2011,"Žieminiai kviečiai",5.8,"Šiaudai nepaliekami (R)"]
[{"$f":"ROW()-ROW(DerlingBandRez[[#Headers],[Eil. Nr.]])","v":90},2011,"Žieminiai kviečiai",6.1,"Šiaudai paliekami lauke (S)"]
[{"$f":"ROW()-ROW(DerlingBandRez[[#Headers],[Eil. Nr.]])","v":91},2011,"Žieminiai kviečiai",5.7,"Gilus arimas (GA)"]
[{"$f":"ROW()-ROW(DerlingBandRez[[#Headers],[Eil. Nr.]])","v":92},2011,"Žieminiai kviečiai",5.2,"Seklus arimas (SA)"]
[{"$f":"ROW()-ROW(DerlingBandRez[[#Headers],[Eil. Nr.]])","v":93},2011,"Žieminiai kviečiai",5.3,"Seklus purenimas rudenį (SPR)"]
[{"$f":"ROW()-ROW(DerlingBandRez[[#Headers],[Eil. Nr.]])","v":94},2011,"Žieminiai kviečiai",6.5,"Seklus purenimas prieš sėją (SPS)"]
[{"$f":"ROW()-ROW(DerlingBandRez[[#Headers],[Eil. Nr.]])","v":95},2011,"Žieminiai kviečiai",6.6,"Tarpiniai pasėliai (TP)"]
[{"$f":"ROW()-ROW(DerlingBandRez[[#Headers],[Eil. Nr.]])","v":96},2011,"Žieminiai kviečiai",6.4,"Tiesioginė sėja (TS)"]
[{"$f":"ROW()-ROW(DerlingBandRez[[#Headers],[Eil. Nr.]])","v":97},2012,"Vasariniai miežiai",4.5999999999999996,"Šiaudai nepaliekami (R)"]
[{"$f":"ROW()-ROW(DerlingBandRez[[#Headers],[Eil. Nr.]])","v":98},2012,"Vasariniai miežiai",4.5,"Šiaudai paliekami lauke (S)"]
[{"$f":"ROW()-ROW(DerlingBandRez[[#Headers],[Eil. Nr.]])","v":99},2012,"Vasariniai miežiai",5.0999999999999996,"Gilus arimas (GA)"]
[{"$f":"ROW()-ROW(DerlingBandRez[[#Headers],[Eil. Nr.]])","v":100},2012,"Vasariniai miežiai",4.4000000000000004,"Seklus arimas (SA)"]
[{"$f":"ROW()-ROW(DerlingBandRez[[#Headers],[Eil. Nr.]])","v":101},2012,"Vasariniai miežiai",4.3,"Seklus purenimas rudenį (SPR)"]
[{"$f":"ROW()-ROW(DerlingBandRez[[#Headers],[Eil. Nr.]])","v":102},2012,"Vasariniai miežiai",4.5,"Seklus purenimas prieš sėją (SPS)"]
[{"$f":"ROW()-ROW(DerlingBandRez[[#Headers],[Eil. Nr.]])","v":103},2012,"Vasariniai miežiai",4.5,"Tarpiniai pasėliai (TP)"]
[{"$f":"ROW()-ROW(DerlingBandRez[[#Headers],[Eil. Nr.]])","v":104},2012,"Vasariniai miežiai",4.5999999999999996,"Tiesioginė sėja (TS)"]
[{"$f":"ROW()-ROW(DerlingBandRez[[#Headers],[Eil. Nr.]])","v":105},2013,"Vasariniai rapsai",0.6,"Šiaudai nepaliekami (R)"]
[{"$f":"ROW()-ROW(DerlingBandRez[[#Headers],[Eil. Nr.]])","v":106},2013,"Vasariniai rapsai",0.6,"Šiaudai paliekami lauke (S)"]
[{"$f":"ROW()-ROW(DerlingBandRez[[#Headers],[Eil. Nr.]])","v":107},2013,"Vasariniai rapsai",0.6,"Gilus arimas (GA)"]
[{"$f":"ROW()-ROW(DerlingBandRez[[#Headers],[Eil. Nr.]])","v":108},2013,"Vasariniai rapsai",0.6,"Seklus arimas (SA)"]
[{"$f":"ROW()-ROW(DerlingBandRez[[#Headers],[Eil. Nr.]])","v":109},2013,"Vasariniai rapsai",0.6,"Seklus purenimas rudenį (SPR)"]
[{"$f":"ROW()-ROW(DerlingBandRez[[#Headers],[Eil. Nr.]])","v":110},2013,"Vasariniai rapsai",0.3,"Seklus purenimas prieš sėją (SPS)"]
[{"$f":"ROW()-ROW(DerlingBandRez[[#Headers],[Eil. Nr.]])","v":111},2013,"Vasariniai rapsai",0.5,"Tarpiniai pasėliai (TP)"]
[{"$f":"ROW()-ROW(DerlingBandRez[[#Headers],[Eil. Nr.]])","v":112},2013,"Vasariniai rapsai",0.6,"Tiesioginė sėja (TS)"]
[{"$f":"ROW()-ROW(DerlingBandRez[[#Headers],[Eil. Nr.]])","v":113},2014,"Žieminiai kviečiai",7.8,"Šiaudai nepaliekami (R)"]
[{"$f":"ROW()-ROW(DerlingBandRez[[#Headers],[Eil. Nr.]])","v":114},2014,"Žieminiai kviečiai",8.4,"Šiaudai paliekami lauke (S)"]
[{"$f":"ROW()-ROW(DerlingBandRez[[#Headers],[Eil. Nr.]])","v":115},2014,"Žieminiai kviečiai",8,"Gilus arimas (GA)"]
[{"$f":"ROW()-ROW(DerlingBandRez[[#Headers],[Eil. Nr.]])","v":116},2014,"Žieminiai kviečiai",7.8,"Seklus arimas (SA)"]
[{"$f":"ROW()-ROW(DerlingBandRez[[#Headers],[Eil. Nr.]])","v":117},2014,"Žieminiai kviečiai",7.8,"Seklus purenimas rudenį (SPR)"]
[{"$f":"ROW()-ROW(DerlingBandRez[[#Headers],[Eil. Nr.]])","v":118},2014,"Žieminiai kviečiai",8,"Seklus purenimas prieš sėją (SPS)"]
[{"$f":"ROW()-ROW(DerlingBandRez[[#Headers],[Eil. Nr.]])","v":119},2014,"Žieminiai kviečiai",8.8000000000000007,"Tarpiniai pasėliai (TP)"]
[{"$f":"ROW()-ROW(DerlingBandRez[[#Headers],[Eil. Nr.]])","v":120},2014,"Žieminiai kviečiai",8.3000000000000007,"Tiesioginė sėja (TS)"]
[{"$f":"ROW()-ROW(DerlingBandRez[[#Headers],[Eil. Nr.]])","v":121},2015,"Vasariniai miežiai",7.2,"Šiaudai nepaliekami (R)"]
[{"$f":"ROW()-ROW(DerlingBandRez[[#Headers],[Eil. Nr.]])","v":122},2015,"Vasariniai miežiai",7.3,"Šiaudai paliekami lauke (S)"]
[{"$f":"ROW()-ROW(DerlingBandRez[[#Headers],[Eil. Nr.]])","v":123},2015,"Vasariniai miežiai",7.3,"Gilus arimas (GA)"]
[{"$f":"ROW()-ROW(DerlingBandRez[[#Headers],[Eil. Nr.]])","v":124},2015,"Vasariniai miežiai",6.7,"Seklus arimas (SA)"]
[{"$f":"ROW()-ROW(DerlingBandRez[[#Headers],[Eil. Nr.]])","v":125},2015,"Vasariniai miežiai",7.2,"Seklus purenimas rudenį (SPR)"]
[{"$f":"ROW()-ROW(DerlingBandRez[[#Headers],[Eil. Nr.]])","v":126},2015,"Vasariniai miežiai",7.4,"Seklus purenimas prieš sėją (SPS)"]
[{"$f":"ROW()-ROW(DerlingBandRez[[#Headers],[Eil. Nr.]])","v":127},2015,"Vasariniai miežiai",7.4,"Tarpiniai pasėliai (TP)"]
[{"$f":"ROW()-ROW(DerlingBandRez[[#Headers],[Eil. Nr.]])","v":128},2015,"Vasariniai miežiai",7.5,"Tiesioginė sėja (TS)"]
[{"$f":"ROW()-ROW(DerlingBandRez[[#Headers],[Eil. Nr.]])","v":129},2016,"Vasariniai rapsai",1.23,"Šiaudai nepaliekami (R)"]
[{"$f":"ROW()-ROW(DerlingBandRez[[#Headers],[Eil. Nr.]])","v":130},2016,"Vasariniai rapsai",1.18,"Šiaudai paliekami lauke (S)"]
[{"$f":"ROW()-ROW(DerlingBandRez[[#Headers],[Eil. Nr.]])","v":131},2016,"Vasariniai rapsai",1.1200000000000001,"Gilus arimas (GA)"]
[{"$f":"ROW()-ROW(DerlingBandRez[[#Headers],[Eil. Nr.]])","v":132},2016,"Vasariniai rapsai",1.2,"Seklus arimas (SA)"]
[{"$f":"ROW()-ROW(DerlingBandRez[[#Headers],[Eil. Nr.]])","v":133},2016,"Vasariniai rapsai",1.2,"Seklus purenimas rudenį (SPR)"]
[{"$f":"ROW()-ROW(DerlingBandRez[[#Headers],[Eil. Nr.]])","v":134},2016,"Vasariniai rapsai",1.21,"Seklus purenimas prieš sėją (SPS)"]
[{"$f":"ROW()-ROW(DerlingBandRez[[#Headers],[Eil. Nr.]])","v":135},2016,"Vasariniai rapsai",1.34,"Tarpiniai pasėliai (TP)"]
[{"$f":"ROW()-ROW(DerlingBandRez[[#Headers],[Eil. Nr.]])","v":136},2016,"Vasariniai rapsai",1.1499999999999999,"Tiesioginė sėja (TS)"]
[{"$f":"ROW()-ROW(DerlingBandRez[[#Headers],[Eil. Nr.]])","v":137},2017,"Žieminiai kviečiai",9.3000000000000007,"Šiaudai nepaliekami (R)"]
[{"$f":"ROW()-ROW(DerlingBandRez[[#Headers],[Eil. Nr.]])","v":138},2017,"Žieminiai kviečiai",9.82,"Šiaudai paliekami lauke (S)"]
[{"$f":"ROW()-ROW(DerlingBandRez[[#Headers],[Eil. Nr.]])","v":139},2017,"Žieminiai kviečiai",9,"Gilus arimas (GA)"]
[{"$f":"ROW()-ROW(DerlingBandRez[[#Headers],[Eil. Nr.]])","v":140},2017,"Žieminiai kviečiai",8.93,"Seklus arimas (SA)"]
[{"$f":"ROW()-ROW(DerlingBandRez[[#Headers],[Eil. Nr.]])","v":141},2017,"Žieminiai kviečiai",9.27,"Seklus purenimas rudenį (SPR)"]
[{"$f":"ROW()-ROW(DerlingBandRez[[#Headers],[Eil. Nr.]])","v":142},2017,"Žieminiai kviečiai",10.83,"Seklus purenimas prieš sėją (SPS)"]
[{"$f":"ROW()-ROW(DerlingBandRez[[#Headers],[Eil. Nr.]])","v":143},2017,"Žieminiai kviečiai",10.27,"Tarpiniai pasėliai (TP)"]
[{"$f":"ROW()-ROW(DerlingBandRez[[#Headers],[Eil. Nr.]])","v":144},2017,"Žieminiai kviečiai",9.8000000000000007,"Tiesioginė sėja (TS)"]
[{"$f":"ROW()-ROW(DerlingBandRez[[#Headers],[Eil. Nr.]])","v":145},2018,"Vasariniai miežiai",4.72,"Šiaudai nepaliekami (R)"]
[{"$f":"ROW()-ROW(DerlingBandRez[[#Headers],[Eil. Nr.]])","v":146},2018,"Vasariniai miežiai",4.84,"Šiaudai paliekami lauke (S)"]
[{"$f":"ROW()-ROW(DerlingBandRez[[#Headers],[Eil. Nr.]])","v":147},2018,"Vasariniai miežiai",4.95,"Gilus arimas (GA)"]
[{"$f":"ROW()-ROW(DerlingBandRez[[#Headers],[Eil. Nr.]])","v":148},2018,"Vasariniai miežiai",4.5999999999999996,"Seklus arimas (SA)"]
[{"$f":"ROW()-ROW(DerlingBandRez[[#Headers],[Eil. Nr.]])","v":149},2018,"Vasariniai miežiai",4.4000000000000004,"Seklus purenimas rudenį (SPR)"]
[{"$f":"ROW()-ROW(DerlingBandRez[[#Headers],[Eil. Nr.]])","v":150},2018,"Vasariniai miežiai",4.6399999999999997,"Seklus purenimas prieš sėją (SPS)"]
[{"$f":"ROW()-ROW(DerlingBandRez[[#Headers],[Eil. Nr.]])","v":151},2018,"Vasariniai miežiai",4.84,"Tarpiniai pasėliai (TP)"]
[{"$f":"ROW()-ROW(DerlingBandRez[[#Headers],[Eil. Nr.]])","v":152},2018,"Vasariniai miežiai",5.27,"Tiesioginė sėja (TS)"]
[{"$f":"ROW()-ROW(DerlingBandRez[[#Headers],[Eil. Nr.]])","v":153},2019,"Vasariniai rapsai",1.45,"Šiaudai nepaliekami (R)"]
[{"$f":"ROW()-ROW(DerlingBandRez[[#Headers],[Eil. Nr.]])","v":154},2019,"Vasariniai rapsai",1.52,"Šiaudai paliekami lauke (S)"]
[{"$f":"ROW()-ROW(DerlingBandRez[[#Headers],[Eil. Nr.]])","v":155},2019,"Vasariniai rapsai",1.48,"Gilus arimas (GA)"]
[{"$f":"ROW()-ROW(DerlingBandRez[[#Headers],[Eil. Nr.]])","v":156},2019,"Vasariniai rapsai",1.47,"Seklus arimas (SA)"]
[{"$f":"ROW()-ROW(DerlingBandRez[[#Headers],[Eil. Nr.]])","v":157},2019,"Vasariniai rapsai",1.48,"Seklus purenimas rudenį (SPR)"]
[{"$f":"ROW()-ROW(DerlingBandRez[[#Headers],[Eil. Nr.]])","v":158},2019,"Vasariniai rapsai",1.47,"Seklus purenimas prieš sėją (SPS)"]
[{"$f":"ROW()-ROW(DerlingBandRez[[#Headers],[Eil. Nr.]])","v":159},2019,"Vasariniai rapsai",1.58,"Tarpiniai pasėliai (TP)"]
[{"$f":"ROW()-ROW(DerlingBandRez[[#Headers],[Eil. Nr.]])","v":160},2019,"Vasariniai rapsai",1.45,"Tiesioginė sėja (TS)"]
[{"$f":"ROW()-ROW(DerlingBandRez[[#Headers],[Eil. Nr.]])","v":161},2020,"Žieminiai kviečiai",9.93,"Šiaudai nepaliekami (R)"]
[{"$f":"ROW()-ROW(DerlingBandRez[[#Headers],[Eil. Nr.]])","v":162},2020,"Žieminiai kviečiai",9.4,"Šiaudai paliekami lauke (S)"]
[{"$f":"ROW()-ROW(DerlingBandRez[[#Headers],[Eil. Nr.]])","v":163},2020,"Žieminiai kviečiai",9.4499999999999993,"Gilus arimas (GA)"]
[{"$f":"ROW()-ROW(DerlingBandRez[[#Headers],[Eil. Nr.]])","v":164},2020,"Žieminiai kviečiai",9.69,"Seklus arimas (SA)"]
[{"$f":"ROW()-ROW(DerlingBandRez[[#Headers],[Eil. Nr.]])","v":165},2020,"Žieminiai kviečiai",8.81,"Seklus purenimas rudenį (SPR)"]
[{"$f":"ROW()-ROW(DerlingBandRez[[#Headers],[Eil. Nr.]])","v":166},2020,"Žieminiai kviečiai",10.34,"Seklus purenimas prieš sėją (SPS)"]
[{"$f":"ROW()-ROW(DerlingBandRez[[#Headers],[Eil. Nr.]])","v":167},2020,"Žieminiai kviečiai",10.06,"Tarpiniai pasėliai (TP)"]
[{"$f":"ROW()-ROW(DerlingBandRez[[#Headers],[Eil. Nr.]])","v":168},2020,"Žieminiai kviečiai",9.6300000000000008,"Tiesioginė sėja (TS)"]
[{"$f":"ROW()-ROW(DerlingBandRez[[#Headers],[Eil. Nr.]])","v":169},2021,"Vasariniai miežiai",3.62,"Šiaudai nepaliekami (R)"]
[{"$f":"ROW()-ROW(DerlingBandRez[[#Headers],[Eil. Nr.]])","v":170},2021,"Vasariniai miežiai",3.93,"Šiaudai paliekami lauke (S)"]
[{"$f":"ROW()-ROW(DerlingBandRez[[#Headers],[Eil. Nr.]])","v":171},2021,"Vasariniai miežiai",3.62,"Gilus arimas (GA)"]
[{"$f":"ROW()-ROW(DerlingBandRez[[#Headers],[Eil. Nr.]])","v":172},2021,"Vasariniai miežiai",4.13,"Seklus arimas (SA)"]
[{"$f":"ROW()-ROW(DerlingBandRez[[#Headers],[Eil. Nr.]])","v":173},2021,"Vasariniai miežiai",3.29,"Seklus purenimas rudenį (SPR)"]
[{"$f":"ROW()-ROW(DerlingBandRez[[#Headers],[Eil. Nr.]])","v":174},2021,"Vasariniai miežiai",3.94,"Seklus purenimas prieš sėją (SPS)"]
[{"$f":"ROW()-ROW(DerlingBandRez[[#Headers],[Eil. Nr.]])","v":175},2021,"Vasariniai miežiai",3.53,"Tarpiniai pasėliai (TP)"]
[{"$f":"ROW()-ROW(DerlingBandRez[[#Headers],[Eil. Nr.]])","v":176},2021,"Vasariniai miežiai",4.1399999999999997,"Tiesioginė sėja (TS)"]
[{"$f":"ROW()-ROW(DerlingBandRez[[#Headers],[Eil. Nr.]])","v":177},2022,"Žieminiai rapsai",2.69,"Šiaudai nepaliekami (R)"]
[{"$f":"ROW()-ROW(DerlingBandRez[[#Headers],[Eil. Nr.]])","v":178},2022,"Žieminiai rapsai",2.84,"Šiaudai paliekami lauke (S)"]
[{"$f":"ROW()-ROW(DerlingBandRez[[#Headers],[Eil. Nr.]])","v":179},2022,"Žieminiai rapsai",2.37,"Gilus arimas (GA)"]
[{"$f":"ROW()-ROW(DerlingBandRez[[#Headers],[Eil. Nr.]])","v":180},2022,"Žieminiai rapsai",2.39,"Seklus arimas (SA)"]
[{"$f":"ROW()-ROW(DerlingBandRez[[#Headers],[Eil. Nr.]])","v":181},2022,"Žieminiai rapsai",2.48,"Seklus purenimas rudenį (SPR)"]
[{"$f":"ROW()-ROW(DerlingBandRez[[#Headers],[Eil. Nr.]])","v":182},2022,"Žieminiai rapsai",2.85,"Seklus purenimas prieš sėją (SPS)"]
[{"$f":"ROW()-ROW(DerlingBandRez[[#Headers],[Eil. Nr.]])","v":183},2022,"Žieminiai rapsai",3.11,"Tarpiniai pasėliai (TP)"]
[{"$f":"ROW()-ROW(DerlingBandRez[[#Headers],[Eil. Nr.]])","v":184},2022,"Žieminiai rapsai",3.37,"Tiesioginė sėja (TS)"]
[{"$f":"ROW()-ROW(DerlingBandRez[[#Headers],[Eil. Nr.]])","v":185},2023,"Žieminiai kviečiai",9.9,"Šiaudai nepaliekami (R)"]
[{"$f":"ROW()-ROW(DerlingBandRez[[#Headers],[Eil. Nr.]])","v":186},2023,"Žieminiai kviečiai",10.1,"Šiaudai paliekami lauke (S)"]
[{"$f":"ROW()-ROW(DerlingBandRez[[#Headers],[Eil. Nr.]])","v":187},2023,"Žieminiai kviečiai",9.3699999999999992,"Gilus arimas (GA)"]
[{"$f":"ROW()-ROW(DerlingBandRez[[#Headers],[Eil. Nr.]])","v":188},2023,"Žieminiai kviečiai",9.73,"Seklus arimas (SA)"]
[{"$f":"ROW()-ROW(DerlingBandRez[[#Headers],[Eil. Nr.]])","v":189},2023,"Žieminiai kviečiai",9.9700000000000006,"Seklus purenimas rudenį (SPR)"]
[{"$f":"ROW()-ROW(DerlingBandRez[[#Headers],[Eil. Nr.]])","v":190},2023,"Žieminiai kviečiai",10.47,"Seklus purenimas prieš sėją (SPS)"]
[{"$f":"ROW()-ROW(DerlingBandRez[[#Headers],[Eil. Nr.]])","v":191},2023,"Žieminiai kviečiai",10.71,"Tarpiniai pasėliai (TP)"]
[{"$f":"ROW()-ROW(DerlingBandRez[[#Headers],[Eil. Nr.]])","v":192},2023,"Žieminiai kviečiai",10.1,"Tiesioginė sėja (TS)"]

{"sheet":"Madžiagos pasėliui","index":11,"n_rows":73,"n_cols":11,"rows_kept":73,"cut":false,"hidden":true,"merged":[]}
[null,null,null,null,null,null,null,"Išlaidų rūšis","Išlaidos, Eur/ha"]
[null,null,null,null,null,null,null,null,"Žieminiai kviečiai","Vasariniai rapsai","Vasariniai miežiai"]
[null,null,null,null,null,null,null,"Sėklos įsigijimas",80,39,70]
[null,null,null,null,null,null,null,"Trąšos:"," 200",130,130]
[null,null,null,null,null,null,null,"Purškimai (augalų apsaugos priemonės, augimo reguliatoriai)",130,130,110]
[null,null,null,null,null,null,null,"Džiovinimas (nuo 16 % iki 14 %), kai 7 t/ha",56,48,40]
["IŠLAIDOS SĖKLAI, TRĄŠOMS, AUGALŲ APSAUGOS IR KITOMS PRIEMONĖMS",null,null,null,null,null,null,"Viso",466,347,350]
[]
[]
["Eil. Nr.","Technologija","Pasėlis","Eur/ha"]
[{"$f":"ROW()-ROW(MedžiagųSąnaudosPasėliui[[#Headers],[Eil. Nr.]])","v":1},"Gilus arimas (GA)","Žieminiai kviečiai",466]
[{"$f":"ROW()-ROW(MedžiagųSąnaudosPasėliui[[#Headers],[Eil. Nr.]])","v":2},"Gilus arimas (GA)","Vasariniai rapsai",347]
[{"$f":"ROW()-ROW(MedžiagųSąnaudosPasėliui[[#Headers],[Eil. Nr.]])","v":3},"Gilus arimas (GA)","Vasariniai miežiai",350]
[{"$f":"ROW()-ROW(MedžiagųSąnaudosPasėliui[[#Headers],[Eil. Nr.]])","v":4},"Gilus arimas (GA)","Žieminiai rapsai",475]
[{"$f":"ROW()-ROW(MedžiagųSąnaudosPasėliui[[#Headers],[Eil. Nr.]])","v":5},"Seklus arimas (SA)","Žieminiai kviečiai",466]
[{"$f":"ROW()-ROW(MedžiagųSąnaudosPasėliui[[#Headers],[Eil. Nr.]])","v":6},"Seklus arimas (SA)","Vasariniai rapsai",347]
[{"$f":"ROW()-ROW(MedžiagųSąnaudosPasėliui[[#Headers],[Eil. Nr.]])","v":7},"Seklus arimas (SA)","Vasariniai miežiai",350]
[{"$f":"ROW()-ROW(MedžiagųSąnaudosPasėliui[[#Headers],[Eil. Nr.]])","v":8},"Seklus arimas (SA)","Žieminiai rapsai",475]
[{"$f":"ROW()-ROW(MedžiagųSąnaudosPasėliui[[#Headers],[Eil. Nr.]])","v":9},"Seklus purenimas rudenį (SPR)","Žieminiai kviečiai",466]
[{"$f":"ROW()-ROW(MedžiagųSąnaudosPasėliui[[#Headers],[Eil. Nr.]])","v":10},"Seklus purenimas rudenį (SPR)","Vasariniai rapsai",347]
[{"$f":"ROW()-ROW(MedžiagųSąnaudosPasėliui[[#Headers],[Eil. Nr.]])","v":11},"Seklus purenimas rudenį (SPR)","Vasariniai miežiai",350]
[{"$f":"ROW()-ROW(MedžiagųSąnaudosPasėliui[[#Headers],[Eil. Nr.]])","v":12},"Seklus purenimas rudenį (SPR)","Žieminiai rapsai",475]
[{"$f":"ROW()-ROW(MedžiagųSąnaudosPasėliui[[#Headers],[Eil. Nr.]])","v":13},"Seklus purenimas prieš sėją (SPS)","Žieminiai kviečiai",466]
[{"$f":"ROW()-ROW(MedžiagųSąnaudosPasėliui[[#Headers],[Eil. Nr.]])","v":14},"Seklus purenimas prieš sėją (SPS)","Vasariniai rapsai",347]
[{"$f":"ROW()-ROW(MedžiagųSąnaudosPasėliui[[#Headers],[Eil. Nr.]])","v":15},"Seklus purenimas prieš sėją (SPS)","Vasariniai miežiai",350]
[{"$f":"ROW()-ROW(MedžiagųSąnaudosPasėliui[[#Headers],[Eil. Nr.]])","v":16},"Seklus purenimas prieš sėją (SPS)","Žieminiai rapsai",475]
[{"$f":"ROW()-ROW(MedžiagųSąnaudosPasėliui[[#Headers],[Eil. Nr.]])","v":17},"Tarpiniai pasėliai (TP)","Žieminiai kviečiai",548]
[{"$f":"ROW()-ROW(MedžiagųSąnaudosPasėliui[[#Headers],[Eil. Nr.]])","v":18},"Tarpiniai pasėliai (TP)","Vasariniai rapsai",424]
[{"$f":"ROW()-ROW(MedžiagųSąnaudosPasėliui[[#Headers],[Eil. Nr.]])","v":19},"Tarpiniai pasėliai (TP)","Vasariniai miežiai",432]
[{"$f":"ROW()-ROW(MedžiagųSąnaudosPasėliui[[#Headers],[Eil. Nr.]])","v":20},"Tarpiniai pasėliai (TP)","Žieminiai rapsai",557]
[{"$f":"ROW()-ROW(MedžiagųSąnaudosPasėliui[[#Headers],[Eil. Nr.]])","v":21},"Tiesioginė sėja (TS)","Žieminiai kviečiai",498]
[{"$f":"ROW()-ROW(MedžiagųSąnaudosPasėliui[[#Headers],[Eil. Nr.]])","v":22},"Tiesioginė sėja (TS)","Vasariniai rapsai",374]
[{"$f":"ROW()-ROW(MedžiagųSąnaudosPasėliui[[#Headers],[Eil. Nr.]])","v":23},"Tiesioginė sėja (TS)","Vasariniai miežiai",382]
[{"$f":"ROW()-ROW(MedžiagųSąnaudosPasėliui[[#Headers],[Eil. Nr.]])","v":24},"Tiesioginė sėja (TS)","Žieminiai rapsai",507]
[]
[]
[]
["VIDUTINIS DERLINGUMO POKYTIS DĖL AUGALŲ LIEKANŲ, ĮSKAITANT ŠIAUDUS, PALIKIMO LAUKE"]
[]
[]
["Eil. Nr.","Technologija","Pasėlis","t/ha"]
[{"$f":"ROW()-ROW(DerlingumoPokytisDėlŠiaudų[[#Headers],[Eil. Nr.]])","v":1},"Gilus arimas (GA)","Vasariniai miežiai",{"$f":"IFERROR(ROUND(AVERAGE(_xlfn._xlws.FILTER(DerlingBandRez[Derlingumas], (DerlingBandRez[Žemės ūkio augalas] = DerlingumoPokytisDėlŠiaudų[[#This Row],[Pasėlis]]) * (DerlingBandRez[Technologija] = DerlingumoPokytisDėlŠiaudų[[#This Row],[Technologija]]), \"-\")),2),)","v":4.68}]
[{"$f":"ROW()-ROW(DerlingumoPokytisDėlŠiaudų[[#Headers],[Eil. Nr.]])","v":2},"Seklus arimas (SA)","Vasariniai miežiai",{"$f":"IFERROR(ROUND(AVERAGE(_xlfn._xlws.FILTER(DerlingBandRez[Derlingumas], (DerlingBandRez[Žemės ūkio augalas] = DerlingumoPokytisDėlŠiaudų[[#This Row],[Pasėlis]]) * (DerlingBandRez[Technologija] = DerlingumoPokytisDėlŠiaudų[[#This Row],[Technologija]]), \"-\")),2),)","v":4.41}]
[{"$f":"ROW()-ROW(DerlingumoPokytisDėlŠiaudų[[#Headers],[Eil. Nr.]])","v":3},"Seklus purenimas rudenį (SPR)","Vasariniai miežiai",{"$f":"IFERROR(ROUND(AVERAGE(_xlfn._xlws.FILTER(DerlingBandRez[Derlingumas], (DerlingBandRez[Žemės ūkio augalas] = DerlingumoPokytisDėlŠiaudų[[#This Row],[Pasėlis]]) * (DerlingBandRez[Technologija] = DerlingumoPokytisDėlŠiaudų[[#This Row],[Technologija]]), \"-\")),2),)","v":4.41}]
[{"$f":"ROW()-ROW(DerlingumoPokytisDėlŠiaudų[[#Headers],[Eil. Nr.]])","v":4},"Seklus purenimas prieš sėją (SPS)","Vasariniai miežiai",{"$f":"IFERROR(ROUND(AVERAGE(_xlfn._xlws.FILTER(DerlingBandRez[Derlingumas], (DerlingBandRez[Žemės ūkio augalas] = DerlingumoPokytisDėlŠiaudų[[#This Row],[Pasėlis]]) * (DerlingBandRez[Technologija] = DerlingumoPokytisDėlŠiaudų[[#This Row],[Technologija]]), \"-\")),2),)","v":4.38}]
[{"$f":"ROW()-ROW(DerlingumoPokytisDėlŠiaudų[[#Headers],[Eil. Nr.]])","v":5},"Tarpiniai pasėliai (TP)","Vasariniai miežiai",{"$f":"IFERROR(ROUND(AVERAGE(_xlfn._xlws.FILTER(DerlingBandRez[Derlingumas], (DerlingBandRez[Žemės ūkio augalas] = DerlingumoPokytisDėlŠiaudų[[#This Row],[Pasėlis]]) * (DerlingBandRez[Technologija] = DerlingumoPokytisDėlŠiaudų[[#This Row],[Technologija]]), \"-\")),2),)","v":4.34}]
[{"$f":"ROW()-ROW(DerlingumoPokytisDėlŠiaudų[[#Headers],[Eil. Nr.]])","v":6},"Tiesioginė sėja (TS)","Vasariniai miežiai",{"$f":"IFERROR(ROUND(AVERAGE(_xlfn._xlws.FILTER(DerlingBandRez[Derlingumas], (DerlingBandRez[Žemės ūkio augalas] = DerlingumoPokytisDėlŠiaudų[[#This Row],[Pasėlis]]) * (DerlingBandRez[Technologija] = DerlingumoPokytisDėlŠiaudų[[#This Row],[Technologija]]), \"-\")),2),)","v":4.42}]
[{"$f":"ROW()-ROW(DerlingumoPokytisDėlŠiaudų[[#Headers],[Eil. Nr.]])","v":7},"R","Vasariniai miežiai",{"$f":"IFERROR(ROUND(AVERAGE(_xlfn._xlws.FILTER(DerlingBandRez[Derlingumas], (DerlingBandRez[Žemės ūkio augalas] = DerlingumoPokytisDėlŠiaudų[[#This Row],[Pasėlis]]) * (DerlingBandRez[Technologija] = DerlingumoPokytisDėlŠiaudų[[#This Row],[Technologija]]), \"-\")),2),)","v":0}]
[{"$f":"ROW()-ROW(DerlingumoPokytisDėlŠiaudų[[#Headers],[Eil. Nr.]])","v":8},"S","Vasariniai miežiai",{"$f":"IFERROR(ROUND(AVERAGE(_xlfn._xlws.FILTER(DerlingBandRez[Derlingumas], (DerlingBandRez[Žemės ūkio augalas] = DerlingumoPokytisDėlŠiaudų[[#This Row],[Pasėlis]]) * (DerlingBandRez[Technologija] = DerlingumoPokytisDėlŠiaudų[[#This Row],[Technologija]]), \"-\")),2),)","v":0}]
[{"$f":"ROW()-ROW(DerlingumoPokytisDėlŠiaudų[[#Headers],[Eil. Nr.]])","v":9},"Gilus arimas (GA)","Vasariniai rapsai",{"$f":"IFERROR(ROUND(AVERAGE(_xlfn._xlws.FILTER(DerlingBandRez[Derlingumas], (DerlingBandRez[Žemės ūkio augalas] = DerlingumoPokytisDėlŠiaudų[[#This Row],[Pasėlis]]) * (DerlingBandRez[Technologija] = DerlingumoPokytisDėlŠiaudų[[#This Row],[Technologija]]), \"-\")),2),)","v":1.57}]
[{"$f":"ROW()-ROW(DerlingumoPokytisDėlŠiaudų[[#Headers],[Eil. Nr.]])","v":10},"Seklus arimas (SA)","Vasariniai rapsai",{"$f":"IFERROR(ROUND(AVERAGE(_xlfn._xlws.FILTER(DerlingBandRez[Derlingumas], (DerlingBandRez[Žemės ūkio augalas] = DerlingumoPokytisDėlŠiaudų[[#This Row],[Pasėlis]]) * (DerlingBandRez[Technologija] = DerlingumoPokytisDėlŠiaudų[[#This Row],[Technologija]]), \"-\")),2),)","v":1.56}]
[{"$f":"ROW()-ROW(DerlingumoPokytisDėlŠiaudų[[#Headers],[Eil. Nr.]])","v":11},"Seklus purenimas rudenį (SPR)","Vasariniai rapsai",{"$f":"IFERROR(ROUND(AVERAGE(_xlfn._xlws.FILTER(DerlingBandRez[Derlingumas], (DerlingBandRez[Žemės ūkio augalas] = DerlingumoPokytisDėlŠiaudų[[#This Row],[Pasėlis]]) * (DerlingBandRez[Technologija] = DerlingumoPokytisDėlŠiaudų[[#This Row],[Technologija]]), \"-\")),2),)","v":1.48}]
[{"$f":"ROW()-ROW(DerlingumoPokytisDėlŠiaudų[[#Headers],[Eil. Nr.]])","v":12},"Seklus purenimas prieš sėją (SPS)","Vasariniai rapsai",{"$f":"IFERROR(ROUND(AVERAGE(_xlfn._xlws.FILTER(DerlingBandRez[Derlingumas], (DerlingBandRez[Žemės ūkio augalas] = DerlingumoPokytisDėlŠiaudų[[#This Row],[Pasėlis]]) * (DerlingBandRez[Technologija] = DerlingumoPokytisDėlŠiaudų[[#This Row],[Technologija]]), \"-\")),2),)","v":1.51}]
[{"$f":"ROW()-ROW(DerlingumoPokytisDėlŠiaudų[[#Headers],[Eil. Nr.]])","v":13},"Tarpiniai pasėliai (TP)","Vasariniai rapsai",{"$f":"IFERROR(ROUND(AVERAGE(_xlfn._xlws.FILTER(DerlingBandRez[Derlingumas], (DerlingBandRez[Žemės ūkio augalas] = DerlingumoPokytisDėlŠiaudų[[#This Row],[Pasėlis]]) * (DerlingBandRez[Technologija] = DerlingumoPokytisDėlŠiaudų[[#This Row],[Technologija]]), \"-\")),2),)","v":1.3}]
[{"$f":"ROW()-ROW(DerlingumoPokytisDėlŠiaudų[[#Headers],[Eil. Nr.]])","v":14},"Tiesioginė sėja (TS)","Vasariniai rapsai",{"$f":"IFERROR(ROUND(AVERAGE(_xlfn._xlws.FILTER(DerlingBandRez[Derlingumas], (DerlingBandRez[Žemės ūkio augalas] = DerlingumoPokytisDėlŠiaudų[[#This Row],[Pasėlis]]) * (DerlingBandRez[Technologija] = DerlingumoPokytisDėlŠiaudų[[#This Row],[Technologija]]), \"-\")),2),)","v":1.48}]
[{"$f":"ROW()-ROW(DerlingumoPokytisDėlŠiaudų[[#Headers],[Eil. Nr.]])","v":15},"R","Vasariniai rapsai",{"$f":"IFERROR(ROUND(AVERAGE(_xlfn._xlws.FILTER(DerlingBandRez[Derlingumas], (DerlingBandRez[Žemės ūkio augalas] = DerlingumoPokytisDėlŠiaudų[[#This Row],[Pasėlis]]) * (DerlingBandRez[Technologija] = DerlingumoPokytisDėlŠiaudų[[#This Row],[Technologija]]), \"-\")),2),)","v":0}]
[{"$f":"ROW()-ROW(DerlingumoPokytisDėlŠiaudų[[#Headers],[Eil. Nr.]])","v":16},"S","Vasariniai rapsai",{"$f":"IFERROR(ROUND(AVERAGE(_xlfn._xlws.FILTER(DerlingBandRez[Derlingumas], (DerlingBandRez[Žemės ūkio augalas] = DerlingumoPokytisDėlŠiaudų[[#This Row],[Pasėlis]]) * (DerlingBandRez[Technologija] = DerlingumoPokytisDėlŠiaudų[[#This Row],[Technologija]]), \"-\")),2),)","v":0}]
[{"$f":"ROW()-ROW(DerlingumoPokytisDėlŠiaudų[[#Headers],[Eil. Nr.]])","v":17},"Gilus arimas (GA)","Žieminiai kviečiai",{"$f":"IFERROR(ROUND(AVERAGE(_xlfn._xlws.FILTER(DerlingBandRez[Derlingumas], (DerlingBandRez[Žemės ūkio augalas] = DerlingumoPokytisDėlŠiaudų[[#This Row],[Pasėlis]]) * (DerlingBandRez[Technologija] = DerlingumoPokytisDėlŠiaudų[[#This Row],[Technologija]]), \"-\")),2),)","v":8.35}]
[{"$f":"ROW()-ROW(DerlingumoPokytisDėlŠiaudų[[#Headers],[Eil. Nr.]])","v":18},"Seklus arimas (SA)","Žieminiai kviečiai",{"$f":"IFERROR(ROUND(AVERAGE(_xlfn._xlws.FILTER(DerlingBandRez[Derlingumas], (DerlingBandRez[Žemės ūkio augalas] = DerlingumoPokytisDėlŠiaudų[[#This Row],[Pasėlis]]) * (DerlingBandRez[Technologija] = DerlingumoPokytisDėlŠiaudų[[#This Row],[Technologija]]), \"-\")),2),)","v":8.16}]
[{"$f":"ROW()-ROW(DerlingumoPokytisDėlŠiaudų[[#Headers],[Eil. Nr.]])","v":19},"Seklus purenimas rudenį (SPR)","Žieminiai kviečiai",{"$f":"IFERROR(ROUND(AVERAGE(_xlfn._xlws.FILTER(DerlingBandRez[Derlingumas], (DerlingBandRez[Žemės ūkio augalas] = DerlingumoPokytisDėlŠiaudų[[#This Row],[Pasėlis]]) * (DerlingBandRez[Technologija] = DerlingumoPokytisDėlŠiaudų[[#This Row],[Technologija]]), \"-\")),2),)","v":8.26}]
[{"$f":"ROW()-ROW(DerlingumoPokytisDėlŠiaudų[[#Headers],[Eil. Nr.]])","v":20},"Seklus purenimas prieš sėją (SPS)","Žieminiai kviečiai",{"$f":"IFERROR(ROUND(AVERAGE(_xlfn._xlws.FILTER(DerlingBandRez[Derlingumas], (DerlingBandRez[Žemės ūkio augalas] = DerlingumoPokytisDėlŠiaudų[[#This Row],[Pasėlis]]) * (DerlingBandRez[Technologija] = DerlingumoPokytisDėlŠiaudų[[#This Row],[Technologija]]), \"-\")),2),)","v":9.2799999999999994}]
[{"$f":"ROW()-ROW(DerlingumoPokytisDėlŠiaudų[[#Headers],[Eil. Nr.]])","v":21},"Tarpiniai pasėliai (TP)","Žieminiai kviečiai",{"$f":"IFERROR(ROUND(AVERAGE(_xlfn._xlws.FILTER(DerlingBandRez[Derlingumas], (DerlingBandRez[Žemės ūkio augalas] = DerlingumoPokytisDėlŠiaudų[[#This Row],[Pasėlis]]) * (DerlingBandRez[Technologija] = DerlingumoPokytisDėlŠiaudų[[#This Row],[Technologija]]), \"-\")),2),)","v":9.23}]
[{"$f":"ROW()-ROW(DerlingumoPokytisDėlŠiaudų[[#Headers],[Eil. Nr.]])","v":22},"Tiesioginė sėja (TS)","Žieminiai kviečiai",{"$f":"IFERROR(ROUND(AVERAGE(_xlfn._xlws.FILTER(DerlingBandRez[Derlingumas], (DerlingBandRez[Žemės ūkio augalas] = DerlingumoPokytisDėlŠiaudų[[#This Row],[Pasėlis]]) * (DerlingBandRez[Technologija] = DerlingumoPokytisDėlŠiaudų[[#This Row],[Technologija]]), \"-\")),2),)","v":8.92}]
[{"$f":"ROW()-ROW(DerlingumoPokytisDėlŠiaudų[[#Headers],[Eil. Nr.]])","v":23},"R","Žieminiai kviečiai",{"$f":"IFERROR(ROUND(AVERAGE(_xlfn._xlws.FILTER(DerlingBandRez[Derlingumas], (DerlingBandRez[Žemės ūkio augalas] = DerlingumoPokytisDėlŠiaudų[[#This Row],[Pasėlis]]) * (DerlingBandRez[Technologija] = DerlingumoPokytisDėlŠiaudų[[#This Row],[Technologija]]), \"-\")),2),)","v":0}]
[{"$f":"ROW()-ROW(DerlingumoPokytisDėlŠiaudų[[#Headers],[Eil. Nr.]])","v":24},"S","Žieminiai kviečiai",{"$f":"IFERROR(ROUND(AVERAGE(_xlfn._xlws.FILTER(DerlingBandRez[Derlingumas], (DerlingBandRez[Žemės ūkio augalas] = DerlingumoPokytisDėlŠiaudų[[#This Row],[Pasėlis]]) * (DerlingBandRez[Technologija] = DerlingumoPokytisDėlŠiaudų[[#This Row],[Technologija]]), \"-\")),2),)","v":0}]
[{"$f":"ROW()-ROW(DerlingumoPokytisDėlŠiaudų[[#Headers],[Eil. Nr.]])","v":25},"Gilus arimas (GA)","Žieminiai rapsai",{"$f":"IFERROR(ROUND(AVERAGE(_xlfn._xlws.FILTER(DerlingBandRez[Derlingumas], (DerlingBandRez[Žemės ūkio augalas] = DerlingumoPokytisDėlŠiaudų[[#This Row],[Pasėlis]]) * (DerlingBandRez[Technologija] = DerlingumoPokytisDėlŠiaudų[[#This Row],[Technologija]]), \"-\")),2),)","v":2.37}]
[{"$f":"ROW()-ROW(DerlingumoPokytisDėlŠiaudų[[#Headers],[Eil. Nr.]])","v":26},"Seklus arimas (SA)","Žieminiai rapsai",{"$f":"IFERROR(ROUND(AVERAGE(_xlfn._xlws.FILTER(DerlingBandRez[Derlingumas], (DerlingBandRez[Žemės ūkio augalas] = DerlingumoPokytisDėlŠiaudų[[#This Row],[Pasėlis]]) * (DerlingBandRez[Technologija] = DerlingumoPokytisDėlŠiaudų[[#This Row],[Technologija]]), \"-\")),2),)","v":2.39}]
[{"$f":"ROW()-ROW(DerlingumoPokytisDėlŠiaudų[[#Headers],[Eil. Nr.]])","v":27},"Seklus purenimas rudenį (SPR)","Žieminiai rapsai",{"$f":"IFERROR(ROUND(AVERAGE(_xlfn._xlws.FILTER(DerlingBandRez[Derlingumas], (DerlingBandRez[Žemės ūkio augalas] = DerlingumoPokytisDėlŠiaudų[[#This Row],[Pasėlis]]) * (DerlingBandRez[Technologija] = DerlingumoPokytisDėlŠiaudų[[#This Row],[Technologija]]), \"-\")),2),)","v":2.48}]
[{"$f":"ROW()-ROW(DerlingumoPokytisDėlŠiaudų[[#Headers],[Eil. Nr.]])","v":28},"Seklus purenimas prieš sėją (SPS)","Žieminiai rapsai",{"$f":"IFERROR(ROUND(AVERAGE(_xlfn._xlws.FILTER(DerlingBandRez[Derlingumas], (DerlingBandRez[Žemės ūkio augalas] = DerlingumoPokytisDėlŠiaudų[[#This Row],[Pasėlis]]) * (DerlingBandRez[Technologija] = DerlingumoPokytisDėlŠiaudų[[#This Row],[Technologija]]), \"-\")),2),)","v":2.85}]
[{"$f":"ROW()-ROW(DerlingumoPokytisDėlŠiaudų[[#Headers],[Eil. Nr.]])","v":29},"Tarpiniai pasėliai (TP)","Žieminiai rapsai",{"$f":"IFERROR(ROUND(AVERAGE(_xlfn._xlws.FILTER(DerlingBandRez[Derlingumas], (DerlingBandRez[Žemės ūkio augalas] = DerlingumoPokytisDėlŠiaudų[[#This Row],[Pasėlis]]) * (DerlingBandRez[Technologija] = DerlingumoPokytisDėlŠiaudų[[#This Row],[Technologija]]), \"-\")),2),)","v":3.11}]
[{"$f":"ROW()-ROW(DerlingumoPokytisDėlŠiaudų[[#Headers],[Eil. Nr.]])","v":30},"Tiesioginė sėja (TS)","Žieminiai rapsai",{"$f":"IFERROR(ROUND(AVERAGE(_xlfn._xlws.FILTER(DerlingBandRez[Derlingumas], (DerlingBandRez[Žemės ūkio augalas] = DerlingumoPokytisDėlŠiaudų[[#This Row],[Pasėlis]]) * (DerlingBandRez[Technologija] = DerlingumoPokytisDėlŠiaudų[[#This Row],[Technologija]]), \"-\")),2),)","v":3.37}]
[{"$f":"ROW()-ROW(DerlingumoPokytisDėlŠiaudų[[#Headers],[Eil. Nr.]])","v":31},"R","Žieminiai rapsai",{"$f":"IFERROR(ROUND(AVERAGE(_xlfn._xlws.FILTER(DerlingBandRez[Derlingumas], (DerlingBandRez[Žemės ūkio augalas] = DerlingumoPokytisDėlŠiaudų[[#This Row],[Pasėlis]]) * (DerlingBandRez[Technologija] = DerlingumoPokytisDėlŠiaudų[[#This Row],[Technologija]]), \"-\")),2),)","v":0}]
[{"$f":"ROW()-ROW(DerlingumoPokytisDėlŠiaudų[[#Headers],[Eil. Nr.]])","v":32},"S","Žieminiai rapsai",{"$f":"IFERROR(ROUND(AVERAGE(_xlfn._xlws.FILTER(DerlingBandRez[Derlingumas], (DerlingBandRez[Žemės ūkio augalas] = DerlingumoPokytisDėlŠiaudų[[#This Row],[Pasėlis]]) * (DerlingBandRez[Technologija] = DerlingumoPokytisDėlŠiaudų[[#This Row],[Technologija]]), \"-\")),2),)","v":0}]

{"sheet":"KainosDB","index":12,"n_rows":14,"n_cols":3,"rows_kept":14,"cut":false,"hidden":true,"merged":[]}
[]
["Vidutinės žemės ūkio produkcijos kainos*"]
["Duomenų bazė"]
[]
[]
[]
[]
[]
[]
["Eil. Nr.","Žemės ūkio produktas","Produkcijos kaina Eur/t"]
[{"$f":"ROW()-ROW(Kainos[[#Headers],[Eil. Nr.]])","v":1},"Kviečiai",227]
[{"$f":"ROW()-ROW(Kainos[[#Headers],[Eil. Nr.]])","v":2},"Miežiai",203]
[{"$f":"ROW()-ROW(Kainos[[#Headers],[Eil. Nr.]])","v":3},"Rapsai",451]
[{"$f":"ROW()-ROW(Kainos[[#Headers],[Eil. Nr.]])","v":4},"Kiti grūdai",170]

{"sheet":"ŽŪ išteklių kainų indeksai","index":13,"n_rows":91,"n_cols":4,"rows_kept":91,"cut":false,"hidden":true,"merged":[]}
[]
[]
["Žemės ūkio produkcijos gamybos reikmėms įsigytų prekių ir paslaugų kainų indeksai (2018 m. – 100), Žemės ūkio investicijoms panaudotų prekių kainų indeksai (2018 m. – 100)"]
[]
[]
[]
[]
[]
[]
["Eil. Nr.","Metai","Ištekliai ir investicijos","Indeksas"]
[{"$f":"ROW()-ROW(Lentelė9[[#Headers],[Eil. Nr.]])","v":1},2015,"Visos prekės ir paslaugos",0.85836909871244638]
[{"$f":"ROW()-ROW(Lentelė9[[#Headers],[Eil. Nr.]])","v":2},2015,"Priemonės",0.99403578528827041]
[{"$f":"ROW()-ROW(Lentelė9[[#Headers],[Eil. Nr.]])","v":3},2015,"Mašinos ir kiti įrenginiai",0.77279752704791338]
[{"$f":"ROW()-ROW(Lentelė9[[#Headers],[Eil. Nr.]])","v":4},2015,"Plūgai ir dviratė technika",0.84889643463497455]
[{"$f":"ROW()-ROW(Lentelė9[[#Headers],[Eil. Nr.]])","v":5},2015,"Mašinos ir kultivatoriai",1.1547344110854505]
[{"$f":"ROW()-ROW(Lentelė9[[#Headers],[Eil. Nr.]])","v":6},2015,"Mašinos ir derliaus nuėmimo mašinos",0.70571630204657732]
[{"$f":"ROW()-ROW(Lentelė9[[#Headers],[Eil. Nr.]])","v":7},2015,"Žemės ūkio mašinos ir įrenginiai",1.0615711252653928]
[{"$f":"ROW()-ROW(Lentelė9[[#Headers],[Eil. Nr.]])","v":8},2015,"Žemės ūkio mašinos ir įrenginiai, naudojami augalininkystės produktų gamybai",0.89126559714795006]
[{"$f":"ROW()-ROW(Lentelė9[[#Headers],[Eil. Nr.]])","v":9},2015,"Traktoriai (Ratiniai)",1.2755102040816326]
[{"$f":"ROW()-ROW(Lentelė9[[#Headers],[Eil. Nr.]])","v":10},2016,"Visos prekės ir paslaugos",1.0755364806866952]
[{"$f":"ROW()-ROW(Lentelė9[[#Headers],[Eil. Nr.]])","v":11},2016,"Priemonės",1.0566600397614314]
[{"$f":"ROW()-ROW(Lentelė9[[#Headers],[Eil. Nr.]])","v":12},2016,"Mašinos ir kiti įrenginiai",0.84234930448222567]
[{"$f":"ROW()-ROW(Lentelė9[[#Headers],[Eil. Nr.]])","v":13},2016,"Plūgai ir dviratė technika",1.2792869269949065]
[{"$f":"ROW()-ROW(Lentelė9[[#Headers],[Eil. Nr.]])","v":14},2016,"Mašinos ir kultivatoriai",1.3591224018475752]
[{"$f":"ROW()-ROW(Lentelė9[[#Headers],[Eil. Nr.]])","v":15},2016,"Mašinos ir derliaus nuėmimo mašinos",0.72688779110797463]
[{"$f":"ROW()-ROW(Lentelė9[[#Headers],[Eil. Nr.]])","v":16},2016,"Žemės ūkio mašinos ir įrenginiai",0.9575371549893843]
[{"$f":"ROW()-ROW(Lentelė9[[#Headers],[Eil. Nr.]])","v":17},2016,"Žemės ūkio mašinos ir įrenginiai, naudojami augalininkystės produktų gamybai",0.8975044563279857]
[{"$f":"ROW()-ROW(Lentelė9[[#Headers],[Eil. Nr.]])","v":18},2016,"Traktoriai (Ratiniai)",1.3290816326530612]
[{"$f":"ROW()-ROW(Lentelė9[[#Headers],[Eil. Nr.]])","v":19},2017,"Visos prekės ir paslaugos",1.0892703862660944]
[{"$f":"ROW()-ROW(Lentelė9[[#Headers],[Eil. Nr.]])","v":20},2017,"Priemonės",0.87872763419483113]
[{"$f":"ROW()-ROW(Lentelė9[[#Headers],[Eil. Nr.]])","v":21},2017,"Mašinos ir kiti įrenginiai",0.76584234930448214]
[{"$f":"ROW()-ROW(Lentelė9[[#Headers],[Eil. Nr.]])","v":22},2017,"Plūgai ir dviratė technika",0.78947368421052633]
[{"$f":"ROW()-ROW(Lentelė9[[#Headers],[Eil. Nr.]])","v":23},2017,"Mašinos ir kultivatoriai",1.3903002309468824]
[{"$f":"ROW()-ROW(Lentelė9[[#Headers],[Eil. Nr.]])","v":24},2017,"Mašinos ir derliaus nuėmimo mašinos",0.67113620324629497]
[{"$f":"ROW()-ROW(Lentelė9[[#Headers],[Eil. Nr.]])","v":25},2017,"Žemės ūkio mašinos ir įrenginiai",1.059447983014862]
[{"$f":"ROW()-ROW(Lentelė9[[#Headers],[Eil. Nr.]])","v":26},2017,"Žemės ūkio mašinos ir įrenginiai, naudojami augalininkystės produktų gamybai",0.83689839572192515]
[{"$f":"ROW()-ROW(Lentelė9[[#Headers],[Eil. Nr.]])","v":27},2017,"Traktoriai (Ratiniai)",1.0242346938775508]
[{"$f":"ROW()-ROW(Lentelė9[[#Headers],[Eil. Nr.]])","v":28},2018,"Visos prekės ir paslaugos",1]
[{"$f":"ROW()-ROW(Lentelė9[[#Headers],[Eil. Nr.]])","v":29},2018,"Priemonės",1]
[{"$f":"ROW()-ROW(Lentelė9[[#Headers],[Eil. Nr.]])","v":30},2018,"Mašinos ir kiti įrenginiai",1]
[{"$f":"ROW()-ROW(Lentelė9[[#Headers],[Eil. Nr.]])","v":31},2018,"Plūgai ir dviratė technika",1]
[{"$f":"ROW()-ROW(Lentelė9[[#Headers],[Eil. Nr.]])","v":32},2018,"Mašinos ir kultivatoriai",1]
[{"$f":"ROW()-ROW(Lentelė9[[#Headers],[Eil. Nr.]])","v":33},2018,"Mašinos ir derliaus nuėmimo mašinos",1]
[{"$f":"ROW()-ROW(Lentelė9[[#Headers],[Eil. Nr.]])","v":34},2018,"Žemės ūkio mašinos ir įrenginiai",1]
[{"$f":"ROW()-ROW(Lentelė9[[#Headers],[Eil. Nr.]])","v":35},2018,"Žemės ūkio mašinos ir įrenginiai, naudojami augalininkystės produktų gamybai",1]
[{"$f":"ROW()-ROW(Lentelė9[[#Headers],[Eil. Nr.]])","v":36},2018,"Traktoriai (Ratiniai)",1]
[{"$f":"ROW()-ROW(Lentelė9[[#Headers],[Eil. Nr.]])","v":37},2019,"Visos prekės ir paslaugos",0.81115879828326176]
[{"$f":"ROW()-ROW(Lentelė9[[#Headers],[Eil. Nr.]])","v":38},2019,"Priemonės",0.73658051689860837]
[{"$f":"ROW()-ROW(Lentelė9[[#Headers],[Eil. Nr.]])","v":39},2019,"Mašinos ir kiti įrenginiai",0.72488408037094276]
[{"$f":"ROW()-ROW(Lentelė9[[#Headers],[Eil. Nr.]])","v":40},2019,"Plūgai ir dviratė technika",0.29626485568760613]
[{"$f":"ROW()-ROW(Lentelė9[[#Headers],[Eil. Nr.]])","v":41},2019,"Mašinos ir kultivatoriai",0.88683602771362591]
[{"$f":"ROW()-ROW(Lentelė9[[#Headers],[Eil. Nr.]])","v":42},2019,"Mašinos ir derliaus nuėmimo mašinos",0.73535638673253356]
[{"$f":"ROW()-ROW(Lentelė9[[#Headers],[Eil. Nr.]])","v":43},2019,"Žemės ūkio mašinos ir įrenginiai",1.043524416135881]
[{"$f":"ROW()-ROW(Lentelė9[[#Headers],[Eil. Nr.]])","v":44},2019,"Žemės ūkio mašinos ir įrenginiai, naudojami augalininkystės produktų gamybai",1.0543672014260248]
[{"$f":"ROW()-ROW(Lentelė9[[#Headers],[Eil. Nr.]])","v":45},2019,"Traktoriai (Ratiniai)",0.75127551020408156]
[{"$f":"ROW()-ROW(Lentelė9[[#Headers],[Eil. Nr.]])","v":46},2020,"Visos prekės ir paslaugos",0.88669527896995703]
[{"$f":"ROW()-ROW(Lentelė9[[#Headers],[Eil. Nr.]])","v":47},2020,"Priemonės",0.97117296222664029]
[{"$f":"ROW()-ROW(Lentelė9[[#Headers],[Eil. Nr.]])","v":48},2020,"Mašinos ir kiti įrenginiai",0.79134466769706335]
[{"$f":"ROW()-ROW(Lentelė9[[#Headers],[Eil. Nr.]])","v":49},2020,"Plūgai ir dviratė technika",0.56791171477079805]
[{"$f":"ROW()-ROW(Lentelė9[[#Headers],[Eil. Nr.]])","v":50},2020,"Mašinos ir kultivatoriai",0.9041570438799077]
[{"$f":"ROW()-ROW(Lentelė9[[#Headers],[Eil. Nr.]])","v":51},2020,"Mašinos ir derliaus nuėmimo mašinos",0.78899082568807344]
[{"$f":"ROW()-ROW(Lentelė9[[#Headers],[Eil. Nr.]])","v":52},2020,"Žemės ūkio mašinos ir įrenginiai",1.0934182590233545]
[{"$f":"ROW()-ROW(Lentelė9[[#Headers],[Eil. Nr.]])","v":53},2020,"Žemės ūkio mašinos ir įrenginiai, naudojami augalininkystės produktų gamybai",0.93048128342245995]
[{"$f":"ROW()-ROW(Lentelė9[[#Headers],[Eil. Nr.]])","v":54},2020,"Traktoriai (Ratiniai)",1.1989795918367345]
[{"$f":"ROW()-ROW(Lentelė9[[#Headers],[Eil. Nr.]])","v":55},2021,"Visos prekės ir paslaugos",1.0128755364806867]
[{"$f":"ROW()-ROW(Lentelė9[[#Headers],[Eil. Nr.]])","v":56},2021,"Priemonės",1.1361829025844932]
[{"$f":"ROW()-ROW(Lentelė9[[#Headers],[Eil. Nr.]])","v":57},2021,"Mašinos ir kiti įrenginiai",0.94513137557959803]
[{"$f":"ROW()-ROW(Lentelė9[[#Headers],[Eil. Nr.]])","v":58},2021,"Plūgai ir dviratė technika",0.56706281833616301]
[{"$f":"ROW()-ROW(Lentelė9[[#Headers],[Eil. Nr.]])","v":59},2021,"Mašinos ir kultivatoriai",1.2459584295612012]
[{"$f":"ROW()-ROW(Lentelė9[[#Headers],[Eil. Nr.]])","v":60},2021,"Mašinos ir derliaus nuėmimo mašinos",0.93719124911785479]
[{"$f":"ROW()-ROW(Lentelė9[[#Headers],[Eil. Nr.]])","v":61},2021,"Žemės ūkio mašinos ir įrenginiai",1.1008492569002124]
[{"$f":"ROW()-ROW(Lentelė9[[#Headers],[Eil. Nr.]])","v":62},2021,"Žemės ūkio mašinos ir įrenginiai, naudojami augalininkystės produktų gamybai",0.86096256684491967]
[{"$f":"ROW()-ROW(Lentelė9[[#Headers],[Eil. Nr.]])","v":63},2021,"Traktoriai (Ratiniai)",1.3788265306122447]
[{"$f":"ROW()-ROW(Lentelė9[[#Headers],[Eil. Nr.]])","v":64},2022,"Visos prekės ir paslaugos",1.0746781115879829]
[{"$f":"ROW()-ROW(Lentelė9[[#Headers],[Eil. Nr.]])","v":65},2022,"Priemonės",1.0974155069582505]
[{"$f":"ROW()-ROW(Lentelė9[[#Headers],[Eil. Nr.]])","v":66},2022,"Mašinos ir kiti įrenginiai",1.1236476043276662]
[{"$f":"ROW()-ROW(Lentelė9[[#Headers],[Eil. Nr.]])","v":67},2022,"Plūgai ir dviratė technika",0.48556876061120546]
[{"$f":"ROW()-ROW(Lentelė9[[#Headers],[Eil. Nr.]])","v":68},2022,"Mašinos ir kultivatoriai",1.4272517321016167]
[{"$f":"ROW()-ROW(Lentelė9[[#Headers],[Eil. Nr.]])","v":69},2022,"Mašinos ir derliaus nuėmimo mašinos",1.1199717713479183]
[{"$f":"ROW()-ROW(Lentelė9[[#Headers],[Eil. Nr.]])","v":70},2022,"Žemės ūkio mašinos ir įrenginiai",2.0084925690021231]
[{"$f":"ROW()-ROW(Lentelė9[[#Headers],[Eil. Nr.]])","v":71},2022,"Žemės ūkio mašinos ir įrenginiai, naudojami augalininkystės produktų gamybai",1.2700534759358288]
[{"$f":"ROW()-ROW(Lentelė9[[#Headers],[Eil. Nr.]])","v":72},2022,"Traktoriai (Ratiniai)",1.0650510204081631]
[{"$f":"ROW()-ROW(Lentelė9[[#Headers],[Eil. Nr.]])","v":73},2023,"Visos prekės ir paslaugos",1.0480686695278969]
[{"$f":"ROW()-ROW(Lentelė9[[#Headers],[Eil. Nr.]])","v":74},2023,"Priemonės",1.1153081510934395]
[{"$f":"ROW()-ROW(Lentelė9[[#Headers],[Eil. Nr.]])","v":75},2023,"Mašinos ir kiti įrenginiai",1.3253477588871716]
[{"$f":"ROW()-ROW(Lentelė9[[#Headers],[Eil. Nr.]])","v":76},2023,"Plūgai ir dviratė technika",0.64855687606112056]
[{"$f":"ROW()-ROW(Lentelė9[[#Headers],[Eil. Nr.]])","v":77},2023,"Mašinos ir kultivatoriai",1.7678983833718245]
[{"$f":"ROW()-ROW(Lentelė9[[#Headers],[Eil. Nr.]])","v":78},2023,"Mašinos ir derliaus nuėmimo mašinos",1.3069865913902612]
[{"$f":"ROW()-ROW(Lentelė9[[#Headers],[Eil. Nr.]])","v":79},2023,"Žemės ūkio mašinos ir įrenginiai",2.1910828025477707]
[{"$f":"ROW()-ROW(Lentelė9[[#Headers],[Eil. Nr.]])","v":80},2023,"Žemės ūkio mašinos ir įrenginiai, naudojami augalininkystės produktų gamybai",1.5338680926916219]
[{"$f":"ROW()-ROW(Lentelė9[[#Headers],[Eil. Nr.]])","v":81},2023,"Traktoriai (Ratiniai)",0.84693877551020413]

{"sheet":"Technikos kainos","index":14,"n_rows":35,"n_cols":6,"rows_kept":35,"cut":false,"hidden":true,"merged":[]}
[]
[]
[]
[]
[]
[]
[]
["2 lentelė. TRAKTORIŲ GALIA IR VIDUTINĖS RINKOS KAINOS"]
[]
["Eil. Nr.","Gaimybos šalis","Variklio galia, KW","Variklio galia, AG","Vidutinė kaina, tūkst. Eur","Kainos nustatymo metai"]
[{"$f":"ROW()-ROW(Lentelė20[[#Headers],[Eil. Nr.]])","v":1},"Vakarų Europos gamybos traktoriai",30,40.799999999999997,18.45,2018]
[{"$f":"ROW()-ROW(Lentelė20[[#Headers],[Eil. Nr.]])","v":2},"Vakarų Europos gamybos traktoriai",37,50.3,20.170000000000002,2018]
[{"$f":"ROW()-ROW(Lentelė20[[#Headers],[Eil. Nr.]])","v":3},"Vakarų Europos gamybos traktoriai",45,61.2,25.24,2018]
[{"$f":"ROW()-ROW(Lentelė20[[#Headers],[Eil. Nr.]])","v":4},"Vakarų Europos gamybos traktoriai",54,73.400000000000006,31.43,2018]
[{"$f":"ROW()-ROW(Lentelė20[[#Headers],[Eil. Nr.]])","v":5},"Vakarų Europos gamybos traktoriai",67,91.1,40.9,2018]
[{"$f":"ROW()-ROW(Lentelė20[[#Headers],[Eil. Nr.]])","v":6},"Vakarų Europos gamybos traktoriai",83,112.9,57.12,2018]
[{"$f":"ROW()-ROW(Lentelė20[[#Headers],[Eil. Nr.]])","v":7},"Vakarų Europos gamybos traktoriai",102,138.69999999999999,70.599999999999994,2018]
[{"$f":"ROW()-ROW(Lentelė20[[#Headers],[Eil. Nr.]])","v":8},"Vakarų Europos gamybos traktoriai",120,163.19999999999999,83.4,2018]
[{"$f":"ROW()-ROW(Lentelė20[[#Headers],[Eil. Nr.]])","v":9},"Vakarų Europos gamybos traktoriai",138,187.7,91.1,2018]
[{"$f":"ROW()-ROW(Lentelė20[[#Headers],[Eil. Nr.]])","v":10},"Vakarų Europos gamybos traktoriai",157,213.5,106.6,2018]
[{"$f":"ROW()-ROW(Lentelė20[[#Headers],[Eil. Nr.]])","v":11},"Vakarų Europos gamybos traktoriai",176,239.4,123.6,2018]
[{"$f":"ROW()-ROW(Lentelė20[[#Headers],[Eil. Nr.]])","v":12},"Vakarų Europos gamybos traktoriai",190,258.39999999999998,136.86000000000001,2018]
[{"$f":"ROW()-ROW(Lentelė20[[#Headers],[Eil. Nr.]])","v":13},"Vakarų Europos gamybos traktoriai",200,272,144.1,2018]
[{"$f":"ROW()-ROW(Lentelė20[[#Headers],[Eil. Nr.]])","v":14},"Vakarų Europos gamybos traktoriai",225,306,169.4,2018]
[{"$f":"ROW()-ROW(Lentelė20[[#Headers],[Eil. Nr.]])","v":15},"Vakarų Europos gamybos traktoriai",233,316.89999999999998,175.5,2018]
[{"$f":"ROW()-ROW(Lentelė20[[#Headers],[Eil. Nr.]])","v":16},"Vakarų Europos gamybos traktoriai",275,374,201.8,2018]
[{"$f":"ROW()-ROW(Lentelė20[[#Headers],[Eil. Nr.]])","v":17},"Vakarų Europos gamybos traktoriai",338,459.7,250.22,2018]
[{"$f":"ROW()-ROW(Lentelė20[[#Headers],[Eil. Nr.]])","v":18},"NVS šalių gamybos traktoriai",36,49,15.27,2018]
[{"$f":"ROW()-ROW(Lentelė20[[#Headers],[Eil. Nr.]])","v":19},"NVS šalių gamybos traktoriai",59,80.2,25.1,2018]
[{"$f":"ROW()-ROW(Lentelė20[[#Headers],[Eil. Nr.]])","v":20},"NVS šalių gamybos traktoriai",70,95.2,28.22,2018]
[{"$f":"ROW()-ROW(Lentelė20[[#Headers],[Eil. Nr.]])","v":21},"NVS šalių gamybos traktoriai",81,110.2,30.9,2018]
[{"$f":"ROW()-ROW(Lentelė20[[#Headers],[Eil. Nr.]])","v":22},"NVS šalių gamybos traktoriai",100,136,38.619999999999997,2018]
[{"$f":"ROW()-ROW(Lentelė20[[#Headers],[Eil. Nr.]])","v":23},"NVS šalių gamybos traktoriai",115,156.4,48.34,2018]
[{"$f":"ROW()-ROW(Lentelė20[[#Headers],[Eil. Nr.]])","v":24},"NVS šalių gamybos traktoriai",120,163.19999999999999,55.55,2018]
[{"$f":"ROW()-ROW(Lentelė20[[#Headers],[Eil. Nr.]])","v":25},"NVS šalių gamybos traktoriai",220,299.2,100.8,2018]

{"sheet":"Darbų įkainiai","index":15,"n_rows":144,"n_cols":51,"rows_kept":144,"cut":false,"hidden":true,"merged":[]}
[null,null,null,null,null,null,null,null,null,null,null,null,null,null,null,null,null,null,null,null,null,null,null,null,null,null,null,"Kainų indeksas, lyginant su 2018 metais",2023,"Visos prekės ir paslaugos",1.0480686695278969]
[null,null,null,null,null,null,null,null,null,null,null,null,null,null,null,null,null,null,null,null,null,null,null,null,null,null,null,null,2023,"Priemonės",1.1153081510934395]
[null,"ŽEMĖS ŪKIO DARBŲ ĮKAINIAI",null,null,null,null,null,null,null,null,null,null,null,null,null,null,null,null,null,null,null,null,null,null,null,null,null,null,2023,"Mašinos ir kiti įrenginiai",1.3253477588871716]
[null,null,null,null,null,null,null,null,null,null,null,null,null,null,null,null,null,null,null,null,null,null,null,null,null,null,null,null,2023,"Plūgai ir dviratė technika",0.64855687606112056]
[null,null,null,null,null,null,null,null,null,null,null,null,null,null,null,null,null,null,null,null,null,null,null,null,null,null,null,null,2023,"Mašinos ir kultivatoriai",1.7678983833718245]
[null,null,null,null,null,null,null,null,null,null,null,null,null,null,null,null,null,null,null,null,null,null,null,null,null,null,null,null,2023,"Mašinos ir derliaus nuėmimo mašinos",1.3069865913902612]
[null,null,null,null,null,null,null,null,null,null,null,null,null,null,null,null,null,null,null,null,null,null,null,null,null,null,null,null,2023,"Žemės ūkio mašinos ir įrenginiai",2.1910828025477707,null,null,null,null,null,null,"Dyzelino kaina, Eur/l","Žemės ūkis"]
[null,null,null,null,null,null,null,null,null,null,null,null,null,null,null,null,null,null,null,null,null,null,null,null,null,null,null,null,2023,"Žemės ūkio mašinos ir įrenginiai, naudojami augalininkystės produktų gamybai",1.5338680926916219,null,null,null,null,null,null,2024,2024]
[null,null,null,null,null,null,null,null,null,null,null,null,null,null,null,null,null,null,null,null,null,null,null,null,null,null,null,null,2023,"Traktoriai (Ratiniai)",0.84693877551020413,{"$f":"AE6","v":1.3069865913902612},{"$f":"AE8","v":1.5338680926916219},null,null,null,{"$f":"+AE8","v":1.5338680926916219},0.75,{"$f":"_xlfn._xlws.FILTER(DU[Eur/val.],(DU[Metai]=$AM$8)  * (DU[Rodiklio apskaičiavimo bazė]=$AM$7))","v":11.11},null,{"$f":"AE2","v":1.1153081510934395},null,0.05,null,null,null,2024]
["Eil. Nr.","Žemės ūkio mašina","Darbinis plotis, m","Tręšimo, išsėjimo, purškimo norma, kg/ha; Derlingumas, t/ha","Traktoriaus (kombaino) galia, kW","Traktoriaus (kombaino) kaina, tūkst. Eur","Žemės ūkio mašinos (cisternos) kaina, tūkst. Eur","Išdirbio norma, ha/val.","Degalų sąnaudų norma, l/ha","Išlaidos atnaujinimui, Eur/ha","Išlaidos remontui ir tech. aptarnavimui, Eur/ha","Išlaidos degalams ir tepalams, Eur/ha","Išlaidos darbo užmokesčiui su priskaitymais, Eur/ha","Išlaidos iš viso, Eur/ha","Kitos, Eur/ha","Savikaina, Eur/ha","Pelnas, Eur/ha","Įkainis, Eur/ha","Kintamieji kaštai, Eur/ha","Darbas","Įkainio nustatymo metai","Žemės ūkio mašinų kilmė","Papildomas barstytubo parametras, m3","Aktualus darbo pavadinimas","Stulpelis1",null,"Eil. Nr.","Žemės ūkio mašina","Darbinis plotis, m","Tręšimo, išsėjimo, purškimo norma, kg/ha; Derlingumas, t/ha","Traktoriaus (kombaino) galia, kW","Traktoriaus (kombaino) kaina, tūkst. Eur","Žemės ūkio mašinos (cisternos) kaina, tūkst. Eur","Išdirbio norma, ha/val.","Degalų sąnaudų norma, l/ha","Išlaidos atnaujinimui, Eur/ha","Išlaidos remontui ir tech. aptarnavimui, Eur/ha","Išlaidos degalams ir tepalams, Eur/ha","Išlaidos darbo užmokesčiui su priskaitymais, Eur/ha","Išlaidos iš viso, Eur/ha","Kitos, Eur/ha","Savikaina, Eur/ha","Pelnas, Eur/ha","Įkainis, Eur/ha","Kintamieji kaštai, Eur/ha","Darbas","Įkainio nustatymo metai","Žemės ūkio mašinų kilmė","Papildomas barstytubo parametras, m3","Aktualus darbo pavadinimas","Stulpelis1"]
[{"$f":"ROW()-ROW(DarbųĮkainiai2018[[#Headers],[Eil. Nr.]])","v":1},"Pakabinamaisiais apverčiamaisiais plūgais",0.7,null,45,25.24,7.02,0.36,24.6,16.22,13.96,17.47,13.19,60.83,4.87,65.7,3.29,68.989999999999995,{"$f":"+DarbųĮkainiai2018[[#This Row],[Įkainis, Eur/ha]]-DarbųĮkainiai2018[[#This Row],[Pelnas, Eur/ha]]-DarbųĮkainiai2018[[#This Row],[Išlaidos atnaujinimui, Eur/ha]]","v":49.47999999999999},"DIRVOS DIRBIMAS",2018,"Vakarų Europos",null,"Gilus arimas",14,null,{"$f":"ROW()-ROW(DarbųĮkainiai2024[[#Headers],[Eil. Nr.]])","v":1},{"$f":"+DarbųĮkainiai2018[[#This Row],[Žemės ūkio mašina]]","v":"Pakabinamaisiais apverčiamaisiais plūgais"},{"$f":"+DarbųĮkainiai2018[[#This Row],[Darbinis plotis, m]]","v":0.7},{"$f":"+DarbųĮkainiai2018[[#This Row],[Tręšimo, išsėjimo, purškimo norma, kg/ha; Derlingumas, t/ha]]","v":0},{"$f":"+DarbųĮkainiai2018[[#This Row],[Traktoriaus (kombaino) galia, kW]]","v":45},{"$f":"ROUND(DarbųĮkainiai2018[[#This Row],[Traktoriaus (kombaino) kaina, tūkst. Eur]]*$AF$9,2)","v":32.99},{"$f":"ROUND(DarbųĮkainiai2018[[#This Row],[Žemės ūkio mašinos (cisternos) kaina, tūkst. Eur]] * $AG$9,2)","v":10.77},{"$f":"+DarbųĮkainiai2018[[#This Row],[Išdirbio norma, ha/val.]]","v":0.36},{"$f":"+DarbųĮkainiai2018[[#This Row],[Degalų sąnaudų norma, l/ha]]","v":24.6},{"$f":"ROUND(DarbųĮkainiai2018[[#This Row],[Išlaidos atnaujinimui, Eur/ha]]*1.35,2)","v":21.9},{"$f":"ROUND(DarbųĮkainiai2018[[#This Row],[Išlaidos remontui ir tech. aptarnavimui, Eur/ha]]*$AK$9,2)","v":21.41},{"$f":"ROUND(DarbųĮkainiai2024[[#This Row],[Degalų sąnaudų norma, l/ha]] * $AL$9,2)","v":18.45},{"$f":"ROUND(1/DarbųĮkainiai2024[[#This Row],[Išdirbio norma, ha/val.]]*$AM$9,2)","v":30.86},{"$f":"+DarbųĮkainiai2024[[#This Row],[Išlaidos atnaujinimui, Eur/ha]]+DarbųĮkainiai2024[[#This Row],[Išlaidos remontui ir tech. aptarnavimui, Eur/ha]]+DarbųĮkainiai2024[[#This Row],[Išlaidos degalams ir tepalams, Eur/ha]]+DarbųĮkainiai2024[[#This Row],[Išlaidos darbo užmokesčiui su priskaitymais, Eur/ha]]","v":92.62},{"$f":"ROUND(DarbųĮkainiai2018[[#This Row],[Kitos, Eur/ha]] * $AO$9,2)","v":5.43},{"$f":"+DarbųĮkainiai2024[[#This Row],[Kitos, Eur/ha]]+DarbųĮkainiai2024[[#This Row],[Išlaidos iš viso, Eur/ha]]","v":98.050000000000011},{"$f":"ROUND(DarbųĮkainiai2024[[#This Row],[Savikaina, Eur/ha]]*$AQ$9,2)","v":4.9000000000000004},{"$f":"+DarbųĮkainiai2024[[#This Row],[Pelnas, Eur/ha]]+DarbųĮkainiai2024[[#This Row],[Savikaina, Eur/ha]]","v":102.95000000000002},{"$f":"+DarbųĮkainiai2024[[#This Row],[Įkainis, Eur/ha]]-DarbųĮkainiai2024[[#This Row],[Pelnas, Eur/ha]]-DarbųĮkainiai2024[[#This Row],[Išlaidos atnaujinimui, Eur/ha]]","v":76.150000000000006},{"$f":"+DarbųĮkainiai2018[[#This Row],[Darbas]]","v":"DIRVOS DIRBIMAS"},{"$f":"$AU$9","v":2024},{"$f":"+DarbųĮkainiai2018[[#This Row],[Žemės ūkio mašinų kilmė]]","v":"Vakarų Europos"},{"$f":"+DarbųĮkainiai2018[[#This Row],[Papildomas barstytubo parametras, m3]]","v":0},{"$f":"+DarbųĮkainiai2018[[#This Row],[Aktualus darbo pavadinimas]]","v":"Gilus arimas"},{"$f":"+DarbųĮkainiai2018[[#This Row],[Stulpelis1]]","v":14}]
[{"$f":"ROW()-ROW(DarbųĮkainiai2018[[#Headers],[Eil. Nr.]])","v":2},"Pakabinamaisiais apverčiamaisiais plūgais",1.05,null,67,40.9,10.92,0.53,24.8,17.440000000000001,14.93,17.61,8.9600000000000009,58.95,4.72,63.66,3.18,66.84,{"$f":"+DarbųĮkainiai2018[[#This Row],[Įkainis, Eur/ha]]-DarbųĮkainiai2018[[#This Row],[Pelnas, Eur/ha]]-DarbųĮkainiai2018[[#This Row],[Išlaidos atnaujinimui, Eur/ha]]","v":46.22},"DIRVOS DIRBIMAS",2018,"Vakarų Europos",null,"Gilus arimas",15,null,{"$f":"ROW()-ROW(DarbųĮkainiai2024[[#Headers],[Eil. Nr.]])","v":2},{"$f":"+DarbųĮkainiai2018[[#This Row],[Žemės ūkio mašina]]","v":"Pakabinamaisiais apverčiamaisiais plūgais"},{"$f":"+DarbųĮkainiai2018[[#This Row],[Darbinis plotis, m]]","v":1.05},{"$f":"+DarbųĮkainiai2018[[#This Row],[Tręšimo, išsėjimo, purškimo norma, kg/ha; Derlingumas, t/ha]]","v":0},{"$f":"+DarbųĮkainiai2018[[#This Row],[Traktoriaus (kombaino) galia, kW]]","v":67},{"$f":"ROUND(DarbųĮkainiai2018[[#This Row],[Traktoriaus (kombaino) kaina, tūkst. Eur]]*$AF$9,2)","v":53.46},{"$f":"ROUND(DarbųĮkainiai2018[[#This Row],[Žemės ūkio mašinos (cisternos) kaina, tūkst. Eur]] * $AG$9,2)","v":16.75},{"$f":"+DarbųĮkainiai2018[[#This Row],[Išdirbio norma, ha/val.]]","v":0.53},{"$f":"+DarbųĮkainiai2018[[#This Row],[Degalų sąnaudų norma, l/ha]]","v":24.8},{"$f":"ROUND(DarbųĮkainiai2018[[#This Row],[Išlaidos atnaujinimui, Eur/ha]]*1.35,2)","v":23.54},{"$f":"ROUND(DarbųĮkainiai2018[[#This Row],[Išlaidos remontui ir tech. aptarnavimui, Eur/ha]]*$AK$9,2)","v":22.9},{"$f":"ROUND(DarbųĮkainiai2024[[#This Row],[Degalų sąnaudų norma, l/ha]] * $AL$9,2)","v":18.600000000000001},{"$f":"ROUND(1/DarbųĮkainiai2024[[#This Row],[Išdirbio norma, ha/val.]]*$AM$9,2)","v":20.96},{"$f":"+DarbųĮkainiai2024[[#This Row],[Išlaidos atnaujinimui, Eur/ha]]+DarbųĮkainiai2024[[#This Row],[Išlaidos remontui ir tech. aptarnavimui, Eur/ha]]+DarbųĮkainiai2024[[#This Row],[Išlaidos degalams ir tepalams, Eur/ha]]+DarbųĮkainiai2024[[#This Row],[Išlaidos darbo užmokesčiui su priskaitymais, Eur/ha]]","v":86},{"$f":"ROUND(DarbųĮkainiai2018[[#This Row],[Kitos, Eur/ha]] * $AO$9,2)","v":5.26},{"$f":"+DarbųĮkainiai2024[[#This Row],[Kitos, Eur/ha]]+DarbųĮkainiai2024[[#This Row],[Išlaidos iš viso, Eur/ha]]","v":91.26},{"$f":"ROUND(DarbųĮkainiai2024[[#This Row],[Savikaina, Eur/ha]]*$AQ$9,2)","v":4.5599999999999996},{"$f":"+DarbųĮkainiai2024[[#This Row],[Pelnas, Eur/ha]]+DarbųĮkainiai2024[[#This Row],[Savikaina, Eur/ha]]","v":95.820000000000007},{"$f":"+DarbųĮkainiai2024[[#This Row],[Įkainis, Eur/ha]]-DarbųĮkainiai2024[[#This Row],[Pelnas, Eur/ha]]-DarbųĮkainiai2024[[#This Row],[Išlaidos atnaujinimui, Eur/ha]]","v":67.72},{"$f":"+DarbųĮkainiai2018[[#This Row],[Darbas]]","v":"DIRVOS DIRBIMAS"},2024,{"$f":"+DarbųĮkainiai2018[[#This Row],[Žemės ūkio mašinų kilmė]]","v":"Vakarų Europos"},{"$f":"+DarbųĮkainiai2018[[#This Row],[Papildomas barstytubo parametras, m3]]","v":0},{"$f":"+DarbųĮkainiai2018[[#This Row],[Aktualus darbo pavadinimas]]","v":"Gilus arimas"},{"$f":"+DarbųĮkainiai2018[[#This Row],[Stulpelis1]]","v":15}]
[{"$f":"ROW()-ROW(DarbųĮkainiai2018[[#Headers],[Eil. Nr.]])","v":3},"Pakabinamaisiais apverčiamaisiais plūgais",1.4,null,83,57.12,15.16,0.72,23.7,17.87,15.29,16.829999999999998,7.6,57.58,4.6100000000000003,62.19,3.11,65.3,{"$f":"+DarbųĮkainiai2018[[#This Row],[Įkainis, Eur/ha]]-DarbųĮkainiai2018[[#This Row],[Pelnas, Eur/ha]]-DarbųĮkainiai2018[[#This Row],[Išlaidos atnaujinimui, Eur/ha]]","v":44.319999999999993},"DIRVOS DIRBIMAS",2018,"Vakarų Europos",null,"Gilus arimas",16,null,{"$f":"ROW()-ROW(DarbųĮkainiai2024[[#Headers],[Eil. Nr.]])","v":3},{"$f":"+DarbųĮkainiai2018[[#This Row],[Žemės ūkio mašina]]","v":"Pakabinamaisiais apverčiamaisiais plūgais"},{"$f":"+DarbųĮkainiai2018[[#This Row],[Darbinis plotis, m]]","v":1.4},{"$f":"+DarbųĮkainiai2018[[#This Row],[Tręšimo, išsėjimo, purškimo norma, kg/ha; Derlingumas, t/ha]]","v":0},{"$f":"+DarbųĮkainiai2018[[#This Row],[Traktoriaus (kombaino) galia, kW]]","v":83},{"$f":"ROUND(DarbųĮkainiai2018[[#This Row],[Traktoriaus (kombaino) kaina, tūkst. Eur]]*$AF$9,2)","v":74.66},{"$f":"ROUND(DarbųĮkainiai2018[[#This Row],[Žemės ūkio mašinos (cisternos) kaina, tūkst. Eur]] * $AG$9,2)","v":23.25},{"$f":"+DarbųĮkainiai2018[[#This Row],[Išdirbio norma, ha/val.]]","v":0.72},{"$f":"+DarbųĮkainiai2018[[#This Row],[Degalų sąnaudų norma, l/ha]]","v":23.7},{"$f":"ROUND(DarbųĮkainiai2018[[#This Row],[Išlaidos atnaujinimui, Eur/ha]]*1.35,2)","v":24.12},{"$f":"ROUND(DarbųĮkainiai2018[[#This Row],[Išlaidos remontui ir tech. aptarnavimui, Eur/ha]]*$AK$9,2)","v":23.45},{"$f":"ROUND(DarbųĮkainiai2024[[#This Row],[Degalų sąnaudų norma, l/ha]] * $AL$9,2)","v":17.78},{"$f":"ROUND(1/DarbųĮkainiai2024[[#This Row],[Išdirbio norma, ha/val.]]*$AM$9,2)","v":15.43},{"$f":"+DarbųĮkainiai2024[[#This Row],[Išlaidos atnaujinimui, Eur/ha]]+DarbųĮkainiai2024[[#This Row],[Išlaidos remontui ir tech. aptarnavimui, Eur/ha]]+DarbųĮkainiai2024[[#This Row],[Išlaidos degalams ir tepalams, Eur/ha]]+DarbųĮkainiai2024[[#This Row],[Išlaidos darbo užmokesčiui su priskaitymais, Eur/ha]]","v":80.78},{"$f":"ROUND(DarbųĮkainiai2018[[#This Row],[Kitos, Eur/ha]] * $AO$9,2)","v":5.14},{"$f":"+DarbųĮkainiai2024[[#This Row],[Kitos, Eur/ha]]+DarbųĮkainiai2024[[#This Row],[Išlaidos iš viso, Eur/ha]]","v":85.92},{"$f":"ROUND(DarbųĮkainiai2024[[#This Row],[Savikaina, Eur/ha]]*$AQ$9,2)","v":4.3},{"$f":"+DarbųĮkainiai2024[[#This Row],[Pelnas, Eur/ha]]+DarbųĮkainiai2024[[#This Row],[Savikaina, Eur/ha]]","v":90.22},{"$f":"+DarbųĮkainiai2024[[#This Row],[Įkainis, Eur/ha]]-DarbųĮkainiai2024[[#This Row],[Pelnas, Eur/ha]]-DarbųĮkainiai2024[[#This Row],[Išlaidos atnaujinimui, Eur/ha]]","v":61.8},{"$f":"+DarbųĮkainiai2018[[#This Row],[Darbas]]","v":"DIRVOS DIRBIMAS"},2024,{"$f":"+DarbųĮkainiai2018[[#This Row],[Žemės ūkio mašinų kilmė]]","v":"Vakarų Europos"},{"$f":"+DarbųĮkainiai2018[[#This Row],[Papildomas barstytubo parametras, m3]]","v":0},{"$f":"+DarbųĮkainiai2018[[#This Row],[Aktualus darbo pavadinimas]]","v":"Gilus arimas"},{"$f":"+DarbųĮkainiai2018[[#This Row],[Stulpelis1]]","v":16}]
[{"$f":"ROW()-ROW(DarbųĮkainiai2018[[#Headers],[Eil. Nr.]])","v":4},"Pakabinamaisiais apverčiamaisiais plūgais",1.4,null,102,70.599999999999994,15.16,0.72,25.8,19.739999999999998,16.41,18.32,7.6,62.07,4.97,67.03,3.35,70.38,{"$f":"+DarbųĮkainiai2018[[#This Row],[Įkainis, Eur/ha]]-DarbųĮkainiai2018[[#This Row],[Pelnas, Eur/ha]]-DarbųĮkainiai2018[[#This Row],[Išlaidos atnaujinimui, Eur/ha]]","v":47.290000000000006},"DIRVOS DIRBIMAS",2018,"Vakarų Europos",null,"Gilus arimas",17,null,{"$f":"ROW()-ROW(DarbųĮkainiai2024[[#Headers],[Eil. Nr.]])","v":4},{"$f":"+DarbųĮkainiai2018[[#This Row],[Žemės ūkio mašina]]","v":"Pakabinamaisiais apverčiamaisiais plūgais"},{"$f":"+DarbųĮkainiai2018[[#This Row],[Darbinis plotis, m]]","v":1.4},{"$f":"+DarbųĮkainiai2018[[#This Row],[Tręšimo, išsėjimo, purškimo norma, kg/ha; Derlingumas, t/ha]]","v":0},{"$f":"+DarbųĮkainiai2018[[#This Row],[Traktoriaus (kombaino) galia, kW]]","v":102},{"$f":"ROUND(DarbųĮkainiai2018[[#This Row],[Traktoriaus (kombaino) kaina, tūkst. Eur]]*$AF$9,2)","v":92.27},{"$f":"ROUND(DarbųĮkainiai2018[[#This Row],[Žemės ūkio mašinos (cisternos) kaina, tūkst. Eur]] * $AG$9,2)","v":23.25},{"$f":"+DarbųĮkainiai2018[[#This Row],[Išdirbio norma, ha/val.]]","v":0.72},{"$f":"+DarbųĮkainiai2018[[#This Row],[Degalų sąnaudų norma, l/ha]]","v":25.8},{"$f":"ROUND(DarbųĮkainiai2018[[#This Row],[Išlaidos atnaujinimui, Eur/ha]]*1.35,2)","v":26.65},{"$f":"ROUND(DarbųĮkainiai2018[[#This Row],[Išlaidos remontui ir tech. aptarnavimui, Eur/ha]]*$AK$9,2)","v":25.17},{"$f":"ROUND(DarbųĮkainiai2024[[#This Row],[Degalų sąnaudų norma, l/ha]] * $AL$9,2)","v":19.350000000000001},{"$f":"ROUND(1/DarbųĮkainiai2024[[#This Row],[Išdirbio norma, ha/val.]]*$AM$9,2)","v":15.43},{"$f":"+DarbųĮkainiai2024[[#This Row],[Išlaidos atnaujinimui, Eur/ha]]+DarbųĮkainiai2024[[#This Row],[Išlaidos remontui ir tech. aptarnavimui, Eur/ha]]+DarbųĮkainiai2024[[#This Row],[Išlaidos degalams ir tepalams, Eur/ha]]+DarbųĮkainiai2024[[#This Row],[Išlaidos darbo užmokesčiui su priskaitymais, Eur/ha]]","v":86.6},{"$f":"ROUND(DarbųĮkainiai2018[[#This Row],[Kitos, Eur/ha]] * $AO$9,2)","v":5.54},{"$f":"+DarbųĮkainiai2024[[#This Row],[Kitos, Eur/ha]]+DarbųĮkainiai2024[[#This Row],[Išlaidos iš viso, Eur/ha]]","v":92.14},{"$f":"ROUND(DarbųĮkainiai2024[[#This Row],[Savikaina, Eur/ha]]*$AQ$9,2)","v":4.6100000000000003},{"$f":"+DarbųĮkainiai2024[[#This Row],[Pelnas, Eur/ha]]+DarbųĮkainiai2024[[#This Row],[Savikaina, Eur/ha]]","v":96.75},{"$f":"+DarbųĮkainiai2024[[#This Row],[Įkainis, Eur/ha]]-DarbųĮkainiai2024[[#This Row],[Pelnas, Eur/ha]]-DarbųĮkainiai2024[[#This Row],[Išlaidos atnaujinimui, Eur/ha]]","v":65.490000000000009},{"$f":"+DarbųĮkainiai2018[[#This Row],[Darbas]]","v":"DIRVOS DIRBIMAS"},2024,{"$f":"+DarbųĮkainiai2018[[#This Row],[Žemės ūkio mašinų kilmė]]","v":"Vakarų Europos"},{"$f":"+DarbųĮkainiai2018[[#This Row],[Papildomas barstytubo parametras, m3]]","v":0},{"$f":"+DarbųĮkainiai2018[[#This Row],[Aktualus darbo pavadinimas]]","v":"Gilus arimas"},{"$f":"+DarbųĮkainiai2018[[#This Row],[Stulpelis1]]","v":17}]
[{"$f":"ROW()-ROW(DarbųĮkainiai2018[[#Headers],[Eil. Nr.]])","v":5},"Prikabinamaisiais apverčiamaisiais plūgais",1.75,null,120,83.4,22.4,0.88,25.4,21.49,18.420000000000002,18.03,6.22,64.16,5.13,69.290000000000006,3.46,72.75,{"$f":"+DarbųĮkainiai2018[[#This Row],[Įkainis, Eur/ha]]-DarbųĮkainiai2018[[#This Row],[Pelnas, Eur/ha]]-DarbųĮkainiai2018[[#This Row],[Išlaidos atnaujinimui, Eur/ha]]","v":47.800000000000011},"DIRVOS DIRBIMAS",2018,"Vakarų Europos",null,"Gilus arimas",18,null,{"$f":"ROW()-ROW(DarbųĮkainiai2024[[#Headers],[Eil. Nr.]])","v":5},{"$f":"+DarbųĮkainiai2018[[#This Row],[Žemės ūkio mašina]]","v":"Prikabinamaisiais apverčiamaisiais plūgais"},{"$f":"+DarbųĮkainiai2018[[#This Row],[Darbinis plotis, m]]","v":1.75},{"$f":"+DarbųĮkainiai2018[[#This Row],[Tręšimo, išsėjimo, purškimo norma, kg/ha; Derlingumas, t/ha]]","v":0},{"$f":"+DarbųĮkainiai2018[[#This Row],[Traktoriaus (kombaino) galia, kW]]","v":120},{"$f":"ROUND(DarbųĮkainiai2018[[#This Row],[Traktoriaus (kombaino) kaina, tūkst. Eur]]*$AF$9,2)","v":109},{"$f":"ROUND(DarbųĮkainiai2018[[#This Row],[Žemės ūkio mašinos (cisternos) kaina, tūkst. Eur]] * $AG$9,2)","v":34.36},{"$f":"+DarbųĮkainiai2018[[#This Row],[Išdirbio norma, ha/val.]]","v":0.88},{"$f":"+DarbųĮkainiai2018[[#This Row],[Degalų sąnaudų norma, l/ha]]","v":25.4},{"$f":"ROUND(DarbųĮkainiai2018[[#This Row],[Išlaidos atnaujinimui, Eur/ha]]*1.35,2)","v":29.01},{"$f":"ROUND(DarbųĮkainiai2018[[#This Row],[Išlaidos remontui ir tech. aptarnavimui, Eur/ha]]*$AK$9,2)","v":28.25},{"$f":"ROUND(DarbųĮkainiai2024[[#This Row],[Degalų sąnaudų norma, l/ha]] * $AL$9,2)","v":19.05},{"$f":"ROUND(1/DarbųĮkainiai2024[[#This Row],[Išdirbio norma, ha/val.]]*$AM$9,2)","v":12.63},{"$f":"+DarbųĮkainiai2024[[#This Row],[Išlaidos atnaujinimui, Eur/ha]]+DarbųĮkainiai2024[[#This Row],[Išlaidos remontui ir tech. aptarnavimui, Eur/ha]]+DarbųĮkainiai2024[[#This Row],[Išlaidos degalams ir tepalams, Eur/ha]]+DarbųĮkainiai2024[[#This Row],[Išlaidos darbo užmokesčiui su priskaitymais, Eur/ha]]","v":88.94},{"$f":"ROUND(DarbųĮkainiai2018[[#This Row],[Kitos, Eur/ha]] * $AO$9,2)","v":5.72},{"$f":"+DarbųĮkainiai2024[[#This Row],[Kitos, Eur/ha]]+DarbųĮkainiai2024[[#This Row],[Išlaidos iš viso, Eur/ha]]","v":94.66},{"$f":"ROUND(DarbųĮkainiai2024[[#This Row],[Savikaina, Eur/ha]]*$AQ$9,2)","v":4.7300000000000004},{"$f":"+DarbųĮkainiai2024[[#This Row],[Pelnas, Eur/ha]]+DarbųĮkainiai2024[[#This Row],[Savikaina, Eur/ha]]","v":99.39},{"$f":"+DarbųĮkainiai2024[[#This Row],[Įkainis, Eur/ha]]-DarbųĮkainiai2024[[#This Row],[Pelnas, Eur/ha]]-DarbųĮkainiai2024[[#This Row],[Išlaidos atnaujinimui, Eur/ha]]","v":65.649999999999991},{"$f":"+DarbųĮkainiai2018[[#This Row],[Darbas]]","v":"DIRVOS DIRBIMAS"},2024,{"$f":"+DarbųĮkainiai2018[[#This Row],[Žemės ūkio mašinų kilmė]]","v":"Vakarų Europos"},{"$f":"+DarbųĮkainiai2018[[#This Row],[Papildomas barstytubo parametras, m3]]","v":0},{"$f":"+DarbųĮkainiai2018[[#This Row],[Aktualus darbo pavadinimas]]","v":"Gilus arimas"},{"$f":"+DarbųĮkainiai2018[[#This Row],[Stulpelis1]]","v":18}]
[{"$f":"ROW()-ROW(DarbųĮkainiai2018[[#Headers],[Eil. Nr.]])","v":6},"Prikabinamaisiais apverčiamaisiais plūgais",2.1,null,138,91.1,26.88,1.05,25.3,20.76,18.010000000000002,17.96,5.21,61.94,4.96,66.900000000000006,3.34,70.239999999999995,{"$f":"+DarbųĮkainiai2018[[#This Row],[Įkainis, Eur/ha]]-DarbųĮkainiai2018[[#This Row],[Pelnas, Eur/ha]]-DarbųĮkainiai2018[[#This Row],[Išlaidos atnaujinimui, Eur/ha]]","v":46.139999999999986},"DIRVOS DIRBIMAS",2018,"Vakarų Europos",null,"Gilus arimas",19,null,{"$f":"ROW()-ROW(DarbųĮkainiai2024[[#Headers],[Eil. Nr.]])","v":6},{"$f":"+DarbųĮkainiai2018[[#This Row],[Žemės ūkio mašina]]","v":"Prikabinamaisiais apverčiamaisiais plūgais"},{"$f":"+DarbųĮkainiai2018[[#This Row],[Darbinis plotis, m]]","v":2.1},{"$f":"+DarbųĮkainiai2018[[#This Row],[Tręšimo, išsėjimo, purškimo norma, kg/ha; Derlingumas, t/ha]]","v":0},{"$f":"+DarbųĮkainiai2018[[#This Row],[Traktoriaus (kombaino) galia, kW]]","v":138},{"$f":"ROUND(DarbųĮkainiai2018[[#This Row],[Traktoriaus (kombaino) kaina, tūkst. Eur]]*$AF$9,2)","v":119.07},{"$f":"ROUND(DarbųĮkainiai2018[[#This Row],[Žemės ūkio mašinos (cisternos) kaina, tūkst. Eur]] * $AG$9,2)","v":41.23},{"$f":"+DarbųĮkainiai2018[[#This Row],[Išdirbio norma, ha/val.]]","v":1.05},{"$f":"+DarbųĮkainiai2018[[#This Row],[Degalų sąnaudų norma, l/ha]]","v":25.3},{"$f":"ROUND(DarbųĮkainiai2018[[#This Row],[Išlaidos atnaujinimui, Eur/ha]]*1.35,2)","v":28.03},{"$f":"ROUND(DarbųĮkainiai2018[[#This Row],[Išlaidos remontui ir tech. aptarnavimui, Eur/ha]]*$AK$9,2)","v":27.62},{"$f":"ROUND(DarbųĮkainiai2024[[#This Row],[Degalų sąnaudų norma, l/ha]] * $AL$9,2)","v":18.98},{"$f":"ROUND(1/DarbųĮkainiai2024[[#This Row],[Išdirbio norma, ha/val.]]*$AM$9,2)","v":10.58},{"$f":"+DarbųĮkainiai2024[[#This Row],[Išlaidos atnaujinimui, Eur/ha]]+DarbųĮkainiai2024[[#This Row],[Išlaidos remontui ir tech. aptarnavimui, Eur/ha]]+DarbųĮkainiai2024[[#This Row],[Išlaidos degalams ir tepalams, Eur/ha]]+DarbųĮkainiai2024[[#This Row],[Išlaidos darbo užmokesčiui su priskaitymais, Eur/ha]]","v":85.210000000000008},{"$f":"ROUND(DarbųĮkainiai2018[[#This Row],[Kitos, Eur/ha]] * $AO$9,2)","v":5.53},{"$f":"+DarbųĮkainiai2024[[#This Row],[Kitos, Eur/ha]]+DarbųĮkainiai2024[[#This Row],[Išlaidos iš viso, Eur/ha]]","v":90.740000000000009},{"$f":"ROUND(DarbųĮkainiai2024[[#This Row],[Savikaina, Eur/ha]]*$AQ$9,2)","v":4.54},{"$f":"+DarbųĮkainiai2024[[#This Row],[Pelnas, Eur/ha]]+DarbųĮkainiai2024[[#This Row],[Savikaina, Eur/ha]]","v":95.280000000000015},{"$f":"+DarbųĮkainiai2024[[#This Row],[Įkainis, Eur/ha]]-DarbųĮkainiai2024[[#This Row],[Pelnas, Eur/ha]]-DarbųĮkainiai2024[[#This Row],[Išlaidos atnaujinimui, Eur/ha]]","v":62.710000000000008},{"$f":"+DarbųĮkainiai2018[[#This Row],[Darbas]]","v":"DIRVOS DIRBIMAS"},2024,{"$f":"+DarbųĮkainiai2018[[#This Row],[Žemės ūkio mašinų kilmė]]","v":"Vakarų Europos"},{"$f":"+DarbųĮkainiai2018[[#This Row],[Papildomas barstytubo parametras, m3]]","v":0},{"$f":"+DarbųĮkainiai2018[[#This Row],[Aktualus darbo pavadinimas]]","v":"Gilus arimas"},{"$f":"+DarbųĮkainiai2018[[#This Row],[Stulpelis1]]","v":19}]
[{"$f":"ROW()-ROW(DarbųĮkainiai2018[[#Headers],[Eil. Nr.]])","v":7},"Prikabinamaisiais apverčiamaisiais plūgais",2.4500000000000002,null,157,106.6,31.36,1.23,25.2,20.7,17.95,17.89,5.0199999999999996,61.57,4.93,66.5,3.32,69.819999999999993,{"$f":"+DarbųĮkainiai2018[[#This Row],[Įkainis, Eur/ha]]-DarbųĮkainiai2018[[#This Row],[Pelnas, Eur/ha]]-DarbųĮkainiai2018[[#This Row],[Išlaidos atnaujinimui, Eur/ha]]","v":45.8},"DIRVOS DIRBIMAS",2018,"Vakarų Europos",null,"Gilus arimas",20,null,{"$f":"ROW()-ROW(DarbųĮkainiai2024[[#Headers],[Eil. Nr.]])","v":7},{"$f":"+DarbųĮkainiai2018[[#This Row],[Žemės ūkio mašina]]","v":"Prikabinamaisiais apverčiamaisiais plūgais"},{"$f":"+DarbųĮkainiai2018[[#This Row],[Darbinis plotis, m]]","v":2.4500000000000002},{"$f":"+DarbųĮkainiai2018[[#This Row],[Tręšimo, išsėjimo, purškimo norma, kg/ha; Derlingumas, t/ha]]","v":0},{"$f":"+DarbųĮkainiai2018[[#This Row],[Traktoriaus (kombaino) galia, kW]]","v":157},{"$f":"ROUND(DarbųĮkainiai2018[[#This Row],[Traktoriaus (kombaino) kaina, tūkst. Eur]]*$AF$9,2)","v":139.32},{"$f":"ROUND(DarbųĮkainiai2018[[#This Row],[Žemės ūkio mašinos (cisternos) kaina, tūkst. Eur]] * $AG$9,2)","v":48.1},{"$f":"+DarbųĮkainiai2018[[#This Row],[Išdirbio norma, ha/val.]]","v":1.23},{"$f":"+DarbųĮkainiai2018[[#This Row],[Degalų sąnaudų norma, l/ha]]","v":25.2},{"$f":"ROUND(DarbųĮkainiai2018[[#This Row],[Išlaidos atnaujinimui, Eur/ha]]*1.35,2)","v":27.95},{"$f":"ROUND(DarbųĮkainiai2018[[#This Row],[Išlaidos remontui ir tech. aptarnavimui, Eur/ha]]*$AK$9,2)","v":27.53},{"$f":"ROUND(DarbųĮkainiai2024[[#This Row],[Degalų sąnaudų norma, l/ha]] * $AL$9,2)","v":18.899999999999999},{"$f":"ROUND(1/DarbųĮkainiai2024[[#This Row],[Išdirbio norma, ha/val.]]*$AM$9,2)","v":9.0299999999999994},{"$f":"+DarbųĮkainiai2024[[#This Row],[Išlaidos atnaujinimui, Eur/ha]]+DarbųĮkainiai2024[[#This Row],[Išlaidos remontui ir tech. aptarnavimui, Eur/ha]]+DarbųĮkainiai2024[[#This Row],[Išlaidos degalams ir tepalams, Eur/ha]]+DarbųĮkainiai2024[[#This Row],[Išlaidos darbo užmokesčiui su priskaitymais, Eur/ha]]","v":83.41},{"$f":"ROUND(DarbųĮkainiai2018[[#This Row],[Kitos, Eur/ha]] * $AO$9,2)","v":5.5},{"$f":"+DarbųĮkainiai2024[[#This Row],[Kitos, Eur/ha]]+DarbųĮkainiai2024[[#This Row],[Išlaidos iš viso, Eur/ha]]","v":88.91},{"$f":"ROUND(DarbųĮkainiai2024[[#This Row],[Savikaina, Eur/ha]]*$AQ$9,2)","v":4.45},{"$f":"+DarbųĮkainiai2024[[#This Row],[Pelnas, Eur/ha]]+DarbųĮkainiai2024[[#This Row],[Savikaina, Eur/ha]]","v":93.36},{"$f":"+DarbųĮkainiai2024[[#This Row],[Įkainis, Eur/ha]]-DarbųĮkainiai2024[[#This Row],[Pelnas, Eur/ha]]-DarbųĮkainiai2024[[#This Row],[Išlaidos atnaujinimui, Eur/ha]]","v":60.959999999999994},{"$f":"+DarbųĮkainiai2018[[#This Row],[Darbas]]","v":"DIRVOS DIRBIMAS"},2024,{"$f":"+DarbųĮkainiai2018[[#This Row],[Žemės ūkio mašinų kilmė]]","v":"Vakarų Europos"},{"$f":"+DarbųĮkainiai2018[[#This Row],[Papildomas barstytubo parametras, m3]]","v":0},{"$f":"+DarbųĮkainiai2018[[#This Row],[Aktualus darbo pavadinimas]]","v":"Gilus arimas"},{"$f":"+DarbųĮkainiai2018[[#This Row],[Stulpelis1]]","v":20}]
[{"$f":"ROW()-ROW(DarbųĮkainiai2018[[#Headers],[Eil. Nr.]])","v":8},"Prikabinamaisiais apverčiamaisiais plūgais",2.8,null,176,123.6,35.840000000000003,1.4,25.1,20.91,18.100000000000001,17.82,4.41,61.25,4.9000000000000004,66.150000000000006,3.31,69.459999999999994,{"$f":"+DarbųĮkainiai2018[[#This Row],[Įkainis, Eur/ha]]-DarbųĮkainiai2018[[#This Row],[Pelnas, Eur/ha]]-DarbųĮkainiai2018[[#This Row],[Išlaidos atnaujinimui, Eur/ha]]","v":45.239999999999995},"DIRVOS DIRBIMAS",2018,"Vakarų Europos",null,"Gilus arimas",21,null,{"$f":"ROW()-ROW(DarbųĮkainiai2024[[#Headers],[Eil. Nr.]])","v":8},{"$f":"+DarbųĮkainiai2018[[#This Row],[Žemės ūkio mašina]]","v":"Prikabinamaisiais apverčiamaisiais plūgais"},{"$f":"+DarbųĮkainiai2018[[#This Row],[Darbinis plotis, m]]","v":2.8},{"$f":"+DarbųĮkainiai2018[[#This Row],[Tręšimo, išsėjimo, purškimo norma, kg/ha; Derlingumas, t/ha]]","v":0},{"$f":"+DarbųĮkainiai2018[[#This Row],[Traktoriaus (kombaino) galia, kW]]","v":176},{"$f":"ROUND(DarbųĮkainiai2018[[#This Row],[Traktoriaus (kombaino) kaina, tūkst. Eur]]*$AF$9,2)","v":161.54},{"$f":"ROUND(DarbųĮkainiai2018[[#This Row],[Žemės ūkio mašinos (cisternos) kaina, tūkst. Eur]] * $AG$9,2)","v":54.97},{"$f":"+DarbųĮkainiai2018[[#This Row],[Išdirbio norma, ha/val.]]","v":1.4},{"$f":"+DarbųĮkainiai2018[[#This Row],[Degalų sąnaudų norma, l/ha]]","v":25.1},{"$f":"ROUND(DarbųĮkainiai2018[[#This Row],[Išlaidos atnaujinimui, Eur/ha]]*1.35,2)","v":28.23},{"$f":"ROUND(DarbųĮkainiai2018[[#This Row],[Išlaidos remontui ir tech. aptarnavimui, Eur/ha]]*$AK$9,2)","v":27.76},{"$f":"ROUND(DarbųĮkainiai2024[[#This Row],[Degalų sąnaudų norma, l/ha]] * $AL$9,2)","v":18.829999999999998},{"$f":"ROUND(1/DarbųĮkainiai2024[[#This Row],[Išdirbio norma, ha/val.]]*$AM$9,2)","v":7.94},{"$f":"+DarbųĮkainiai2024[[#This Row],[Išlaidos atnaujinimui, Eur/ha]]+DarbųĮkainiai2024[[#This Row],[Išlaidos remontui ir tech. aptarnavimui, Eur/ha]]+DarbųĮkainiai2024[[#This Row],[Išlaidos degalams ir tepalams, Eur/ha]]+DarbųĮkainiai2024[[#This Row],[Išlaidos darbo užmokesčiui su priskaitymais, Eur/ha]]","v":82.759999999999991},{"$f":"ROUND(DarbųĮkainiai2018[[#This Row],[Kitos, Eur/ha]] * $AO$9,2)","v":5.47},{"$f":"+DarbųĮkainiai2024[[#This Row],[Kitos, Eur/ha]]+DarbųĮkainiai2024[[#This Row],[Išlaidos iš viso, Eur/ha]]","v":88.22999999999999},{"$f":"ROUND(DarbųĮkainiai2024[[#This Row],[Savikaina, Eur/ha]]*$AQ$9,2)","v":4.41},{"$f":"+DarbųĮkainiai2024[[#This Row],[Pelnas, Eur/ha]]+DarbųĮkainiai2024[[#This Row],[Savikaina, Eur/ha]]","v":92.639999999999986},{"$f":"+DarbųĮkainiai2024[[#This Row],[Įkainis, Eur/ha]]-DarbųĮkainiai2024[[#This Row],[Pelnas, Eur/ha]]-DarbųĮkainiai2024[[#This Row],[Išlaidos atnaujinimui, Eur/ha]]","v":59.999999999999986},{"$f":"+DarbųĮkainiai2018[[#This Row],[Darbas]]","v":"DIRVOS DIRBIMAS"},2024,{"$f":"+DarbųĮkainiai2018[[#This Row],[Žemės ūkio mašinų kilmė]]","v":"Vakarų Europos"},{"$f":"+DarbųĮkainiai2018[[#This Row],[Papildomas barstytubo parametras, m3]]","v":0},{"$f":"+DarbųĮkainiai2018[[#This Row],[Aktualus darbo pavadinimas]]","v":"Gilus arimas"},{"$f":"+DarbųĮkainiai2018[[#This Row],[Stulpelis1]]","v":21}]
[{"$f":"ROW()-ROW(DarbųĮkainiai2018[[#Headers],[Eil. Nr.]])","v":9},"Prikabinamaisiais apverčiamaisiais plūgais su tankintuvais",1.75,null,120,83.4,25.8,0.87,27.7,23.59,20.58,19.690000000000001,6.29,70.150000000000006,5.61,75.760000000000005,3.79,79.55,{"$f":"+DarbųĮkainiai2018[[#This Row],[Įkainis, Eur/ha]]-DarbųĮkainiai2018[[#This Row],[Pelnas, Eur/ha]]-DarbųĮkainiai2018[[#This Row],[Išlaidos atnaujinimui, Eur/ha]]","v":52.169999999999987},"DIRVOS DIRBIMAS",2018,"Vakarų Europos",null,"Gilus arimas",22,null,{"$f":"ROW()-ROW(DarbųĮkainiai2024[[#Headers],[Eil. Nr.]])","v":9},{"$f":"+DarbųĮkainiai2018[[#This Row],[Žemės ūkio mašina]]","v":"Prikabinamaisiais apverčiamaisiais plūgais su tankintuvais"},{"$f":"+DarbųĮkainiai2018[[#This Row],[Darbinis plotis, m]]","v":1.75},{"$f":"+DarbųĮkainiai2018[[#This Row],[Tręšimo, išsėjimo, purškimo norma, kg/ha; Derlingumas, t/ha]]","v":0},{"$f":"+DarbųĮkainiai2018[[#This Row],[Traktoriaus (kombaino) galia, kW]]","v":120},{"$f":"ROUND(DarbųĮkainiai2018[[#This Row],[Traktoriaus (kombaino) kaina, tūkst. Eur]]*$AF$9,2)","v":109},{"$f":"ROUND(DarbųĮkainiai2018[[#This Row],[Žemės ūkio mašinos (cisternos) kaina, tūkst. Eur]] * $AG$9,2)","v":39.57},{"$f":"+DarbųĮkainiai2018[[#This Row],[Išdirbio norma, ha/val.]]","v":0.87},{"$f":"+DarbųĮkainiai2018[[#This Row],[Degalų sąnaudų norma, l/ha]]","v":27.7},{"$f":"ROUND(DarbųĮkainiai2018[[#This Row],[Išlaidos atnaujinimui, Eur/ha]]*1.35,2)","v":31.85},{"$f":"ROUND(DarbųĮkainiai2018[[#This Row],[Išlaidos remontui ir tech. aptarnavimui, Eur/ha]]*$AK$9,2)","v":31.57},{"$f":"ROUND(DarbųĮkainiai2024[[#This Row],[Degalų sąnaudų norma, l/ha]] * $AL$9,2)","v":20.78},{"$f":"ROUND(1/DarbųĮkainiai2024[[#This Row],[Išdirbio norma, ha/val.]]*$AM$9,2)","v":12.77},{"$f":"+DarbųĮkainiai2024[[#This Row],[Išlaidos atnaujinimui, Eur/ha]]+DarbųĮkainiai2024[[#This Row],[Išlaidos remontui ir tech. aptarnavimui, Eur/ha]]+DarbųĮkainiai2024[[#This Row],[Išlaidos degalams ir tepalams, Eur/ha]]+DarbųĮkainiai2024[[#This Row],[Išlaidos darbo užmokesčiui su priskaitymais, Eur/ha]]","v":96.97},{"$f":"ROUND(DarbųĮkainiai2018[[#This Row],[Kitos, Eur/ha]] * $AO$9,2)","v":6.26},{"$f":"+DarbųĮkainiai2024[[#This Row],[Kitos, Eur/ha]]+DarbųĮkainiai2024[[#This Row],[Išlaidos iš viso, Eur/ha]]","v":103.23},{"$f":"ROUND(DarbųĮkainiai2024[[#This Row],[Savikaina, Eur/ha]]*$AQ$9,2)","v":5.16},{"$f":"+DarbųĮkainiai2024[[#This Row],[Pelnas, Eur/ha]]+DarbųĮkainiai2024[[#This Row],[Savikaina, Eur/ha]]","v":108.39},{"$f":"+DarbųĮkainiai2024[[#This Row],[Įkainis, Eur/ha]]-DarbųĮkainiai2024[[#This Row],[Pelnas, Eur/ha]]-DarbųĮkainiai2024[[#This Row],[Išlaidos atnaujinimui, Eur/ha]]","v":71.38},{"$f":"+DarbųĮkainiai2018[[#This Row],[Darbas]]","v":"DIRVOS DIRBIMAS"},2024,{"$f":"+DarbųĮkainiai2018[[#This Row],[Žemės ūkio mašinų kilmė]]","v":"Vakarų Europos"},{"$f":"+DarbųĮkainiai2018[[#This Row],[Papildomas barstytubo parametras, m3]]","v":0},{"$f":"+DarbųĮkainiai2018[[#This Row],[Aktualus darbo pavadinimas]]","v":"Gilus arimas"},{"$f":"+DarbųĮkainiai2018[[#This Row],[Stulpelis1]]","v":22}]
[{"$f":"ROW()-ROW(DarbųĮkainiai2018[[#Headers],[Eil. Nr.]])","v":10},"Prikabinamaisiais apverčiamaisiais plūgais su tankintuvais",2.1,null,138,91.1,30.96,1.04,26.9,22.82,20.14,19.100000000000001,5.26,67.319999999999993,5.39,72.709999999999994,3.64,76.34,{"$f":"+DarbųĮkainiai2018[[#This Row],[Įkainis, Eur/ha]]-DarbųĮkainiai2018[[#This Row],[Pelnas, Eur/ha]]-DarbųĮkainiai2018[[#This Row],[Išlaidos atnaujinimui, Eur/ha]]","v":49.88},"DIRVOS DIRBIMAS",2018,"Vakarų Europos",null,"Gilus arimas",23,null,{"$f":"ROW()-ROW(DarbųĮkainiai2024[[#Headers],[Eil. Nr.]])","v":10},{"$f":"+DarbųĮkainiai2018[[#This Row],[Žemės ūkio mašina]]","v":"Prikabinamaisiais apverčiamaisiais plūgais su tankintuvais"},{"$f":"+DarbųĮkainiai2018[[#This Row],[Darbinis plotis, m]]","v":2.1},{"$f":"+DarbųĮkainiai2018[[#This Row],[Tręšimo, išsėjimo, purškimo norma, kg/ha; Derlingumas, t/ha]]","v":0},{"$f":"+DarbųĮkainiai2018[[#This Row],[Traktoriaus (kombaino) galia, kW]]","v":138},{"$f":"ROUND(DarbųĮkainiai2018[[#This Row],[Traktoriaus (kombaino) kaina, tūkst. Eur]]*$AF$9,2)","v":119.07},{"$f":"ROUND(DarbųĮkainiai2018[[#This Row],[Žemės ūkio mašinos (cisternos) kaina, tūkst. Eur]] * $AG$9,2)","v":47.49},{"$f":"+DarbųĮkainiai2018[[#This Row],[Išdirbio norma, ha/val.]]","v":1.04},{"$f":"+DarbųĮkainiai2018[[#This Row],[Degalų sąnaudų norma, l/ha]]","v":26.9},{"$f":"ROUND(DarbųĮkainiai2018[[#This Row],[Išlaidos atnaujinimui, Eur/ha]]*1.35,2)","v":30.81},{"$f":"ROUND(DarbųĮkainiai2018[[#This Row],[Išlaidos remontui ir tech. aptarnavimui, Eur/ha]]*$AK$9,2)","v":30.89},{"$f":"ROUND(DarbųĮkainiai2024[[#This Row],[Degalų sąnaudų norma, l/ha]] * $AL$9,2)","v":20.18},{"$f":"ROUND(1/DarbųĮkainiai2024[[#This Row],[Išdirbio norma, ha/val.]]*$AM$9,2)","v":10.68},{"$f":"+DarbųĮkainiai2024[[#This Row],[Išlaidos atnaujinimui, Eur/ha]]+DarbųĮkainiai2024[[#This Row],[Išlaidos remontui ir tech. aptarnavimui, Eur/ha]]+DarbųĮkainiai2024[[#This Row],[Išlaidos degalams ir tepalams, Eur/ha]]+DarbųĮkainiai2024[[#This Row],[Išlaidos darbo užmokesčiui su priskaitymais, Eur/ha]]","v":92.56},{"$f":"ROUND(DarbųĮkainiai2018[[#This Row],[Kitos, Eur/ha]] * $AO$9,2)","v":6.01},{"$f":"+DarbųĮkainiai2024[[#This Row],[Kitos, Eur/ha]]+DarbųĮkainiai2024[[#This Row],[Išlaidos iš viso, Eur/ha]]","v":98.570000000000007},{"$f":"ROUND(DarbųĮkainiai2024[[#This Row],[Savikaina, Eur/ha]]*$AQ$9,2)","v":4.93},{"$f":"+DarbųĮkainiai2024[[#This Row],[Pelnas, Eur/ha]]+DarbųĮkainiai2024[[#This Row],[Savikaina, Eur/ha]]","v":103.5},{"$f":"+DarbųĮkainiai2024[[#This Row],[Įkainis, Eur/ha]]-DarbųĮkainiai2024[[#This Row],[Pelnas, Eur/ha]]-DarbųĮkainiai2024[[#This Row],[Išlaidos atnaujinimui, Eur/ha]]","v":67.759999999999991},{"$f":"+DarbųĮkainiai2018[[#This Row],[Darbas]]","v":"DIRVOS DIRBIMAS"},2024,{"$f":"+DarbųĮkainiai2018[[#This Row],[Žemės ūkio mašinų kilmė]]","v":"Vakarų Europos"},{"$f":"+DarbųĮkainiai2018[[#This Row],[Papildomas barstytubo parametras, m3]]","v":0},{"$f":"+DarbųĮkainiai2018[[#This Row],[Aktualus darbo pavadinimas]]","v":"Gilus arimas"},{"$f":"+DarbųĮkainiai2018[[#This Row],[Stulpelis1]]","v":23}]
[{"$f":"ROW()-ROW(DarbųĮkainiai2018[[#Headers],[Eil. Nr.]])","v":11},"Prikabinamaisiais apverčiamaisiais plūgais su tankintuvais",2.4500000000000002,null,157,106.6,36.119999999999997,1.22,26.6,22.72,20.05,18.89,5.07,66.72,5.34,72.06,3.6,75.66,{"$f":"+DarbųĮkainiai2018[[#This Row],[Įkainis, Eur/ha]]-DarbųĮkainiai2018[[#This Row],[Pelnas, Eur/ha]]-DarbųĮkainiai2018[[#This Row],[Išlaidos atnaujinimui, Eur/ha]]","v":49.34},"DIRVOS DIRBIMAS",2018,"Vakarų Europos",null,"Gilus arimas",24,null,{"$f":"ROW()-ROW(DarbųĮkainiai2024[[#Headers],[Eil. Nr.]])","v":11},{"$f":"+DarbųĮkainiai2018[[#This Row],[Žemės ūkio mašina]]","v":"Prikabinamaisiais apverčiamaisiais plūgais su tankintuvais"},{"$f":"+DarbųĮkainiai2018[[#This Row],[Darbinis plotis, m]]","v":2.4500000000000002},{"$f":"+DarbųĮkainiai2018[[#This Row],[Tręšimo, išsėjimo, purškimo norma, kg/ha; Derlingumas, t/ha]]","v":0},{"$f":"+DarbųĮkainiai2018[[#This Row],[Traktoriaus (kombaino) galia, kW]]","v":157},{"$f":"ROUND(DarbųĮkainiai2018[[#This Row],[Traktoriaus (kombaino) kaina, tūkst. Eur]]*$AF$9,2)","v":139.32},{"$f":"ROUND(DarbųĮkainiai2018[[#This Row],[Žemės ūkio mašinos (cisternos) kaina, tūkst. Eur]] * $AG$9,2)","v":55.4},{"$f":"+DarbųĮkainiai2018[[#This Row],[Išdirbio norma, ha/val.]]","v":1.22},{"$f":"+DarbųĮkainiai2018[[#This Row],[Degalų sąnaudų norma, l/ha]]","v":26.6},{"$f":"ROUND(DarbųĮkainiai2018[[#This Row],[Išlaidos atnaujinimui, Eur/ha]]*1.35,2)","v":30.67},{"$f":"ROUND(DarbųĮkainiai2018[[#This Row],[Išlaidos remontui ir tech. aptarnavimui, Eur/ha]]*$AK$9,2)","v":30.75},{"$f":"ROUND(DarbųĮkainiai2024[[#This Row],[Degalų sąnaudų norma, l/ha]] * $AL$9,2)","v":19.95},{"$f":"ROUND(1/DarbųĮkainiai2024[[#This Row],[Išdirbio norma, ha/val.]]*$AM$9,2)","v":9.11},{"$f":"+DarbųĮkainiai2024[[#This Row],[Išlaidos atnaujinimui, Eur/ha]]+DarbųĮkainiai2024[[#This Row],[Išlaidos remontui ir tech. aptarnavimui, Eur/ha]]+DarbųĮkainiai2024[[#This Row],[Išlaidos degalams ir tepalams, Eur/ha]]+DarbųĮkainiai2024[[#This Row],[Išlaidos darbo užmokesčiui su priskaitymais, Eur/ha]]","v":90.48},{"$f":"ROUND(DarbųĮkainiai2018[[#This Row],[Kitos, Eur/ha]] * $AO$9,2)","v":5.96},{"$f":"+DarbųĮkainiai2024[[#This Row],[Kitos, Eur/ha]]+DarbųĮkainiai2024[[#This Row],[Išlaidos iš viso, Eur/ha]]","v":96.44},{"$f":"ROUND(DarbųĮkainiai2024[[#This Row],[Savikaina, Eur/ha]]*$AQ$9,2)","v":4.82},{"$f":"+DarbųĮkainiai2024[[#This Row],[Pelnas, Eur/ha]]+DarbųĮkainiai2024[[#This Row],[Savikaina, Eur/ha]]","v":101.25999999999999},{"$f":"+DarbųĮkainiai2024[[#This Row],[Įkainis, Eur/ha]]-DarbųĮkainiai2024[[#This Row],[Pelnas, Eur/ha]]-DarbųĮkainiai2024[[#This Row],[Išlaidos atnaujinimui, Eur/ha]]","v":65.77},{"$f":"+DarbųĮkainiai2018[[#This Row],[Darbas]]","v":"DIRVOS DIRBIMAS"},2024,{"$f":"+DarbųĮkainiai2018[[#This Row],[Žemės ūkio mašinų kilmė]]","v":"Vakarų Europos"},{"$f":"+DarbųĮkainiai2018[[#This Row],[Papildomas barstytubo parametras, m3]]","v":0},{"$f":"+DarbųĮkainiai2018[[#This Row],[Aktualus darbo pavadinimas]]","v":"Gilus arimas"},{"$f":"+DarbųĮkainiai2018[[#This Row],[Stulpelis1]]","v":24}]
[{"$f":"ROW()-ROW(DarbųĮkainiai2018[[#Headers],[Eil. Nr.]])","v":12},"Prikabinamaisiais apverčiamaisiais plūgais su tankintuvais",2.8,null,176,123.6,41.28,1.3,27.4,24.5,21.58,19.45,4.75,70.3,5.62,75.92,3.8,79.709999999999994,{"$f":"+DarbųĮkainiai2018[[#This Row],[Įkainis, Eur/ha]]-DarbųĮkainiai2018[[#This Row],[Pelnas, Eur/ha]]-DarbųĮkainiai2018[[#This Row],[Išlaidos atnaujinimui, Eur/ha]]","v":51.41},"DIRVOS DIRBIMAS",2018,"Vakarų Europos",null,"Gilus arimas",25,null,{"$f":"ROW()-ROW(DarbųĮkainiai2024[[#Headers],[Eil. Nr.]])","v":12},{"$f":"+DarbųĮkainiai2018[[#This Row],[Žemės ūkio mašina]]","v":"Prikabinamaisiais apverčiamaisiais plūgais su tankintuvais"},{"$f":"+DarbųĮkainiai2018[[#This Row],[Darbinis plotis, m]]","v":2.8},{"$f":"+DarbųĮkainiai2018[[#This Row],[Tręšimo, išsėjimo, purškimo norma, kg/ha; Derlingumas, t/ha]]","v":0},{"$f":"+DarbųĮkainiai2018[[#This Row],[Traktoriaus (kombaino) galia, kW]]","v":176},{"$f":"ROUND(DarbųĮkainiai2018[[#This Row],[Traktoriaus (kombaino) kaina, tūkst. Eur]]*$AF$9,2)","v":161.54},{"$f":"ROUND(DarbųĮkainiai2018[[#This Row],[Žemės ūkio mašinos (cisternos) kaina, tūkst. Eur]] * $AG$9,2)","v":63.32},{"$f":"+DarbųĮkainiai2018[[#This Row],[Išdirbio norma, ha/val.]]","v":1.3},{"$f":"+DarbųĮkainiai2018[[#This Row],[Degalų sąnaudų norma, l/ha]]","v":27.4},{"$f":"ROUND(DarbųĮkainiai2018[[#This Row],[Išlaidos atnaujinimui, Eur/ha]]*1.35,2)","v":33.08},{"$f":"ROUND(DarbųĮkainiai2018[[#This Row],[Išlaidos remontui ir tech. aptarnavimui, Eur/ha]]*$AK$9,2)","v":33.1},{"$f":"ROUND(DarbųĮkainiai2024[[#This Row],[Degalų sąnaudų norma, l/ha]] * $AL$9,2)","v":20.55},{"$f":"ROUND(1/DarbųĮkainiai2024[[#This Row],[Išdirbio norma, ha/val.]]*$AM$9,2)","v":8.5500000000000007},{"$f":"+DarbųĮkainiai2024[[#This Row],[Išlaidos atnaujinimui, Eur/ha]]+DarbųĮkainiai2024[[#This Row],[Išlaidos remontui ir tech. aptarnavimui, Eur/ha]]+DarbųĮkainiai2024[[#This Row],[Išlaidos degalams ir tepalams, Eur/ha]]+DarbųĮkainiai2024[[#This Row],[Išlaidos darbo užmokesčiui su priskaitymais, Eur/ha]]","v":95.28},{"$f":"ROUND(DarbųĮkainiai2018[[#This Row],[Kitos, Eur/ha]] * $AO$9,2)","v":6.27},{"$f":"+DarbųĮkainiai2024[[#This Row],[Kitos, Eur/ha]]+DarbųĮkainiai2024[[#This Row],[Išlaidos iš viso, Eur/ha]]","v":101.55},{"$f":"ROUND(DarbųĮkainiai2024[[#This Row],[Savikaina, Eur/ha]]*$AQ$9,2)","v":5.08},{"$f":"+DarbųĮkainiai2024[[#This Row],[Pelnas, Eur/ha]]+DarbųĮkainiai2024[[#This Row],[Savikaina, Eur/ha]]","v":106.63},{"$f":"+DarbųĮkainiai2024[[#This Row],[Įkainis, Eur/ha]]-DarbųĮkainiai2024[[#This Row],[Pelnas, Eur/ha]]-DarbųĮkainiai2024[[#This Row],[Išlaidos atnaujinimui, Eur/ha]]","v":68.47},{"$f":"+DarbųĮkainiai2018[[#This Row],[Darbas]]","v":"DIRVOS DIRBIMAS"},2024,{"$f":"+DarbųĮkainiai2018[[#This Row],[Žemės ūkio mašinų kilmė]]","v":"Vakarų Europos"},{"$f":"+DarbųĮkainiai2018[[#This Row],[Papildomas barstytubo parametras, m3]]","v":0},{"$f":"+DarbųĮkainiai2018[[#This Row],[Aktualus darbo pavadinimas]]","v":"Gilus arimas"},{"$f":"+DarbųĮkainiai2018[[#This Row],[Stulpelis1]]","v":25}]
[{"$f":"ROW()-ROW(DarbųĮkainiai2018[[#Headers],[Eil. Nr.]])","v":13},"Prikabinamaisiais apverčiamaisiais plūgais su tankintuvais",3.15,null,176,123.6,41.28,1.54,25,20.68,18.22,17.78,4.01,60.7,4.8600000000000003,65.55,3.28,68.83,{"$f":"+DarbųĮkainiai2018[[#This Row],[Įkainis, Eur/ha]]-DarbųĮkainiai2018[[#This Row],[Pelnas, Eur/ha]]-DarbųĮkainiai2018[[#This Row],[Išlaidos atnaujinimui, Eur/ha]]","v":44.87},"DIRVOS DIRBIMAS",2018,"Vakarų Europos",null,"Gilus arimas",26,null,{"$f":"ROW()-ROW(DarbųĮkainiai2024[[#Headers],[Eil. Nr.]])","v":13},{"$f":"+DarbųĮkainiai2018[[#This Row],[Žemės ūkio mašina]]","v":"Prikabinamaisiais apverčiamaisiais plūgais su tankintuvais"},{"$f":"+DarbųĮkainiai2018[[#This Row],[Darbinis plotis, m]]","v":3.15},{"$f":"+DarbųĮkainiai2018[[#This Row],[Tręšimo, išsėjimo, purškimo norma, kg/ha; Derlingumas, t/ha]]","v":0},{"$f":"+DarbųĮkainiai2018[[#This Row],[Traktoriaus (kombaino) galia, kW]]","v":176},{"$f":"ROUND(DarbųĮkainiai2018[[#This Row],[Traktoriaus (kombaino) kaina, tūkst. Eur]]*$AF$9,2)","v":161.54},{"$f":"ROUND(DarbųĮkainiai2018[[#This Row],[Žemės ūkio mašinos (cisternos) kaina, tūkst. Eur]] * $AG$9,2)","v":63.32},{"$f":"+DarbųĮkainiai2018[[#This Row],[Išdirbio norma, ha/val.]]","v":1.54},{"$f":"+DarbųĮkainiai2018[[#This Row],[Degalų sąnaudų norma, l/ha]]","v":25},{"$f":"ROUND(DarbųĮkainiai2018[[#This Row],[Išlaidos atnaujinimui, Eur/ha]]*1.35,2)","v":27.92},{"$f":"ROUND(DarbųĮkainiai2018[[#This Row],[Išlaidos remontui ir tech. aptarnavimui, Eur/ha]]*$AK$9,2)","v":27.95},{"$f":"ROUND(DarbųĮkainiai2024[[#This Row],[Degalų sąnaudų norma, l/ha]] * $AL$9,2)","v":18.75},{"$f":"ROUND(1/DarbųĮkainiai2024[[#This Row],[Išdirbio norma, ha/val.]]*$AM$9,2)","v":7.21},{"$f":"+DarbųĮkainiai2024[[#This Row],[Išlaidos atnaujinimui, Eur/ha]]+DarbųĮkainiai2024[[#This Row],[Išlaidos remontui ir tech. aptarnavimui, Eur/ha]]+DarbųĮkainiai2024[[#This Row],[Išlaidos degalams ir tepalams, Eur/ha]]+DarbųĮkainiai2024[[#This Row],[Išlaidos darbo užmokesčiui su priskaitymais, Eur/ha]]","v":81.83},{"$f":"ROUND(DarbųĮkainiai2018[[#This Row],[Kitos, Eur/ha]] * $AO$9,2)","v":5.42},{"$f":"+DarbųĮkainiai2024[[#This Row],[Kitos, Eur/ha]]+DarbųĮkainiai2024[[#This Row],[Išlaidos iš viso, Eur/ha]]","v":87.25},{"$f":"ROUND(DarbųĮkainiai2024[[#This Row],[Savikaina, Eur/ha]]*$AQ$9,2)","v":4.3600000000000003},{"$f":"+DarbųĮkainiai2024[[#This Row],[Pelnas, Eur/ha]]+DarbųĮkainiai2024[[#This Row],[Savikaina, Eur/ha]]","v":91.61},{"$f":"+DarbųĮkainiai2024[[#This Row],[Įkainis, Eur/ha]]-DarbųĮkainiai2024[[#This Row],[Pelnas, Eur/ha]]-DarbųĮkainiai2024[[#This Row],[Išlaidos atnaujinimui, Eur/ha]]","v":59.33},{"$f":"+DarbųĮkainiai2018[[#This Row],[Darbas]]","v":"DIRVOS DIRBIMAS"},2024,{"$f":"+DarbųĮkainiai2018[[#This Row],[Žemės ūkio mašinų kilmė]]","v":"Vakarų Europos"},{"$f":"+DarbųĮkainiai2018[[#This Row],[Papildomas barstytubo parametras, m3]]","v":0},{"$f":"+DarbųĮkainiai2018[[#This Row],[Aktualus darbo pavadinimas]]","v":"Gilus arimas"},{"$f":"+DarbųĮkainiai2018[[#This Row],[Stulpelis1]]","v":26}]
[{"$f":"ROW()-ROW(DarbųĮkainiai2018[[#Headers],[Eil. Nr.]])","v":14},"Prikabinamaisiais apverčiamaisiais plūgais su tankintuvais",3.5,null,190,136.86000000000001,51.6,1.75,24.7,21.75,19.440000000000001,17.54,3.53,62.25,4.9800000000000004,67.23,3.36,70.599999999999994,{"$f":"+DarbųĮkainiai2018[[#This Row],[Įkainis, Eur/ha]]-DarbųĮkainiai2018[[#This Row],[Pelnas, Eur/ha]]-DarbųĮkainiai2018[[#This Row],[Išlaidos atnaujinimui, Eur/ha]]","v":45.489999999999995},"DIRVOS DIRBIMAS",2018,"Vakarų Europos",null,"Gilus arimas",27,null,{"$f":"ROW()-ROW(DarbųĮkainiai2024[[#Headers],[Eil. Nr.]])","v":14},{"$f":"+DarbųĮkainiai2018[[#This Row],[Žemės ūkio mašina]]","v":"Prikabinamaisiais apverčiamaisiais plūgais su tankintuvais"},{"$f":"+DarbųĮkainiai2018[[#This Row],[Darbinis plotis, m]]","v":3.5},{"$f":"+DarbųĮkainiai2018[[#This Row],[Tręšimo, išsėjimo, purškimo norma, kg/ha; Derlingumas, t/ha]]","v":0},{"$f":"+DarbųĮkainiai2018[[#This Row],[Traktoriaus (kombaino) galia, kW]]","v":190},{"$f":"ROUND(DarbųĮkainiai2018[[#This Row],[Traktoriaus (kombaino) kaina, tūkst. Eur]]*$AF$9,2)","v":178.87},{"$f":"ROUND(DarbųĮkainiai2018[[#This Row],[Žemės ūkio mašinos (cisternos) kaina, tūkst. Eur]] * $AG$9,2)","v":79.150000000000006},{"$f":"+DarbųĮkainiai2018[[#This Row],[Išdirbio norma, ha/val.]]","v":1.75},{"$f":"+DarbųĮkainiai2018[[#This Row],[Degalų sąnaudų norma, l/ha]]","v":24.7},{"$f":"ROUND(DarbųĮkainiai2018[[#This Row],[Išlaidos atnaujinimui, Eur/ha]]*1.35,2)","v":29.36},{"$f":"ROUND(DarbųĮkainiai2018[[#This Row],[Išlaidos remontui ir tech. aptarnavimui, Eur/ha]]*$AK$9,2)","v":29.82},{"$f":"ROUND(DarbųĮkainiai2024[[#This Row],[Degalų sąnaudų norma, l/ha]] * $AL$9,2)","v":18.53},{"$f":"ROUND(1/DarbųĮkainiai2024[[#This Row],[Išdirbio norma, ha/val.]]*$AM$9,2)","v":6.35},{"$f":"+DarbųĮkainiai2024[[#This Row],[Išlaidos atnaujinimui, Eur/ha]]+DarbųĮkainiai2024[[#This Row],[Išlaidos remontui ir tech. aptarnavimui, Eur/ha]]+DarbųĮkainiai2024[[#This Row],[Išlaidos degalams ir tepalams, Eur/ha]]+DarbųĮkainiai2024[[#This Row],[Išlaidos darbo užmokesčiui su priskaitymais, Eur/ha]]","v":84.06},{"$f":"ROUND(DarbųĮkainiai2018[[#This Row],[Kitos, Eur/ha]] * $AO$9,2)","v":5.55},{"$f":"+DarbųĮkainiai2024[[#This Row],[Kitos, Eur/ha]]+DarbųĮkainiai2024[[#This Row],[Išlaidos iš viso, Eur/ha]]","v":89.61},{"$f":"ROUND(DarbųĮkainiai2024[[#This Row],[Savikaina, Eur/ha]]*$AQ$9,2)","v":4.4800000000000004},{"$f":"+DarbųĮkainiai2024[[#This Row],[Pelnas, Eur/ha]]+DarbųĮkainiai2024[[#This Row],[Savikaina, Eur/ha]]","v":94.09},{"$f":"+DarbųĮkainiai2024[[#This Row],[Įkainis, Eur/ha]]-DarbųĮkainiai2024[[#This Row],[Pelnas, Eur/ha]]-DarbųĮkainiai2024[[#This Row],[Išlaidos atnaujinimui, Eur/ha]]","v":60.25},{"$f":"+DarbųĮkainiai2018[[#This Row],[Darbas]]","v":"DIRVOS DIRBIMAS"},2024,{"$f":"+DarbųĮkainiai2018[[#This Row],[Žemės ūkio mašinų kilmė]]","v":"Vakarų Europos"},{"$f":"+DarbųĮkainiai2018[[#This Row],[Papildomas barstytubo parametras, m3]]","v":0},{"$f":"+DarbųĮkainiai2018[[#This Row],[Aktualus darbo pavadinimas]]","v":"Gilus arimas"},{"$f":"+DarbųĮkainiai2018[[#This Row],[Stulpelis1]]","v":27}]
[{"$f":"ROW()-ROW(DarbųĮkainiai2018[[#Headers],[Eil. Nr.]])","v":15},"Prikabinamaisiais apverčiamaisiais plūgais su tankintuvais",3.5,null,275,201.8,51.6,1.75,27.9,25.45,21.66,19.809999999999999,3.53,70.45,5.64,76.09,3.8,79.89,{"$f":"+DarbųĮkainiai2018[[#This Row],[Įkainis, Eur/ha]]-DarbųĮkainiai2018[[#This Row],[Pelnas, Eur/ha]]-DarbųĮkainiai2018[[#This Row],[Išlaidos atnaujinimui, Eur/ha]]","v":50.64},"DIRVOS DIRBIMAS",2018,"Vakarų Europos",null,"Gilus arimas",28,null,{"$f":"ROW()-ROW(DarbųĮkainiai2024[[#Headers],[Eil. Nr.]])","v":15},{"$f":"+DarbųĮkainiai2018[[#This Row],[Žemės ūkio mašina]]","v":"Prikabinamaisiais apverčiamaisiais plūgais su tankintuvais"},{"$f":"+DarbųĮkainiai2018[[#This Row],[Darbinis plotis, m]]","v":3.5},{"$f":"+DarbųĮkainiai2018[[#This Row],[Tręšimo, išsėjimo, purškimo norma, kg/ha; Derlingumas, t/ha]]","v":0},{"$f":"+DarbųĮkainiai2018[[#This Row],[Traktoriaus (kombaino) galia, kW]]","v":275},{"$f":"ROUND(DarbųĮkainiai2018[[#This Row],[Traktoriaus (kombaino) kaina, tūkst. Eur]]*$AF$9,2)","v":263.75},{"$f":"ROUND(DarbųĮkainiai2018[[#This Row],[Žemės ūkio mašinos (cisternos) kaina, tūkst. Eur]] * $AG$9,2)","v":79.150000000000006},{"$f":"+DarbųĮkainiai2018[[#This Row],[Išdirbio norma, ha/val.]]","v":1.75},{"$f":"+DarbųĮkainiai2018[[#This Row],[Degalų sąnaudų norma, l/ha]]","v":27.9},{"$f":"ROUND(DarbųĮkainiai2018[[#This Row],[Išlaidos atnaujinimui, Eur/ha]]*1.35,2)","v":34.36},{"$f":"ROUND(DarbųĮkainiai2018[[#This Row],[Išlaidos remontui ir tech. aptarnavimui, Eur/ha]]*$AK$9,2)","v":33.22},{"$f":"ROUND(DarbųĮkainiai2024[[#This Row],[Degalų sąnaudų norma, l/ha]] * $AL$9,2)","v":20.93},{"$f":"ROUND(1/DarbųĮkainiai2024[[#This Row],[Išdirbio norma, ha/val.]]*$AM$9,2)","v":6.35},{"$f":"+DarbųĮkainiai2024[[#This Row],[Išlaidos atnaujinimui, Eur/ha]]+DarbųĮkainiai2024[[#This Row],[Išlaidos remontui ir tech. aptarnavimui, Eur/ha]]+DarbųĮkainiai2024[[#This Row],[Išlaidos degalams ir tepalams, Eur/ha]]+DarbųĮkainiai2024[[#This Row],[Išlaidos darbo užmokesčiui su priskaitymais, Eur/ha]]","v":94.859999999999985},{"$f":"ROUND(DarbųĮkainiai2018[[#This Row],[Kitos, Eur/ha]] * $AO$9,2)","v":6.29},{"$f":"+DarbųĮkainiai2024[[#This Row],[Kitos, Eur/ha]]+DarbųĮkainiai2024[[#This Row],[Išlaidos iš viso, Eur/ha]]","v":101.14999999999999},{"$f":"ROUND(DarbųĮkainiai2024[[#This Row],[Savikaina, Eur/ha]]*$AQ$9,2)","v":5.0599999999999996},{"$f":"+DarbųĮkainiai2024[[#This Row],[Pelnas, Eur/ha]]+DarbųĮkainiai2024[[#This Row],[Savikaina, Eur/ha]]","v":106.21},{"$f":"+DarbųĮkainiai2024[[#This Row],[Įkainis, Eur/ha]]-DarbųĮkainiai2024[[#This Row],[Pelnas, Eur/ha]]-DarbųĮkainiai2024[[#This Row],[Išlaidos atnaujinimui, Eur/ha]]","v":66.789999999999992},{"$f":"+DarbųĮkainiai2018[[#This Row],[Darbas]]","v":"DIRVOS DIRBIMAS"},2024,{"$f":"+DarbųĮkainiai2018[[#This Row],[Žemės ūkio mašinų kilmė]]","v":"Vakarų Europos"},{"$f":"+DarbųĮkainiai2018[[#This Row],[Papildomas barstytubo parametras, m3]]","v":0},{"$f":"+DarbųĮkainiai2018[[#This Row],[Aktualus darbo pavadinimas]]","v":"Gilus arimas"},{"$f":"+DarbųĮkainiai2018[[#This Row],[Stulpelis1]]","v":28}]
[{"$f":"ROW()-ROW(DarbųĮkainiai2018[[#Headers],[Eil. Nr.]])","v":16},"Seklusis ražienų skutimas",2,null,67,40.9,10.4,1.47,8.4,8.64,5.91,5.96,3.23,23.75,1.19,24.94,1.25,26.19,{"$f":"+DarbųĮkainiai2018[[#This Row],[Įkainis, Eur/ha]]-DarbųĮkainiai2018[[#This Row],[Pelnas, Eur/ha]]-DarbųĮkainiai2018[[#This Row],[Išlaidos atnaujinimui, Eur/ha]]","v":16.3},"DIRVOS SKUTIMAS IR LĖKŠČIAVIMAS",2018,"Vakarų Europos",null,"Seklus ražienų skutimas",43,null,{"$f":"ROW()-ROW(DarbųĮkainiai2024[[#Headers],[Eil. Nr.]])","v":16},{"$f":"+DarbųĮkainiai2018[[#This Row],[Žemės ūkio mašina]]","v":"Seklusis ražienų skutimas"},{"$f":"+DarbųĮkainiai2018[[#This Row],[Darbinis plotis, m]]","v":2},{"$f":"+DarbųĮkainiai2018[[#This Row],[Tręšimo, išsėjimo, purškimo norma, kg/ha; Derlingumas, t/ha]]","v":0},{"$f":"+DarbųĮkainiai2018[[#This Row],[Traktoriaus (kombaino) galia, kW]]","v":67},{"$f":"ROUND(DarbųĮkainiai2018[[#This Row],[Traktoriaus (kombaino) kaina, tūkst. Eur]]*$AF$9,2)","v":53.46},{"$f":"ROUND(DarbųĮkainiai2018[[#This Row],[Žemės ūkio mašinos (cisternos) kaina, tūkst. Eur]] * $AG$9,2)","v":15.95},{"$f":"+DarbųĮkainiai2018[[#This Row],[Išdirbio norma, ha/val.]]","v":1.47},{"$f":"+DarbųĮkainiai2018[[#This Row],[Degalų sąnaudų norma, l/ha]]","v":8.4},{"$f":"ROUND(DarbųĮkainiai2018[[#This Row],[Išlaidos atnaujinimui, Eur/ha]]*1.35,2)","v":11.66},{"$f":"ROUND(DarbųĮkainiai2018[[#This Row],[Išlaidos remontui ir tech. aptarnavimui, Eur/ha]]*$AK$9,2)","v":9.07},{"$f":"ROUND(DarbųĮkainiai2024[[#This Row],[Degalų sąnaudų norma, l/ha]] * $AL$9,2)","v":6.3},{"$f":"ROUND(1/DarbųĮkainiai2024[[#This Row],[Išdirbio norma, ha/val.]]*$AM$9,2)","v":7.56},{"$f":"+DarbųĮkainiai2024[[#This Row],[Išlaidos atnaujinimui, Eur/ha]]+DarbųĮkainiai2024[[#This Row],[Išlaidos remontui ir tech. aptarnavimui, Eur/ha]]+DarbųĮkainiai2024[[#This Row],[Išlaidos degalams ir tepalams, Eur/ha]]+DarbųĮkainiai2024[[#This Row],[Išlaidos darbo užmokesčiui su priskaitymais, Eur/ha]]","v":34.590000000000003},{"$f":"ROUND(DarbųĮkainiai2018[[#This Row],[Kitos, Eur/ha]] * $AO$9,2)","v":1.33},{"$f":"+DarbųĮkainiai2024[[#This Row],[Kitos, Eur/ha]]+DarbųĮkainiai2024[[#This Row],[Išlaidos iš viso, Eur/ha]]","v":35.92},{"$f":"ROUND(DarbųĮkainiai2024[[#This Row],[Savikaina, Eur/ha]]*$AQ$9,2)","v":1.8},{"$f":"+DarbųĮkainiai2024[[#This Row],[Pelnas, Eur/ha]]+DarbųĮkainiai2024[[#This Row],[Savikaina, Eur/ha]]","v":37.72},{"$f":"+DarbųĮkainiai2024[[#This Row],[Įkainis, Eur/ha]]-DarbųĮkainiai2024[[#This Row],[Pelnas, Eur/ha]]-DarbųĮkainiai2024[[#This Row],[Išlaidos atnaujinimui, Eur/ha]]","v":24.26},{"$f":"+DarbųĮkainiai2018[[#This Row],[Darbas]]","v":"DIRVOS SKUTIMAS IR LĖKŠČIAVIMAS"},2024,{"$f":"+DarbųĮkainiai2018[[#This Row],[Žemės ūkio mašinų kilmė]]","v":"Vakarų Europos"},{"$f":"+DarbųĮkainiai2018[[#This Row],[Papildomas barstytubo parametras, m3]]","v":0},{"$f":"+DarbųĮkainiai2018[[#This Row],[Aktualus darbo pavadinimas]]","v":"Seklus ražienų skutimas"},{"$f":"+DarbųĮkainiai2018[[#This Row],[Stulpelis1]]","v":43}]
[{"$f":"ROW()-ROW(DarbųĮkainiai2018[[#Headers],[Eil. Nr.]])","v":17},"Seklusis ražienų skutimas",2.5,null,83,57.12,13,1.79,8.3000000000000007,9.2100000000000009,6.27,5.89,3.06,24.43,1.22,25.65,1.28,26.93,{"$f":"+DarbųĮkainiai2018[[#This Row],[Įkainis, Eur/ha]]-DarbųĮkainiai2018[[#This Row],[Pelnas, Eur/ha]]-DarbųĮkainiai2018[[#This Row],[Išlaidos atnaujinimui, Eur/ha]]","v":16.439999999999998},"DIRVOS SKUTIMAS IR LĖKŠČIAVIMAS",2018,"Vakarų Europos",null,"Seklus ražienų skutimas",44,null,{"$f":"ROW()-ROW(DarbųĮkainiai2024[[#Headers],[Eil. Nr.]])","v":17},{"$f":"+DarbųĮkainiai2018[[#This Row],[Žemės ūkio mašina]]","v":"Seklusis ražienų skutimas"},{"$f":"+DarbųĮkainiai2018[[#This Row],[Darbinis plotis, m]]","v":2.5},{"$f":"+DarbųĮkainiai2018[[#This Row],[Tręšimo, išsėjimo, purškimo norma, kg/ha; Derlingumas, t/ha]]","v":0},{"$f":"+DarbųĮkainiai2018[[#This Row],[Traktoriaus (kombaino) galia, kW]]","v":83},{"$f":"ROUND(DarbųĮkainiai2018[[#This Row],[Traktoriaus (kombaino) kaina, tūkst. Eur]]*$AF$9,2)","v":74.66},{"$f":"ROUND(DarbųĮkainiai2018[[#This Row],[Žemės ūkio mašinos (cisternos) kaina, tūkst. Eur]] * $AG$9,2)","v":19.940000000000001},{"$f":"+DarbųĮkainiai2018[[#This Row],[Išdirbio norma, ha/val.]]","v":1.79},{"$f":"+DarbųĮkainiai2018[[#This Row],[Degalų sąnaudų norma, l/ha]]","v":8.3000000000000007},{"$f":"ROUND(DarbųĮkainiai2018[[#This Row],[Išlaidos atnaujinimui, Eur/ha]]*1.35,2)","v":12.43},{"$f":"ROUND(DarbųĮkainiai2018[[#This Row],[Išlaidos remontui ir tech. aptarnavimui, Eur/ha]]*$AK$9,2)","v":9.6199999999999992},{"$f":"ROUND(DarbųĮkainiai2024[[#This Row],[Degalų sąnaudų norma, l/ha]] * $AL$9,2)","v":6.23},{"$f":"ROUND(1/DarbųĮkainiai2024[[#This Row],[Išdirbio norma, ha/val.]]*$AM$9,2)","v":6.21},{"$f":"+DarbųĮkainiai2024[[#This Row],[Išlaidos atnaujinimui, Eur/ha]]+DarbųĮkainiai2024[[#This Row],[Išlaidos remontui ir tech. aptarnavimui, Eur/ha]]+DarbųĮkainiai2024[[#This Row],[Išlaidos degalams ir tepalams, Eur/ha]]+DarbųĮkainiai2024[[#This Row],[Išlaidos darbo užmokesčiui su priskaitymais, Eur/ha]]","v":34.489999999999995},{"$f":"ROUND(DarbųĮkainiai2018[[#This Row],[Kitos, Eur/ha]] * $AO$9,2)","v":1.36},{"$f":"+DarbųĮkainiai2024[[#This Row],[Kitos, Eur/ha]]+DarbųĮkainiai2024[[#This Row],[Išlaidos iš viso, Eur/ha]]","v":35.849999999999994},{"$f":"ROUND(DarbųĮkainiai2024[[#This Row],[Savikaina, Eur/ha]]*$AQ$9,2)","v":1.79},{"$f":"+DarbųĮkainiai2024[[#This Row],[Pelnas, Eur/ha]]+DarbųĮkainiai2024[[#This Row],[Savikaina, Eur/ha]]","v":37.639999999999993},{"$f":"+DarbųĮkainiai2024[[#This Row],[Įkainis, Eur/ha]]-DarbųĮkainiai2024[[#This Row],[Pelnas, Eur/ha]]-DarbųĮkainiai2024[[#This Row],[Išlaidos atnaujinimui, Eur/ha]]","v":23.419999999999995},{"$f":"+DarbųĮkainiai2018[[#This Row],[Darbas]]","v":"DIRVOS SKUTIMAS IR LĖKŠČIAVIMAS"},2024,{"$f":"+DarbųĮkainiai2018[[#This Row],[Žemės ūkio mašinų kilmė]]","v":"Vakarų Europos"},{"$f":"+DarbųĮkainiai2018[[#This Row],[Papildomas barstytubo parametras, m3]]","v":0},{"$f":"+DarbųĮkainiai2018[[#This Row],[Aktualus darbo pavadinimas]]","v":"Seklus ražienų skutimas"},{"$f":"+DarbųĮkainiai2018[[#This Row],[Stulpelis1]]","v":44}]
[{"$f":"ROW()-ROW(DarbųĮkainiai2018[[#Headers],[Eil. Nr.]])","v":18},"Seklusis ražienų skutimas",3,null,102,70.599999999999994,15.6,2.19,8.4,9.1199999999999992,6.21,5.96,2.5,23.8,1.19,24.98,1.25,26.23,{"$f":"+DarbųĮkainiai2018[[#This Row],[Įkainis, Eur/ha]]-DarbųĮkainiai2018[[#This Row],[Pelnas, Eur/ha]]-DarbųĮkainiai2018[[#This Row],[Išlaidos atnaujinimui, Eur/ha]]","v":15.860000000000001},"DIRVOS SKUTIMAS IR LĖKŠČIAVIMAS",2018,"Vakarų Europos",null,"Seklus ražienų skutimas",45,null,{"$f":"ROW()-ROW(DarbųĮkainiai2024[[#Headers],[Eil. Nr.]])","v":18},{"$f":"+DarbųĮkainiai2018[[#This Row],[Žemės ūkio mašina]]","v":"Seklusis ražienų skutimas"},{"$f":"+DarbųĮkainiai2018[[#This Row],[Darbinis plotis, m]]","v":3},{"$f":"+DarbųĮkainiai2018[[#This Row],[Tręšimo, išsėjimo, purškimo norma, kg/ha; Derlingumas, t/ha]]","v":0},{"$f":"+DarbųĮkainiai2018[[#This Row],[Traktoriaus (kombaino) galia, kW]]","v":102},{"$f":"ROUND(DarbųĮkainiai2018[[#This Row],[Traktoriaus (kombaino) kaina, tūkst. Eur]]*$AF$9,2)","v":92.27},{"$f":"ROUND(DarbųĮkainiai2018[[#This Row],[Žemės ūkio mašinos (cisternos) kaina, tūkst. Eur]] * $AG$9,2)","v":23.93},{"$f":"+DarbųĮkainiai2018[[#This Row],[Išdirbio norma, ha/val.]]","v":2.19},{"$f":"+DarbųĮkainiai2018[[#This Row],[Degalų sąnaudų norma, l/ha]]","v":8.4},{"$f":"ROUND(DarbųĮkainiai2018[[#This Row],[Išlaidos atnaujinimui, Eur/ha]]*1.35,2)","v":12.31},{"$f":"ROUND(DarbųĮkainiai2018[[#This Row],[Išlaidos remontui ir tech. aptarnavimui, Eur/ha]]*$AK$9,2)","v":9.5299999999999994},{"$f":"ROUND(DarbųĮkainiai2024[[#This Row],[Degalų sąnaudų norma, l/ha]] * $AL$9,2)","v":6.3},{"$f":"ROUND(1/DarbųĮkainiai2024[[#This Row],[Išdirbio norma, ha/val.]]*$AM$9,2)","v":5.07},{"$f":"+DarbųĮkainiai2024[[#This Row],[Išlaidos atnaujinimui, Eur/ha]]+DarbųĮkainiai2024[[#This Row],[Išlaidos remontui ir tech. aptarnavimui, Eur/ha]]+DarbųĮkainiai2024[[#This Row],[Išlaidos degalams ir tepalams, Eur/ha]]+DarbųĮkainiai2024[[#This Row],[Išlaidos darbo užmokesčiui su priskaitymais, Eur/ha]]","v":33.21},{"$f":"ROUND(DarbųĮkainiai2018[[#This Row],[Kitos, Eur/ha]] * $AO$9,2)","v":1.33},{"$f":"+DarbųĮkainiai2024[[#This Row],[Kitos, Eur/ha]]+DarbųĮkainiai2024[[#This Row],[Išlaidos iš viso, Eur/ha]]","v":34.54},{"$f":"ROUND(DarbųĮkainiai2024[[#This Row],[Savikaina, Eur/ha]]*$AQ$9,2)","v":1.73},{"$f":"+DarbųĮkainiai2024[[#This Row],[Pelnas, Eur/ha]]+DarbųĮkainiai2024[[#This Row],[Savikaina, Eur/ha]]","v":36.269999999999996},{"$f":"+DarbųĮkainiai2024[[#This Row],[Įkainis, Eur/ha]]-DarbųĮkainiai2024[[#This Row],[Pelnas, Eur/ha]]-DarbųĮkainiai2024[[#This Row],[Išlaidos atnaujinimui, Eur/ha]]","v":22.229999999999997},{"$f":"+DarbųĮkainiai2018[[#This Row],[Darbas]]","v":"DIRVOS SKUTIMAS IR LĖKŠČIAVIMAS"},2024,{"$f":"+DarbųĮkainiai2018[[#This Row],[Žemės ūkio mašinų kilmė]]","v":"Vakarų Europos"},{"$f":"+DarbųĮkainiai2018[[#This Row],[Papildomas barstytubo parametras, m3]]","v":0},{"$f":"+DarbųĮkainiai2018[[#This Row],[Aktualus darbo pavadinimas]]","v":"Seklus ražienų skutimas"},{"$f":"+DarbųĮkainiai2018[[#This Row],[Stulpelis1]]","v":45}]
[{"$f":"ROW()-ROW(DarbųĮkainiai2018[[#Headers],[Eil. Nr.]])","v":19},"Seklusis ražienų skutimas",4,null,138,91.1,20.8,2.9,8.5,9.08,6.19,6.04,1.89,23.19,1.1599999999999999,24.35,1.22,25.57,{"$f":"+DarbųĮkainiai2018[[#This Row],[Įkainis, Eur/ha]]-DarbųĮkainiai2018[[#This Row],[Pelnas, Eur/ha]]-DarbųĮkainiai2018[[#This Row],[Išlaidos atnaujinimui, Eur/ha]]","v":15.270000000000001},"DIRVOS SKUTIMAS IR LĖKŠČIAVIMAS",2018,"Vakarų Europos",null,"Seklus ražienų skutimas",46,null,{"$f":"ROW()-ROW(DarbųĮkainiai2024[[#Headers],[Eil. Nr.]])","v":19},{"$f":"+DarbųĮkainiai2018[[#This Row],[Žemės ūkio mašina]]","v":"Seklusis ražienų skutimas"},{"$f":"+DarbųĮkainiai2018[[#This Row],[Darbinis plotis, m]]","v":4},{"$f":"+DarbųĮkainiai2018[[#This Row],[Tręšimo, išsėjimo, purškimo norma, kg/ha; Derlingumas, t/ha]]","v":0},{"$f":"+DarbųĮkainiai2018[[#This Row],[Traktoriaus (kombaino) galia, kW]]","v":138},{"$f":"ROUND(DarbųĮkainiai2018[[#This Row],[Traktoriaus (kombaino) kaina, tūkst. Eur]]*$AF$9,2)","v":119.07},{"$f":"ROUND(DarbųĮkainiai2018[[#This Row],[Žemės ūkio mašinos (cisternos) kaina, tūkst. Eur]] * $AG$9,2)","v":31.9},{"$f":"+DarbųĮkainiai2018[[#This Row],[Išdirbio norma, ha/val.]]","v":2.9},{"$f":"+DarbųĮkainiai2018[[#This Row],[Degalų sąnaudų norma, l/ha]]","v":8.5},{"$f":"ROUND(DarbųĮkainiai2018[[#This Row],[Išlaidos atnaujinimui, Eur/ha]]*1.35,2)","v":12.26},{"$f":"ROUND(DarbųĮkainiai2018[[#This Row],[Išlaidos remontui ir tech. aptarnavimui, Eur/ha]]*$AK$9,2)","v":9.49},{"$f":"ROUND(DarbųĮkainiai2024[[#This Row],[Degalų sąnaudų norma, l/ha]] * $AL$9,2)","v":6.38},{"$f":"ROUND(1/DarbųĮkainiai2024[[#This Row],[Išdirbio norma, ha/val.]]*$AM$9,2)","v":3.83},{"$f":"+DarbųĮkainiai2024[[#This Row],[Išlaidos atnaujinimui, Eur/ha]]+DarbųĮkainiai2024[[#This Row],[Išlaidos remontui ir tech. aptarnavimui, Eur/ha]]+DarbųĮkainiai2024[[#This Row],[Išlaidos degalams ir tepalams, Eur/ha]]+DarbųĮkainiai2024[[#This Row],[Išlaidos darbo užmokesčiui su priskaitymais, Eur/ha]]","v":31.96},{"$f":"ROUND(DarbųĮkainiai2018[[#This Row],[Kitos, Eur/ha]] * $AO$9,2)","v":1.29},{"$f":"+DarbųĮkainiai2024[[#This Row],[Kitos, Eur/ha]]+DarbųĮkainiai2024[[#This Row],[Išlaidos iš viso, Eur/ha]]","v":33.25},{"$f":"ROUND(DarbųĮkainiai2024[[#This Row],[Savikaina, Eur/ha]]*$AQ$9,2)","v":1.66},{"$f":"+DarbųĮkainiai2024[[#This Row],[Pelnas, Eur/ha]]+DarbųĮkainiai2024[[#This Row],[Savikaina, Eur/ha]]","v":34.909999999999997},{"$f":"+DarbųĮkainiai2024[[#This Row],[Įkainis, Eur/ha]]-DarbųĮkainiai2024[[#This Row],[Pelnas, Eur/ha]]-DarbųĮkainiai2024[[#This Row],[Išlaidos atnaujinimui, Eur/ha]]","v":20.990000000000002},{"$f":"+DarbųĮkainiai2018[[#This Row],[Darbas]]","v":"DIRVOS SKUTIMAS IR LĖKŠČIAVIMAS"},2024,{"$f":"+DarbųĮkainiai2018[[#This Row],[Žemės ūkio mašinų kilmė]]","v":"Vakarų Europos"},{"$f":"+DarbųĮkainiai2018[[#This Row],[Papildomas barstytubo parametras, m3]]","v":0},{"$f":"+DarbųĮkainiai2018[[#This Row],[Aktualus darbo pavadinimas]]","v":"Seklus ražienų skutimas"},{"$f":"+DarbųĮkainiai2018[[#This Row],[Stulpelis1]]","v":46}]
[{"$f":"ROW()-ROW(DarbųĮkainiai2018[[#Headers],[Eil. Nr.]])","v":20},"Seklusis ražienų skutimas",5,null,157,106.6,26,3.68,8.8000000000000007,8.75,5.98,6.25,1.68,22.66,1.1299999999999999,23.79,1.19,24.98,{"$f":"+DarbųĮkainiai2018[[#This Row],[Įkainis, Eur/ha]]-DarbųĮkainiai2018[[#This Row],[Pelnas, Eur/ha]]-DarbųĮkainiai2018[[#This Row],[Išlaidos atnaujinimui, Eur/ha]]","v":15.04},"DIRVOS SKUTIMAS IR LĖKŠČIAVIMAS",2018,"Vakarų Europos",null,"Seklus ražienų skutimas",47,null,{"$f":"ROW()-ROW(DarbųĮkainiai2024[[#Headers],[Eil. Nr.]])","v":20},{"$f":"+DarbųĮkainiai2018[[#This Row],[Žemės ūkio mašina]]","v":"Seklusis ražienų skutimas"},{"$f":"+DarbųĮkainiai2018[[#This Row],[Darbinis plotis, m]]","v":5},{"$f":"+DarbųĮkainiai2018[[#This Row],[Tręšimo, išsėjimo, purškimo norma, kg/ha; Derlingumas, t/ha]]","v":0},{"$f":"+DarbųĮkainiai2018[[#This Row],[Traktoriaus (kombaino) galia, kW]]","v":157},{"$f":"ROUND(DarbųĮkainiai2018[[#This Row],[Traktoriaus (kombaino) kaina, tūkst. Eur]]*$AF$9,2)","v":139.32},{"$f":"ROUND(DarbųĮkainiai2018[[#This Row],[Žemės ūkio mašinos (cisternos) kaina, tūkst. Eur]] * $AG$9,2)","v":39.880000000000003},{"$f":"+DarbųĮkainiai2018[[#This Row],[Išdirbio norma, ha/val.]]","v":3.68},{"$f":"+DarbųĮkainiai2018[[#This Row],[Degalų sąnaudų norma, l/ha]]","v":8.8000000000000007},{"$f":"ROUND(DarbųĮkainiai2018[[#This Row],[Išlaidos atnaujinimui, Eur/ha]]*1.35,2)","v":11.81},{"$f":"ROUND(DarbųĮkainiai2018[[#This Row],[Išlaidos remontui ir tech. aptarnavimui, Eur/ha]]*$AK$9,2)","v":9.17},{"$f":"ROUND(DarbųĮkainiai2024[[#This Row],[Degalų sąnaudų norma, l/ha]] * $AL$9,2)","v":6.6},{"$f":"ROUND(1/DarbųĮkainiai2024[[#This Row],[Išdirbio norma, ha/val.]]*$AM$9,2)","v":3.02},{"$f":"+DarbųĮkainiai2024[[#This Row],[Išlaidos atnaujinimui, Eur/ha]]+DarbųĮkainiai2024[[#This Row],[Išlaidos remontui ir tech. aptarnavimui, Eur/ha]]+DarbųĮkainiai2024[[#This Row],[Išlaidos degalams ir tepalams, Eur/ha]]+DarbųĮkainiai2024[[#This Row],[Išlaidos darbo užmokesčiui su priskaitymais, Eur/ha]]","v":30.599999999999998},{"$f":"ROUND(DarbųĮkainiai2018[[#This Row],[Kitos, Eur/ha]] * $AO$9,2)","v":1.26},{"$f":"+DarbųĮkainiai2024[[#This Row],[Kitos, Eur/ha]]+DarbųĮkainiai2024[[#This Row],[Išlaidos iš viso, Eur/ha]]","v":31.86},{"$f":"ROUND(DarbųĮkainiai2024[[#This Row],[Savikaina, Eur/ha]]*$AQ$9,2)","v":1.59},{"$f":"+DarbųĮkainiai2024[[#This Row],[Pelnas, Eur/ha]]+DarbųĮkainiai2024[[#This Row],[Savikaina, Eur/ha]]","v":33.450000000000003},{"$f":"+DarbųĮkainiai2024[[#This Row],[Įkainis, Eur/ha]]-DarbųĮkainiai2024[[#This Row],[Pelnas, Eur/ha]]-DarbųĮkainiai2024[[#This Row],[Išlaidos atnaujinimui, Eur/ha]]","v":20.050000000000004},{"$f":"+DarbųĮkainiai2018[[#This Row],[Darbas]]","v":"DIRVOS SKUTIMAS IR LĖKŠČIAVIMAS"},2024,{"$f":"+DarbųĮkainiai2018[[#This Row],[Žemės ūkio mašinų kilmė]]","v":"Vakarų Europos"},{"$f":"+DarbųĮkainiai2018[[#This Row],[Papildomas barstytubo parametras, m3]]","v":0},{"$f":"+DarbųĮkainiai2018[[#This Row],[Aktualus darbo pavadinimas]]","v":"Seklus ražienų skutimas"},{"$f":"+DarbųĮkainiai2018[[#This Row],[Stulpelis1]]","v":47}]
[{"$f":"ROW()-ROW(DarbųĮkainiai2018[[#Headers],[Eil. Nr.]])","v":21},"Seklusis ražienų skutimas",10,null,233,175.5,52,7.14,8.6999999999999993,8.49,5.85,6.18,0.87,21.38,1.07,22.45,1.1200000000000001,23.57,{"$f":"+DarbųĮkainiai2018[[#This Row],[Įkainis, Eur/ha]]-DarbųĮkainiai2018[[#This Row],[Pelnas, Eur/ha]]-DarbųĮkainiai2018[[#This Row],[Išlaidos atnaujinimui, Eur/ha]]","v":13.959999999999999},"DIRVOS SKUTIMAS IR LĖKŠČIAVIMAS",2018,"Vakarų Europos",null,"Seklus ražienų skutimas",48,null,{"$f":"ROW()-ROW(DarbųĮkainiai2024[[#Headers],[Eil. Nr.]])","v":21},{"$f":"+DarbųĮkainiai2018[[#This Row],[Žemės ūkio mašina]]","v":"Seklusis ražienų skutimas"},{"$f":"+DarbųĮkainiai2018[[#This Row],[Darbinis plotis, m]]","v":10},{"$f":"+DarbųĮkainiai2018[[#This Row],[Tręšimo, išsėjimo, purškimo norma, kg/ha; Derlingumas, t/ha]]","v":0},{"$f":"+DarbųĮkainiai2018[[#This Row],[Traktoriaus (kombaino) galia, kW]]","v":233},{"$f":"ROUND(DarbųĮkainiai2018[[#This Row],[Traktoriaus (kombaino) kaina, tūkst. Eur]]*$AF$9,2)","v":229.38},{"$f":"ROUND(DarbųĮkainiai2018[[#This Row],[Žemės ūkio mašinos (cisternos) kaina, tūkst. Eur]] * $AG$9,2)","v":79.760000000000005},{"$f":"+DarbųĮkainiai2018[[#This Row],[Išdirbio norma, ha/val.]]","v":7.14},{"$f":"+DarbųĮkainiai2018[[#This Row],[Degalų sąnaudų norma, l/ha]]","v":8.6999999999999993},{"$f":"ROUND(DarbųĮkainiai2018[[#This Row],[Išlaidos atnaujinimui, Eur/ha]]*1.35,2)","v":11.46},{"$f":"ROUND(DarbųĮkainiai2018[[#This Row],[Išlaidos remontui ir tech. aptarnavimui, Eur/ha]]*$AK$9,2)","v":8.9700000000000006},{"$f":"ROUND(DarbųĮkainiai2024[[#This Row],[Degalų sąnaudų norma, l/ha]] * $AL$9,2)","v":6.53},{"$f":"ROUND(1/DarbųĮkainiai2024[[#This Row],[Išdirbio norma, ha/val.]]*$AM$9,2)","v":1.56},{"$f":"+DarbųĮkainiai2024[[#This Row],[Išlaidos atnaujinimui, Eur/ha]]+DarbųĮkainiai2024[[#This Row],[Išlaidos remontui ir tech. aptarnavimui, Eur/ha]]+DarbųĮkainiai2024[[#This Row],[Išlaidos degalams ir tepalams, Eur/ha]]+DarbųĮkainiai2024[[#This Row],[Išlaidos darbo užmokesčiui su priskaitymais, Eur/ha]]","v":28.52},{"$f":"ROUND(DarbųĮkainiai2018[[#This Row],[Kitos, Eur/ha]] * $AO$9,2)","v":1.19},{"$f":"+DarbųĮkainiai2024[[#This Row],[Kitos, Eur/ha]]+DarbųĮkainiai2024[[#This Row],[Išlaidos iš viso, Eur/ha]]","v":29.71},{"$f":"ROUND(DarbųĮkainiai2024[[#This Row],[Savikaina, Eur/ha]]*$AQ$9,2)","v":1.49},{"$f":"+DarbųĮkainiai2024[[#This Row],[Pelnas, Eur/ha]]+DarbųĮkainiai2024[[#This Row],[Savikaina, Eur/ha]]","v":31.2},{"$f":"+DarbųĮkainiai2024[[#This Row],[Įkainis, Eur/ha]]-DarbųĮkainiai2024[[#This Row],[Pelnas, Eur/ha]]-DarbųĮkainiai2024[[#This Row],[Išlaidos atnaujinimui, Eur/ha]]","v":18.25},{"$f":"+DarbųĮkainiai2018[[#This Row],[Darbas]]","v":"DIRVOS SKUTIMAS IR LĖKŠČIAVIMAS"},2024,{"$f":"+DarbųĮkainiai2018[[#This Row],[Žemės ūkio mašinų kilmė]]","v":"Vakarų Europos"},{"$f":"+DarbųĮkainiai2018[[#This Row],[Papildomas barstytubo parametras, m3]]","v":0},{"$f":"+DarbųĮkainiai2018[[#This Row],[Aktualus darbo pavadinimas]]","v":"Seklus ražienų skutimas"},{"$f":"+DarbųĮkainiai2018[[#This Row],[Stulpelis1]]","v":48}]
[{"$f":"ROW()-ROW(DarbųĮkainiai2018[[#Headers],[Eil. Nr.]])","v":22},"Seklusis ražienų skutimas",12,null,338,250.22,62.4,8.33,8.9,9.2100000000000009,6.3,6.32,0.74,22.57,1.1299999999999999,23.7,1.18,24.88,{"$f":"+DarbųĮkainiai2018[[#This Row],[Įkainis, Eur/ha]]-DarbųĮkainiai2018[[#This Row],[Pelnas, Eur/ha]]-DarbųĮkainiai2018[[#This Row],[Išlaidos atnaujinimui, Eur/ha]]","v":14.489999999999998},"DIRVOS SKUTIMAS IR LĖKŠČIAVIMAS",2018,"Vakarų Europos",null,"Seklus ražienų skutimas",49,null,{"$f":"ROW()-ROW(DarbųĮkainiai2024[[#Headers],[Eil. Nr.]])","v":22},{"$f":"+DarbųĮkainiai2018[[#This Row],[Žemės ūkio mašina]]","v":"Seklusis ražienų skutimas"},{"$f":"+DarbųĮkainiai2018[[#This Row],[Darbinis plotis, m]]","v":12},{"$f":"+DarbųĮkainiai2018[[#This Row],[Tręšimo, išsėjimo, purškimo norma, kg/ha; Derlingumas, t/ha]]","v":0},{"$f":"+DarbųĮkainiai2018[[#This Row],[Traktoriaus (kombaino) galia, kW]]","v":338},{"$f":"ROUND(DarbųĮkainiai2018[[#This Row],[Traktoriaus (kombaino) kaina, tūkst. Eur]]*$AF$9,2)","v":327.02999999999997},{"$f":"ROUND(DarbųĮkainiai2018[[#This Row],[Žemės ūkio mašinos (cisternos) kaina, tūkst. Eur]] * $AG$9,2)","v":95.71},{"$f":"+DarbųĮkainiai2018[[#This Row],[Išdirbio norma, ha/val.]]","v":8.33},{"$f":"+DarbųĮkainiai2018[[#This Row],[Degalų sąnaudų norma, l/ha]]","v":8.9},{"$f":"ROUND(DarbųĮkainiai2018[[#This Row],[Išlaidos atnaujinimui, Eur/ha]]*1.35,2)","v":12.43},{"$f":"ROUND(DarbųĮkainiai2018[[#This Row],[Išlaidos remontui ir tech. aptarnavimui, Eur/ha]]*$AK$9,2)","v":9.66},{"$f":"ROUND(DarbųĮkainiai2024[[#This Row],[Degalų sąnaudų norma, l/ha]] * $AL$9,2)","v":6.68},{"$f":"ROUND(1/DarbųĮkainiai2024[[#This Row],[Išdirbio norma, ha/val.]]*$AM$9,2)","v":1.33},{"$f":"+DarbųĮkainiai2024[[#This Row],[Išlaidos atnaujinimui, Eur/ha]]+DarbųĮkainiai2024[[#This Row],[Išlaidos remontui ir tech. aptarnavimui, Eur/ha]]+DarbųĮkainiai2024[[#This Row],[Išlaidos degalams ir tepalams, Eur/ha]]+DarbųĮkainiai2024[[#This Row],[Išlaidos darbo užmokesčiui su priskaitymais, Eur/ha]]","v":30.1},{"$f":"ROUND(DarbųĮkainiai2018[[#This Row],[Kitos, Eur/ha]] * $AO$9,2)","v":1.26},{"$f":"+DarbųĮkainiai2024[[#This Row],[Kitos, Eur/ha]]+DarbųĮkainiai2024[[#This Row],[Išlaidos iš viso, Eur/ha]]","v":31.360000000000003},{"$f":"ROUND(DarbųĮkainiai2024[[#This Row],[Savikaina, Eur/ha]]*$AQ$9,2)","v":1.57},{"$f":"+DarbųĮkainiai2024[[#This Row],[Pelnas, Eur/ha]]+DarbųĮkainiai2024[[#This Row],[Savikaina, Eur/ha]]","v":32.93},{"$f":"+DarbųĮkainiai2024[[#This Row],[Įkainis, Eur/ha]]-DarbųĮkainiai2024[[#This Row],[Pelnas, Eur/ha]]-DarbųĮkainiai2024[[#This Row],[Išlaidos atnaujinimui, Eur/ha]]","v":18.93},{"$f":"+DarbųĮkainiai2018[[#This Row],[Darbas]]","v":"DIRVOS SKUTIMAS IR LĖKŠČIAVIMAS"},2024,{"$f":"+DarbųĮkainiai2018[[#This Row],[Žemės ūkio mašinų kilmė]]","v":"Vakarų Europos"},{"$f":"+DarbųĮkainiai2018[[#This Row],[Papildomas barstytubo parametras, m3]]","v":0},{"$f":"+DarbųĮkainiai2018[[#This Row],[Aktualus darbo pavadinimas]]","v":"Seklus ražienų skutimas"},{"$f":"+DarbųĮkainiai2018[[#This Row],[Stulpelis1]]","v":49}]
[{"$f":"ROW()-ROW(DarbųĮkainiai2018[[#Headers],[Eil. Nr.]])","v":23},"Gilusis ražienų skutimas",2,null,67,40.9,10.4,1.31,10.4,9.6999999999999993,6.64,7.38,3.63,27.35,1.37,28.71,1.44,30.15,{"$f":"+DarbųĮkainiai2018[[#This Row],[Įkainis, Eur/ha]]-DarbųĮkainiai2018[[#This Row],[Pelnas, Eur/ha]]-DarbųĮkainiai2018[[#This Row],[Išlaidos atnaujinimui, Eur/ha]]","v":19.009999999999998},"DIRVOS SKUTIMAS IR LĖKŠČIAVIMAS",2018,"Vakarų Europos",null,"Gilusis ražienų skutimas",50,null,{"$f":"ROW()-ROW(DarbųĮkainiai2024[[#Headers],[Eil. Nr.]])","v":23},{"$f":"+DarbųĮkainiai2018[[#This Row],[Žemės ūkio mašina]]","v":"Gilusis ražienų skutimas"},{"$f":"+DarbųĮkainiai2018[[#This Row],[Darbinis plotis, m]]","v":2},{"$f":"+DarbųĮkainiai2018[[#This Row],[Tręšimo, išsėjimo, purškimo norma, kg/ha; Derlingumas, t/ha]]","v":0},{"$f":"+DarbųĮkainiai2018[[#This Row],[Traktoriaus (kombaino) galia, kW]]","v":67},{"$f":"ROUND(DarbųĮkainiai2018[[#This Row],[Traktoriaus (kombaino) kaina, tūkst. Eur]]*$AF$9,2)","v":53.46},{"$f":"ROUND(DarbųĮkainiai2018[[#This Row],[Žemės ūkio mašinos (cisternos) kaina, tūkst. Eur]] * $AG$9,2)","v":15.95},{"$f":"+DarbųĮkainiai2018[[#This Row],[Išdirbio norma, ha/val.]]","v":1.31},{"$f":"+DarbųĮkainiai2018[[#This Row],[Degalų sąnaudų norma, l/ha]]","v":10.4},{"$f":"ROUND(DarbųĮkainiai2018[[#This Row],[Išlaidos atnaujinimui, Eur/ha]]*1.35,2)","v":13.1},{"$f":"ROUND(DarbųĮkainiai2018[[#This Row],[Išlaidos remontui ir tech. aptarnavimui, Eur/ha]]*$AK$9,2)","v":10.18},{"$f":"ROUND(DarbųĮkainiai2024[[#This Row],[Degalų sąnaudų norma, l/ha]] * $AL$9,2)","v":7.8},{"$f":"ROUND(1/DarbųĮkainiai2024[[#This Row],[Išdirbio norma, ha/val.]]*$AM$9,2)","v":8.48},{"$f":"+DarbųĮkainiai2024[[#This Row],[Išlaidos atnaujinimui, Eur/ha]]+DarbųĮkainiai2024[[#This Row],[Išlaidos remontui ir tech. aptarnavimui, Eur/ha]]+DarbųĮkainiai2024[[#This Row],[Išlaidos degalams ir tepalams, Eur/ha]]+DarbųĮkainiai2024[[#This Row],[Išlaidos darbo užmokesčiui su priskaitymais, Eur/ha]]","v":39.56},{"$f":"ROUND(DarbųĮkainiai2018[[#This Row],[Kitos, Eur/ha]] * $AO$9,2)","v":1.53},{"$f":"+DarbųĮkainiai2024[[#This Row],[Kitos, Eur/ha]]+DarbųĮkainiai2024[[#This Row],[Išlaidos iš viso, Eur/ha]]","v":41.09},{"$f":"ROUND(DarbųĮkainiai2024[[#This Row],[Savikaina, Eur/ha]]*$AQ$9,2)","v":2.0499999999999998},{"$f":"+DarbųĮkainiai2024[[#This Row],[Pelnas, Eur/ha]]+DarbųĮkainiai2024[[#This Row],[Savikaina, Eur/ha]]","v":43.14},{"$f":"+DarbųĮkainiai2024[[#This Row],[Įkainis, Eur/ha]]-DarbųĮkainiai2024[[#This Row],[Pelnas, Eur/ha]]-DarbųĮkainiai2024[[#This Row],[Išlaidos atnaujinimui, Eur/ha]]","v":27.990000000000002},{"$f":"+DarbųĮkainiai2018[[#This Row],[Darbas]]","v":"DIRVOS SKUTIMAS IR LĖKŠČIAVIMAS"},2024,{"$f":"+DarbųĮkainiai2018[[#This Row],[Žemės ūkio mašinų kilmė]]","v":"Vakarų Europos"},{"$f":"+DarbųĮkainiai2018[[#This Row],[Papildomas barstytubo parametras, m3]]","v":0},{"$f":"+DarbųĮkainiai2018[[#This Row],[Aktualus darbo pavadinimas]]","v":"Gilusis ražienų skutimas"},{"$f":"+DarbųĮkainiai2018[[#This Row],[Stulpelis1]]","v":50}]
[{"$f":"ROW()-ROW(DarbųĮkainiai2018[[#Headers],[Eil. Nr.]])","v":24},"Gilusis ražienų skutimas",2.5,null,83,57.12,13,1.6,10.3,10.3,7.02,7.31,3.42,28.05,1.4,29.45,1.47,30.93,{"$f":"+DarbųĮkainiai2018[[#This Row],[Įkainis, Eur/ha]]-DarbųĮkainiai2018[[#This Row],[Pelnas, Eur/ha]]-DarbųĮkainiai2018[[#This Row],[Išlaidos atnaujinimui, Eur/ha]]","v":19.16},"DIRVOS SKUTIMAS IR LĖKŠČIAVIMAS",2018,"Vakarų Europos",null,"Gilusis ražienų skutimas",51,null,{"$f":"ROW()-ROW(DarbųĮkainiai2024[[#Headers],[Eil. Nr.]])","v":24},{"$f":"+DarbųĮkainiai2018[[#This Row],[Žemės ūkio mašina]]","v":"Gilusis ražienų skutimas"},{"$f":"+DarbųĮkainiai2018[[#This Row],[Darbinis plotis, m]]","v":2.5},{"$f":"+DarbųĮkainiai2018[[#This Row],[Tręšimo, išsėjimo, purškimo norma, kg/ha; Derlingumas, t/ha]]","v":0},{"$f":"+DarbųĮkainiai2018[[#This Row],[Traktoriaus (kombaino) galia, kW]]","v":83},{"$f":"ROUND(DarbųĮkainiai2018[[#This Row],[Traktoriaus (kombaino) kaina, tūkst. Eur]]*$AF$9,2)","v":74.66},{"$f":"ROUND(DarbųĮkainiai2018[[#This Row],[Žemės ūkio mašinos (cisternos) kaina, tūkst. Eur]] * $AG$9,2)","v":19.940000000000001},{"$f":"+DarbųĮkainiai2018[[#This Row],[Išdirbio norma, ha/val.]]","v":1.6},{"$f":"+DarbųĮkainiai2018[[#This Row],[Degalų sąnaudų norma, l/ha]]","v":10.3},{"$f":"ROUND(DarbųĮkainiai2018[[#This Row],[Išlaidos atnaujinimui, Eur/ha]]*1.35,2)","v":13.91},{"$f":"ROUND(DarbųĮkainiai2018[[#This Row],[Išlaidos remontui ir tech. aptarnavimui, Eur/ha]]*$AK$9,2)","v":10.77},{"$f":"ROUND(DarbųĮkainiai2024[[#This Row],[Degalų sąnaudų norma, l/ha]] * $AL$9,2)","v":7.73},{"$f":"ROUND(1/DarbųĮkainiai2024[[#This Row],[Išdirbio norma, ha/val.]]*$AM$9,2)","v":6.94},{"$f":"+DarbųĮkainiai2024[[#This Row],[Išlaidos atnaujinimui, Eur/ha]]+DarbųĮkainiai2024[[#This Row],[Išlaidos remontui ir tech. aptarnavimui, Eur/ha]]+DarbųĮkainiai2024[[#This Row],[Išlaidos degalams ir tepalams, Eur/ha]]+DarbųĮkainiai2024[[#This Row],[Išlaidos darbo užmokesčiui su priskaitymais, Eur/ha]]","v":39.349999999999994},{"$f":"ROUND(DarbųĮkainiai2018[[#This Row],[Kitos, Eur/ha]] * $AO$9,2)","v":1.56},{"$f":"+DarbųĮkainiai2024[[#This Row],[Kitos, Eur/ha]]+DarbųĮkainiai2024[[#This Row],[Išlaidos iš viso, Eur/ha]]","v":40.909999999999997},{"$f":"ROUND(DarbųĮkainiai2024[[#This Row],[Savikaina, Eur/ha]]*$AQ$9,2)","v":2.0499999999999998},{"$f":"+DarbųĮkainiai2024[[#This Row],[Pelnas, Eur/ha]]+DarbųĮkainiai2024[[#This Row],[Savikaina, Eur/ha]]","v":42.959999999999994},{"$f":"+DarbųĮkainiai2024[[#This Row],[Įkainis, Eur/ha]]-DarbųĮkainiai2024[[#This Row],[Pelnas, Eur/ha]]-DarbųĮkainiai2024[[#This Row],[Išlaidos atnaujinimui, Eur/ha]]","v":26.999999999999996},{"$f":"+DarbųĮkainiai2018[[#This Row],[Darbas]]","v":"DIRVOS SKUTIMAS IR LĖKŠČIAVIMAS"},2024,{"$f":"+DarbųĮkainiai2018[[#This Row],[Žemės ūkio mašinų kilmė]]","v":"Vakarų Europos"},{"$f":"+DarbųĮkainiai2018[[#This Row],[Papildomas barstytubo parametras, m3]]","v":0},{"$f":"+DarbųĮkainiai2018[[#This Row],[Aktualus darbo pavadinimas]]","v":"Gilusis ražienų skutimas"},{"$f":"+DarbųĮkainiai2018[[#This Row],[Stulpelis1]]","v":51}]
[{"$f":"ROW()-ROW(DarbųĮkainiai2018[[#Headers],[Eil. Nr.]])","v":25},"Gilusis ražienų skutimas",3,null,102,70.599999999999994,15.6,1.95,10.3,10.25,6.97,7.31,2.81,27.34,1.37,28.71,1.44,30.14,{"$f":"+DarbųĮkainiai2018[[#This Row],[Įkainis, Eur/ha]]-DarbųĮkainiai2018[[#This Row],[Pelnas, Eur/ha]]-DarbųĮkainiai2018[[#This Row],[Išlaidos atnaujinimui, Eur/ha]]","v":18.45},"DIRVOS SKUTIMAS IR LĖKŠČIAVIMAS",2018,"Vakarų Europos",null,"Gilusis ražienų skutimas",52,null,{"$f":"ROW()-ROW(DarbųĮkainiai2024[[#Headers],[Eil. Nr.]])","v":25},{"$f":"+DarbųĮkainiai2018[[#This Row],[Žemės ūkio mašina]]","v":"Gilusis ražienų skutimas"},{"$f":"+DarbųĮkainiai2018[[#This Row],[Darbinis plotis, m]]","v":3},{"$f":"+DarbųĮkainiai2018[[#This Row],[Tręšimo, išsėjimo, purškimo norma, kg/ha; Derlingumas, t/ha]]","v":0},{"$f":"+DarbųĮkainiai2018[[#This Row],[Traktoriaus (kombaino) galia, kW]]","v":102},{"$f":"ROUND(DarbųĮkainiai2018[[#This Row],[Traktoriaus (kombaino) kaina, tūkst. Eur]]*$AF$9,2)","v":92.27},{"$f":"ROUND(DarbųĮkainiai2018[[#This Row],[Žemės ūkio mašinos (cisternos) kaina, tūkst. Eur]] * $AG$9,2)","v":23.93},{"$f":"+DarbųĮkainiai2018[[#This Row],[Išdirbio norma, ha/val.]]","v":1.95},{"$f":"+DarbųĮkainiai2018[[#This Row],[Degalų sąnaudų norma, l/ha]]","v":10.3},{"$f":"ROUND(DarbųĮkainiai2018[[#This Row],[Išlaidos atnaujinimui, Eur/ha]]*1.35,2)","v":13.84},{"$f":"ROUND(DarbųĮkainiai2018[[#This Row],[Išlaidos remontui ir tech. aptarnavimui, Eur/ha]]*$AK$9,2)","v":10.69},{"$f":"ROUND(DarbųĮkainiai2024[[#This Row],[Degalų sąnaudų norma, l/ha]] * $AL$9,2)","v":7.73},{"$f":"ROUND(1/DarbųĮkainiai2024[[#This Row],[Išdirbio norma, ha/val.]]*$AM$9,2)","v":5.7},{"$f":"+DarbųĮkainiai2024[[#This Row],[Išlaidos atnaujinimui, Eur/ha]]+DarbųĮkainiai2024[[#This Row],[Išlaidos remontui ir tech. aptarnavimui, Eur/ha]]+DarbųĮkainiai2024[[#This Row],[Išlaidos degalams ir tepalams, Eur/ha]]+DarbųĮkainiai2024[[#This Row],[Išlaidos darbo užmokesčiui su priskaitymais, Eur/ha]]","v":37.960000000000008},{"$f":"ROUND(DarbųĮkainiai2018[[#This Row],[Kitos, Eur/ha]] * $AO$9,2)","v":1.53},{"$f":"+DarbųĮkainiai2024[[#This Row],[Kitos, Eur/ha]]+DarbųĮkainiai2024[[#This Row],[Išlaidos iš viso, Eur/ha]]","v":39.490000000000009},{"$f":"ROUND(DarbųĮkainiai2024[[#This Row],[Savikaina, Eur/ha]]*$AQ$9,2)","v":1.97},{"$f":"+DarbųĮkainiai2024[[#This Row],[Pelnas, Eur/ha]]+DarbųĮkainiai2024[[#This Row],[Savikaina, Eur/ha]]","v":41.460000000000008},{"$f":"+DarbųĮkainiai2024[[#This Row],[Įkainis, Eur/ha]]-DarbųĮkainiai2024[[#This Row],[Pelnas, Eur/ha]]-DarbųĮkainiai2024[[#This Row],[Išlaidos atnaujinimui, Eur/ha]]","v":25.650000000000009},{"$f":"+DarbųĮkainiai2018[[#This Row],[Darbas]]","v":"DIRVOS SKUTIMAS IR LĖKŠČIAVIMAS"},2024,{"$f":"+DarbųĮkainiai2018[[#This Row],[Žemės ūkio mašinų kilmė]]","v":"Vakarų Europos"},{"$f":"+DarbųĮkainiai2018[[#This Row],[Papildomas barstytubo parametras, m3]]","v":0},{"$f":"+DarbųĮkainiai2018[[#This Row],[Aktualus darbo pavadinimas]]","v":"Gilusis ražienų skutimas"},{"$f":"+DarbųĮkainiai2018[[#This Row],[Stulpelis1]]","v":52}]
[{"$f":"ROW()-ROW(DarbųĮkainiai2018[[#Headers],[Eil. Nr.]])","v":26},"Gilusis ražienų skutimas",4,null,138,91.1,20.8,2.59,10.5,10.17,6.93,7.46,2.11,26.67,1.33,28,1.4,29.4,{"$f":"+DarbųĮkainiai2018[[#This Row],[Įkainis, Eur/ha]]-DarbųĮkainiai2018[[#This Row],[Pelnas, Eur/ha]]-DarbųĮkainiai2018[[#This Row],[Išlaidos atnaujinimui, Eur/ha]]","v":17.829999999999998},"DIRVOS SKUTIMAS IR LĖKŠČIAVIMAS",2018,"Vakarų Europos",null,"Gilusis ražienų skutimas",53,null,{"$f":"ROW()-ROW(DarbųĮkainiai2024[[#Headers],[Eil. Nr.]])","v":26},{"$f":"+DarbųĮkainiai2018[[#This Row],[Žemės ūkio mašina]]","v":"Gilusis ražienų skutimas"},{"$f":"+DarbųĮkainiai2018[[#This Row],[Darbinis plotis, m]]","v":4},{"$f":"+DarbųĮkainiai2018[[#This Row],[Tręšimo, išsėjimo, purškimo norma, kg/ha; Derlingumas, t/ha]]","v":0},{"$f":"+DarbųĮkainiai2018[[#This Row],[Traktoriaus (kombaino) galia, kW]]","v":138},{"$f":"ROUND(DarbųĮkainiai2018[[#This Row],[Traktoriaus (kombaino) kaina, tūkst. Eur]]*$AF$9,2)","v":119.07},{"$f":"ROUND(DarbųĮkainiai2018[[#This Row],[Žemės ūkio mašinos (cisternos) kaina, tūkst. Eur]] * $AG$9,2)","v":31.9},{"$f":"+DarbųĮkainiai2018[[#This Row],[Išdirbio norma, ha/val.]]","v":2.59},{"$f":"+DarbųĮkainiai2018[[#This Row],[Degalų sąnaudų norma, l/ha]]","v":10.5},{"$f":"ROUND(DarbųĮkainiai2018[[#This Row],[Išlaidos atnaujinimui, Eur/ha]]*1.35,2)","v":13.73},{"$f":"ROUND(DarbųĮkainiai2018[[#This Row],[Išlaidos remontui ir tech. aptarnavimui, Eur/ha]]*$AK$9,2)","v":10.63},{"$f":"ROUND(DarbųĮkainiai2024[[#This Row],[Degalų sąnaudų norma, l/ha]] * $AL$9,2)","v":7.88},{"$f":"ROUND(1/DarbųĮkainiai2024[[#This Row],[Išdirbio norma, ha/val.]]*$AM$9,2)","v":4.29},{"$f":"+DarbųĮkainiai2024[[#This Row],[Išlaidos atnaujinimui, Eur/ha]]+DarbųĮkainiai2024[[#This Row],[Išlaidos remontui ir tech. aptarnavimui, Eur/ha]]+DarbųĮkainiai2024[[#This Row],[Išlaidos degalams ir tepalams, Eur/ha]]+DarbųĮkainiai2024[[#This Row],[Išlaidos darbo užmokesčiui su priskaitymais, Eur/ha]]","v":36.53},{"$f":"ROUND(DarbųĮkainiai2018[[#This Row],[Kitos, Eur/ha]] * $AO$9,2)","v":1.48},{"$f":"+DarbųĮkainiai2024[[#This Row],[Kitos, Eur/ha]]+DarbųĮkainiai2024[[#This Row],[Išlaidos iš viso, Eur/ha]]","v":38.01},{"$f":"ROUND(DarbųĮkainiai2024[[#This Row],[Savikaina, Eur/ha]]*$AQ$9,2)","v":1.9},{"$f":"+DarbųĮkainiai2024[[#This Row],[Pelnas, Eur/ha]]+DarbųĮkainiai2024[[#This Row],[Savikaina, Eur/ha]]","v":39.909999999999997},{"$f":"+DarbųĮkainiai2024[[#This Row],[Įkainis, Eur/ha]]-DarbųĮkainiai2024[[#This Row],[Pelnas, Eur/ha]]-DarbųĮkainiai2024[[#This Row],[Išlaidos atnaujinimui, Eur/ha]]","v":24.279999999999998},{"$f":"+DarbųĮkainiai2018[[#This Row],[Darbas]]","v":"DIRVOS SKUTIMAS IR LĖKŠČIAVIMAS"},2024,{"$f":"+DarbųĮkainiai2018[[#This Row],[Žemės ūkio mašinų kilmė]]","v":"Vakarų Europos"},{"$f":"+DarbųĮkainiai2018[[#This Row],[Papildomas barstytubo parametras, m3]]","v":0},{"$f":"+DarbųĮkainiai2018[[#This Row],[Aktualus darbo pavadinimas]]","v":"Gilusis ražienų skutimas"},{"$f":"+DarbųĮkainiai2018[[#This Row],[Stulpelis1]]","v":53}]
[{"$f":"ROW()-ROW(DarbųĮkainiai2018[[#Headers],[Eil. Nr.]])","v":27},"Gilusis ražienų skutimas",5,null,157,106.6,26,3.28,11,9.82,6.71,7.81,1.88,26.22,1.31,27.53,1.38,28.91,{"$f":"+DarbųĮkainiai2018[[#This Row],[Įkainis, Eur/ha]]-DarbųĮkainiai2018[[#This Row],[Pelnas, Eur/ha]]-DarbųĮkainiai2018[[#This Row],[Išlaidos atnaujinimui, Eur/ha]]","v":17.71},"DIRVOS SKUTIMAS IR LĖKŠČIAVIMAS",2018,"Vakarų Europos",null,"Gilusis ražienų skutimas",54,null,{"$f":"ROW()-ROW(DarbųĮkainiai2024[[#Headers],[Eil. Nr.]])","v":27},{"$f":"+DarbųĮkainiai2018[[#This Row],[Žemės ūkio mašina]]","v":"Gilusis ražienų skutimas"},{"$f":"+DarbųĮkainiai2018[[#This Row],[Darbinis plotis, m]]","v":5},{"$f":"+DarbųĮkainiai2018[[#This Row],[Tręšimo, išsėjimo, purškimo norma, kg/ha; Derlingumas, t/ha]]","v":0},{"$f":"+DarbųĮkainiai2018[[#This Row],[Traktoriaus (kombaino) galia, kW]]","v":157},{"$f":"ROUND(DarbųĮkainiai2018[[#This Row],[Traktoriaus (kombaino) kaina, tūkst. Eur]]*$AF$9,2)","v":139.32},{"$f":"ROUND(DarbųĮkainiai2018[[#This Row],[Žemės ūkio mašinos (cisternos) kaina, tūkst. Eur]] * $AG$9,2)","v":39.880000000000003},{"$f":"+DarbųĮkainiai2018[[#This Row],[Išdirbio norma, ha/val.]]","v":3.28},{"$f":"+DarbųĮkainiai2018[[#This Row],[Degalų sąnaudų norma, l/ha]]","v":11},{"$f":"ROUND(DarbųĮkainiai2018[[#This Row],[Išlaidos atnaujinimui, Eur/ha]]*1.35,2)","v":13.26},{"$f":"ROUND(DarbųĮkainiai2018[[#This Row],[Išlaidos remontui ir tech. aptarnavimui, Eur/ha]]*$AK$9,2)","v":10.29},{"$f":"ROUND(DarbųĮkainiai2024[[#This Row],[Degalų sąnaudų norma, l/ha]] * $AL$9,2)","v":8.25},{"$f":"ROUND(1/DarbųĮkainiai2024[[#This Row],[Išdirbio norma, ha/val.]]*$AM$9,2)","v":3.39},{"$f":"+DarbųĮkainiai2024[[#This Row],[Išlaidos atnaujinimui, Eur/ha]]+DarbųĮkainiai2024[[#This Row],[Išlaidos remontui ir tech. aptarnavimui, Eur/ha]]+DarbųĮkainiai2024[[#This Row],[Išlaidos degalams ir tepalams, Eur/ha]]+DarbųĮkainiai2024[[#This Row],[Išlaidos darbo užmokesčiui su priskaitymais, Eur/ha]]","v":35.19},{"$f":"ROUND(DarbųĮkainiai2018[[#This Row],[Kitos, Eur/ha]] * $AO$9,2)","v":1.46},{"$f":"+DarbųĮkainiai2024[[#This Row],[Kitos, Eur/ha]]+DarbųĮkainiai2024[[#This Row],[Išlaidos iš viso, Eur/ha]]","v":36.65},{"$f":"ROUND(DarbųĮkainiai2024[[#This Row],[Savikaina, Eur/ha]]*$AQ$9,2)","v":1.83},{"$f":"+DarbųĮkainiai2024[[#This Row],[Pelnas, Eur/ha]]+DarbųĮkainiai2024[[#This Row],[Savikaina, Eur/ha]]","v":38.479999999999997},{"$f":"+DarbųĮkainiai2024[[#This Row],[Įkainis, Eur/ha]]-DarbųĮkainiai2024[[#This Row],[Pelnas, Eur/ha]]-DarbųĮkainiai2024[[#This Row],[Išlaidos atnaujinimui, Eur/ha]]","v":23.39},{"$f":"+DarbųĮkainiai2018[[#This Row],[Darbas]]","v":"DIRVOS SKUTIMAS IR LĖKŠČIAVIMAS"},2024,{"$f":"+DarbųĮkainiai2018[[#This Row],[Žemės ūkio mašinų kilmė]]","v":"Vakarų Europos"},{"$f":"+DarbųĮkainiai2018[[#This Row],[Papildomas barstytubo parametras, m3]]","v":0},{"$f":"+DarbųĮkainiai2018[[#This Row],[Aktualus darbo pavadinimas]]","v":"Gilusis ražienų skutimas"},{"$f":"+DarbųĮkainiai2018[[#This Row],[Stulpelis1]]","v":54}]
[{"$f":"ROW()-ROW(DarbųĮkainiai2018[[#Headers],[Eil. Nr.]])","v":28},"Gilusis ražienų skutimas",7,null,233,175.5,36.4,4.55,11.5,10.48,7.12,8.17,1.36,27.12,1.36,28.48,1.42,29.9,{"$f":"+DarbųĮkainiai2018[[#This Row],[Įkainis, Eur/ha]]-DarbųĮkainiai2018[[#This Row],[Pelnas, Eur/ha]]-DarbųĮkainiai2018[[#This Row],[Išlaidos atnaujinimui, Eur/ha]]","v":17.999999999999996},"DIRVOS SKUTIMAS IR LĖKŠČIAVIMAS",2018,"Vakarų Europos",null,"Gilusis ražienų skutimas",55,null,{"$f":"ROW()-ROW(DarbųĮkainiai2024[[#Headers],[Eil. Nr.]])","v":28},{"$f":"+DarbųĮkainiai2018[[#This Row],[Žemės ūkio mašina]]","v":"Gilusis ražienų skutimas"},{"$f":"+DarbųĮkainiai2018[[#This Row],[Darbinis plotis, m]]","v":7},{"$f":"+DarbųĮkainiai2018[[#This Row],[Tręšimo, išsėjimo, purškimo norma, kg/ha; Derlingumas, t/ha]]","v":0},{"$f":"+DarbųĮkainiai2018[[#This Row],[Traktoriaus (kombaino) galia, kW]]","v":233},{"$f":"ROUND(DarbųĮkainiai2018[[#This Row],[Traktoriaus (kombaino) kaina, tūkst. Eur]]*$AF$9,2)","v":229.38},{"$f":"ROUND(DarbųĮkainiai2018[[#This Row],[Žemės ūkio mašinos (cisternos) kaina, tūkst. Eur]] * $AG$9,2)","v":55.83},{"$f":"+DarbųĮkainiai2018[[#This Row],[Išdirbio norma, ha/val.]]","v":4.55},{"$f":"+DarbųĮkainiai2018[[#This Row],[Degalų sąnaudų norma, l/ha]]","v":11.5},{"$f":"ROUND(DarbųĮkainiai2018[[#This Row],[Išlaidos atnaujinimui, Eur/ha]]*1.35,2)","v":14.15},{"$f":"ROUND(DarbųĮkainiai2018[[#This Row],[Išlaidos remontui ir tech. aptarnavimui, Eur/ha]]*$AK$9,2)","v":10.92},{"$f":"ROUND(DarbųĮkainiai2024[[#This Row],[Degalų sąnaudų norma, l/ha]] * $AL$9,2)","v":8.6300000000000008},{"$f":"ROUND(1/DarbųĮkainiai2024[[#This Row],[Išdirbio norma, ha/val.]]*$AM$9,2)","v":2.44},{"$f":"+DarbųĮkainiai2024[[#This Row],[Išlaidos atnaujinimui, Eur/ha]]+DarbųĮkainiai2024[[#This Row],[Išlaidos remontui ir tech. aptarnavimui, Eur/ha]]+DarbųĮkainiai2024[[#This Row],[Išlaidos degalams ir tepalams, Eur/ha]]+DarbųĮkainiai2024[[#This Row],[Išlaidos darbo užmokesčiui su priskaitymais, Eur/ha]]","v":36.14},{"$f":"ROUND(DarbųĮkainiai2018[[#This Row],[Kitos, Eur/ha]] * $AO$9,2)","v":1.52},{"$f":"+DarbųĮkainiai2024[[#This Row],[Kitos, Eur/ha]]+DarbųĮkainiai2024[[#This Row],[Išlaidos iš viso, Eur/ha]]","v":37.660000000000004},{"$f":"ROUND(DarbųĮkainiai2024[[#This Row],[Savikaina, Eur/ha]]*$AQ$9,2)","v":1.88},{"$f":"+DarbųĮkainiai2024[[#This Row],[Pelnas, Eur/ha]]+DarbųĮkainiai2024[[#This Row],[Savikaina, Eur/ha]]","v":39.540000000000006},{"$f":"+DarbųĮkainiai2024[[#This Row],[Įkainis, Eur/ha]]-DarbųĮkainiai2024[[#This Row],[Pelnas, Eur/ha]]-DarbųĮkainiai2024[[#This Row],[Išlaidos atnaujinimui, Eur/ha]]","v":23.510000000000005},{"$f":"+DarbųĮkainiai2018[[#This Row],[Darbas]]","v":"DIRVOS SKUTIMAS IR LĖKŠČIAVIMAS"},2024,{"$f":"+DarbųĮkainiai2018[[#This Row],[Žemės ūkio mašinų kilmė]]","v":"Vakarų Europos"},{"$f":"+DarbųĮkainiai2018[[#This Row],[Papildomas barstytubo parametras, m3]]","v":0},{"$f":"+DarbųĮkainiai2018[[#This Row],[Aktualus darbo pavadinimas]]","v":"Gilusis ražienų skutimas"},{"$f":"+DarbųĮkainiai2018[[#This Row],[Stulpelis1]]","v":55}]
[{"$f":"ROW()-ROW(DarbųĮkainiai2018[[#Headers],[Eil. Nr.]])","v":29},"Lėkščiavimas",2,null,67,40.9,9.8000000000000007,1.33,8.4,9.18,6.27,5.96,3.57,24.98,1.25,26.23,1.31,27.54,{"$f":"+DarbųĮkainiai2018[[#This Row],[Įkainis, Eur/ha]]-DarbųĮkainiai2018[[#This Row],[Pelnas, Eur/ha]]-DarbųĮkainiai2018[[#This Row],[Išlaidos atnaujinimui, Eur/ha]]","v":17.05},"DIRVOS SKUTIMAS IR LĖKŠČIAVIMAS",2018,"Vakarų Europos",null,"Lėkščiavimas",56,null,{"$f":"ROW()-ROW(DarbųĮkainiai2024[[#Headers],[Eil. Nr.]])","v":29},{"$f":"+DarbųĮkainiai2018[[#This Row],[Žemės ūkio mašina]]","v":"Lėkščiavimas"},{"$f":"+DarbųĮkainiai2018[[#This Row],[Darbinis plotis, m]]","v":2},{"$f":"+DarbųĮkainiai2018[[#This Row],[Tręšimo, išsėjimo, purškimo norma, kg/ha; Derlingumas, t/ha]]","v":0},{"$f":"+DarbųĮkainiai2018[[#This Row],[Traktoriaus (kombaino) galia, kW]]","v":67},{"$f":"ROUND(DarbųĮkainiai2018[[#This Row],[Traktoriaus (kombaino) kaina, tūkst. Eur]]*$AF$9,2)","v":53.46},{"$f":"ROUND(DarbųĮkainiai2018[[#This Row],[Žemės ūkio mašinos (cisternos) kaina, tūkst. Eur]] * $AG$9,2)","v":15.03},{"$f":"+DarbųĮkainiai2018[[#This Row],[Išdirbio norma, ha/val.]]","v":1.33},{"$f":"+DarbųĮkainiai2018[[#This Row],[Degalų sąnaudų norma, l/ha]]","v":8.4},{"$f":"ROUND(DarbųĮkainiai2018[[#This Row],[Išlaidos atnaujinimui, Eur/ha]]*1.35,2)","v":12.39},{"$f":"ROUND(DarbųĮkainiai2018[[#This Row],[Išlaidos remontui ir tech. aptarnavimui, Eur/ha]]*$AK$9,2)","v":9.6199999999999992},{"$f":"ROUND(DarbųĮkainiai2024[[#This Row],[Degalų sąnaudų norma, l/ha]] * $AL$9,2)","v":6.3},{"$f":"ROUND(1/DarbųĮkainiai2024[[#This Row],[Išdirbio norma, ha/val.]]*$AM$9,2)","v":8.35},{"$f":"+DarbųĮkainiai2024[[#This Row],[Išlaidos atnaujinimui, Eur/ha]]+DarbųĮkainiai2024[[#This Row],[Išlaidos remontui ir tech. aptarnavimui, Eur/ha]]+DarbųĮkainiai2024[[#This Row],[Išlaidos degalams ir tepalams, Eur/ha]]+DarbųĮkainiai2024[[#This Row],[Išlaidos darbo užmokesčiui su priskaitymais, Eur/ha]]","v":36.659999999999997},{"$f":"ROUND(DarbųĮkainiai2018[[#This Row],[Kitos, Eur/ha]] * $AO$9,2)","v":1.39},{"$f":"+DarbųĮkainiai2024[[#This Row],[Kitos, Eur/ha]]+DarbųĮkainiai2024[[#This Row],[Išlaidos iš viso, Eur/ha]]","v":38.049999999999997},{"$f":"ROUND(DarbųĮkainiai2024[[#This Row],[Savikaina, Eur/ha]]*$AQ$9,2)","v":1.9},{"$f":"+DarbųĮkainiai2024[[#This Row],[Pelnas, Eur/ha]]+DarbųĮkainiai2024[[#This Row],[Savikaina, Eur/ha]]","v":39.949999999999996},{"$f":"+DarbųĮkainiai2024[[#This Row],[Įkainis, Eur/ha]]-DarbųĮkainiai2024[[#This Row],[Pelnas, Eur/ha]]-DarbųĮkainiai2024[[#This Row],[Išlaidos atnaujinimui, Eur/ha]]","v":25.659999999999997},{"$f":"+DarbųĮkainiai2018[[#This Row],[Darbas]]","v":"DIRVOS SKUTIMAS IR LĖKŠČIAVIMAS"},2024,{"$f":"+DarbųĮkainiai2018[[#This Row],[Žemės ūkio mašinų kilmė]]","v":"Vakarų Europos"},{"$f":"+DarbųĮkainiai2018[[#This Row],[Papildomas barstytubo parametras, m3]]","v":0},{"$f":"+DarbųĮkainiai2018[[#This Row],[Aktualus darbo pavadinimas]]","v":"Lėkščiavimas"},{"$f":"+DarbųĮkainiai2018[[#This Row],[Stulpelis1]]","v":56}]
[{"$f":"ROW()-ROW(DarbųĮkainiai2018[[#Headers],[Eil. Nr.]])","v":30},"Lėkščiavimas",2.5,null,67,40.9,12.25,1.7,7.4,8.3800000000000008,5.77,5.25,2.79,22.19,1.1100000000000001,23.3,1.17,24.47,{"$f":"+DarbųĮkainiai2018[[#This Row],[Įkainis, Eur/ha]]-DarbųĮkainiai2018[[#This Row],[Pelnas, Eur/ha]]-DarbųĮkainiai2018[[#This Row],[Išlaidos atnaujinimui, Eur/ha]]","v":14.919999999999996},"DIRVOS SKUTIMAS IR LĖKŠČIAVIMAS",2018,"Vakarų Europos",null,"Lėkščiavimas",57,null,{"$f":"ROW()-ROW(DarbųĮkainiai2024[[#Headers],[Eil. Nr.]])","v":30},{"$f":"+DarbųĮkainiai2018[[#This Row],[Žemės ūkio mašina]]","v":"Lėkščiavimas"},{"$f":"+DarbųĮkainiai2018[[#This Row],[Darbinis plotis, m]]","v":2.5},{"$f":"+DarbųĮkainiai2018[[#This Row],[Tręšimo, išsėjimo, purškimo norma, kg/ha; Derlingumas, t/ha]]","v":0},{"$f":"+DarbųĮkainiai2018[[#This Row],[Traktoriaus (kombaino) galia, kW]]","v":67},{"$f":"ROUND(DarbųĮkainiai2018[[#This Row],[Traktoriaus (kombaino) kaina, tūkst. Eur]]*$AF$9,2)","v":53.46},{"$f":"ROUND(DarbųĮkainiai2018[[#This Row],[Žemės ūkio mašinos (cisternos) kaina, tūkst. Eur]] * $AG$9,2)","v":18.79},{"$f":"+DarbųĮkainiai2018[[#This Row],[Išdirbio norma, ha/val.]]","v":1.7},{"$f":"+DarbųĮkainiai2018[[#This Row],[Degalų sąnaudų norma, l/ha]]","v":7.4},{"$f":"ROUND(DarbųĮkainiai2018[[#This Row],[Išlaidos atnaujinimui, Eur/ha]]*1.35,2)","v":11.31},{"$f":"ROUND(DarbųĮkainiai2018[[#This Row],[Išlaidos remontui ir tech. aptarnavimui, Eur/ha]]*$AK$9,2)","v":8.85},{"$f":"ROUND(DarbųĮkainiai2024[[#This Row],[Degalų sąnaudų norma, l/ha]] * $AL$9,2)","v":5.55},{"$f":"ROUND(1/DarbųĮkainiai2024[[#This Row],[Išdirbio norma, ha/val.]]*$AM$9,2)","v":6.54},{"$f":"+DarbųĮkainiai2024[[#This Row],[Išlaidos atnaujinimui, Eur/ha]]+DarbųĮkainiai2024[[#This Row],[Išlaidos remontui ir tech. aptarnavimui, Eur/ha]]+DarbųĮkainiai2024[[#This Row],[Išlaidos degalams ir tepalams, Eur/ha]]+DarbųĮkainiai2024[[#This Row],[Išlaidos darbo užmokesčiui su priskaitymais, Eur/ha]]","v":32.25},{"$f":"ROUND(DarbųĮkainiai2018[[#This Row],[Kitos, Eur/ha]] * $AO$9,2)","v":1.24},{"$f":"+DarbųĮkainiai2024[[#This Row],[Kitos, Eur/ha]]+DarbųĮkainiai2024[[#This Row],[Išlaidos iš viso, Eur/ha]]","v":33.49},{"$f":"ROUND(DarbųĮkainiai2024[[#This Row],[Savikaina, Eur/ha]]*$AQ$9,2)","v":1.67},{"$f":"+DarbųĮkainiai2024[[#This Row],[Pelnas, Eur/ha]]+DarbųĮkainiai2024[[#This Row],[Savikaina, Eur/ha]]","v":35.160000000000004},{"$f":"+DarbųĮkainiai2024[[#This Row],[Įkainis, Eur/ha]]-DarbųĮkainiai2024[[#This Row],[Pelnas, Eur/ha]]-DarbųĮkainiai2024[[#This Row],[Išlaidos atnaujinimui, Eur/ha]]","v":22.18},{"$f":"+DarbųĮkainiai2018[[#This Row],[Darbas]]","v":"DIRVOS SKUTIMAS IR LĖKŠČIAVIMAS"},2024,{"$f":"+DarbųĮkainiai2018[[#This Row],[Žemės ūkio mašinų kilmė]]","v":"Vakarų Europos"},{"$f":"+DarbųĮkainiai2018[[#This Row],[Papildomas barstytubo parametras, m3]]","v":0},{"$f":"+DarbųĮkainiai2018[[#This Row],[Aktualus darbo pavadinimas]]","v":"Lėkščiavimas"},{"$f":"+DarbųĮkainiai2018[[#This Row],[Stulpelis1]]","v":57}]
[{"$f":"ROW()-ROW(DarbųĮkainiai2018[[#Headers],[Eil. Nr.]])","v":31},"Lėkščiavimas",3,null,120,83.4,14.7,2,8.8000000000000007,10.26,6.91,6.25,2.74,26.15,1.31,27.46,1.37,28.83,{"$f":"+DarbųĮkainiai2018[[#This Row],[Įkainis, Eur/ha]]-DarbųĮkainiai2018[[#This Row],[Pelnas, Eur/ha]]-DarbųĮkainiai2018[[#This Row],[Išlaidos atnaujinimui, Eur/ha]]","v":17.199999999999996},"DIRVOS SKUTIMAS IR LĖKŠČIAVIMAS",2018,"Vakarų Europos",null,"Lėkščiavimas",58,null,{"$f":"ROW()-ROW(DarbųĮkainiai2024[[#Headers],[Eil. Nr.]])","v":31},{"$f":"+DarbųĮkainiai2018[[#This Row],[Žemės ūkio mašina]]","v":"Lėkščiavimas"},{"$f":"+DarbųĮkainiai2018[[#This Row],[Darbinis plotis, m]]","v":3},{"$f":"+DarbųĮkainiai2018[[#This Row],[Tręšimo, išsėjimo, purškimo norma, kg/ha; Derlingumas, t/ha]]","v":0},{"$f":"+DarbųĮkainiai2018[[#This Row],[Traktoriaus (kombaino) galia, kW]]","v":120},{"$f":"ROUND(DarbųĮkainiai2018[[#This Row],[Traktoriaus (kombaino) kaina, tūkst. Eur]]*$AF$9,2)","v":109},{"$f":"ROUND(DarbųĮkainiai2018[[#This Row],[Žemės ūkio mašinos (cisternos) kaina, tūkst. Eur]] * $AG$9,2)","v":22.55},{"$f":"+DarbųĮkainiai2018[[#This Row],[Išdirbio norma, ha/val.]]","v":2},{"$f":"+DarbųĮkainiai2018[[#This Row],[Degalų sąnaudų norma, l/ha]]","v":8.8000000000000007},{"$f":"ROUND(DarbųĮkainiai2018[[#This Row],[Išlaidos atnaujinimui, Eur/ha]]*1.35,2)","v":13.85},{"$f":"ROUND(DarbųĮkainiai2018[[#This Row],[Išlaidos remontui ir tech. aptarnavimui, Eur/ha]]*$AK$9,2)","v":10.6},{"$f":"ROUND(DarbųĮkainiai2024[[#This Row],[Degalų sąnaudų norma, l/ha]] * $AL$9,2)","v":6.6},{"$f":"ROUND(1/DarbųĮkainiai2024[[#This Row],[Išdirbio norma, ha/val.]]*$AM$9,2)","v":5.56},{"$f":"+DarbųĮkainiai2024[[#This Row],[Išlaidos atnaujinimui, Eur/ha]]+DarbųĮkainiai2024[[#This Row],[Išlaidos remontui ir tech. aptarnavimui, Eur/ha]]+DarbųĮkainiai2024[[#This Row],[Išlaidos degalams ir tepalams, Eur/ha]]+DarbųĮkainiai2024[[#This Row],[Išlaidos darbo užmokesčiui su priskaitymais, Eur/ha]]","v":36.61},{"$f":"ROUND(DarbųĮkainiai2018[[#This Row],[Kitos, Eur/ha]] * $AO$9,2)","v":1.46},{"$f":"+DarbųĮkainiai2024[[#This Row],[Kitos, Eur/ha]]+DarbųĮkainiai2024[[#This Row],[Išlaidos iš viso, Eur/ha]]","v":38.07},{"$f":"ROUND(DarbųĮkainiai2024[[#This Row],[Savikaina, Eur/ha]]*$AQ$9,2)","v":1.9},{"$f":"+DarbųĮkainiai2024[[#This Row],[Pelnas, Eur/ha]]+DarbųĮkainiai2024[[#This Row],[Savikaina, Eur/ha]]","v":39.97},{"$f":"+DarbųĮkainiai2024[[#This Row],[Įkainis, Eur/ha]]-DarbųĮkainiai2024[[#This Row],[Pelnas, Eur/ha]]-DarbųĮkainiai2024[[#This Row],[Išlaidos atnaujinimui, Eur/ha]]","v":24.22},{"$f":"+DarbųĮkainiai2018[[#This Row],[Darbas]]","v":"DIRVOS SKUTIMAS IR LĖKŠČIAVIMAS"},2024,{"$f":"+DarbųĮkainiai2018[[#This Row],[Žemės ūkio mašinų kilmė]]","v":"Vakarų Europos"},{"$f":"+DarbųĮkainiai2018[[#This Row],[Papildomas barstytubo parametras, m3]]","v":0},{"$f":"+DarbųĮkainiai2018[[#This Row],[Aktualus darbo pavadinimas]]","v":"Lėkščiavimas"},{"$f":"+DarbųĮkainiai2018[[#This Row],[Stulpelis1]]","v":58}]
[{"$f":"ROW()-ROW(DarbųĮkainiai2018[[#Headers],[Eil. Nr.]])","v":32},"Lėkščiavimas",4,null,120,83.4,19.600000000000001,2.65,8.3000000000000007,9.27,6.33,5.89,2.06,23.56,1.18,24.74,1.24,25.97,{"$f":"+DarbųĮkainiai2018[[#This Row],[Įkainis, Eur/ha]]-DarbųĮkainiai2018[[#This Row],[Pelnas, Eur/ha]]-DarbųĮkainiai2018[[#This Row],[Išlaidos atnaujinimui, Eur/ha]]","v":15.46},"DIRVOS SKUTIMAS IR LĖKŠČIAVIMAS",2018,"Vakarų Europos",null,"Lėkščiavimas",59,null,{"$f":"ROW()-ROW(DarbųĮkainiai2024[[#Headers],[Eil. Nr.]])","v":32},{"$f":"+DarbųĮkainiai2018[[#This Row],[Žemės ūkio mašina]]","v":"Lėkščiavimas"},{"$f":"+DarbųĮkainiai2018[[#This Row],[Darbinis plotis, m]]","v":4},{"$f":"+DarbųĮkainiai2018[[#This Row],[Tręšimo, išsėjimo, purškimo norma, kg/ha; Derlingumas, t/ha]]","v":0},{"$f":"+DarbųĮkainiai2018[[#This Row],[Traktoriaus (kombaino) galia, kW]]","v":120},{"$f":"ROUND(DarbųĮkainiai2018[[#This Row],[Traktoriaus (kombaino) kaina, tūkst. Eur]]*$AF$9,2)","v":109},{"$f":"ROUND(DarbųĮkainiai2018[[#This Row],[Žemės ūkio mašinos (cisternos) kaina, tūkst. Eur]] * $AG$9,2)","v":30.06},{"$f":"+DarbųĮkainiai2018[[#This Row],[Išdirbio norma, ha/val.]]","v":2.65},{"$f":"+DarbųĮkainiai2018[[#This Row],[Degalų sąnaudų norma, l/ha]]","v":8.3000000000000007},{"$f":"ROUND(DarbųĮkainiai2018[[#This Row],[Išlaidos atnaujinimui, Eur/ha]]*1.35,2)","v":12.51},{"$f":"ROUND(DarbųĮkainiai2018[[#This Row],[Išlaidos remontui ir tech. aptarnavimui, Eur/ha]]*$AK$9,2)","v":9.7100000000000009},{"$f":"ROUND(DarbųĮkainiai2024[[#This Row],[Degalų sąnaudų norma, l/ha]] * $AL$9,2)","v":6.23},{"$f":"ROUND(1/DarbųĮkainiai2024[[#This Row],[Išdirbio norma, ha/val.]]*$AM$9,2)","v":4.1900000000000004},{"$f":"+DarbųĮkainiai2024[[#This Row],[Išlaidos atnaujinimui, Eur/ha]]+DarbųĮkainiai2024[[#This Row],[Išlaidos remontui ir tech. aptarnavimui, Eur/ha]]+DarbųĮkainiai2024[[#This Row],[Išlaidos degalams ir tepalams, Eur/ha]]+DarbųĮkainiai2024[[#This Row],[Išlaidos darbo užmokesčiui su priskaitymais, Eur/ha]]","v":32.64},{"$f":"ROUND(DarbųĮkainiai2018[[#This Row],[Kitos, Eur/ha]] * $AO$9,2)","v":1.32},{"$f":"+DarbųĮkainiai2024[[#This Row],[Kitos, Eur/ha]]+DarbųĮkainiai2024[[#This Row],[Išlaidos iš viso, Eur/ha]]","v":33.96},{"$f":"ROUND(DarbųĮkainiai2024[[#This Row],[Savikaina, Eur/ha]]*$AQ$9,2)","v":1.7},{"$f":"+DarbųĮkainiai2024[[#This Row],[Pelnas, Eur/ha]]+DarbųĮkainiai2024[[#This Row],[Savikaina, Eur/ha]]","v":35.660000000000004},{"$f":"+DarbųĮkainiai2024[[#This Row],[Įkainis, Eur/ha]]-DarbųĮkainiai2024[[#This Row],[Pelnas, Eur/ha]]-DarbųĮkainiai2024[[#This Row],[Išlaidos atnaujinimui, Eur/ha]]","v":21.450000000000003},{"$f":"+DarbųĮkainiai2018[[#This Row],[Darbas]]","v":"DIRVOS SKUTIMAS IR LĖKŠČIAVIMAS"},2024,{"$f":"+DarbųĮkainiai2018[[#This Row],[Žemės ūkio mašinų kilmė]]","v":"Vakarų Europos"},{"$f":"+DarbųĮkainiai2018[[#This Row],[Papildomas barstytubo parametras, m3]]","v":0},{"$f":"+DarbųĮkainiai2018[[#This Row],[Aktualus darbo pavadinimas]]","v":"Lėkščiavimas"},{"$f":"+DarbųĮkainiai2018[[#This Row],[Stulpelis1]]","v":59}]
[{"$f":"ROW()-ROW(DarbųĮkainiai2018[[#Headers],[Eil. Nr.]])","v":33},"Lėkščiavimas",5,null,120,83.4,24.5,3.38,7.5,8.4700000000000006,5.83,5.33,1.62,21.25,1.06,22.31,1.1200000000000001,23.43,{"$f":"+DarbųĮkainiai2018[[#This Row],[Įkainis, Eur/ha]]-DarbųĮkainiai2018[[#This Row],[Pelnas, Eur/ha]]-DarbųĮkainiai2018[[#This Row],[Išlaidos atnaujinimui, Eur/ha]]","v":13.839999999999998},"DIRVOS SKUTIMAS IR LĖKŠČIAVIMAS",2018,"Vakarų Europos",null,"Lėkščiavimas",60,null,{"$f":"ROW()-ROW(DarbųĮkainiai2024[[#Headers],[Eil. Nr.]])","v":33},{"$f":"+DarbųĮkainiai2018[[#This Row],[Žemės ūkio mašina]]","v":"Lėkščiavimas"},{"$f":"+DarbųĮkainiai2018[[#This Row],[Darbinis plotis, m]]","v":5},{"$f":"+DarbųĮkainiai2018[[#This Row],[Tręšimo, išsėjimo, purškimo norma, kg/ha; Derlingumas, t/ha]]","v":0},{"$f":"+DarbųĮkainiai2018[[#This Row],[Traktoriaus (kombaino) galia, kW]]","v":120},{"$f":"ROUND(DarbųĮkainiai2018[[#This Row],[Traktoriaus (kombaino) kaina, tūkst. Eur]]*$AF$9,2)","v":109},{"$f":"ROUND(DarbųĮkainiai2018[[#This Row],[Žemės ūkio mašinos (cisternos) kaina, tūkst. Eur]] * $AG$9,2)","v":37.58},{"$f":"+DarbųĮkainiai2018[[#This Row],[Išdirbio norma, ha/val.]]","v":3.38},{"$f":"+DarbųĮkainiai2018[[#This Row],[Degalų sąnaudų norma, l/ha]]","v":7.5},{"$f":"ROUND(DarbųĮkainiai2018[[#This Row],[Išlaidos atnaujinimui, Eur/ha]]*1.35,2)","v":11.43},{"$f":"ROUND(DarbųĮkainiai2018[[#This Row],[Išlaidos remontui ir tech. aptarnavimui, Eur/ha]]*$AK$9,2)","v":8.94},{"$f":"ROUND(DarbųĮkainiai2024[[#This Row],[Degalų sąnaudų norma, l/ha]] * $AL$9,2)","v":5.63},{"$f":"ROUND(1/DarbųĮkainiai2024[[#This Row],[Išdirbio norma, ha/val.]]*$AM$9,2)","v":3.29},{"$f":"+DarbųĮkainiai2024[[#This Row],[Išlaidos atnaujinimui, Eur/ha]]+DarbųĮkainiai2024[[#This Row],[Išlaidos remontui ir tech. aptarnavimui, Eur/ha]]+DarbųĮkainiai2024[[#This Row],[Išlaidos degalams ir tepalams, Eur/ha]]+DarbųĮkainiai2024[[#This Row],[Išlaidos darbo užmokesčiui su priskaitymais, Eur/ha]]","v":29.289999999999996},{"$f":"ROUND(DarbųĮkainiai2018[[#This Row],[Kitos, Eur/ha]] * $AO$9,2)","v":1.18},{"$f":"+DarbųĮkainiai2024[[#This Row],[Kitos, Eur/ha]]+DarbųĮkainiai2024[[#This Row],[Išlaidos iš viso, Eur/ha]]","v":30.469999999999995},{"$f":"ROUND(DarbųĮkainiai2024[[#This Row],[Savikaina, Eur/ha]]*$AQ$9,2)","v":1.52},{"$f":"+DarbųĮkainiai2024[[#This Row],[Pelnas, Eur/ha]]+DarbųĮkainiai2024[[#This Row],[Savikaina, Eur/ha]]","v":31.989999999999995},{"$f":"+DarbųĮkainiai2024[[#This Row],[Įkainis, Eur/ha]]-DarbųĮkainiai2024[[#This Row],[Pelnas, Eur/ha]]-DarbųĮkainiai2024[[#This Row],[Išlaidos atnaujinimui, Eur/ha]]","v":19.039999999999996},{"$f":"+DarbųĮkainiai2018[[#This Row],[Darbas]]","v":"DIRVOS SKUTIMAS IR LĖKŠČIAVIMAS"},{"$f":"$AU$9","v":2024},{"$f":"+DarbųĮkainiai2018[[#This Row],[Žemės ūkio mašinų kilmė]]","v":"Vakarų Europos"},{"$f":"+DarbųĮkainiai2018[[#This Row],[Papildomas barstytubo parametras, m3]]","v":0},{"$f":"+DarbųĮkainiai2018[[#This Row],[Aktualus darbo pavadinimas]]","v":"Lėkščiavimas"},{"$f":"+DarbųĮkainiai2018[[#This Row],[Stulpelis1]]","v":60}]
[{"$f":"ROW()-ROW(DarbųĮkainiai2018[[#Headers],[Eil. Nr.]])","v":34},"Lėkščiavimas",6,null,138,91.1,29.4,4.05,7.4,8.27,5.71,5.25,1.35,20.58,1.03,21.61,1.08,22.69,{"$f":"+DarbųĮkainiai2018[[#This Row],[Įkainis, Eur/ha]]-DarbųĮkainiai2018[[#This Row],[Pelnas, Eur/ha]]-DarbųĮkainiai2018[[#This Row],[Išlaidos atnaujinimui, Eur/ha]]","v":13.34},"DIRVOS SKUTIMAS IR LĖKŠČIAVIMAS",2018,"Vakarų Europos",null,"Lėkščiavimas",61,null,{"$f":"ROW()-ROW(DarbųĮkainiai2024[[#Headers],[Eil. Nr.]])","v":34},{"$f":"+DarbųĮkainiai2018[[#This Row],[Žemės ūkio mašina]]","v":"Lėkščiavimas"},{"$f":"+DarbųĮkainiai2018[[#This Row],[Darbinis plotis, m]]","v":6},{"$f":"+DarbųĮkainiai2018[[#This Row],[Tręšimo, išsėjimo, purškimo norma, kg/ha; Derlingumas, t/ha]]","v":0},{"$f":"+DarbųĮkainiai2018[[#This Row],[Traktoriaus (kombaino) galia, kW]]","v":138},{"$f":"ROUND(DarbųĮkainiai2018[[#This Row],[Traktoriaus (kombaino) kaina, tūkst. Eur]]*$AF$9,2)","v":119.07},{"$f":"ROUND(DarbųĮkainiai2018[[#This Row],[Žemės ūkio mašinos (cisternos) kaina, tūkst. Eur]] * $AG$9,2)","v":45.1},{"$f":"+DarbųĮkainiai2018[[#This Row],[Išdirbio norma, ha/val.]]","v":4.05},{"$f":"+DarbųĮkainiai2018[[#This Row],[Degalų sąnaudų norma, l/ha]]","v":7.4},{"$f":"ROUND(DarbųĮkainiai2018[[#This Row],[Išlaidos atnaujinimui, Eur/ha]]*1.35,2)","v":11.16},{"$f":"ROUND(DarbųĮkainiai2018[[#This Row],[Išlaidos remontui ir tech. aptarnavimui, Eur/ha]]*$AK$9,2)","v":8.76},{"$f":"ROUND(DarbųĮkainiai2024[[#This Row],[Degalų sąnaudų norma, l/ha]] * $AL$9,2)","v":5.55},{"$f":"ROUND(1/DarbųĮkainiai2024[[#This Row],[Išdirbio norma, ha/val.]]*$AM$9,2)","v":2.74},{"$f":"+DarbųĮkainiai2024[[#This Row],[Išlaidos atnaujinimui, Eur/ha]]+DarbųĮkainiai2024[[#This Row],[Išlaidos remontui ir tech. aptarnavimui, Eur/ha]]+DarbųĮkainiai2024[[#This Row],[Išlaidos degalams ir tepalams, Eur/ha]]+DarbųĮkainiai2024[[#This Row],[Išlaidos darbo užmokesčiui su priskaitymais, Eur/ha]]","v":28.21},{"$f":"ROUND(DarbųĮkainiai2018[[#This Row],[Kitos, Eur/ha]] * $AO$9,2)","v":1.1499999999999999},{"$f":"+DarbųĮkainiai2024[[#This Row],[Kitos, Eur/ha]]+DarbųĮkainiai2024[[#This Row],[Išlaidos iš viso, Eur/ha]]","v":29.36},{"$f":"ROUND(DarbųĮkainiai2024[[#This Row],[Savikaina, Eur/ha]]*$AQ$9,2)","v":1.47},{"$f":"+DarbųĮkainiai2024[[#This Row],[Pelnas, Eur/ha]]+DarbųĮkainiai2024[[#This Row],[Savikaina, Eur/ha]]","v":30.83},{"$f":"+DarbųĮkainiai2024[[#This Row],[Įkainis, Eur/ha]]-DarbųĮkainiai2024[[#This Row],[Pelnas, Eur/ha]]-DarbųĮkainiai2024[[#This Row],[Išlaidos atnaujinimui, Eur/ha]]","v":18.2},{"$f":"+DarbųĮkainiai2018[[#This Row],[Darbas]]","v":"DIRVOS SKUTIMAS IR LĖKŠČIAVIMAS"},2024,{"$f":"+DarbųĮkainiai2018[[#This Row],[Žemės ūkio mašinų kilmė]]","v":"Vakarų Europos"},{"$f":"+DarbųĮkainiai2018[[#This Row],[Papildomas barstytubo parametras, m3]]","v":0},{"$f":"+DarbųĮkainiai2018[[#This Row],[Aktualus darbo pavadinimas]]","v":"Lėkščiavimas"},{"$f":"+DarbųĮkainiai2018[[#This Row],[Stulpelis1]]","v":61}]
[{"$f":"ROW()-ROW(DarbųĮkainiai2018[[#Headers],[Eil. Nr.]])","v":35},"Lėkščiavimas",7,null,157,106.6,34.299999999999997,4.78,7.4,8.18,5.64,5.25,1.29,20.37,1.02,21.39,1.07,22.46,{"$f":"+DarbųĮkainiai2018[[#This Row],[Įkainis, Eur/ha]]-DarbųĮkainiai2018[[#This Row],[Pelnas, Eur/ha]]-DarbųĮkainiai2018[[#This Row],[Išlaidos atnaujinimui, Eur/ha]]","v":13.21},"DIRVOS SKUTIMAS IR LĖKŠČIAVIMAS",2018,"Vakarų Europos",null,"Lėkščiavimas",62,null,{"$f":"ROW()-ROW(DarbųĮkainiai2024[[#Headers],[Eil. Nr.]])","v":35},{"$f":"+DarbųĮkainiai2018[[#This Row],[Žemės ūkio mašina]]","v":"Lėkščiavimas"},{"$f":"+DarbųĮkainiai2018[[#This Row],[Darbinis plotis, m]]","v":7},{"$f":"+DarbųĮkainiai2018[[#This Row],[Tręšimo, išsėjimo, purškimo norma, kg/ha; Derlingumas, t/ha]]","v":0},{"$f":"+DarbųĮkainiai2018[[#This Row],[Traktoriaus (kombaino) galia, kW]]","v":157},{"$f":"ROUND(DarbųĮkainiai2018[[#This Row],[Traktoriaus (kombaino) kaina, tūkst. Eur]]*$AF$9,2)","v":139.32},{"$f":"ROUND(DarbųĮkainiai2018[[#This Row],[Žemės ūkio mašinos (cisternos) kaina, tūkst. Eur]] * $AG$9,2)","v":52.61},{"$f":"+DarbųĮkainiai2018[[#This Row],[Išdirbio norma, ha/val.]]","v":4.78},{"$f":"+DarbųĮkainiai2018[[#This Row],[Degalų sąnaudų norma, l/ha]]","v":7.4},{"$f":"ROUND(DarbųĮkainiai2018[[#This Row],[Išlaidos atnaujinimui, Eur/ha]]*1.35,2)","v":11.04},{"$f":"ROUND(DarbųĮkainiai2018[[#This Row],[Išlaidos remontui ir tech. aptarnavimui, Eur/ha]]*$AK$9,2)","v":8.65},{"$f":"ROUND(DarbųĮkainiai2024[[#This Row],[Degalų sąnaudų norma, l/ha]] * $AL$9,2)","v":5.55},{"$f":"ROUND(1/DarbųĮkainiai2024[[#This Row],[Išdirbio norma, ha/val.]]*$AM$9,2)","v":2.3199999999999998},{"$f":"+DarbųĮkainiai2024[[#This Row],[Išlaidos atnaujinimui, Eur/ha]]+DarbųĮkainiai2024[[#This Row],[Išlaidos remontui ir tech. aptarnavimui, Eur/ha]]+DarbųĮkainiai2024[[#This Row],[Išlaidos degalams ir tepalams, Eur/ha]]+DarbųĮkainiai2024[[#This Row],[Išlaidos darbo užmokesčiui su priskaitymais, Eur/ha]]","v":27.56},{"$f":"ROUND(DarbųĮkainiai2018[[#This Row],[Kitos, Eur/ha]] * $AO$9,2)","v":1.1399999999999999},{"$f":"+DarbųĮkainiai2024[[#This Row],[Kitos, Eur/ha]]+DarbųĮkainiai2024[[#This Row],[Išlaidos iš viso, Eur/ha]]","v":28.7},{"$f":"ROUND(DarbųĮkainiai2024[[#This Row],[Savikaina, Eur/ha]]*$AQ$9,2)","v":1.44},{"$f":"+DarbųĮkainiai2024[[#This Row],[Pelnas, Eur/ha]]+DarbųĮkainiai2024[[#This Row],[Savikaina, Eur/ha]]","v":30.14},{"$f":"+DarbųĮkainiai2024[[#This Row],[Įkainis, Eur/ha]]-DarbųĮkainiai2024[[#This Row],[Pelnas, Eur/ha]]-DarbųĮkainiai2024[[#This Row],[Išlaidos atnaujinimui, Eur/ha]]","v":17.66},{"$f":"+DarbųĮkainiai2018[[#This Row],[Darbas]]","v":"DIRVOS SKUTIMAS IR LĖKŠČIAVIMAS"},2024,{"$f":"+DarbųĮkainiai2018[[#This Row],[Žemės ūkio mašinų kilmė]]","v":"Vakarų Europos"},{"$f":"+DarbųĮkainiai2018[[#This Row],[Papildomas barstytubo parametras, m3]]","v":0},{"$f":"+DarbųĮkainiai2018[[#This Row],[Aktualus darbo pavadinimas]]","v":"Lėkščiavimas"},{"$f":"+DarbųĮkainiai2018[[#This Row],[Stulpelis1]]","v":62}]
[{"$f":"ROW()-ROW(DarbųĮkainiai2018[[#Headers],[Eil. Nr.]])","v":36},"lėkštinėmis akėčiomis",2,null,54,31.43,8.8000000000000007,0.94,10.8,11.1,7.62,7.67,5.05,31.45,2.52,33.96,1.7,35.659999999999997,{"$f":"+DarbųĮkainiai2018[[#This Row],[Įkainis, Eur/ha]]-DarbųĮkainiai2018[[#This Row],[Pelnas, Eur/ha]]-DarbųĮkainiai2018[[#This Row],[Išlaidos atnaujinimui, Eur/ha]]","v":22.859999999999992},"PRIEŠSĖJINIS DIRVOS ĮDIRBIMAS",2018,"Vakarų Europos",null,"Pirminis kultivavimas",75,null,{"$f":"ROW()-ROW(DarbųĮkainiai2024[[#Headers],[Eil. Nr.]])","v":36},{"$f":"+DarbųĮkainiai2018[[#This Row],[Žemės ūkio mašina]]","v":"lėkštinėmis akėčiomis"},{"$f":"+DarbųĮkainiai2018[[#This Row],[Darbinis plotis, m]]","v":2},{"$f":"+DarbųĮkainiai2018[[#This Row],[Tręšimo, išsėjimo, purškimo norma, kg/ha; Derlingumas, t/ha]]","v":0},{"$f":"+DarbųĮkainiai2018[[#This Row],[Traktoriaus (kombaino) galia, kW]]","v":54},{"$f":"ROUND(DarbųĮkainiai2018[[#This Row],[Traktoriaus (kombaino) kaina, tūkst. Eur]]*$AF$9,2)","v":41.08},{"$f":"ROUND(DarbųĮkainiai2018[[#This Row],[Žemės ūkio mašinos (cisternos) kaina, tūkst. Eur]] * $AG$9,2)","v":13.5},{"$f":"+DarbųĮkainiai2018[[#This Row],[Išdirbio norma, ha/val.]]","v":0.94},{"$f":"+DarbųĮkainiai2018[[#This Row],[Degalų sąnaudų norma, l/ha]]","v":10.8},{"$f":"ROUND(DarbųĮkainiai2018[[#This Row],[Išlaidos atnaujinimui, Eur/ha]]*1.35,2)","v":14.99},{"$f":"ROUND(DarbųĮkainiai2018[[#This Row],[Išlaidos remontui ir tech. aptarnavimui, Eur/ha]]*$AK$9,2)","v":11.69},{"$f":"ROUND(DarbųĮkainiai2024[[#This Row],[Degalų sąnaudų norma, l/ha]] * $AL$9,2)","v":8.1},{"$f":"ROUND(1/DarbųĮkainiai2024[[#This Row],[Išdirbio norma, ha/val.]]*$AM$9,2)","v":11.82},{"$f":"+DarbųĮkainiai2024[[#This Row],[Išlaidos atnaujinimui, Eur/ha]]+DarbųĮkainiai2024[[#This Row],[Išlaidos remontui ir tech. aptarnavimui, Eur/ha]]+DarbųĮkainiai2024[[#This Row],[Išlaidos degalams ir tepalams, Eur/ha]]+DarbųĮkainiai2024[[#This Row],[Išlaidos darbo užmokesčiui su priskaitymais, Eur/ha]]","v":46.6},{"$f":"ROUND(DarbųĮkainiai2018[[#This Row],[Kitos, Eur/ha]] * $AO$9,2)","v":2.81},{"$f":"+DarbųĮkainiai2024[[#This Row],[Kitos, Eur/ha]]+DarbųĮkainiai2024[[#This Row],[Išlaidos iš viso, Eur/ha]]","v":49.410000000000004},{"$f":"ROUND(DarbųĮkainiai2024[[#This Row],[Savikaina, Eur/ha]]*$AQ$9,2)","v":2.4700000000000002},{"$f":"+DarbųĮkainiai2024[[#This Row],[Pelnas, Eur/ha]]+DarbųĮkainiai2024[[#This Row],[Savikaina, Eur/ha]]","v":51.88},{"$f":"+DarbųĮkainiai2024[[#This Row],[Įkainis, Eur/ha]]-DarbųĮkainiai2024[[#This Row],[Pelnas, Eur/ha]]-DarbųĮkainiai2024[[#This Row],[Išlaidos atnaujinimui, Eur/ha]]","v":34.42},{"$f":"+DarbųĮkainiai2018[[#This Row],[Darbas]]","v":"PRIEŠSĖJINIS DIRVOS ĮDIRBIMAS"},2024,{"$f":"+DarbųĮkainiai2018[[#This Row],[Žemės ūkio mašinų kilmė]]","v":"Vakarų Europos"},{"$f":"+DarbųĮkainiai2018[[#This Row],[Papildomas barstytubo parametras, m3]]","v":0},{"$f":"+DarbųĮkainiai2018[[#This Row],[Aktualus darbo pavadinimas]]","v":"Pirminis kultivavimas"},{"$f":"+DarbųĮkainiai2018[[#This Row],[Stulpelis1]]","v":75}]
[{"$f":"ROW()-ROW(DarbųĮkainiai2018[[#Headers],[Eil. Nr.]])","v":37},"lėkštinėmis akėčiomis",2.5,null,67,40.9,11,1.18,10.7,11.19,7.67,7.6,4.03,30.49,2.44,32.93,1.65,34.57,{"$f":"+DarbųĮkainiai2018[[#This Row],[Įkainis, Eur/ha]]-DarbųĮkainiai2018[[#This Row],[Pelnas, Eur/ha]]-DarbųĮkainiai2018[[#This Row],[Išlaidos atnaujinimui, Eur/ha]]","v":21.730000000000004},"PRIEŠSĖJINIS DIRVOS ĮDIRBIMAS",2018,"Vakarų Europos",null,"Pirminis kultivavimas",76,null,{"$f":"ROW()-ROW(DarbųĮkainiai2024[[#Headers],[Eil. Nr.]])","v":37},{"$f":"+DarbųĮkainiai2018[[#This Row],[Žemės ūkio mašina]]","v":"lėkštinėmis akėčiomis"},{"$f":"+DarbųĮkainiai2018[[#This Row],[Darbinis plotis, m]]","v":2.5},{"$f":"+DarbųĮkainiai2018[[#This Row],[Tręšimo, išsėjimo, purškimo norma, kg/ha; Derlingumas, t/ha]]","v":0},{"$f":"+DarbųĮkainiai2018[[#This Row],[Traktoriaus (kombaino) galia, kW]]","v":67},{"$f":"ROUND(DarbųĮkainiai2018[[#This Row],[Traktoriaus (kombaino) kaina, tūkst. Eur]]*$AF$9,2)","v":53.46},{"$f":"ROUND(DarbųĮkainiai2018[[#This Row],[Žemės ūkio mašinos (cisternos) kaina, tūkst. Eur]] * $AG$9,2)","v":16.87},{"$f":"+DarbųĮkainiai2018[[#This Row],[Išdirbio norma, ha/val.]]","v":1.18},{"$f":"+DarbųĮkainiai2018[[#This Row],[Degalų sąnaudų norma, l/ha]]","v":10.7},{"$f":"ROUND(DarbųĮkainiai2018[[#This Row],[Išlaidos atnaujinimui, Eur/ha]]*1.35,2)","v":15.11},{"$f":"ROUND(DarbųĮkainiai2018[[#This Row],[Išlaidos remontui ir tech. aptarnavimui, Eur/ha]]*$AK$9,2)","v":11.76},{"$f":"ROUND(DarbųĮkainiai2024[[#This Row],[Degalų sąnaudų norma, l/ha]] * $AL$9,2)","v":8.0299999999999994},{"$f":"ROUND(1/DarbųĮkainiai2024[[#This Row],[Išdirbio norma, ha/val.]]*$AM$9,2)","v":9.42},{"$f":"+DarbųĮkainiai2024[[#This Row],[Išlaidos atnaujinimui, Eur/ha]]+DarbųĮkainiai2024[[#This Row],[Išlaidos remontui ir tech. aptarnavimui, Eur/ha]]+DarbųĮkainiai2024[[#This Row],[Išlaidos degalams ir tepalams, Eur/ha]]+DarbųĮkainiai2024[[#This Row],[Išlaidos darbo užmokesčiui su priskaitymais, Eur/ha]]","v":44.32},{"$f":"ROUND(DarbųĮkainiai2018[[#This Row],[Kitos, Eur/ha]] * $AO$9,2)","v":2.72},{"$f":"+DarbųĮkainiai2024[[#This Row],[Kitos, Eur/ha]]+DarbųĮkainiai2024[[#This Row],[Išlaidos iš viso, Eur/ha]]","v":47.04},{"$f":"ROUND(DarbųĮkainiai2024[[#This Row],[Savikaina, Eur/ha]]*$AQ$9,2)","v":2.35},{"$f":"+DarbųĮkainiai2024[[#This Row],[Pelnas, Eur/ha]]+DarbųĮkainiai2024[[#This Row],[Savikaina, Eur/ha]]","v":49.39},{"$f":"+DarbųĮkainiai2024[[#This Row],[Įkainis, Eur/ha]]-DarbųĮkainiai2024[[#This Row],[Pelnas, Eur/ha]]-DarbųĮkainiai2024[[#This Row],[Išlaidos atnaujinimui, Eur/ha]]","v":31.93},{"$f":"+DarbųĮkainiai2018[[#This Row],[Darbas]]","v":"PRIEŠSĖJINIS DIRVOS ĮDIRBIMAS"},2024,{"$f":"+DarbųĮkainiai2018[[#This Row],[Žemės ūkio mašinų kilmė]]","v":"Vakarų Europos"},{"$f":"+DarbųĮkainiai2018[[#This Row],[Papildomas barstytubo parametras, m3]]","v":0},{"$f":"+DarbųĮkainiai2018[[#This Row],[Aktualus darbo pavadinimas]]","v":"Pirminis kultivavimas"},{"$f":"+DarbųĮkainiai2018[[#This Row],[Stulpelis1]]","v":76}]
[{"$f":"ROW()-ROW(DarbųĮkainiai2018[[#Headers],[Eil. Nr.]])","v":38},"lėkštinėmis akėčiomis",3,null,83,57.12,13.2,1.41,10.7,11.81,8.0500000000000007,7.6,3.88,31.33,2.5099999999999998,33.840000000000003,1.69,35.53,{"$f":"+DarbųĮkainiai2018[[#This Row],[Įkainis, Eur/ha]]-DarbųĮkainiai2018[[#This Row],[Pelnas, Eur/ha]]-DarbųĮkainiai2018[[#This Row],[Išlaidos atnaujinimui, Eur/ha]]","v":22.03},"PRIEŠSĖJINIS DIRVOS ĮDIRBIMAS",2018,"Vakarų Europos",null,"Pirminis kultivavimas",77,null,{"$f":"ROW()-ROW(DarbųĮkainiai2024[[#Headers],[Eil. Nr.]])","v":38},{"$f":"+DarbųĮkainiai2018[[#This Row],[Žemės ūkio mašina]]","v":"lėkštinėmis akėčiomis"},{"$f":"+DarbųĮkainiai2018[[#This Row],[Darbinis plotis, m]]","v":3},{"$f":"+DarbųĮkainiai2018[[#This Row],[Tręšimo, išsėjimo, purškimo norma, kg/ha; Derlingumas, t/ha]]","v":0},{"$f":"+DarbųĮkainiai2018[[#This Row],[Traktoriaus (kombaino) galia, kW]]","v":83},{"$f":"ROUND(DarbųĮkainiai2018[[#This Row],[Traktoriaus (kombaino) kaina, tūkst. Eur]]*$AF$9,2)","v":74.66},{"$f":"ROUND(DarbųĮkainiai2018[[#This Row],[Žemės ūkio mašinos (cisternos) kaina, tūkst. Eur]] * $AG$9,2)","v":20.25},{"$f":"+DarbųĮkainiai2018[[#This Row],[Išdirbio norma, ha/val.]]","v":1.41},{"$f":"+DarbųĮkainiai2018[[#This Row],[Degalų sąnaudų norma, l/ha]]","v":10.7},{"$f":"ROUND(DarbųĮkainiai2018[[#This Row],[Išlaidos atnaujinimui, Eur/ha]]*1.35,2)","v":15.94},{"$f":"ROUND(DarbųĮkainiai2018[[#This Row],[Išlaidos remontui ir tech. aptarnavimui, Eur/ha]]*$AK$9,2)","v":12.35},{"$f":"ROUND(DarbųĮkainiai2024[[#This Row],[Degalų sąnaudų norma, l/ha]] * $AL$9,2)","v":8.0299999999999994},{"$f":"ROUND(1/DarbųĮkainiai2024[[#This Row],[Išdirbio norma, ha/val.]]*$AM$9,2)","v":7.88},{"$f":"+DarbųĮkainiai2024[[#This Row],[Išlaidos atnaujinimui, Eur/ha]]+DarbųĮkainiai2024[[#This Row],[Išlaidos remontui ir tech. aptarnavimui, Eur/ha]]+DarbųĮkainiai2024[[#This Row],[Išlaidos degalams ir tepalams, Eur/ha]]+DarbųĮkainiai2024[[#This Row],[Išlaidos darbo užmokesčiui su priskaitymais, Eur/ha]]","v":44.2},{"$f":"ROUND(DarbųĮkainiai2018[[#This Row],[Kitos, Eur/ha]] * $AO$9,2)","v":2.8},{"$f":"+DarbųĮkainiai2024[[#This Row],[Kitos, Eur/ha]]+DarbųĮkainiai2024[[#This Row],[Išlaidos iš viso, Eur/ha]]","v":47},{"$f":"ROUND(DarbųĮkainiai2024[[#This Row],[Savikaina, Eur/ha]]*$AQ$9,2)","v":2.35},{"$f":"+DarbųĮkainiai2024[[#This Row],[Pelnas, Eur/ha]]+DarbųĮkainiai2024[[#This Row],[Savikaina, Eur/ha]]","v":49.35},{"$f":"+DarbųĮkainiai2024[[#This Row],[Įkainis, Eur/ha]]-DarbųĮkainiai2024[[#This Row],[Pelnas, Eur/ha]]-DarbųĮkainiai2024[[#This Row],[Išlaidos atnaujinimui, Eur/ha]]","v":31.060000000000002},{"$f":"+DarbųĮkainiai2018[[#This Row],[Darbas]]","v":"PRIEŠSĖJINIS DIRVOS ĮDIRBIMAS"},2024,{"$f":"+DarbųĮkainiai2018[[#This Row],[Žemės ūkio mašinų kilmė]]","v":"Vakarų Europos"},{"$f":"+DarbųĮkainiai2018[[#This Row],[Papildomas barstytubo parametras, m3]]","v":0},{"$f":"+DarbųĮkainiai2018[[#This Row],[Aktualus darbo pavadinimas]]","v":"Pirminis kultivavimas"},{"$f":"+DarbųĮkainiai2018[[#This Row],[Stulpelis1]]","v":77}]
[{"$f":"ROW()-ROW(DarbųĮkainiai2018[[#Headers],[Eil. Nr.]])","v":39},"lėkštinėmis akėčiomis",4.5,null,138,91.1,19.8,2.2400000000000002,10.9,11.39,7.74,7.74,2.44,29.31,2.35,31.66,1.58,33.24,{"$f":"+DarbųĮkainiai2018[[#This Row],[Įkainis, Eur/ha]]-DarbųĮkainiai2018[[#This Row],[Pelnas, Eur/ha]]-DarbųĮkainiai2018[[#This Row],[Išlaidos atnaujinimui, Eur/ha]]","v":20.270000000000003},"PRIEŠSĖJINIS DIRVOS ĮDIRBIMAS",2018,"Vakarų Europos",null,"Pirminis kultivavimas",78,null,{"$f":"ROW()-ROW(DarbųĮkainiai2024[[#Headers],[Eil. Nr.]])","v":39},{"$f":"+DarbųĮkainiai2018[[#This Row],[Žemės ūkio mašina]]","v":"lėkštinėmis akėčiomis"},{"$f":"+DarbųĮkainiai2018[[#This Row],[Darbinis plotis, m]]","v":4.5},{"$f":"+DarbųĮkainiai2018[[#This Row],[Tręšimo, išsėjimo, purškimo norma, kg/ha; Derlingumas, t/ha]]","v":0},{"$f":"+DarbųĮkainiai2018[[#This Row],[Traktoriaus (kombaino) galia, kW]]","v":138},{"$f":"ROUND(DarbųĮkainiai2018[[#This Row],[Traktoriaus (kombaino) kaina, tūkst. Eur]]*$AF$9,2)","v":119.07},{"$f":"ROUND(DarbųĮkainiai2018[[#This Row],[Žemės ūkio mašinos (cisternos) kaina, tūkst. Eur]] * $AG$9,2)","v":30.37},{"$f":"+DarbųĮkainiai2018[[#This Row],[Išdirbio norma, ha/val.]]","v":2.2400000000000002},{"$f":"+DarbųĮkainiai2018[[#This Row],[Degalų sąnaudų norma, l/ha]]","v":10.9},{"$f":"ROUND(DarbųĮkainiai2018[[#This Row],[Išlaidos atnaujinimui, Eur/ha]]*1.35,2)","v":15.38},{"$f":"ROUND(DarbųĮkainiai2018[[#This Row],[Išlaidos remontui ir tech. aptarnavimui, Eur/ha]]*$AK$9,2)","v":11.87},{"$f":"ROUND(DarbųĮkainiai2024[[#This Row],[Degalų sąnaudų norma, l/ha]] * $AL$9,2)","v":8.18},{"$f":"ROUND(1/DarbųĮkainiai2024[[#This Row],[Išdirbio norma, ha/val.]]*$AM$9,2)","v":4.96},{"$f":"+DarbųĮkainiai2024[[#This Row],[Išlaidos atnaujinimui, Eur/ha]]+DarbųĮkainiai2024[[#This Row],[Išlaidos remontui ir tech. aptarnavimui, Eur/ha]]+DarbųĮkainiai2024[[#This Row],[Išlaidos degalams ir tepalams, Eur/ha]]+DarbųĮkainiai2024[[#This Row],[Išlaidos darbo užmokesčiui su priskaitymais, Eur/ha]]","v":40.39},{"$f":"ROUND(DarbųĮkainiai2018[[#This Row],[Kitos, Eur/ha]] * $AO$9,2)","v":2.62},{"$f":"+DarbųĮkainiai2024[[#This Row],[Kitos, Eur/ha]]+DarbųĮkainiai2024[[#This Row],[Išlaidos iš viso, Eur/ha]]","v":43.01},{"$f":"ROUND(DarbųĮkainiai2024[[#This Row],[Savikaina, Eur/ha]]*$AQ$9,2)","v":2.15},{"$f":"+DarbųĮkainiai2024[[#This Row],[Pelnas, Eur/ha]]+DarbųĮkainiai2024[[#This Row],[Savikaina, Eur/ha]]","v":45.16},{"$f":"+DarbųĮkainiai2024[[#This Row],[Įkainis, Eur/ha]]-DarbųĮkainiai2024[[#This Row],[Pelnas, Eur/ha]]-DarbųĮkainiai2024[[#This Row],[Išlaidos atnaujinimui, Eur/ha]]","v":27.629999999999995},{"$f":"+DarbųĮkainiai2018[[#This Row],[Darbas]]","v":"PRIEŠSĖJINIS DIRVOS ĮDIRBIMAS"},2024,{"$f":"+DarbųĮkainiai2018[[#This Row],[Žemės ūkio mašinų kilmė]]","v":"Vakarų Europos"},{"$f":"+DarbųĮkainiai2018[[#This Row],[Papildomas barstytubo parametras, m3]]","v":0},{"$f":"+DarbųĮkainiai2018[[#This Row],[Aktualus darbo pavadinimas]]","v":"Pirminis kultivavimas"},{"$f":"+DarbųĮkainiai2018[[#This Row],[Stulpelis1]]","v":78}]
[{"$f":"ROW()-ROW(DarbųĮkainiai2018[[#Headers],[Eil. Nr.]])","v":40},"lėkštinėmis akėčiomis",6,null,138,91.1,26.4,2.96,9.6999999999999993,10.47,7.2,6.89,1.85,26.4,2.11,28.52,1.43,29.94,{"$f":"+DarbųĮkainiai2018[[#This Row],[Įkainis, Eur/ha]]-DarbųĮkainiai2018[[#This Row],[Pelnas, Eur/ha]]-DarbųĮkainiai2018[[#This Row],[Išlaidos atnaujinimui, Eur/ha]]","v":18.04},"PRIEŠSĖJINIS DIRVOS ĮDIRBIMAS",2018,"Vakarų Europos",null,"Pirminis kultivavimas",79,null,{"$f":"ROW()-ROW(DarbųĮkainiai2024[[#Headers],[Eil. Nr.]])","v":40},{"$f":"+DarbųĮkainiai2018[[#This Row],[Žemės ūkio mašina]]","v":"lėkštinėmis akėčiomis"},{"$f":"+DarbųĮkainiai2018[[#This Row],[Darbinis plotis, m]]","v":6},{"$f":"+DarbųĮkainiai2018[[#This Row],[Tręšimo, išsėjimo, purškimo norma, kg/ha; Derlingumas, t/ha]]","v":0},{"$f":"+DarbųĮkainiai2018[[#This Row],[Traktoriaus (kombaino) galia, kW]]","v":138},{"$f":"ROUND(DarbųĮkainiai2018[[#This Row],[Traktoriaus (kombaino) kaina, tūkst. Eur]]*$AF$9,2)","v":119.07},{"$f":"ROUND(DarbųĮkainiai2018[[#This Row],[Žemės ūkio mašinos (cisternos) kaina, tūkst. Eur]] * $AG$9,2)","v":40.49},{"$f":"+DarbųĮkainiai2018[[#This Row],[Išdirbio norma, ha/val.]]","v":2.96},{"$f":"+DarbųĮkainiai2018[[#This Row],[Degalų sąnaudų norma, l/ha]]","v":9.6999999999999993},{"$f":"ROUND(DarbųĮkainiai2018[[#This Row],[Išlaidos atnaujinimui, Eur/ha]]*1.35,2)","v":14.13},{"$f":"ROUND(DarbųĮkainiai2018[[#This Row],[Išlaidos remontui ir tech. aptarnavimui, Eur/ha]]*$AK$9,2)","v":11.04},{"$f":"ROUND(DarbųĮkainiai2024[[#This Row],[Degalų sąnaudų norma, l/ha]] * $AL$9,2)","v":7.28},{"$f":"ROUND(1/DarbųĮkainiai2024[[#This Row],[Išdirbio norma, ha/val.]]*$AM$9,2)","v":3.75},{"$f":"+DarbųĮkainiai2024[[#This Row],[Išlaidos atnaujinimui, Eur/ha]]+DarbųĮkainiai2024[[#This Row],[Išlaidos remontui ir tech. aptarnavimui, Eur/ha]]+DarbųĮkainiai2024[[#This Row],[Išlaidos degalams ir tepalams, Eur/ha]]+DarbųĮkainiai2024[[#This Row],[Išlaidos darbo užmokesčiui su priskaitymais, Eur/ha]]","v":36.200000000000003},{"$f":"ROUND(DarbųĮkainiai2018[[#This Row],[Kitos, Eur/ha]] * $AO$9,2)","v":2.35},{"$f":"+DarbųĮkainiai2024[[#This Row],[Kitos, Eur/ha]]+DarbųĮkainiai2024[[#This Row],[Išlaidos iš viso, Eur/ha]]","v":38.550000000000004},{"$f":"ROUND(DarbųĮkainiai2024[[#This Row],[Savikaina, Eur/ha]]*$AQ$9,2)","v":1.93},{"$f":"+DarbųĮkainiai2024[[#This Row],[Pelnas, Eur/ha]]+DarbųĮkainiai2024[[#This Row],[Savikaina, Eur/ha]]","v":40.480000000000004},{"$f":"+DarbųĮkainiai2024[[#This Row],[Įkainis, Eur/ha]]-DarbųĮkainiai2024[[#This Row],[Pelnas, Eur/ha]]-DarbųĮkainiai2024[[#This Row],[Išlaidos atnaujinimui, Eur/ha]]","v":24.42},{"$f":"+DarbųĮkainiai2018[[#This Row],[Darbas]]","v":"PRIEŠSĖJINIS DIRVOS ĮDIRBIMAS"},2024,{"$f":"+DarbųĮkainiai2018[[#This Row],[Žemės ūkio mašinų kilmė]]","v":"Vakarų Europos"},{"$f":"+DarbųĮkainiai2018[[#This Row],[Papildomas barstytubo parametras, m3]]","v":0},{"$f":"+DarbųĮkainiai2018[[#This Row],[Aktualus darbo pavadinimas]]","v":"Pirminis kultivavimas"},{"$f":"+DarbųĮkainiai2018[[#This Row],[Stulpelis1]]","v":79}]
[{"$f":"ROW()-ROW(DarbųĮkainiai2018[[#Headers],[Eil. Nr.]])","v":41},"lėkštinėmis akėčiomis",8,null,176,123.6,35.200000000000003,3.94,9.8000000000000007,10.54,7.24,6.96,1.57,26.31,2.1,28.42,1.42,29.84,{"$f":"+DarbųĮkainiai2018[[#This Row],[Įkainis, Eur/ha]]-DarbųĮkainiai2018[[#This Row],[Pelnas, Eur/ha]]-DarbųĮkainiai2018[[#This Row],[Išlaidos atnaujinimui, Eur/ha]]","v":17.880000000000003},"PRIEŠSĖJINIS DIRVOS ĮDIRBIMAS",2018,"Vakarų Europos",null,"Pirminis kultivavimas",80,null,{"$f":"ROW()-ROW(DarbųĮkainiai2024[[#Headers],[Eil. Nr.]])","v":41},{"$f":"+DarbųĮkainiai2018[[#This Row],[Žemės ūkio mašina]]","v":"lėkštinėmis akėčiomis"},{"$f":"+DarbųĮkainiai2018[[#This Row],[Darbinis plotis, m]]","v":8},{"$f":"+DarbųĮkainiai2018[[#This Row],[Tręšimo, išsėjimo, purškimo norma, kg/ha; Derlingumas, t/ha]]","v":0},{"$f":"+DarbųĮkainiai2018[[#This Row],[Traktoriaus (kombaino) galia, kW]]","v":176},{"$f":"ROUND(DarbųĮkainiai2018[[#This Row],[Traktoriaus (kombaino) kaina, tūkst. Eur]]*$AF$9,2)","v":161.54},{"$f":"ROUND(DarbųĮkainiai2018[[#This Row],[Žemės ūkio mašinos (cisternos) kaina, tūkst. Eur]] * $AG$9,2)","v":53.99},{"$f":"+DarbųĮkainiai2018[[#This Row],[Išdirbio norma, ha/val.]]","v":3.94},{"$f":"+DarbųĮkainiai2018[[#This Row],[Degalų sąnaudų norma, l/ha]]","v":9.8000000000000007},{"$f":"ROUND(DarbųĮkainiai2018[[#This Row],[Išlaidos atnaujinimui, Eur/ha]]*1.35,2)","v":14.23},{"$f":"ROUND(DarbųĮkainiai2018[[#This Row],[Išlaidos remontui ir tech. aptarnavimui, Eur/ha]]*$AK$9,2)","v":11.11},{"$f":"ROUND(DarbųĮkainiai2024[[#This Row],[Degalų sąnaudų norma, l/ha]] * $AL$9,2)","v":7.35},{"$f":"ROUND(1/DarbųĮkainiai2024[[#This Row],[Išdirbio norma, ha/val.]]*$AM$9,2)","v":2.82},{"$f":"+DarbųĮkainiai2024[[#This Row],[Išlaidos atnaujinimui, Eur/ha]]+DarbųĮkainiai2024[[#This Row],[Išlaidos remontui ir tech. aptarnavimui, Eur/ha]]+DarbųĮkainiai2024[[#This Row],[Išlaidos degalams ir tepalams, Eur/ha]]+DarbųĮkainiai2024[[#This Row],[Išlaidos darbo užmokesčiui su priskaitymais, Eur/ha]]","v":35.51},{"$f":"ROUND(DarbųĮkainiai2018[[#This Row],[Kitos, Eur/ha]] * $AO$9,2)","v":2.34},{"$f":"+DarbųĮkainiai2024[[#This Row],[Kitos, Eur/ha]]+DarbųĮkainiai2024[[#This Row],[Išlaidos iš viso, Eur/ha]]","v":37.849999999999994},{"$f":"ROUND(DarbųĮkainiai2024[[#This Row],[Savikaina, Eur/ha]]*$AQ$9,2)","v":1.89},{"$f":"+DarbųĮkainiai2024[[#This Row],[Pelnas, Eur/ha]]+DarbųĮkainiai2024[[#This Row],[Savikaina, Eur/ha]]","v":39.739999999999995},{"$f":"+DarbųĮkainiai2024[[#This Row],[Įkainis, Eur/ha]]-DarbųĮkainiai2024[[#This Row],[Pelnas, Eur/ha]]-DarbųĮkainiai2024[[#This Row],[Išlaidos atnaujinimui, Eur/ha]]","v":23.619999999999994},{"$f":"+DarbųĮkainiai2018[[#This Row],[Darbas]]","v":"PRIEŠSĖJINIS DIRVOS ĮDIRBIMAS"},2024,{"$f":"+DarbųĮkainiai2018[[#This Row],[Žemės ūkio mašinų kilmė]]","v":"Vakarų Europos"},{"$f":"+DarbųĮkainiai2018[[#This Row],[Papildomas barstytubo parametras, m3]]","v":0},{"$f":"+DarbųĮkainiai2018[[#This Row],[Aktualus darbo pavadinimas]]","v":"Pirminis kultivavimas"},{"$f":"+DarbųĮkainiai2018[[#This Row],[Stulpelis1]]","v":80}]
[{"$f":"ROW()-ROW(DarbųĮkainiai2018[[#Headers],[Eil. Nr.]])","v":42},"kultivatoriais",2,null,37,20.170000000000002,3.34,1.27,6.3,3.45,2.79,4.47,2.74,13.46,1.08,14.53,0.73,15.26,{"$f":"+DarbųĮkainiai2018[[#This Row],[Įkainis, Eur/ha]]-DarbųĮkainiai2018[[#This Row],[Pelnas, Eur/ha]]-DarbųĮkainiai2018[[#This Row],[Išlaidos atnaujinimui, Eur/ha]]","v":11.079999999999998},"PRIEŠSĖJINIS DIRVOS ĮDIRBIMAS",2018,"Vakarų Europos",null,"Priešsėjinis kultivavimas",85,null,{"$f":"ROW()-ROW(DarbųĮkainiai2024[[#Headers],[Eil. Nr.]])","v":42},{"$f":"+DarbųĮkainiai2018[[#This Row],[Žemės ūkio mašina]]","v":"kultivatoriais"},{"$f":"+DarbųĮkainiai2018[[#This Row],[Darbinis plotis, m]]","v":2},{"$f":"+DarbųĮkainiai2018[[#This Row],[Tręšimo, išsėjimo, purškimo norma, kg/ha; Derlingumas, t/ha]]","v":0},{"$f":"+DarbųĮkainiai2018[[#This Row],[Traktoriaus (kombaino) galia, kW]]","v":37},{"$f":"ROUND(DarbųĮkainiai2018[[#This Row],[Traktoriaus (kombaino) kaina, tūkst. Eur]]*$AF$9,2)","v":26.36},{"$f":"ROUND(DarbųĮkainiai2018[[#This Row],[Žemės ūkio mašinos (cisternos) kaina, tūkst. Eur]] * $AG$9,2)","v":5.12},{"$f":"+DarbųĮkainiai2018[[#This Row],[Išdirbio norma, ha/val.]]","v":1.27},{"$f":"+DarbųĮkainiai2018[[#This Row],[Degalų sąnaudų norma, l/ha]]","v":6.3},{"$f":"ROUND(DarbųĮkainiai2018[[#This Row],[Išlaidos atnaujinimui, Eur/ha]]*1.35,2)","v":4.66},{"$f":"ROUND(DarbųĮkainiai2018[[#This Row],[Išlaidos remontui ir tech. aptarnavimui, Eur/ha]]*$AK$9,2)","v":4.28},{"$f":"ROUND(DarbųĮkainiai2024[[#This Row],[Degalų sąnaudų norma, l/ha]] * $AL$9,2)","v":4.7300000000000004},{"$f":"ROUND(1/DarbųĮkainiai2024[[#This Row],[Išdirbio norma, ha/val.]]*$AM$9,2)","v":8.75},{"$f":"+DarbųĮkainiai2024[[#This Row],[Išlaidos atnaujinimui, Eur/ha]]+DarbųĮkainiai2024[[#This Row],[Išlaidos remontui ir tech. aptarnavimui, Eur/ha]]+DarbųĮkainiai2024[[#This Row],[Išlaidos degalams ir tepalams, Eur/ha]]+DarbųĮkainiai2024[[#This Row],[Išlaidos darbo užmokesčiui su priskaitymais, Eur/ha]]","v":22.42},{"$f":"ROUND(DarbųĮkainiai2018[[#This Row],[Kitos, Eur/ha]] * $AO$9,2)","v":1.2},{"$f":"+DarbųĮkainiai2024[[#This Row],[Kitos, Eur/ha]]+DarbųĮkainiai2024[[#This Row],[Išlaidos iš viso, Eur/ha]]","v":23.62},{"$f":"ROUND(DarbųĮkainiai2024[[#This Row],[Savikaina, Eur/ha]]*$AQ$9,2)","v":1.18},{"$f":"+DarbųĮkainiai2024[[#This Row],[Pelnas, Eur/ha]]+DarbųĮkainiai2024[[#This Row],[Savikaina, Eur/ha]]","v":24.8},{"$f":"+DarbųĮkainiai2024[[#This Row],[Įkainis, Eur/ha]]-DarbųĮkainiai2024[[#This Row],[Pelnas, Eur/ha]]-DarbųĮkainiai2024[[#This Row],[Išlaidos atnaujinimui, Eur/ha]]","v":18.96},{"$f":"+DarbųĮkainiai2018[[#This Row],[Darbas]]","v":"PRIEŠSĖJINIS DIRVOS ĮDIRBIMAS"},2024,{"$f":"+DarbųĮkainiai2018[[#This Row],[Žemės ūkio mašinų kilmė]]","v":"Vakarų Europos"},{"$f":"+DarbųĮkainiai2018[[#This Row],[Papildomas barstytubo parametras, m3]]","v":0},{"$f":"+DarbųĮkainiai2018[[#This Row],[Aktualus darbo pavadinimas]]","v":"Priešsėjinis kultivavimas"},{"$f":"+DarbųĮkainiai2018[[#This Row],[Stulpelis1]]","v":85}]
[{"$f":"ROW()-ROW(DarbųĮkainiai2018[[#Headers],[Eil. Nr.]])","v":43},"kultivatoriais",2.5,null,54,31.43,4.18,1.74,6.8,3.5,2.76,4.83,2,13.1,1.05,14.14,0.71,14.85,{"$f":"+DarbųĮkainiai2018[[#This Row],[Įkainis, Eur/ha]]-DarbųĮkainiai2018[[#This Row],[Pelnas, Eur/ha]]-DarbųĮkainiai2018[[#This Row],[Išlaidos atnaujinimui, Eur/ha]]","v":10.64},"PRIEŠSĖJINIS DIRVOS ĮDIRBIMAS",2018,"Vakarų Europos",null,"Priešsėjinis kultivavimas",86,null,{"$f":"ROW()-ROW(DarbųĮkainiai2024[[#Headers],[Eil. Nr.]])","v":43},{"$f":"+DarbųĮkainiai2018[[#This Row],[Žemės ūkio mašina]]","v":"kultivatoriais"},{"$f":"+DarbųĮkainiai2018[[#This Row],[Darbinis plotis, m]]","v":2.5},{"$f":"+DarbųĮkainiai2018[[#This Row],[Tręšimo, išsėjimo, purškimo norma, kg/ha; Derlingumas, t/ha]]","v":0},{"$f":"+DarbųĮkainiai2018[[#This Row],[Traktoriaus (kombaino) galia, kW]]","v":54},{"$f":"ROUND(DarbųĮkainiai2018[[#This Row],[Traktoriaus (kombaino) kaina, tūkst. Eur]]*$AF$9,2)","v":41.08},{"$f":"ROUND(DarbųĮkainiai2018[[#This Row],[Žemės ūkio mašinos (cisternos) kaina, tūkst. Eur]] * $AG$9,2)","v":6.41},{"$f":"+DarbųĮkainiai2018[[#This Row],[Išdirbio norma, ha/val.]]","v":1.74},{"$f":"+DarbųĮkainiai2018[[#This Row],[Degalų sąnaudų norma, l/ha]]","v":6.8},{"$f":"ROUND(DarbųĮkainiai2018[[#This Row],[Išlaidos atnaujinimui, Eur/ha]]*1.35,2)","v":4.7300000000000004},{"$f":"ROUND(DarbųĮkainiai2018[[#This Row],[Išlaidos remontui ir tech. aptarnavimui, Eur/ha]]*$AK$9,2)","v":4.2300000000000004},{"$f":"ROUND(DarbųĮkainiai2024[[#This Row],[Degalų sąnaudų norma, l/ha]] * $AL$9,2)","v":5.0999999999999996},{"$f":"ROUND(1/DarbųĮkainiai2024[[#This Row],[Išdirbio norma, ha/val.]]*$AM$9,2)","v":6.39},{"$f":"+DarbųĮkainiai2024[[#This Row],[Išlaidos atnaujinimui, Eur/ha]]+DarbųĮkainiai2024[[#This Row],[Išlaidos remontui ir tech. aptarnavimui, Eur/ha]]+DarbųĮkainiai2024[[#This Row],[Išlaidos degalams ir tepalams, Eur/ha]]+DarbųĮkainiai2024[[#This Row],[Išlaidos darbo užmokesčiui su priskaitymais, Eur/ha]]","v":20.45},{"$f":"ROUND(DarbųĮkainiai2018[[#This Row],[Kitos, Eur/ha]] * $AO$9,2)","v":1.17},{"$f":"+DarbųĮkainiai2024[[#This Row],[Kitos, Eur/ha]]+DarbųĮkainiai2024[[#This Row],[Išlaidos iš viso, Eur/ha]]","v":21.619999999999997},{"$f":"ROUND(DarbųĮkainiai2024[[#This Row],[Savikaina, Eur/ha]]*$AQ$9,2)","v":1.08},{"$f":"+DarbųĮkainiai2024[[#This Row],[Pelnas, Eur/ha]]+DarbųĮkainiai2024[[#This Row],[Savikaina, Eur/ha]]","v":22.699999999999996},{"$f":"+DarbųĮkainiai2024[[#This Row],[Įkainis, Eur/ha]]-DarbųĮkainiai2024[[#This Row],[Pelnas, Eur/ha]]-DarbųĮkainiai2024[[#This Row],[Išlaidos atnaujinimui, Eur/ha]]","v":16.889999999999997},{"$f":"+DarbųĮkainiai2018[[#This Row],[Darbas]]","v":"PRIEŠSĖJINIS DIRVOS ĮDIRBIMAS"},2024,{"$f":"+DarbųĮkainiai2018[[#This Row],[Žemės ūkio mašinų kilmė]]","v":"Vakarų Europos"},{"$f":"+DarbųĮkainiai2018[[#This Row],[Papildomas barstytubo parametras, m3]]","v":0},{"$f":"+DarbųĮkainiai2018[[#This Row],[Aktualus darbo pavadinimas]]","v":"Priešsėjinis kultivavimas"},{"$f":"+DarbųĮkainiai2018[[#This Row],[Stulpelis1]]","v":86}]
[{"$f":"ROW()-ROW(DarbųĮkainiai2018[[#Headers],[Eil. Nr.]])","v":44},"kultivatoriais",3,null,67,40.9,5.01,1.91,6.9,4,3.12,4.9000000000000004,1.82,13.84,1.1100000000000001,14.95,0.75,15.69,{"$f":"+DarbųĮkainiai2018[[#This Row],[Įkainis, Eur/ha]]-DarbųĮkainiai2018[[#This Row],[Pelnas, Eur/ha]]-DarbųĮkainiai2018[[#This Row],[Išlaidos atnaujinimui, Eur/ha]]","v":10.94},"PRIEŠSĖJINIS DIRVOS ĮDIRBIMAS",2018,"Vakarų Europos",null,"Priešsėjinis kultivavimas",87,null,{"$f":"ROW()-ROW(DarbųĮkainiai2024[[#Headers],[Eil. Nr.]])","v":44},{"$f":"+DarbųĮkainiai2018[[#This Row],[Žemės ūkio mašina]]","v":"kultivatoriais"},{"$f":"+DarbųĮkainiai2018[[#This Row],[Darbinis plotis, m]]","v":3},{"$f":"+DarbųĮkainiai2018[[#This Row],[Tręšimo, išsėjimo, purškimo norma, kg/ha; Derlingumas, t/ha]]","v":0},{"$f":"+DarbųĮkainiai2018[[#This Row],[Traktoriaus (kombaino) galia, kW]]","v":67},{"$f":"ROUND(DarbųĮkainiai2018[[#This Row],[Traktoriaus (kombaino) kaina, tūkst. Eur]]*$AF$9,2)","v":53.46},{"$f":"ROUND(DarbųĮkainiai2018[[#This Row],[Žemės ūkio mašinos (cisternos) kaina, tūkst. Eur]] * $AG$9,2)","v":7.68},{"$f":"+DarbųĮkainiai2018[[#This Row],[Išdirbio norma, ha/val.]]","v":1.91},{"$f":"+DarbųĮkainiai2018[[#This Row],[Degalų sąnaudų norma, l/ha]]","v":6.9},{"$f":"ROUND(DarbųĮkainiai2018[[#This Row],[Išlaidos atnaujinimui, Eur/ha]]*1.35,2)","v":5.4},{"$f":"ROUND(DarbųĮkainiai2018[[#This Row],[Išlaidos remontui ir tech. aptarnavimui, Eur/ha]]*$AK$9,2)","v":4.79},{"$f":"ROUND(DarbųĮkainiai2024[[#This Row],[Degalų sąnaudų norma, l/ha]] * $AL$9,2)","v":5.18},{"$f":"ROUND(1/DarbųĮkainiai2024[[#This Row],[Išdirbio norma, ha/val.]]*$AM$9,2)","v":5.82},{"$f":"+DarbųĮkainiai2024[[#This Row],[Išlaidos atnaujinimui, Eur/ha]]+DarbųĮkainiai2024[[#This Row],[Išlaidos remontui ir tech. aptarnavimui, Eur/ha]]+DarbųĮkainiai2024[[#This Row],[Išlaidos degalams ir tepalams, Eur/ha]]+DarbųĮkainiai2024[[#This Row],[Išlaidos darbo užmokesčiui su priskaitymais, Eur/ha]]","v":21.19},{"$f":"ROUND(DarbųĮkainiai2018[[#This Row],[Kitos, Eur/ha]] * $AO$9,2)","v":1.24},{"$f":"+DarbųĮkainiai2024[[#This Row],[Kitos, Eur/ha]]+DarbųĮkainiai2024[[#This Row],[Išlaidos iš viso, Eur/ha]]","v":22.43},{"$f":"ROUND(DarbųĮkainiai2024[[#This Row],[Savikaina, Eur/ha]]*$AQ$9,2)","v":1.1200000000000001},{"$f":"+DarbųĮkainiai2024[[#This Row],[Pelnas, Eur/ha]]+DarbųĮkainiai2024[[#This Row],[Savikaina, Eur/ha]]","v":23.55},{"$f":"+DarbųĮkainiai2024[[#This Row],[Įkainis, Eur/ha]]-DarbųĮkainiai2024[[#This Row],[Pelnas, Eur/ha]]-DarbųĮkainiai2024[[#This Row],[Išlaidos atnaujinimui, Eur/ha]]","v":17.03},{"$f":"+DarbųĮkainiai2018[[#This Row],[Darbas]]","v":"PRIEŠSĖJINIS DIRVOS ĮDIRBIMAS"},2024,{"$f":"+DarbųĮkainiai2018[[#This Row],[Žemės ūkio mašinų kilmė]]","v":"Vakarų Europos"},{"$f":"+DarbųĮkainiai2018[[#This Row],[Papildomas barstytubo parametras, m3]]","v":0},{"$f":"+DarbųĮkainiai2018[[#This Row],[Aktualus darbo pavadinimas]]","v":"Priešsėjinis kultivavimas"},{"$f":"+DarbųĮkainiai2018[[#This Row],[Stulpelis1]]","v":87}]
[{"$f":"ROW()-ROW(DarbųĮkainiai2018[[#Headers],[Eil. Nr.]])","v":45},"kultivatoriais",4,null,83,57.12,6.68,2.5299999999999998,6.6,4.12,3.2,4.6900000000000004,1.58,13.59,1.0900000000000001,14.68,0.73,15.42,{"$f":"+DarbųĮkainiai2018[[#This Row],[Įkainis, Eur/ha]]-DarbųĮkainiai2018[[#This Row],[Pelnas, Eur/ha]]-DarbųĮkainiai2018[[#This Row],[Išlaidos atnaujinimui, Eur/ha]]","v":10.57},"PRIEŠSĖJINIS DIRVOS ĮDIRBIMAS",2018,"Vakarų Europos",null,"Priešsėjinis kultivavimas",88,null,{"$f":"ROW()-ROW(DarbųĮkainiai2024[[#Headers],[Eil. Nr.]])","v":45},{"$f":"+DarbųĮkainiai2018[[#This Row],[Žemės ūkio mašina]]","v":"kultivatoriais"},{"$f":"+DarbųĮkainiai2018[[#This Row],[Darbinis plotis, m]]","v":4},{"$f":"+DarbųĮkainiai2018[[#This Row],[Tręšimo, išsėjimo, purškimo norma, kg/ha; Derlingumas, t/ha]]","v":0},{"$f":"+DarbųĮkainiai2018[[#This Row],[Traktoriaus (kombaino) galia, kW]]","v":83},{"$f":"ROUND(DarbųĮkainiai2018[[#This Row],[Traktoriaus (kombaino) kaina, tūkst. Eur]]*$AF$9,2)","v":74.66},{"$f":"ROUND(DarbųĮkainiai2018[[#This Row],[Žemės ūkio mašinos (cisternos) kaina, tūkst. Eur]] * $AG$9,2)","v":10.25},{"$f":"+DarbųĮkainiai2018[[#This Row],[Išdirbio norma, ha/val.]]","v":2.5299999999999998},{"$f":"+DarbųĮkainiai2018[[#This Row],[Degalų sąnaudų norma, l/ha]]","v":6.6},{"$f":"ROUND(DarbųĮkainiai2018[[#This Row],[Išlaidos atnaujinimui, Eur/ha]]*1.35,2)","v":5.56},{"$f":"ROUND(DarbųĮkainiai2018[[#This Row],[Išlaidos remontui ir tech. aptarnavimui, Eur/ha]]*$AK$9,2)","v":4.91},{"$f":"ROUND(DarbųĮkainiai2024[[#This Row],[Degalų sąnaudų norma, l/ha]] * $AL$9,2)","v":4.95},{"$f":"ROUND(1/DarbųĮkainiai2024[[#This Row],[Išdirbio norma, ha/val.]]*$AM$9,2)","v":4.3899999999999997},{"$f":"+DarbųĮkainiai2024[[#This Row],[Išlaidos atnaujinimui, Eur/ha]]+DarbųĮkainiai2024[[#This Row],[Išlaidos remontui ir tech. aptarnavimui, Eur/ha]]+DarbųĮkainiai2024[[#This Row],[Išlaidos degalams ir tepalams, Eur/ha]]+DarbųĮkainiai2024[[#This Row],[Išlaidos darbo užmokesčiui su priskaitymais, Eur/ha]]","v":19.809999999999999},{"$f":"ROUND(DarbųĮkainiai2018[[#This Row],[Kitos, Eur/ha]] * $AO$9,2)","v":1.22},{"$f":"+DarbųĮkainiai2024[[#This Row],[Kitos, Eur/ha]]+DarbųĮkainiai2024[[#This Row],[Išlaidos iš viso, Eur/ha]]","v":21.029999999999998},{"$f":"ROUND(DarbųĮkainiai2024[[#This Row],[Savikaina, Eur/ha]]*$AQ$9,2)","v":1.05},{"$f":"+DarbųĮkainiai2024[[#This Row],[Pelnas, Eur/ha]]+DarbųĮkainiai2024[[#This Row],[Savikaina, Eur/ha]]","v":22.08},{"$f":"+DarbųĮkainiai2024[[#This Row],[Įkainis, Eur/ha]]-DarbųĮkainiai2024[[#This Row],[Pelnas, Eur/ha]]-DarbųĮkainiai2024[[#This Row],[Išlaidos atnaujinimui, Eur/ha]]","v":15.469999999999999},{"$f":"+DarbųĮkainiai2018[[#This Row],[Darbas]]","v":"PRIEŠSĖJINIS DIRVOS ĮDIRBIMAS"},2024,{"$f":"+DarbųĮkainiai2018[[#This Row],[Žemės ūkio mašinų kilmė]]","v":"Vakarų Europos"},{"$f":"+DarbųĮkainiai2018[[#This Row],[Papildomas barstytubo parametras, m3]]","v":0},{"$f":"+DarbųĮkainiai2018[[#This Row],[Aktualus darbo pavadinimas]]","v":"Priešsėjinis kultivavimas"},{"$f":"+DarbųĮkainiai2018[[#This Row],[Stulpelis1]]","v":88}]
[{"$f":"ROW()-ROW(DarbųĮkainiai2018[[#Headers],[Eil. Nr.]])","v":46},"kultivatoriais",6,null,120,83.4,10.02,3.87,6.5,3.99,3.11,4.62,1.03,12.74,1.02,13.76,0.69,14.45,{"$f":"+DarbųĮkainiai2018[[#This Row],[Įkainis, Eur/ha]]-DarbųĮkainiai2018[[#This Row],[Pelnas, Eur/ha]]-DarbųĮkainiai2018[[#This Row],[Išlaidos atnaujinimui, Eur/ha]]","v":9.77},"PRIEŠSĖJINIS DIRVOS ĮDIRBIMAS",2018,"Vakarų Europos",null,"Priešsėjinis kultivavimas",89,null,{"$f":"ROW()-ROW(DarbųĮkainiai2024[[#Headers],[Eil. Nr.]])","v":46},{"$f":"+DarbųĮkainiai2018[[#This Row],[Žemės ūkio mašina]]","v":"kultivatoriais"},{"$f":"+DarbųĮkainiai2018[[#This Row],[Darbinis plotis, m]]","v":6},{"$f":"+DarbųĮkainiai2018[[#This Row],[Tręšimo, išsėjimo, purškimo norma, kg/ha; Derlingumas, t/ha]]","v":0},{"$f":"+DarbųĮkainiai2018[[#This Row],[Traktoriaus (kombaino) galia, kW]]","v":120},{"$f":"ROUND(DarbųĮkainiai2018[[#This Row],[Traktoriaus (kombaino) kaina, tūkst. Eur]]*$AF$9,2)","v":109},{"$f":"ROUND(DarbųĮkainiai2018[[#This Row],[Žemės ūkio mašinos (cisternos) kaina, tūkst. Eur]] * $AG$9,2)","v":15.37},{"$f":"+DarbųĮkainiai2018[[#This Row],[Išdirbio norma, ha/val.]]","v":3.87},{"$f":"+DarbųĮkainiai2018[[#This Row],[Degalų sąnaudų norma, l/ha]]","v":6.5},{"$f":"ROUND(DarbųĮkainiai2018[[#This Row],[Išlaidos atnaujinimui, Eur/ha]]*1.35,2)","v":5.39},{"$f":"ROUND(DarbųĮkainiai2018[[#This Row],[Išlaidos remontui ir tech. aptarnavimui, Eur/ha]]*$AK$9,2)","v":4.7699999999999996},{"$f":"ROUND(DarbųĮkainiai2024[[#This Row],[Degalų sąnaudų norma, l/ha]] * $AL$9,2)","v":4.88},{"$f":"ROUND(1/DarbųĮkainiai2024[[#This Row],[Išdirbio norma, ha/val.]]*$AM$9,2)","v":2.87},{"$f":"+DarbųĮkainiai2024[[#This Row],[Išlaidos atnaujinimui, Eur/ha]]+DarbųĮkainiai2024[[#This Row],[Išlaidos remontui ir tech. aptarnavimui, Eur/ha]]+DarbųĮkainiai2024[[#This Row],[Išlaidos degalams ir tepalams, Eur/ha]]+DarbųĮkainiai2024[[#This Row],[Išlaidos darbo užmokesčiui su priskaitymais, Eur/ha]]","v":17.91},{"$f":"ROUND(DarbųĮkainiai2018[[#This Row],[Kitos, Eur/ha]] * $AO$9,2)","v":1.1399999999999999},{"$f":"+DarbųĮkainiai2024[[#This Row],[Kitos, Eur/ha]]+DarbųĮkainiai2024[[#This Row],[Išlaidos iš viso, Eur/ha]]","v":19.05},{"$f":"ROUND(DarbųĮkainiai2024[[#This Row],[Savikaina, Eur/ha]]*$AQ$9,2)","v":0.95},{"$f":"+DarbųĮkainiai2024[[#This Row],[Pelnas, Eur/ha]]+DarbųĮkainiai2024[[#This Row],[Savikaina, Eur/ha]]","v":20},{"$f":"+DarbųĮkainiai2024[[#This Row],[Įkainis, Eur/ha]]-DarbųĮkainiai2024[[#This Row],[Pelnas, Eur/ha]]-DarbųĮkainiai2024[[#This Row],[Išlaidos atnaujinimui, Eur/ha]]","v":13.66},{"$f":"+DarbųĮkainiai2018[[#This Row],[Darbas]]","v":"PRIEŠSĖJINIS DIRVOS ĮDIRBIMAS"},2024,{"$f":"+DarbųĮkainiai2018[[#This Row],[Žemės ūkio mašinų kilmė]]","v":"Vakarų Europos"},{"$f":"+DarbųĮkainiai2018[[#This Row],[Papildomas barstytubo parametras, m3]]","v":0},{"$f":"+DarbųĮkainiai2018[[#This Row],[Aktualus darbo pavadinimas]]","v":"Priešsėjinis kultivavimas"},{"$f":"+DarbųĮkainiai2018[[#This Row],[Stulpelis1]]","v":89}]
[{"$f":"ROW()-ROW(DarbųĮkainiai2018[[#Headers],[Eil. Nr.]])","v":47},"kultivatoriais",8,null,138,91.1,18.64,5.18,6.4,4.3099999999999996,3.57,4.54,0.77,13.2,1.06,14.25,0.71,14.97,{"$f":"+DarbųĮkainiai2018[[#This Row],[Įkainis, Eur/ha]]-DarbųĮkainiai2018[[#This Row],[Pelnas, Eur/ha]]-DarbųĮkainiai2018[[#This Row],[Išlaidos atnaujinimui, Eur/ha]]","v":9.9500000000000028},"PRIEŠSĖJINIS DIRVOS ĮDIRBIMAS",2018,"Vakarų Europos",null,"Priešsėjinis kultivavimas",90,null,{"$f":"ROW()-ROW(DarbųĮkainiai2024[[#Headers],[Eil. Nr.]])","v":47},{"$f":"+DarbųĮkainiai2018[[#This Row],[Žemės ūkio mašina]]","v":"kultivatoriais"},{"$f":"+DarbųĮkainiai2018[[#This Row],[Darbinis plotis, m]]","v":8},{"$f":"+DarbųĮkainiai2018[[#This Row],[Tręšimo, išsėjimo, purškimo norma, kg/ha; Derlingumas, t/ha]]","v":0},{"$f":"+DarbųĮkainiai2018[[#This Row],[Traktoriaus (kombaino) galia, kW]]","v":138},{"$f":"ROUND(DarbųĮkainiai2018[[#This Row],[Traktoriaus (kombaino) kaina, tūkst. Eur]]*$AF$9,2)","v":119.07},{"$f":"ROUND(DarbųĮkainiai2018[[#This Row],[Žemės ūkio mašinos (cisternos) kaina, tūkst. Eur]] * $AG$9,2)","v":28.59},{"$f":"+DarbųĮkainiai2018[[#This Row],[Išdirbio norma, ha/val.]]","v":5.18},{"$f":"+DarbųĮkainiai2018[[#This Row],[Degalų sąnaudų norma, l/ha]]","v":6.4},{"$f":"ROUND(DarbųĮkainiai2018[[#This Row],[Išlaidos atnaujinimui, Eur/ha]]*1.35,2)","v":5.82},{"$f":"ROUND(DarbųĮkainiai2018[[#This Row],[Išlaidos remontui ir tech. aptarnavimui, Eur/ha]]*$AK$9,2)","v":5.48},{"$f":"ROUND(DarbųĮkainiai2024[[#This Row],[Degalų sąnaudų norma, l/ha]] * $AL$9,2)","v":4.8},{"$f":"ROUND(1/DarbųĮkainiai2024[[#This Row],[Išdirbio norma, ha/val.]]*$AM$9,2)","v":2.14},{"$f":"+DarbųĮkainiai2024[[#This Row],[Išlaidos atnaujinimui, Eur/ha]]+DarbųĮkainiai2024[[#This Row],[Išlaidos remontui ir tech. aptarnavimui, Eur/ha]]+DarbųĮkainiai2024[[#This Row],[Išlaidos degalams ir tepalams, Eur/ha]]+DarbųĮkainiai2024[[#This Row],[Išlaidos darbo užmokesčiui su priskaitymais, Eur/ha]]","v":18.240000000000002},{"$f":"ROUND(DarbųĮkainiai2018[[#This Row],[Kitos, Eur/ha]] * $AO$9,2)","v":1.18},{"$f":"+DarbųĮkainiai2024[[#This Row],[Kitos, Eur/ha]]+DarbųĮkainiai2024[[#This Row],[Išlaidos iš viso, Eur/ha]]","v":19.420000000000002},{"$f":"ROUND(DarbųĮkainiai2024[[#This Row],[Savikaina, Eur/ha]]*$AQ$9,2)","v":0.97},{"$f":"+DarbųĮkainiai2024[[#This Row],[Pelnas, Eur/ha]]+DarbųĮkainiai2024[[#This Row],[Savikaina, Eur/ha]]","v":20.39},{"$f":"+DarbųĮkainiai2024[[#This Row],[Įkainis, Eur/ha]]-DarbųĮkainiai2024[[#This Row],[Pelnas, Eur/ha]]-DarbųĮkainiai2024[[#This Row],[Išlaidos atnaujinimui, Eur/ha]]","v":13.600000000000001},{"$f":"+DarbųĮkainiai2018[[#This Row],[Darbas]]","v":"PRIEŠSĖJINIS DIRVOS ĮDIRBIMAS"},2024,{"$f":"+DarbųĮkainiai2018[[#This Row],[Žemės ūkio mašinų kilmė]]","v":"Vakarų Europos"},{"$f":"+DarbųĮkainiai2018[[#This Row],[Papildomas barstytubo parametras, m3]]","v":0},{"$f":"+DarbųĮkainiai2018[[#This Row],[Aktualus darbo pavadinimas]]","v":"Priešsėjinis kultivavimas"},{"$f":"+DarbųĮkainiai2018[[#This Row],[Stulpelis1]]","v":90}]
[{"$f":"ROW()-ROW(DarbųĮkainiai2018[[#Headers],[Eil. Nr.]])","v":48},"1,5 m3 talpos pakabinamaisiais barstytuvais",{"$f":"+C57","v":8},320,67,40.9,13.5,16.55,0.6,0.7,0.43,0.43,0.28999999999999998,1.84,0.09,1.94,0.06,1.99,{"$f":"+DarbųĮkainiai2018[[#This Row],[Įkainis, Eur/ha]]-DarbųĮkainiai2018[[#This Row],[Pelnas, Eur/ha]]-DarbųĮkainiai2018[[#This Row],[Išlaidos atnaujinimui, Eur/ha]]","v":1.23},"MINERALINIŲ TRĄŠŲ BARSTYMAS PAKABINAMAISIAIS BARSTYTUVAIS",2018,"Vakarų Europos",1.5,"Tręšimas",144,null,{"$f":"ROW()-ROW(DarbųĮkainiai2024[[#Headers],[Eil. Nr.]])","v":48},{"$f":"+DarbųĮkainiai2018[[#This Row],[Žemės ūkio mašina]]","v":"1,5 m3 talpos pakabinamaisiais barstytuvais"},{"$f":"+DarbųĮkainiai2018[[#This Row],[Darbinis plotis, m]]","v":8},{"$f":"+DarbųĮkainiai2018[[#This Row],[Tręšimo, išsėjimo, purškimo norma, kg/ha; Derlingumas, t/ha]]","v":320},{"$f":"+DarbųĮkainiai2018[[#This Row],[Traktoriaus (kombaino) galia, kW]]","v":67},{"$f":"ROUND(DarbųĮkainiai2018[[#This Row],[Traktoriaus (kombaino) kaina, tūkst. Eur]]*$AF$9,2)","v":53.46},{"$f":"ROUND(DarbųĮkainiai2018[[#This Row],[Žemės ūkio mašinos (cisternos) kaina, tūkst. Eur]] * $AG$9,2)","v":20.71},{"$f":"+DarbųĮkainiai2018[[#This Row],[Išdirbio norma, ha/val.]]","v":16.55},{"$f":"+DarbųĮkainiai2018[[#This Row],[Degalų sąnaudų norma, l/ha]]","v":0.6},{"$f":"ROUND(DarbųĮkainiai2018[[#This Row],[Išlaidos atnaujinimui, Eur/ha]]*1.35,2)","v":0.95},{"$f":"ROUND(DarbųĮkainiai2018[[#This Row],[Išlaidos remontui ir tech. aptarnavimui, Eur/ha]]*$AK$9,2)","v":0.66},{"$f":"ROUND(DarbųĮkainiai2024[[#This Row],[Degalų sąnaudų norma, l/ha]] * $AL$9,2)","v":0.45},{"$f":"ROUND(1/DarbųĮkainiai2024[[#This Row],[Išdirbio norma, ha/val.]]*$AM$9,2)","v":0.67},{"$f":"+DarbųĮkainiai2024[[#This Row],[Išlaidos atnaujinimui, Eur/ha]]+DarbųĮkainiai2024[[#This Row],[Išlaidos remontui ir tech. aptarnavimui, Eur/ha]]+DarbųĮkainiai2024[[#This Row],[Išlaidos degalams ir tepalams, Eur/ha]]+DarbųĮkainiai2024[[#This Row],[Išlaidos darbo užmokesčiui su priskaitymais, Eur/ha]]","v":2.73},{"$f":"ROUND(DarbųĮkainiai2018[[#This Row],[Kitos, Eur/ha]] * $AO$9,2)","v":0.1},{"$f":"+DarbųĮkainiai2024[[#This Row],[Kitos, Eur/ha]]+DarbųĮkainiai2024[[#This Row],[Išlaidos iš viso, Eur/ha]]","v":2.83},{"$f":"ROUND(DarbųĮkainiai2024[[#This Row],[Savikaina, Eur/ha]]*$AQ$9,2)","v":0.14000000000000001},{"$f":"+DarbųĮkainiai2024[[#This Row],[Pelnas, Eur/ha]]+DarbųĮkainiai2024[[#This Row],[Savikaina, Eur/ha]]","v":2.97},{"$f":"+DarbųĮkainiai2024[[#This Row],[Įkainis, Eur/ha]]-DarbųĮkainiai2024[[#This Row],[Pelnas, Eur/ha]]-DarbųĮkainiai2024[[#This Row],[Išlaidos atnaujinimui, Eur/ha]]","v":1.8800000000000001},{"$f":"+DarbųĮkainiai2018[[#This Row],[Darbas]]","v":"MINERALINIŲ TRĄŠŲ BARSTYMAS PAKABINAMAISIAIS BARSTYTUVAIS"},2024,{"$f":"+DarbųĮkainiai2018[[#This Row],[Žemės ūkio mašinų kilmė]]","v":"Vakarų Europos"},{"$f":"+DarbųĮkainiai2018[[#This Row],[Papildomas barstytubo parametras, m3]]","v":1.5},{"$f":"+DarbųĮkainiai2018[[#This Row],[Aktualus darbo pavadinimas]]","v":"Tręšimas"},{"$f":"+DarbųĮkainiai2018[[#This Row],[Stulpelis1]]","v":144}]
[{"$f":"ROW()-ROW(DarbųĮkainiai2018[[#Headers],[Eil. Nr.]])","v":49},"2,4 m3 talpos prikabinamaisiais barstytuvais",12,200,45,25.24,12,7.14,0.9,1.28,0.8,0.64,0.67,3.39,0.17,3.56,0.18,3.73,{"$f":"+DarbųĮkainiai2018[[#This Row],[Įkainis, Eur/ha]]-DarbųĮkainiai2018[[#This Row],[Pelnas, Eur/ha]]-DarbųĮkainiai2018[[#This Row],[Išlaidos atnaujinimui, Eur/ha]]","v":2.2699999999999996},"MINERALINIŲ TRĄŠŲ BARSTYMAS PRIKABINAMAISIAIS BARSTYTUVAIS",2018,"Vakarų Europos",2.4,"Tręšimas",158,null,{"$f":"ROW()-ROW(DarbųĮkainiai2024[[#Headers],[Eil. Nr.]])","v":49},{"$f":"+DarbųĮkainiai2018[[#This Row],[Žemės ūkio mašina]]","v":"2,4 m3 talpos prikabinamaisiais barstytuvais"},{"$f":"+DarbųĮkainiai2018[[#This Row],[Darbinis plotis, m]]","v":12},{"$f":"+DarbųĮkainiai2018[[#This Row],[Tręšimo, išsėjimo, purškimo norma, kg/ha; Derlingumas, t/ha]]","v":200},{"$f":"+DarbųĮkainiai2018[[#This Row],[Traktoriaus (kombaino) galia, kW]]","v":45},{"$f":"ROUND(DarbųĮkainiai2018[[#This Row],[Traktoriaus (kombaino) kaina, tūkst. Eur]]*$AF$9,2)","v":32.99},{"$f":"ROUND(DarbųĮkainiai2018[[#This Row],[Žemės ūkio mašinos (cisternos) kaina, tūkst. Eur]] * $AG$9,2)","v":18.41},{"$f":"+DarbųĮkainiai2018[[#This Row],[Išdirbio norma, ha/val.]]","v":7.14},{"$f":"+DarbųĮkainiai2018[[#This Row],[Degalų sąnaudų norma, l/ha]]","v":0.9},{"$f":"ROUND(DarbųĮkainiai2018[[#This Row],[Išlaidos atnaujinimui, Eur/ha]]*1.35,2)","v":1.73},{"$f":"ROUND(DarbųĮkainiai2018[[#This Row],[Išlaidos remontui ir tech. aptarnavimui, Eur/ha]]*$AK$9,2)","v":1.23},{"$f":"ROUND(DarbųĮkainiai2024[[#This Row],[Degalų sąnaudų norma, l/ha]] * $AL$9,2)","v":0.68},{"$f":"ROUND(1/DarbųĮkainiai2024[[#This Row],[Išdirbio norma, ha/val.]]*$AM$9,2)","v":1.56},{"$f":"+DarbųĮkainiai2024[[#This Row],[Išlaidos atnaujinimui, Eur/ha]]+DarbųĮkainiai2024[[#This Row],[Išlaidos remontui ir tech. aptarnavimui, Eur/ha]]+DarbųĮkainiai2024[[#This Row],[Išlaidos degalams ir tepalams, Eur/ha]]+DarbųĮkainiai2024[[#This Row],[Išlaidos darbo užmokesčiui su priskaitymais, Eur/ha]]","v":5.2},{"$f":"ROUND(DarbųĮkainiai2018[[#This Row],[Kitos, Eur/ha]] * $AO$9,2)","v":0.19},{"$f":"+DarbųĮkainiai2024[[#This Row],[Kitos, Eur/ha]]+DarbųĮkainiai2024[[#This Row],[Išlaidos iš viso, Eur/ha]]","v":5.3900000000000006},{"$f":"ROUND(DarbųĮkainiai2024[[#This Row],[Savikaina, Eur/ha]]*$AQ$9,2)","v":0.27},{"$f":"+DarbųĮkainiai2024[[#This Row],[Pelnas, Eur/ha]]+DarbųĮkainiai2024[[#This Row],[Savikaina, Eur/ha]]","v":5.66},{"$f":"+DarbųĮkainiai2024[[#This Row],[Įkainis, Eur/ha]]-DarbųĮkainiai2024[[#This Row],[Pelnas, Eur/ha]]-DarbųĮkainiai2024[[#This Row],[Išlaidos atnaujinimui, Eur/ha]]","v":3.6600000000000006},{"$f":"+DarbųĮkainiai2018[[#This Row],[Darbas]]","v":"MINERALINIŲ TRĄŠŲ BARSTYMAS PRIKABINAMAISIAIS BARSTYTUVAIS"},2024,{"$f":"+DarbųĮkainiai2018[[#This Row],[Žemės ūkio mašinų kilmė]]","v":"Vakarų Europos"},{"$f":"+DarbųĮkainiai2018[[#This Row],[Papildomas barstytubo parametras, m3]]","v":2.4},{"$f":"+DarbųĮkainiai2018[[#This Row],[Aktualus darbo pavadinimas]]","v":"Tręšimas"},{"$f":"+DarbųĮkainiai2018[[#This Row],[Stulpelis1]]","v":158}]
[{"$f":"ROW()-ROW(DarbųĮkainiai2018[[#Headers],[Eil. Nr.]])","v":50},"4,0 m3 talpos prikabinamaisiais barstytuvais",24,200,67,40.9,20,14.66,0.8,1.03,0.64,0.56999999999999995,0.32,2.57,0.13,2.7,0.13,2.83,{"$f":"+DarbųĮkainiai2018[[#This Row],[Įkainis, Eur/ha]]-DarbųĮkainiai2018[[#This Row],[Pelnas, Eur/ha]]-DarbųĮkainiai2018[[#This Row],[Išlaidos atnaujinimui, Eur/ha]]","v":1.6700000000000002},"MINERALINIŲ TRĄŠŲ BARSTYMAS PRIKABINAMAISIAIS BARSTYTUVAIS",2018,"Vakarų Europos",4,"Tręšimas",164,null,{"$f":"ROW()-ROW(DarbųĮkainiai2024[[#Headers],[Eil. Nr.]])","v":50},{"$f":"+DarbųĮkainiai2018[[#This Row],[Žemės ūkio mašina]]","v":"4,0 m3 talpos prikabinamaisiais barstytuvais"},{"$f":"+DarbųĮkainiai2018[[#This Row],[Darbinis plotis, m]]","v":24},{"$f":"+DarbųĮkainiai2018[[#This Row],[Tręšimo, išsėjimo, purškimo norma, kg/ha; Derlingumas, t/ha]]","v":200},{"$f":"+DarbųĮkainiai2018[[#This Row],[Traktoriaus (kombaino) galia, kW]]","v":67},{"$f":"ROUND(DarbųĮkainiai2018[[#This Row],[Traktoriaus (kombaino) kaina, tūkst. Eur]]*$AF$9,2)","v":53.46},{"$f":"ROUND(DarbųĮkainiai2018[[#This Row],[Žemės ūkio mašinos (cisternos) kaina, tūkst. Eur]] * $AG$9,2)","v":30.68},{"$f":"+DarbųĮkainiai2018[[#This Row],[Išdirbio norma, ha/val.]]","v":14.66},{"$f":"+DarbųĮkainiai2018[[#This Row],[Degalų sąnaudų norma, l/ha]]","v":0.8},{"$f":"ROUND(DarbųĮkainiai2018[[#This Row],[Išlaidos atnaujinimui, Eur/ha]]*1.35,2)","v":1.39},{"$f":"ROUND(DarbųĮkainiai2018[[#This Row],[Išlaidos remontui ir tech. aptarnavimui, Eur/ha]]*$AK$9,2)","v":0.98},{"$f":"ROUND(DarbųĮkainiai2024[[#This Row],[Degalų sąnaudų norma, l/ha]] * $AL$9,2)","v":0.6},{"$f":"ROUND(1/DarbųĮkainiai2024[[#This Row],[Išdirbio norma, ha/val.]]*$AM$9,2)","v":0.76},{"$f":"+DarbųĮkainiai2024[[#This Row],[Išlaidos atnaujinimui, Eur/ha]]+DarbųĮkainiai2024[[#This Row],[Išlaidos remontui ir tech. aptarnavimui, Eur/ha]]+DarbųĮkainiai2024[[#This Row],[Išlaidos degalams ir tepalams, Eur/ha]]+DarbųĮkainiai2024[[#This Row],[Išlaidos darbo užmokesčiui su priskaitymais, Eur/ha]]","v":3.7300000000000004},{"$f":"ROUND(DarbųĮkainiai2018[[#This Row],[Kitos, Eur/ha]] * $AO$9,2)","v":0.14000000000000001},{"$f":"+DarbųĮkainiai2024[[#This Row],[Kitos, Eur/ha]]+DarbųĮkainiai2024[[#This Row],[Išlaidos iš viso, Eur/ha]]","v":3.8700000000000006},{"$f":"ROUND(DarbųĮkainiai2024[[#This Row],[Savikaina, Eur/ha]]*$AQ$9,2)","v":0.19},{"$f":"+DarbųĮkainiai2024[[#This Row],[Pelnas, Eur/ha]]+DarbųĮkainiai2024[[#This Row],[Savikaina, Eur/ha]]","v":4.0600000000000005},{"$f":"+DarbųĮkainiai2024[[#This Row],[Įkainis, Eur/ha]]-DarbųĮkainiai2024[[#This Row],[Pelnas, Eur/ha]]-DarbųĮkainiai2024[[#This Row],[Išlaidos atnaujinimui, Eur/ha]]","v":2.4800000000000004},{"$f":"+DarbųĮkainiai2018[[#This Row],[Darbas]]","v":"MINERALINIŲ TRĄŠŲ BARSTYMAS PRIKABINAMAISIAIS BARSTYTUVAIS"},2024,{"$f":"+DarbųĮkainiai2018[[#This Row],[Žemės ūkio mašinų kilmė]]","v":"Vakarų Europos"},{"$f":"+DarbųĮkainiai2018[[#This Row],[Papildomas barstytubo parametras, m3]]","v":4},{"$f":"+DarbųĮkainiai2018[[#This Row],[Aktualus darbo pavadinimas]]","v":"Tręšimas"},{"$f":"+DarbųĮkainiai2018[[#This Row],[Stulpelis1]]","v":164}]
[{"$f":"ROW()-ROW(DarbųĮkainiai2018[[#Headers],[Eil. Nr.]])","v":51},"4,0 m3 talpos prikabinamaisiais barstytuvais",36,200,83,57.12,20,20.13,0.7,0.83,0.52,0.5,0.27,2.12,0.11,2.23,0.11,2.34,{"$f":"+DarbųĮkainiai2018[[#This Row],[Įkainis, Eur/ha]]-DarbųĮkainiai2018[[#This Row],[Pelnas, Eur/ha]]-DarbųĮkainiai2018[[#This Row],[Išlaidos atnaujinimui, Eur/ha]]","v":1.4},"MINERALINIŲ TRĄŠŲ BARSTYMAS PRIKABINAMAISIAIS BARSTYTUVAIS",2018,"Vakarų Europos",4,"Tręšimas",169,null,{"$f":"ROW()-ROW(DarbųĮkainiai2024[[#Headers],[Eil. Nr.]])","v":51},{"$f":"+DarbųĮkainiai2018[[#This Row],[Žemės ūkio mašina]]","v":"4,0 m3 talpos prikabinamaisiais barstytuvais"},{"$f":"+DarbųĮkainiai2018[[#This Row],[Darbinis plotis, m]]","v":36},{"$f":"+DarbųĮkainiai2018[[#This Row],[Tręšimo, išsėjimo, purškimo norma, kg/ha; Derlingumas, t/ha]]","v":200},{"$f":"+DarbųĮkainiai2018[[#This Row],[Traktoriaus (kombaino) galia, kW]]","v":83},{"$f":"ROUND(DarbųĮkainiai2018[[#This Row],[Traktoriaus (kombaino) kaina, tūkst. Eur]]*$AF$9,2)","v":74.66},{"$f":"ROUND(DarbųĮkainiai2018[[#This Row],[Žemės ūkio mašinos (cisternos) kaina, tūkst. Eur]] * $AG$9,2)","v":30.68},{"$f":"+DarbųĮkainiai2018[[#This Row],[Išdirbio norma, ha/val.]]","v":20.13},{"$f":"+DarbųĮkainiai2018[[#This Row],[Degalų sąnaudų norma, l/ha]]","v":0.7},{"$f":"ROUND(DarbųĮkainiai2018[[#This Row],[Išlaidos atnaujinimui, Eur/ha]]*1.35,2)","v":1.1200000000000001},{"$f":"ROUND(DarbųĮkainiai2018[[#This Row],[Išlaidos remontui ir tech. aptarnavimui, Eur/ha]]*$AK$9,2)","v":0.8},{"$f":"ROUND(DarbųĮkainiai2024[[#This Row],[Degalų sąnaudų norma, l/ha]] * $AL$9,2)","v":0.53},{"$f":"ROUND(1/DarbųĮkainiai2024[[#This Row],[Išdirbio norma, ha/val.]]*$AM$9,2)","v":0.55000000000000004},{"$f":"+DarbųĮkainiai2024[[#This Row],[Išlaidos atnaujinimui, Eur/ha]]+DarbųĮkainiai2024[[#This Row],[Išlaidos remontui ir tech. aptarnavimui, Eur/ha]]+DarbųĮkainiai2024[[#This Row],[Išlaidos degalams ir tepalams, Eur/ha]]+DarbųĮkainiai2024[[#This Row],[Išlaidos darbo užmokesčiui su priskaitymais, Eur/ha]]","v":3},{"$f":"ROUND(DarbųĮkainiai2018[[#This Row],[Kitos, Eur/ha]] * $AO$9,2)","v":0.12},{"$f":"+DarbųĮkainiai2024[[#This Row],[Kitos, Eur/ha]]+DarbųĮkainiai2024[[#This Row],[Išlaidos iš viso, Eur/ha]]","v":3.12},{"$f":"ROUND(DarbųĮkainiai2024[[#This Row],[Savikaina, Eur/ha]]*$AQ$9,2)","v":0.16},{"$f":"+DarbųĮkainiai2024[[#This Row],[Pelnas, Eur/ha]]+DarbųĮkainiai2024[[#This Row],[Savikaina, Eur/ha]]","v":3.2800000000000002},{"$f":"+DarbųĮkainiai2024[[#This Row],[Įkainis, Eur/ha]]-DarbųĮkainiai2024[[#This Row],[Pelnas, Eur/ha]]-DarbųĮkainiai2024[[#This Row],[Išlaidos atnaujinimui, Eur/ha]]","v":2},{"$f":"+DarbųĮkainiai2018[[#This Row],[Darbas]]","v":"MINERALINIŲ TRĄŠŲ BARSTYMAS PRIKABINAMAISIAIS BARSTYTUVAIS"},2024,{"$f":"+DarbųĮkainiai2018[[#This Row],[Žemės ūkio mašinų kilmė]]","v":"Vakarų Europos"},{"$f":"+DarbųĮkainiai2018[[#This Row],[Papildomas barstytubo parametras, m3]]","v":4},{"$f":"+DarbųĮkainiai2018[[#This Row],[Aktualus darbo pavadinimas]]","v":"Tręšimas"},{"$f":"+DarbųĮkainiai2018[[#This Row],[Stulpelis1]]","v":169}]
[{"$f":"ROW()-ROW(DarbųĮkainiai2018[[#Headers],[Eil. Nr.]])","v":52},"pakabinamosiomis pneumatinėmis sėjamosiomis",4,200,54,31.43,15,2.1,3.3,6.56,3.4,2.34,2.2599999999999998,14.57,0.73,15.29,0.61,15.91,{"$f":"+DarbųĮkainiai2018[[#This Row],[Įkainis, Eur/ha]]-DarbųĮkainiai2018[[#This Row],[Pelnas, Eur/ha]]-DarbųĮkainiai2018[[#This Row],[Išlaidos atnaujinimui, Eur/ha]]","v":8.740000000000002},"JAVŲ SĖJA",2018,"Vakarų Europos",null,"Sėja",180,null,{"$f":"ROW()-ROW(DarbųĮkainiai2024[[#Headers],[Eil. Nr.]])","v":52},{"$f":"+DarbųĮkainiai2018[[#This Row],[Žemės ūkio mašina]]","v":"pakabinamosiomis pneumatinėmis sėjamosiomis"},{"$f":"+DarbųĮkainiai2018[[#This Row],[Darbinis plotis, m]]","v":4},{"$f":"+DarbųĮkainiai2018[[#This Row],[Tręšimo, išsėjimo, purškimo norma, kg/ha; Derlingumas, t/ha]]","v":200},{"$f":"+DarbųĮkainiai2018[[#This Row],[Traktoriaus (kombaino) galia, kW]]","v":54},{"$f":"ROUND(DarbųĮkainiai2018[[#This Row],[Traktoriaus (kombaino) kaina, tūkst. Eur]]*$AF$9,2)","v":41.08},{"$f":"ROUND(DarbųĮkainiai2018[[#This Row],[Žemės ūkio mašinos (cisternos) kaina, tūkst. Eur]] * $AG$9,2)","v":23.01},{"$f":"+DarbųĮkainiai2018[[#This Row],[Išdirbio norma, ha/val.]]","v":2.1},{"$f":"+DarbųĮkainiai2018[[#This Row],[Degalų sąnaudų norma, l/ha]]","v":3.3},{"$f":"ROUND(DarbųĮkainiai2018[[#This Row],[Išlaidos atnaujinimui, Eur/ha]]*1.35,2)","v":8.86},{"$f":"ROUND(DarbųĮkainiai2018[[#This Row],[Išlaidos remontui ir tech. aptarnavimui, Eur/ha]]*$AK$9,2)","v":5.22},{"$f":"ROUND(DarbųĮkainiai2024[[#This Row],[Degalų sąnaudų norma, l/ha]] * $AL$9,2)","v":2.48},{"$f":"ROUND(1/DarbųĮkainiai2024[[#This Row],[Išdirbio norma, ha/val.]]*$AM$9,2)","v":5.29},{"$f":"+DarbųĮkainiai2024[[#This Row],[Išlaidos atnaujinimui, Eur/ha]]+DarbųĮkainiai2024[[#This Row],[Išlaidos remontui ir tech. aptarnavimui, Eur/ha]]+DarbųĮkainiai2024[[#This Row],[Išlaidos degalams ir tepalams, Eur/ha]]+DarbųĮkainiai2024[[#This Row],[Išlaidos darbo užmokesčiui su priskaitymais, Eur/ha]]","v":21.849999999999998},{"$f":"ROUND(DarbųĮkainiai2018[[#This Row],[Kitos, Eur/ha]] * $AO$9,2)","v":0.81},{"$f":"+DarbųĮkainiai2024[[#This Row],[Kitos, Eur/ha]]+DarbųĮkainiai2024[[#This Row],[Išlaidos iš viso, Eur/ha]]","v":22.659999999999997},{"$f":"ROUND(DarbųĮkainiai2024[[#This Row],[Savikaina, Eur/ha]]*$AQ$9,2)","v":1.1299999999999999},{"$f":"+DarbųĮkainiai2024[[#This Row],[Pelnas, Eur/ha]]+DarbųĮkainiai2024[[#This Row],[Savikaina, Eur/ha]]","v":23.789999999999996},{"$f":"+DarbųĮkainiai2024[[#This Row],[Įkainis, Eur/ha]]-DarbųĮkainiai2024[[#This Row],[Pelnas, Eur/ha]]-DarbųĮkainiai2024[[#This Row],[Išlaidos atnaujinimui, Eur/ha]]","v":13.799999999999997},{"$f":"+DarbųĮkainiai2018[[#This Row],[Darbas]]","v":"JAVŲ SĖJA"},2024,{"$f":"+DarbųĮkainiai2018[[#This Row],[Žemės ūkio mašinų kilmė]]","v":"Vakarų Europos"},{"$f":"+DarbųĮkainiai2018[[#This Row],[Papildomas barstytubo parametras, m3]]","v":0},{"$f":"+DarbųĮkainiai2018[[#This Row],[Aktualus darbo pavadinimas]]","v":"Sėja"},{"$f":"+DarbųĮkainiai2018[[#This Row],[Stulpelis1]]","v":180}]
[{"$f":"ROW()-ROW(DarbųĮkainiai2018[[#Headers],[Eil. Nr.]])","v":53},"pakabinamosiomis pneumatinėmis sėjamosiomis",4.5,200,67,40.9,17.3,2.36,3.5,6.93,3.61,2.4900000000000002,2.0099999999999998,15.04,0.75,15.79,0.63,16.420000000000002,{"$f":"+DarbųĮkainiai2018[[#This Row],[Įkainis, Eur/ha]]-DarbųĮkainiai2018[[#This Row],[Pelnas, Eur/ha]]-DarbųĮkainiai2018[[#This Row],[Išlaidos atnaujinimui, Eur/ha]]","v":8.8600000000000012},"JAVŲ SĖJA",2018,"Vakarų Europos",null,"Sėja",181,null,{"$f":"ROW()-ROW(DarbųĮkainiai2024[[#Headers],[Eil. Nr.]])","v":53},{"$f":"+DarbųĮkainiai2018[[#This Row],[Žemės ūkio mašina]]","v":"pakabinamosiomis pneumatinėmis sėjamosiomis"},{"$f":"+DarbųĮkainiai2018[[#This Row],[Darbinis plotis, m]]","v":4.5},{"$f":"+DarbųĮkainiai2018[[#This Row],[Tręšimo, išsėjimo, purškimo norma, kg/ha; Derlingumas, t/ha]]","v":200},{"$f":"+DarbųĮkainiai2018[[#This Row],[Traktoriaus (kombaino) galia, kW]]","v":67},{"$f":"ROUND(DarbųĮkainiai2018[[#This Row],[Traktoriaus (kombaino) kaina, tūkst. Eur]]*$AF$9,2)","v":53.46},{"$f":"ROUND(DarbųĮkainiai2018[[#This Row],[Žemės ūkio mašinos (cisternos) kaina, tūkst. Eur]] * $AG$9,2)","v":26.54},{"$f":"+DarbųĮkainiai2018[[#This Row],[Išdirbio norma, ha/val.]]","v":2.36},{"$f":"+DarbųĮkainiai2018[[#This Row],[Degalų sąnaudų norma, l/ha]]","v":3.5},{"$f":"ROUND(DarbųĮkainiai2018[[#This Row],[Išlaidos atnaujinimui, Eur/ha]]*1.35,2)","v":9.36},{"$f":"ROUND(DarbųĮkainiai2018[[#This Row],[Išlaidos remontui ir tech. aptarnavimui, Eur/ha]]*$AK$9,2)","v":5.54},{"$f":"ROUND(DarbųĮkainiai2024[[#This Row],[Degalų sąnaudų norma, l/ha]] * $AL$9,2)","v":2.63},{"$f":"ROUND(1/DarbųĮkainiai2024[[#This Row],[Išdirbio norma, ha/val.]]*$AM$9,2)","v":4.71},{"$f":"+DarbųĮkainiai2024[[#This Row],[Išlaidos atnaujinimui, Eur/ha]]+DarbųĮkainiai2024[[#This Row],[Išlaidos remontui ir tech. aptarnavimui, Eur/ha]]+DarbųĮkainiai2024[[#This Row],[Išlaidos degalams ir tepalams, Eur/ha]]+DarbųĮkainiai2024[[#This Row],[Išlaidos darbo užmokesčiui su priskaitymais, Eur/ha]]","v":22.24},{"$f":"ROUND(DarbųĮkainiai2018[[#This Row],[Kitos, Eur/ha]] * $AO$9,2)","v":0.84},{"$f":"+DarbųĮkainiai2024[[#This Row],[Kitos, Eur/ha]]+DarbųĮkainiai2024[[#This Row],[Išlaidos iš viso, Eur/ha]]","v":23.08},{"$f":"ROUND(DarbųĮkainiai2024[[#This Row],[Savikaina, Eur/ha]]*$AQ$9,2)","v":1.1499999999999999},{"$f":"+DarbųĮkainiai2024[[#This Row],[Pelnas, Eur/ha]]+DarbųĮkainiai2024[[#This Row],[Savikaina, Eur/ha]]","v":24.229999999999997},{"$f":"+DarbųĮkainiai2024[[#This Row],[Įkainis, Eur/ha]]-DarbųĮkainiai2024[[#This Row],[Pelnas, Eur/ha]]-DarbųĮkainiai2024[[#This Row],[Išlaidos atnaujinimui, Eur/ha]]","v":13.719999999999999},{"$f":"+DarbųĮkainiai2018[[#This Row],[Darbas]]","v":"JAVŲ SĖJA"},2024,{"$f":"+DarbųĮkainiai2018[[#This Row],[Žemės ūkio mašinų kilmė]]","v":"Vakarų Europos"},{"$f":"+DarbųĮkainiai2018[[#This Row],[Papildomas barstytubo parametras, m3]]","v":0},{"$f":"+DarbųĮkainiai2018[[#This Row],[Aktualus darbo pavadinimas]]","v":"Sėja"},{"$f":"+DarbųĮkainiai2018[[#This Row],[Stulpelis1]]","v":181}]
[{"$f":"ROW()-ROW(DarbųĮkainiai2018[[#Headers],[Eil. Nr.]])","v":54},"pakabinamosiomis pneumatinėmis sėjamosiomis",6,200,83,57.12,27.7,3.11,3.2,8.15,4.22,2.27,1.76,16.399999999999999,0.82,17.22,0.69,17.91,{"$f":"+DarbųĮkainiai2018[[#This Row],[Įkainis, Eur/ha]]-DarbųĮkainiai2018[[#This Row],[Pelnas, Eur/ha]]-DarbųĮkainiai2018[[#This Row],[Išlaidos atnaujinimui, Eur/ha]]","v":9.0699999999999985},"JAVŲ SĖJA",2018,"Vakarų Europos",null,"Sėja",182,null,{"$f":"ROW()-ROW(DarbųĮkainiai2024[[#Headers],[Eil. Nr.]])","v":54},{"$f":"+DarbųĮkainiai2018[[#This Row],[Žemės ūkio mašina]]","v":"pakabinamosiomis pneumatinėmis sėjamosiomis"},{"$f":"+DarbųĮkainiai2018[[#This Row],[Darbinis plotis, m]]","v":6},{"$f":"+DarbųĮkainiai2018[[#This Row],[Tręšimo, išsėjimo, purškimo norma, kg/ha; Derlingumas, t/ha]]","v":200},{"$f":"+DarbųĮkainiai2018[[#This Row],[Traktoriaus (kombaino) galia, kW]]","v":83},{"$f":"ROUND(DarbųĮkainiai2018[[#This Row],[Traktoriaus (kombaino) kaina, tūkst. Eur]]*$AF$9,2)","v":74.66},{"$f":"ROUND(DarbųĮkainiai2018[[#This Row],[Žemės ūkio mašinos (cisternos) kaina, tūkst. Eur]] * $AG$9,2)","v":42.49},{"$f":"+DarbųĮkainiai2018[[#This Row],[Išdirbio norma, ha/val.]]","v":3.11},{"$f":"+DarbųĮkainiai2018[[#This Row],[Degalų sąnaudų norma, l/ha]]","v":3.2},{"$f":"ROUND(DarbųĮkainiai2018[[#This Row],[Išlaidos atnaujinimui, Eur/ha]]*1.35,2)","v":11},{"$f":"ROUND(DarbųĮkainiai2018[[#This Row],[Išlaidos remontui ir tech. aptarnavimui, Eur/ha]]*$AK$9,2)","v":6.47},{"$f":"ROUND(DarbųĮkainiai2024[[#This Row],[Degalų sąnaudų norma, l/ha]] * $AL$9,2)","v":2.4},{"$f":"ROUND(1/DarbųĮkainiai2024[[#This Row],[Išdirbio norma, ha/val.]]*$AM$9,2)","v":3.57},{"$f":"+DarbųĮkainiai2024[[#This Row],[Išlaidos atnaujinimui, Eur/ha]]+DarbųĮkainiai2024[[#This Row],[Išlaidos remontui ir tech. aptarnavimui, Eur/ha]]+DarbųĮkainiai2024[[#This Row],[Išlaidos degalams ir tepalams, Eur/ha]]+DarbųĮkainiai2024[[#This Row],[Išlaidos darbo užmokesčiui su priskaitymais, Eur/ha]]","v":23.439999999999998},{"$f":"ROUND(DarbųĮkainiai2018[[#This Row],[Kitos, Eur/ha]] * $AO$9,2)","v":0.91},{"$f":"+DarbųĮkainiai2024[[#This Row],[Kitos, Eur/ha]]+DarbųĮkainiai2024[[#This Row],[Išlaidos iš viso, Eur/ha]]","v":24.349999999999998},{"$f":"ROUND(DarbųĮkainiai2024[[#This Row],[Savikaina, Eur/ha]]*$AQ$9,2)","v":1.22},{"$f":"+DarbųĮkainiai2024[[#This Row],[Pelnas, Eur/ha]]+DarbųĮkainiai2024[[#This Row],[Savikaina, Eur/ha]]","v":25.569999999999997},{"$f":"+DarbųĮkainiai2024[[#This Row],[Įkainis, Eur/ha]]-DarbųĮkainiai2024[[#This Row],[Pelnas, Eur/ha]]-DarbųĮkainiai2024[[#This Row],[Išlaidos atnaujinimui, Eur/ha]]","v":13.349999999999998},{"$f":"+DarbųĮkainiai2018[[#This Row],[Darbas]]","v":"JAVŲ SĖJA"},2024,{"$f":"+DarbųĮkainiai2018[[#This Row],[Žemės ūkio mašinų kilmė]]","v":"Vakarų Europos"},{"$f":"+DarbųĮkainiai2018[[#This Row],[Papildomas barstytubo parametras, m3]]","v":0},{"$f":"+DarbųĮkainiai2018[[#This Row],[Aktualus darbo pavadinimas]]","v":"Sėja"},{"$f":"+DarbųĮkainiai2018[[#This Row],[Stulpelis1]]","v":182}]
[{"$f":"ROW()-ROW(DarbųĮkainiai2018[[#Headers],[Eil. Nr.]])","v":55},"prikabinamosiomis pneumatinėmis sėjamosiomis",8,200,102,70.599999999999994,65.75,4.08,3.6,13.17,6.68,2.56,1.34,23.74,1.19,24.93,1,25.93,{"$f":"+DarbųĮkainiai2018[[#This Row],[Įkainis, Eur/ha]]-DarbųĮkainiai2018[[#This Row],[Pelnas, Eur/ha]]-DarbųĮkainiai2018[[#This Row],[Išlaidos atnaujinimui, Eur/ha]]","v":11.76},"JAVŲ SĖJA",2018,"Vakarų Europos",null,"Sėja",184,null,{"$f":"ROW()-ROW(DarbųĮkainiai2024[[#Headers],[Eil. Nr.]])","v":55},{"$f":"+DarbųĮkainiai2018[[#This Row],[Žemės ūkio mašina]]","v":"prikabinamosiomis pneumatinėmis sėjamosiomis"},{"$f":"+DarbųĮkainiai2018[[#This Row],[Darbinis plotis, m]]","v":8},{"$f":"+DarbųĮkainiai2018[[#This Row],[Tręšimo, išsėjimo, purškimo norma, kg/ha; Derlingumas, t/ha]]","v":200},{"$f":"+DarbųĮkainiai2018[[#This Row],[Traktoriaus (kombaino) galia, kW]]","v":102},{"$f":"ROUND(DarbųĮkainiai2018[[#This Row],[Traktoriaus (kombaino) kaina, tūkst. Eur]]*$AF$9,2)","v":92.27},{"$f":"ROUND(DarbųĮkainiai2018[[#This Row],[Žemės ūkio mašinos (cisternos) kaina, tūkst. Eur]] * $AG$9,2)","v":100.85},{"$f":"+DarbųĮkainiai2018[[#This Row],[Išdirbio norma, ha/val.]]","v":4.08},{"$f":"+DarbųĮkainiai2018[[#This Row],[Degalų sąnaudų norma, l/ha]]","v":3.6},{"$f":"ROUND(DarbųĮkainiai2018[[#This Row],[Išlaidos atnaujinimui, Eur/ha]]*1.35,2)","v":17.78},{"$f":"ROUND(DarbųĮkainiai2018[[#This Row],[Išlaidos remontui ir tech. aptarnavimui, Eur/ha]]*$AK$9,2)","v":10.25},{"$f":"ROUND(DarbųĮkainiai2024[[#This Row],[Degalų sąnaudų norma, l/ha]] * $AL$9,2)","v":2.7},{"$f":"ROUND(1/DarbųĮkainiai2024[[#This Row],[Išdirbio norma, ha/val.]]*$AM$9,2)","v":2.72},{"$f":"+DarbųĮkainiai2024[[#This Row],[Išlaidos atnaujinimui, Eur/ha]]+DarbųĮkainiai2024[[#This Row],[Išlaidos remontui ir tech. aptarnavimui, Eur/ha]]+DarbųĮkainiai2024[[#This Row],[Išlaidos degalams ir tepalams, Eur/ha]]+DarbųĮkainiai2024[[#This Row],[Išlaidos darbo užmokesčiui su priskaitymais, Eur/ha]]","v":33.450000000000003},{"$f":"ROUND(DarbųĮkainiai2018[[#This Row],[Kitos, Eur/ha]] * $AO$9,2)","v":1.33},{"$f":"+DarbųĮkainiai2024[[#This Row],[Kitos, Eur/ha]]+DarbųĮkainiai2024[[#This Row],[Išlaidos iš viso, Eur/ha]]","v":34.78},{"$f":"ROUND(DarbųĮkainiai2024[[#This Row],[Savikaina, Eur/ha]]*$AQ$9,2)","v":1.74},{"$f":"+DarbųĮkainiai2024[[#This Row],[Pelnas, Eur/ha]]+DarbųĮkainiai2024[[#This Row],[Savikaina, Eur/ha]]","v":36.520000000000003},{"$f":"+DarbųĮkainiai2024[[#This Row],[Įkainis, Eur/ha]]-DarbųĮkainiai2024[[#This Row],[Pelnas, Eur/ha]]-DarbųĮkainiai2024[[#This Row],[Išlaidos atnaujinimui, Eur/ha]]","v":17},{"$f":"+DarbųĮkainiai2018[[#This Row],[Darbas]]","v":"JAVŲ SĖJA"},2024,{"$f":"+DarbųĮkainiai2018[[#This Row],[Žemės ūkio mašinų kilmė]]","v":"Vakarų Europos"},{"$f":"+DarbųĮkainiai2018[[#This Row],[Papildomas barstytubo parametras, m3]]","v":0},{"$f":"+DarbųĮkainiai2018[[#This Row],[Aktualus darbo pavadinimas]]","v":"Sėja"},{"$f":"+DarbųĮkainiai2018[[#This Row],[Stulpelis1]]","v":184}]
[{"$f":"ROW()-ROW(DarbųĮkainiai2018[[#Headers],[Eil. Nr.]])","v":56},"prikabinamosiomis pneumatinėmis sėjamosiomis",9,200,120,83.4,75,4.68,3.6,13.15,6.68,2.56,1.17,23.56,1.18,24.74,0.99,25.72,{"$f":"+DarbųĮkainiai2018[[#This Row],[Įkainis, Eur/ha]]-DarbųĮkainiai2018[[#This Row],[Pelnas, Eur/ha]]-DarbųĮkainiai2018[[#This Row],[Išlaidos atnaujinimui, Eur/ha]]","v":11.58},"JAVŲ SĖJA",2018,"Vakarų Europos",null,"Sėja",185,null,{"$f":"ROW()-ROW(DarbųĮkainiai2024[[#Headers],[Eil. Nr.]])","v":56},{"$f":"+DarbųĮkainiai2018[[#This Row],[Žemės ūkio mašina]]","v":"prikabinamosiomis pneumatinėmis sėjamosiomis"},{"$f":"+DarbųĮkainiai2018[[#This Row],[Darbinis plotis, m]]","v":9},{"$f":"+DarbųĮkainiai2018[[#This Row],[Tręšimo, išsėjimo, purškimo norma, kg/ha; Derlingumas, t/ha]]","v":200},{"$f":"+DarbųĮkainiai2018[[#This Row],[Traktoriaus (kombaino) galia, kW]]","v":120},{"$f":"ROUND(DarbųĮkainiai2018[[#This Row],[Traktoriaus (kombaino) kaina, tūkst. Eur]]*$AF$9,2)","v":109},{"$f":"ROUND(DarbųĮkainiai2018[[#This Row],[Žemės ūkio mašinos (cisternos) kaina, tūkst. Eur]] * $AG$9,2)","v":115.04},{"$f":"+DarbųĮkainiai2018[[#This Row],[Išdirbio norma, ha/val.]]","v":4.68},{"$f":"+DarbųĮkainiai2018[[#This Row],[Degalų sąnaudų norma, l/ha]]","v":3.6},{"$f":"ROUND(DarbųĮkainiai2018[[#This Row],[Išlaidos atnaujinimui, Eur/ha]]*1.35,2)","v":17.75},{"$f":"ROUND(DarbųĮkainiai2018[[#This Row],[Išlaidos remontui ir tech. aptarnavimui, Eur/ha]]*$AK$9,2)","v":10.25},{"$f":"ROUND(DarbųĮkainiai2024[[#This Row],[Degalų sąnaudų norma, l/ha]] * $AL$9,2)","v":2.7},{"$f":"ROUND(1/DarbųĮkainiai2024[[#This Row],[Išdirbio norma, ha/val.]]*$AM$9,2)","v":2.37},{"$f":"+DarbųĮkainiai2024[[#This Row],[Išlaidos atnaujinimui, Eur/ha]]+DarbųĮkainiai2024[[#This Row],[Išlaidos remontui ir tech. aptarnavimui, Eur/ha]]+DarbųĮkainiai2024[[#This Row],[Išlaidos degalams ir tepalams, Eur/ha]]+DarbųĮkainiai2024[[#This Row],[Išlaidos darbo užmokesčiui su priskaitymais, Eur/ha]]","v":33.07},{"$f":"ROUND(DarbųĮkainiai2018[[#This Row],[Kitos, Eur/ha]] * $AO$9,2)","v":1.32},{"$f":"+DarbųĮkainiai2024[[#This Row],[Kitos, Eur/ha]]+DarbųĮkainiai2024[[#This Row],[Išlaidos iš viso, Eur/ha]]","v":34.39},{"$f":"ROUND(DarbųĮkainiai2024[[#This Row],[Savikaina, Eur/ha]]*$AQ$9,2)","v":1.72},{"$f":"+DarbųĮkainiai2024[[#This Row],[Pelnas, Eur/ha]]+DarbųĮkainiai2024[[#This Row],[Savikaina, Eur/ha]]","v":36.11},{"$f":"+DarbųĮkainiai2024[[#This Row],[Įkainis, Eur/ha]]-DarbųĮkainiai2024[[#This Row],[Pelnas, Eur/ha]]-DarbųĮkainiai2024[[#This Row],[Išlaidos atnaujinimui, Eur/ha]]","v":16.64},{"$f":"+DarbųĮkainiai2018[[#This Row],[Darbas]]","v":"JAVŲ SĖJA"},2024,{"$f":"+DarbųĮkainiai2018[[#This Row],[Žemės ūkio mašinų kilmė]]","v":"Vakarų Europos"},{"$f":"+DarbųĮkainiai2018[[#This Row],[Papildomas barstytubo parametras, m3]]","v":0},{"$f":"+DarbųĮkainiai2018[[#This Row],[Aktualus darbo pavadinimas]]","v":"Sėja"},{"$f":"+DarbųĮkainiai2018[[#This Row],[Stulpelis1]]","v":185}]
[{"$f":"ROW()-ROW(DarbųĮkainiai2018[[#Headers],[Eil. Nr.]])","v":57},"tiesioginės sėjos (ražieninėmis) sėjamosiomis",4,200,240,{"$f":"ROUND(220 / 1.3,2)","v":169.23},{"$f":"ROUND(140/1.53,2)","v":91.5},3.22,17.3,32.299999999999997,14.9,{"$f":"+DarbųĮkainiai2018[[#This Row],[Degalų sąnaudų norma, l/ha]]*0.7","v":12.11},3.1,{"$f":"SUM(DarbųĮkainiai2018[[#This Row],[Išlaidos atnaujinimui, Eur/ha]:[Išlaidos darbo užmokesčiui su priskaitymais, Eur/ha]])","v":62.41},{"$f":"+DarbųĮkainiai2018[[#This Row],[Išlaidos iš viso, Eur/ha]]*0.1","v":6.2409999999999997},{"$f":"+DarbųĮkainiai2018[[#This Row],[Kitos, Eur/ha]]+DarbųĮkainiai2018[[#This Row],[Išlaidos iš viso, Eur/ha]]","v":68.650999999999996},{"$f":"ROUND(DarbųĮkainiai2018[[#This Row],[Savikaina, Eur/ha]]*0.05,2)","v":3.43},{"$f":"ROUND(DarbųĮkainiai2018[[#This Row],[Pelnas, Eur/ha]]+DarbųĮkainiai2018[[#This Row],[Savikaina, Eur/ha]],2)","v":72.08},{"$f":"+DarbųĮkainiai2018[[#This Row],[Įkainis, Eur/ha]]-DarbųĮkainiai2018[[#This Row],[Pelnas, Eur/ha]]-DarbųĮkainiai2018[[#This Row],[Išlaidos atnaujinimui, Eur/ha]]","v":36.349999999999994},"JAVŲ SĖJA",2018,"Vakarų Europos",null,"Tiesioginė sėja",200,null,{"$f":"ROW()-ROW(DarbųĮkainiai2024[[#Headers],[Eil. Nr.]])","v":57},{"$f":"+DarbųĮkainiai2018[[#This Row],[Žemės ūkio mašina]]","v":"tiesioginės sėjos (ražieninėmis) sėjamosiomis"},{"$f":"+DarbųĮkainiai2018[[#This Row],[Darbinis plotis, m]]","v":4},{"$f":"+DarbųĮkainiai2018[[#This Row],[Tręšimo, išsėjimo, purškimo norma, kg/ha; Derlingumas, t/ha]]","v":200},{"$f":"+DarbųĮkainiai2018[[#This Row],[Traktoriaus (kombaino) galia, kW]]","v":240},{"$f":"ROUND(DarbųĮkainiai2018[[#This Row],[Traktoriaus (kombaino) kaina, tūkst. Eur]]*$AF$9,2)","v":221.18},{"$f":"ROUND(DarbųĮkainiai2018[[#This Row],[Žemės ūkio mašinos (cisternos) kaina, tūkst. Eur]] * $AG$9,2)","v":140.35},{"$f":"+DarbųĮkainiai2018[[#This Row],[Išdirbio norma, ha/val.]]","v":3.22},{"$f":"+DarbųĮkainiai2018[[#This Row],[Degalų sąnaudų norma, l/ha]]","v":17.3},{"$f":"ROUND(DarbųĮkainiai2018[[#This Row],[Išlaidos atnaujinimui, Eur/ha]]*1.35,2)","v":43.61},{"$f":"ROUND(DarbųĮkainiai2018[[#This Row],[Išlaidos remontui ir tech. aptarnavimui, Eur/ha]]*$AK$9,2)","v":22.85},{"$f":"ROUND(DarbųĮkainiai2024[[#This Row],[Degalų sąnaudų norma, l/ha]] * $AL$9,2)","v":12.98},{"$f":"ROUND(1/DarbųĮkainiai2024[[#This Row],[Išdirbio norma, ha/val.]]*$AM$9,2)","v":3.45},{"$f":"+DarbųĮkainiai2024[[#This Row],[Išlaidos atnaujinimui, Eur/ha]]+DarbųĮkainiai2024[[#This Row],[Išlaidos remontui ir tech. aptarnavimui, Eur/ha]]+DarbųĮkainiai2024[[#This Row],[Išlaidos degalams ir tepalams, Eur/ha]]+DarbųĮkainiai2024[[#This Row],[Išlaidos darbo užmokesčiui su priskaitymais, Eur/ha]]","v":82.890000000000015},{"$f":"ROUND(DarbųĮkainiai2018[[#This Row],[Kitos, Eur/ha]] * $AO$9,2)","v":6.96},{"$f":"+DarbųĮkainiai2024[[#This Row],[Kitos, Eur/ha]]+DarbųĮkainiai2024[[#This Row],[Išlaidos iš viso, Eur/ha]]","v":89.850000000000009},{"$f":"ROUND(DarbųĮkainiai2024[[#This Row],[Savikaina, Eur/ha]]*$AQ$9,2)","v":4.49},{"$f":"+DarbųĮkainiai2024[[#This Row],[Pelnas, Eur/ha]]+DarbųĮkainiai2024[[#This Row],[Savikaina, Eur/ha]]","v":94.34},{"$f":"+DarbųĮkainiai2024[[#This Row],[Įkainis, Eur/ha]]-DarbųĮkainiai2024[[#This Row],[Pelnas, Eur/ha]]-DarbųĮkainiai2024[[#This Row],[Išlaidos atnaujinimui, Eur/ha]]","v":46.240000000000009},{"$f":"+DarbųĮkainiai2018[[#This Row],[Darbas]]","v":"JAVŲ SĖJA"},2024,{"$f":"+DarbųĮkainiai2018[[#This Row],[Žemės ūkio mašinų kilmė]]","v":"Vakarų Europos"},{"$f":"+DarbųĮkainiai2018[[#This Row],[Papildomas barstytubo parametras, m3]]","v":0},{"$f":"+DarbųĮkainiai2018[[#This Row],[Aktualus darbo pavadinimas]]","v":"Tiesioginė sėja"},{"$f":"+DarbųĮkainiai2018[[#This Row],[Stulpelis1]]","v":200}]
[{"$f":"ROW()-ROW(DarbųĮkainiai2018[[#Headers],[Eil. Nr.]])","v":58},"tiesioginės sėjos (ražieninėmis) sėjamosiomis",6,200,315,{"$f":"ROUND(330/ 1.3,2)","v":253.85},{"$f":"ROUND(170 / 1.53,2)","v":111.11},4.8,17.5,39.5,15.6,{"$f":"+DarbųĮkainiai2018[[#This Row],[Degalų sąnaudų norma, l/ha]]*0.7","v":12.25},2.08,{"$f":"SUM(DarbųĮkainiai2018[[#This Row],[Išlaidos atnaujinimui, Eur/ha]:[Išlaidos darbo užmokesčiui su priskaitymais, Eur/ha]])","v":69.429999999999993},{"$f":"+DarbųĮkainiai2018[[#This Row],[Išlaidos iš viso, Eur/ha]]*0.1","v":6.9429999999999996},{"$f":"+DarbųĮkainiai2018[[#This Row],[Kitos, Eur/ha]]+DarbųĮkainiai2018[[#This Row],[Išlaidos iš viso, Eur/ha]]","v":76.37299999999999},{"$f":"ROUND(DarbųĮkainiai2018[[#This Row],[Savikaina, Eur/ha]]*0.05,2)","v":3.82},{"$f":"ROUND(DarbųĮkainiai2018[[#This Row],[Pelnas, Eur/ha]]+DarbųĮkainiai2018[[#This Row],[Savikaina, Eur/ha]],2)","v":80.19},{"$f":"+DarbųĮkainiai2018[[#This Row],[Įkainis, Eur/ha]]-DarbųĮkainiai2018[[#This Row],[Pelnas, Eur/ha]]-DarbųĮkainiai2018[[#This Row],[Išlaidos atnaujinimui, Eur/ha]]","v":36.870000000000005},"JAVŲ SĖJA",2018,"Vakarų Europos",null,"Tiesioginė sėja",204,null,{"$f":"ROW()-ROW(DarbųĮkainiai2024[[#Headers],[Eil. Nr.]])","v":58},{"$f":"+DarbųĮkainiai2018[[#This Row],[Žemės ūkio mašina]]","v":"tiesioginės sėjos (ražieninėmis) sėjamosiomis"},{"$f":"+DarbųĮkainiai2018[[#This Row],[Darbinis plotis, m]]","v":6},{"$f":"+DarbųĮkainiai2018[[#This Row],[Tręšimo, išsėjimo, purškimo norma, kg/ha; Derlingumas, t/ha]]","v":200},{"$f":"+DarbųĮkainiai2018[[#This Row],[Traktoriaus (kombaino) galia, kW]]","v":315},{"$f":"ROUND(DarbųĮkainiai2018[[#This Row],[Traktoriaus (kombaino) kaina, tūkst. Eur]]*$AF$9,2)","v":331.78},{"$f":"ROUND(DarbųĮkainiai2018[[#This Row],[Žemės ūkio mašinos (cisternos) kaina, tūkst. Eur]] * $AG$9,2)","v":170.43},{"$f":"+DarbųĮkainiai2018[[#This Row],[Išdirbio norma, ha/val.]]","v":4.8},{"$f":"+DarbųĮkainiai2018[[#This Row],[Degalų sąnaudų norma, l/ha]]","v":17.5},{"$f":"ROUND(DarbųĮkainiai2018[[#This Row],[Išlaidos atnaujinimui, Eur/ha]]*1.35,2)","v":53.33},{"$f":"ROUND(DarbųĮkainiai2018[[#This Row],[Išlaidos remontui ir tech. aptarnavimui, Eur/ha]]*$AK$9,2)","v":23.93},{"$f":"ROUND(DarbųĮkainiai2024[[#This Row],[Degalų sąnaudų norma, l/ha]] * $AL$9,2)","v":13.13},{"$f":"ROUND(1/DarbųĮkainiai2024[[#This Row],[Išdirbio norma, ha/val.]]*$AM$9,2)","v":2.31},{"$f":"+DarbųĮkainiai2024[[#This Row],[Išlaidos atnaujinimui, Eur/ha]]+DarbųĮkainiai2024[[#This Row],[Išlaidos remontui ir tech. aptarnavimui, Eur/ha]]+DarbųĮkainiai2024[[#This Row],[Išlaidos degalams ir tepalams, Eur/ha]]+DarbųĮkainiai2024[[#This Row],[Išlaidos darbo užmokesčiui su priskaitymais, Eur/ha]]","v":92.699999999999989},{"$f":"ROUND(DarbųĮkainiai2018[[#This Row],[Kitos, Eur/ha]] * $AO$9,2)","v":7.74},{"$f":"+DarbųĮkainiai2024[[#This Row],[Kitos, Eur/ha]]+DarbųĮkainiai2024[[#This Row],[Išlaidos iš viso, Eur/ha]]","v":100.43999999999998},{"$f":"ROUND(DarbųĮkainiai2024[[#This Row],[Savikaina, Eur/ha]]*$AQ$9,2)","v":5.0199999999999996},{"$f":"+DarbųĮkainiai2024[[#This Row],[Pelnas, Eur/ha]]+DarbųĮkainiai2024[[#This Row],[Savikaina, Eur/ha]]","v":105.45999999999998},{"$f":"+DarbųĮkainiai2024[[#This Row],[Įkainis, Eur/ha]]-DarbųĮkainiai2024[[#This Row],[Pelnas, Eur/ha]]-DarbųĮkainiai2024[[#This Row],[Išlaidos atnaujinimui, Eur/ha]]","v":47.109999999999985},{"$f":"+DarbųĮkainiai2018[[#This Row],[Darbas]]","v":"JAVŲ SĖJA"},2024,{"$f":"+DarbųĮkainiai2018[[#This Row],[Žemės ūkio mašinų kilmė]]","v":"Vakarų Europos"},{"$f":"+DarbųĮkainiai2018[[#This Row],[Papildomas barstytubo parametras, m3]]","v":0},{"$f":"+DarbųĮkainiai2018[[#This Row],[Aktualus darbo pavadinimas]]","v":"Tiesioginė sėja"},{"$f":"+DarbųĮkainiai2018[[#This Row],[Stulpelis1]]","v":204}]
[{"$f":"ROW()-ROW(DarbųĮkainiai2018[[#Headers],[Eil. Nr.]])","v":59},"Vakarų Europos gamybos kombainais",3,6,90,78.53,null,0.85,19.03,32.799999999999997,14.78,14.65,12.18,74.41,5.95,80.36,4.0199999999999996,84.38,{"$f":"+DarbųĮkainiai2018[[#This Row],[Įkainis, Eur/ha]]-DarbųĮkainiai2018[[#This Row],[Pelnas, Eur/ha]]-DarbųĮkainiai2018[[#This Row],[Išlaidos atnaujinimui, Eur/ha]]","v":47.56},"JAVŲ DERLIAUS NUĖMIMAS KOMBAINAIS",2018,"Vakarų Europos",null,"Derliaus nuėmimas",260,null,{"$f":"ROW()-ROW(DarbųĮkainiai2024[[#Headers],[Eil. Nr.]])","v":59},{"$f":"+DarbųĮkainiai2018[[#This Row],[Žemės ūkio mašina]]","v":"Vakarų Europos gamybos kombainais"},{"$f":"+DarbųĮkainiai2018[[#This Row],[Darbinis plotis, m]]","v":3},{"$f":"+DarbųĮkainiai2018[[#This Row],[Tręšimo, išsėjimo, purškimo norma, kg/ha; Derlingumas, t/ha]]","v":6},{"$f":"+DarbųĮkainiai2018[[#This Row],[Traktoriaus (kombaino) galia, kW]]","v":90},{"$f":"ROUND(DarbųĮkainiai2018[[#This Row],[Traktoriaus (kombaino) kaina, tūkst. Eur]]*$AF$9,2)","v":102.64},{"$f":"ROUND(DarbųĮkainiai2018[[#This Row],[Žemės ūkio mašinos (cisternos) kaina, tūkst. Eur]] * $AG$9,2)","v":0},{"$f":"+DarbųĮkainiai2018[[#This Row],[Išdirbio norma, ha/val.]]","v":0.85},{"$f":"+DarbųĮkainiai2018[[#This Row],[Degalų sąnaudų norma, l/ha]]","v":19.03},{"$f":"ROUND(DarbųĮkainiai2018[[#This Row],[Išlaidos atnaujinimui, Eur/ha]]*1.35,2)","v":44.28},{"$f":"ROUND(DarbųĮkainiai2018[[#This Row],[Išlaidos remontui ir tech. aptarnavimui, Eur/ha]]*$AK$9,2)","v":22.67},{"$f":"ROUND(DarbųĮkainiai2024[[#This Row],[Degalų sąnaudų norma, l/ha]] * $AL$9,2)","v":14.27},{"$f":"ROUND(1/DarbųĮkainiai2024[[#This Row],[Išdirbio norma, ha/val.]]*$AM$9,2)","v":13.07},{"$f":"+DarbųĮkainiai2024[[#This Row],[Išlaidos atnaujinimui, Eur/ha]]+DarbųĮkainiai2024[[#This Row],[Išlaidos remontui ir tech. aptarnavimui, Eur/ha]]+DarbųĮkainiai2024[[#This Row],[Išlaidos degalams ir tepalams, Eur/ha]]+DarbųĮkainiai2024[[#This Row],[Išlaidos darbo užmokesčiui su priskaitymais, Eur/ha]]","v":94.289999999999992},{"$f":"ROUND(DarbųĮkainiai2018[[#This Row],[Kitos, Eur/ha]] * $AO$9,2)","v":6.64},{"$f":"+DarbųĮkainiai2024[[#This Row],[Kitos, Eur/ha]]+DarbųĮkainiai2024[[#This Row],[Išlaidos iš viso, Eur/ha]]","v":100.92999999999999},{"$f":"ROUND(DarbųĮkainiai2024[[#This Row],[Savikaina, Eur/ha]]*$AQ$9,2)","v":5.05},{"$f":"+DarbųĮkainiai2024[[#This Row],[Pelnas, Eur/ha]]+DarbųĮkainiai2024[[#This Row],[Savikaina, Eur/ha]]","v":105.97999999999999},{"$f":"+DarbųĮkainiai2024[[#This Row],[Įkainis, Eur/ha]]-DarbųĮkainiai2024[[#This Row],[Pelnas, Eur/ha]]-DarbųĮkainiai2024[[#This Row],[Išlaidos atnaujinimui, Eur/ha]]","v":56.649999999999991},{"$f":"+DarbųĮkainiai2018[[#This Row],[Darbas]]","v":"JAVŲ DERLIAUS NUĖMIMAS KOMBAINAIS"},2024,{"$f":"+DarbųĮkainiai2018[[#This Row],[Žemės ūkio mašinų kilmė]]","v":"Vakarų Europos"},{"$f":"+DarbųĮkainiai2018[[#This Row],[Papildomas barstytubo parametras, m3]]","v":0},{"$f":"+DarbųĮkainiai2018[[#This Row],[Aktualus darbo pavadinimas]]","v":"Derliaus nuėmimas"},{"$f":"+DarbųĮkainiai2018[[#This Row],[Stulpelis1]]","v":260}]
[{"$f":"ROW()-ROW(DarbųĮkainiai2018[[#Headers],[Eil. Nr.]])","v":60},"Vakarų Europos gamybos kombainais",4.5,6,125,109.1,null,1.32,16.579999999999998,29.34,13.22,12.77,7.84,63.17,5.05,68.23,3.41,71.64,{"$f":"+DarbųĮkainiai2018[[#This Row],[Įkainis, Eur/ha]]-DarbųĮkainiai2018[[#This Row],[Pelnas, Eur/ha]]-DarbųĮkainiai2018[[#This Row],[Išlaidos atnaujinimui, Eur/ha]]","v":38.89},"JAVŲ DERLIAUS NUĖMIMAS KOMBAINAIS",2018,"Vakarų Europos",null,"Derliaus nuėmimas",264,null,{"$f":"ROW()-ROW(DarbųĮkainiai2024[[#Headers],[Eil. Nr.]])","v":60},{"$f":"+DarbųĮkainiai2018[[#This Row],[Žemės ūkio mašina]]","v":"Vakarų Europos gamybos kombainais"},{"$f":"+DarbųĮkainiai2018[[#This Row],[Darbinis plotis, m]]","v":4.5},{"$f":"+DarbųĮkainiai2018[[#This Row],[Tręšimo, išsėjimo, purškimo norma, kg/ha; Derlingumas, t/ha]]","v":6},{"$f":"+DarbųĮkainiai2018[[#This Row],[Traktoriaus (kombaino) galia, kW]]","v":125},{"$f":"ROUND(DarbųĮkainiai2018[[#This Row],[Traktoriaus (kombaino) kaina, tūkst. Eur]]*$AF$9,2)","v":142.59},{"$f":"ROUND(DarbųĮkainiai2018[[#This Row],[Žemės ūkio mašinos (cisternos) kaina, tūkst. Eur]] * $AG$9,2)","v":0},{"$f":"+DarbųĮkainiai2018[[#This Row],[Išdirbio norma, ha/val.]]","v":1.32},{"$f":"+DarbųĮkainiai2018[[#This Row],[Degalų sąnaudų norma, l/ha]]","v":16.579999999999998},{"$f":"ROUND(DarbųĮkainiai2018[[#This Row],[Išlaidos atnaujinimui, Eur/ha]]*1.35,2)","v":39.61},{"$f":"ROUND(DarbųĮkainiai2018[[#This Row],[Išlaidos remontui ir tech. aptarnavimui, Eur/ha]]*$AK$9,2)","v":20.28},{"$f":"ROUND(DarbųĮkainiai2024[[#This Row],[Degalų sąnaudų norma, l/ha]] * $AL$9,2)","v":12.44},{"$f":"ROUND(1/DarbųĮkainiai2024[[#This Row],[Išdirbio norma, ha/val.]]*$AM$9,2)","v":8.42},{"$f":"+DarbųĮkainiai2024[[#This Row],[Išlaidos atnaujinimui, Eur/ha]]+DarbųĮkainiai2024[[#This Row],[Išlaidos remontui ir tech. aptarnavimui, Eur/ha]]+DarbųĮkainiai2024[[#This Row],[Išlaidos degalams ir tepalams, Eur/ha]]+DarbųĮkainiai2024[[#This Row],[Išlaidos darbo užmokesčiui su priskaitymais, Eur/ha]]","v":80.75},{"$f":"ROUND(DarbųĮkainiai2018[[#This Row],[Kitos, Eur/ha]] * $AO$9,2)","v":5.63},{"$f":"+DarbųĮkainiai2024[[#This Row],[Kitos, Eur/ha]]+DarbųĮkainiai2024[[#This Row],[Išlaidos iš viso, Eur/ha]]","v":86.38},{"$f":"ROUND(DarbųĮkainiai2024[[#This Row],[Savikaina, Eur/ha]]*$AQ$9,2)","v":4.32},{"$f":"+DarbųĮkainiai2024[[#This Row],[Pelnas, Eur/ha]]+DarbųĮkainiai2024[[#This Row],[Savikaina, Eur/ha]]","v":90.699999999999989},{"$f":"+DarbųĮkainiai2024[[#This Row],[Įkainis, Eur/ha]]-DarbųĮkainiai2024[[#This Row],[Pelnas, Eur/ha]]-DarbųĮkainiai2024[[#This Row],[Išlaidos atnaujinimui, Eur/ha]]","v":46.769999999999996},{"$f":"+DarbųĮkainiai2018[[#This Row],[Darbas]]","v":"JAVŲ DERLIAUS NUĖMIMAS KOMBAINAIS"},2024,{"$f":"+DarbųĮkainiai2018[[#This Row],[Žemės ūkio mašinų kilmė]]","v":"Vakarų Europos"},{"$f":"+DarbųĮkainiai2018[[#This Row],[Papildomas barstytubo parametras, m3]]","v":0},{"$f":"+DarbųĮkainiai2018[[#This Row],[Aktualus darbo pavadinimas]]","v":"Derliaus nuėmimas"},{"$f":"+DarbųĮkainiai2018[[#This Row],[Stulpelis1]]","v":264}]
[{"$f":"ROW()-ROW(DarbųĮkainiai2018[[#Headers],[Eil. Nr.]])","v":61},"Vakarų Europos gamybos kombainais",5,6,150,130.9,null,1.54,16.579999999999998,30.18,13.6,12.77,6.72,63.26,5.0599999999999996,68.319999999999993,3.42,71.739999999999995,{"$f":"+DarbųĮkainiai2018[[#This Row],[Įkainis, Eur/ha]]-DarbųĮkainiai2018[[#This Row],[Pelnas, Eur/ha]]-DarbųĮkainiai2018[[#This Row],[Išlaidos atnaujinimui, Eur/ha]]","v":38.139999999999993},"JAVŲ DERLIAUS NUĖMIMAS KOMBAINAIS",2018,"Vakarų Europos",null,"Derliaus nuėmimas",268,null,{"$f":"ROW()-ROW(DarbųĮkainiai2024[[#Headers],[Eil. Nr.]])","v":61},{"$f":"+DarbųĮkainiai2018[[#This Row],[Žemės ūkio mašina]]","v":"Vakarų Europos gamybos kombainais"},{"$f":"+DarbųĮkainiai2018[[#This Row],[Darbinis plotis, m]]","v":5},{"$f":"+DarbųĮkainiai2018[[#This Row],[Tręšimo, išsėjimo, purškimo norma, kg/ha; Derlingumas, t/ha]]","v":6},{"$f":"+DarbųĮkainiai2018[[#This Row],[Traktoriaus (kombaino) galia, kW]]","v":150},{"$f":"ROUND(DarbųĮkainiai2018[[#This Row],[Traktoriaus (kombaino) kaina, tūkst. Eur]]*$AF$9,2)","v":171.08},{"$f":"ROUND(DarbųĮkainiai2018[[#This Row],[Žemės ūkio mašinos (cisternos) kaina, tūkst. Eur]] * $AG$9,2)","v":0},{"$f":"+DarbųĮkainiai2018[[#This Row],[Išdirbio norma, ha/val.]]","v":1.54},{"$f":"+DarbųĮkainiai2018[[#This Row],[Degalų sąnaudų norma, l/ha]]","v":16.579999999999998},{"$f":"ROUND(DarbųĮkainiai2018[[#This Row],[Išlaidos atnaujinimui, Eur/ha]]*1.35,2)","v":40.74},{"$f":"ROUND(DarbųĮkainiai2018[[#This Row],[Išlaidos remontui ir tech. aptarnavimui, Eur/ha]]*$AK$9,2)","v":20.86},{"$f":"ROUND(DarbųĮkainiai2024[[#This Row],[Degalų sąnaudų norma, l/ha]] * $AL$9,2)","v":12.44},{"$f":"ROUND(1/DarbųĮkainiai2024[[#This Row],[Išdirbio norma, ha/val.]]*$AM$9,2)","v":7.21},{"$f":"+DarbųĮkainiai2024[[#This Row],[Išlaidos atnaujinimui, Eur/ha]]+DarbųĮkainiai2024[[#This Row],[Išlaidos remontui ir tech. aptarnavimui, Eur/ha]]+DarbųĮkainiai2024[[#This Row],[Išlaidos degalams ir tepalams, Eur/ha]]+DarbųĮkainiai2024[[#This Row],[Išlaidos darbo užmokesčiui su priskaitymais, Eur/ha]]","v":81.25},{"$f":"ROUND(DarbųĮkainiai2018[[#This Row],[Kitos, Eur/ha]] * $AO$9,2)","v":5.64},{"$f":"+DarbųĮkainiai2024[[#This Row],[Kitos, Eur/ha]]+DarbųĮkainiai2024[[#This Row],[Išlaidos iš viso, Eur/ha]]","v":86.89},{"$f":"ROUND(DarbųĮkainiai2024[[#This Row],[Savikaina, Eur/ha]]*$AQ$9,2)","v":4.34},{"$f":"+DarbųĮkainiai2024[[#This Row],[Pelnas, Eur/ha]]+DarbųĮkainiai2024[[#This Row],[Savikaina, Eur/ha]]","v":91.23},{"$f":"+DarbųĮkainiai2024[[#This Row],[Įkainis, Eur/ha]]-DarbųĮkainiai2024[[#This Row],[Pelnas, Eur/ha]]-DarbųĮkainiai2024[[#This Row],[Išlaidos atnaujinimui, Eur/ha]]","v":46.15},{"$f":"+DarbųĮkainiai2018[[#This Row],[Darbas]]","v":"JAVŲ DERLIAUS NUĖMIMAS KOMBAINAIS"},2024,{"$f":"+DarbųĮkainiai2018[[#This Row],[Žemės ūkio mašinų kilmė]]","v":"Vakarų Europos"},{"$f":"+DarbųĮkainiai2018[[#This Row],[Papildomas barstytubo parametras, m3]]","v":0},{"$f":"+DarbųĮkainiai2018[[#This Row],[Aktualus darbo pavadinimas]]","v":"Derliaus nuėmimas"},{"$f":"+DarbųĮkainiai2018[[#This Row],[Stulpelis1]]","v":268}]
[{"$f":"ROW()-ROW(DarbųĮkainiai2018[[#Headers],[Eil. Nr.]])","v":62},"Vakarų Europos gamybos kombainais",6,6,175,152.69999999999999,null,1.8,16.079999999999998,30.12,13.57,12.38,5.75,61.82,4.95,66.77,3.34,70.099999999999994,{"$f":"+DarbųĮkainiai2018[[#This Row],[Įkainis, Eur/ha]]-DarbųĮkainiai2018[[#This Row],[Pelnas, Eur/ha]]-DarbųĮkainiai2018[[#This Row],[Išlaidos atnaujinimui, Eur/ha]]","v":36.639999999999986},"JAVŲ DERLIAUS NUĖMIMAS KOMBAINAIS",2018,"Vakarų Europos",null,"Derliaus nuėmimas",272,null,{"$f":"ROW()-ROW(DarbųĮkainiai2024[[#Headers],[Eil. Nr.]])","v":62},{"$f":"+DarbųĮkainiai2018[[#This Row],[Žemės ūkio mašina]]","v":"Vakarų Europos gamybos kombainais"},{"$f":"+DarbųĮkainiai2018[[#This Row],[Darbinis plotis, m]]","v":6},{"$f":"+DarbųĮkainiai2018[[#This Row],[Tręšimo, išsėjimo, purškimo norma, kg/ha; Derlingumas, t/ha]]","v":6},{"$f":"+DarbųĮkainiai2018[[#This Row],[Traktoriaus (kombaino) galia, kW]]","v":175},{"$f":"ROUND(DarbųĮkainiai2018[[#This Row],[Traktoriaus (kombaino) kaina, tūkst. Eur]]*$AF$9,2)","v":199.58},{"$f":"ROUND(DarbųĮkainiai2018[[#This Row],[Žemės ūkio mašinos (cisternos) kaina, tūkst. Eur]] * $AG$9,2)","v":0},{"$f":"+DarbųĮkainiai2018[[#This Row],[Išdirbio norma, ha/val.]]","v":1.8},{"$f":"+DarbųĮkainiai2018[[#This Row],[Degalų sąnaudų norma, l/ha]]","v":16.079999999999998},{"$f":"ROUND(DarbųĮkainiai2018[[#This Row],[Išlaidos atnaujinimui, Eur/ha]]*1.35,2)","v":40.659999999999997},{"$f":"ROUND(DarbųĮkainiai2018[[#This Row],[Išlaidos remontui ir tech. aptarnavimui, Eur/ha]]*$AK$9,2)","v":20.81},{"$f":"ROUND(DarbųĮkainiai2024[[#This Row],[Degalų sąnaudų norma, l/ha]] * $AL$9,2)","v":12.06},{"$f":"ROUND(1/DarbųĮkainiai2024[[#This Row],[Išdirbio norma, ha/val.]]*$AM$9,2)","v":6.17},{"$f":"+DarbųĮkainiai2024[[#This Row],[Išlaidos atnaujinimui, Eur/ha]]+DarbųĮkainiai2024[[#This Row],[Išlaidos remontui ir tech. aptarnavimui, Eur/ha]]+DarbųĮkainiai2024[[#This Row],[Išlaidos degalams ir tepalams, Eur/ha]]+DarbųĮkainiai2024[[#This Row],[Išlaidos darbo užmokesčiui su priskaitymais, Eur/ha]]","v":79.7},{"$f":"ROUND(DarbųĮkainiai2018[[#This Row],[Kitos, Eur/ha]] * $AO$9,2)","v":5.52},{"$f":"+DarbųĮkainiai2024[[#This Row],[Kitos, Eur/ha]]+DarbųĮkainiai2024[[#This Row],[Išlaidos iš viso, Eur/ha]]","v":85.22},{"$f":"ROUND(DarbųĮkainiai2024[[#This Row],[Savikaina, Eur/ha]]*$AQ$9,2)","v":4.26},{"$f":"+DarbųĮkainiai2024[[#This Row],[Pelnas, Eur/ha]]+DarbųĮkainiai2024[[#This Row],[Savikaina, Eur/ha]]","v":89.48},{"$f":"+DarbųĮkainiai2024[[#This Row],[Įkainis, Eur/ha]]-DarbųĮkainiai2024[[#This Row],[Pelnas, Eur/ha]]-DarbųĮkainiai2024[[#This Row],[Išlaidos atnaujinimui, Eur/ha]]","v":44.56},{"$f":"+DarbųĮkainiai2018[[#This Row],[Darbas]]","v":"JAVŲ DERLIAUS NUĖMIMAS KOMBAINAIS"},2024,{"$f":"+DarbųĮkainiai2018[[#This Row],[Žemės ūkio mašinų kilmė]]","v":"Vakarų Europos"},{"$f":"+DarbųĮkainiai2018[[#This Row],[Papildomas barstytubo parametras, m3]]","v":0},{"$f":"+DarbųĮkainiai2018[[#This Row],[Aktualus darbo pavadinimas]]","v":"Derliaus nuėmimas"},{"$f":"+DarbųĮkainiai2018[[#This Row],[Stulpelis1]]","v":272}]
[{"$f":"ROW()-ROW(DarbųĮkainiai2018[[#Headers],[Eil. Nr.]])","v":63},"Vakarų Europos gamybos kombainais",6,8,175,152.69999999999999,null,1.74,18.29,31.15,14.04,14.08,5.95,65.23,5.22,70.45,3.52,73.97,{"$f":"+DarbųĮkainiai2018[[#This Row],[Įkainis, Eur/ha]]-DarbųĮkainiai2018[[#This Row],[Pelnas, Eur/ha]]-DarbųĮkainiai2018[[#This Row],[Išlaidos atnaujinimui, Eur/ha]]","v":39.300000000000004},"JAVŲ DERLIAUS NUĖMIMAS KOMBAINAIS",2018,"Vakarų Europos",null,"Derliaus nuėmimas",273,null,{"$f":"ROW()-ROW(DarbųĮkainiai2024[[#Headers],[Eil. Nr.]])","v":63},{"$f":"+DarbųĮkainiai2018[[#This Row],[Žemės ūkio mašina]]","v":"Vakarų Europos gamybos kombainais"},{"$f":"+DarbųĮkainiai2018[[#This Row],[Darbinis plotis, m]]","v":6},{"$f":"+DarbųĮkainiai2018[[#This Row],[Tręšimo, išsėjimo, purškimo norma, kg/ha; Derlingumas, t/ha]]","v":8},{"$f":"+DarbųĮkainiai2018[[#This Row],[Traktoriaus (kombaino) galia, kW]]","v":175},{"$f":"ROUND(DarbųĮkainiai2018[[#This Row],[Traktoriaus (kombaino) kaina, tūkst. Eur]]*$AF$9,2)","v":199.58},{"$f":"ROUND(DarbųĮkainiai2018[[#This Row],[Žemės ūkio mašinos (cisternos) kaina, tūkst. Eur]] * $AG$9,2)","v":0},{"$f":"+DarbųĮkainiai2018[[#This Row],[Išdirbio norma, ha/val.]]","v":1.74},{"$f":"+DarbųĮkainiai2018[[#This Row],[Degalų sąnaudų norma, l/ha]]","v":18.29},{"$f":"ROUND(DarbųĮkainiai2018[[#This Row],[Išlaidos atnaujinimui, Eur/ha]]*1.35,2)","v":42.05},{"$f":"ROUND(DarbųĮkainiai2018[[#This Row],[Išlaidos remontui ir tech. aptarnavimui, Eur/ha]]*$AK$9,2)","v":21.54},{"$f":"ROUND(DarbųĮkainiai2024[[#This Row],[Degalų sąnaudų norma, l/ha]] * $AL$9,2)","v":13.72},{"$f":"ROUND(1/DarbųĮkainiai2024[[#This Row],[Išdirbio norma, ha/val.]]*$AM$9,2)","v":6.39},{"$f":"+DarbųĮkainiai2024[[#This Row],[Išlaidos atnaujinimui, Eur/ha]]+DarbųĮkainiai2024[[#This Row],[Išlaidos remontui ir tech. aptarnavimui, Eur/ha]]+DarbųĮkainiai2024[[#This Row],[Išlaidos degalams ir tepalams, Eur/ha]]+DarbųĮkainiai2024[[#This Row],[Išlaidos darbo užmokesčiui su priskaitymais, Eur/ha]]","v":83.7},{"$f":"ROUND(DarbųĮkainiai2018[[#This Row],[Kitos, Eur/ha]] * $AO$9,2)","v":5.82},{"$f":"+DarbųĮkainiai2024[[#This Row],[Kitos, Eur/ha]]+DarbųĮkainiai2024[[#This Row],[Išlaidos iš viso, Eur/ha]]","v":89.52000000000001},{"$f":"ROUND(DarbųĮkainiai2024[[#This Row],[Savikaina, Eur/ha]]*$AQ$9,2)","v":4.4800000000000004},{"$f":"+DarbųĮkainiai2024[[#This Row],[Pelnas, Eur/ha]]+DarbųĮkainiai2024[[#This Row],[Savikaina, Eur/ha]]","v":94.000000000000014},{"$f":"+DarbųĮkainiai2024[[#This Row],[Įkainis, Eur/ha]]-DarbųĮkainiai2024[[#This Row],[Pelnas, Eur/ha]]-DarbųĮkainiai2024[[#This Row],[Išlaidos atnaujinimui, Eur/ha]]","v":47.470000000000013},{"$f":"+DarbųĮkainiai2018[[#This Row],[Darbas]]","v":"JAVŲ DERLIAUS NUĖMIMAS KOMBAINAIS"},2024,{"$f":"+DarbųĮkainiai2018[[#This Row],[Žemės ūkio mašinų kilmė]]","v":"Vakarų Europos"},{"$f":"+DarbųĮkainiai2018[[#This Row],[Papildomas barstytubo parametras, m3]]","v":0},{"$f":"+DarbųĮkainiai2018[[#This Row],[Aktualus darbo pavadinimas]]","v":"Derliaus nuėmimas"},{"$f":"+DarbųĮkainiai2018[[#This Row],[Stulpelis1]]","v":273}]
[{"$f":"ROW()-ROW(DarbųĮkainiai2018[[#Headers],[Eil. Nr.]])","v":64},"Vakarų Europos gamybos kombainais",7.5,6,200,174.5,null,2.2000000000000002,15.1,28.16,12.69,11.63,4.7,57.18,4.57,61.75,3.09,64.84,{"$f":"+DarbųĮkainiai2018[[#This Row],[Įkainis, Eur/ha]]-DarbųĮkainiai2018[[#This Row],[Pelnas, Eur/ha]]-DarbųĮkainiai2018[[#This Row],[Išlaidos atnaujinimui, Eur/ha]]","v":33.590000000000003},"JAVŲ DERLIAUS NUĖMIMAS KOMBAINAIS",2018,"Vakarų Europos",null,"Derliaus nuėmimas",276,null,{"$f":"ROW()-ROW(DarbųĮkainiai2024[[#Headers],[Eil. Nr.]])","v":64},{"$f":"+DarbųĮkainiai2018[[#This Row],[Žemės ūkio mašina]]","v":"Vakarų Europos gamybos kombainais"},{"$f":"+DarbųĮkainiai2018[[#This Row],[Darbinis plotis, m]]","v":7.5},{"$f":"+DarbųĮkainiai2018[[#This Row],[Tręšimo, išsėjimo, purškimo norma, kg/ha; Derlingumas, t/ha]]","v":6},{"$f":"+DarbųĮkainiai2018[[#This Row],[Traktoriaus (kombaino) galia, kW]]","v":200},{"$f":"ROUND(DarbųĮkainiai2018[[#This Row],[Traktoriaus (kombaino) kaina, tūkst. Eur]]*$AF$9,2)","v":228.07},{"$f":"ROUND(DarbųĮkainiai2018[[#This Row],[Žemės ūkio mašinos (cisternos) kaina, tūkst. Eur]] * $AG$9,2)","v":0},{"$f":"+DarbųĮkainiai2018[[#This Row],[Išdirbio norma, ha/val.]]","v":2.2000000000000002},{"$f":"+DarbųĮkainiai2018[[#This Row],[Degalų sąnaudų norma, l/ha]]","v":15.1},{"$f":"ROUND(DarbųĮkainiai2018[[#This Row],[Išlaidos atnaujinimui, Eur/ha]]*1.35,2)","v":38.020000000000003},{"$f":"ROUND(DarbųĮkainiai2018[[#This Row],[Išlaidos remontui ir tech. aptarnavimui, Eur/ha]]*$AK$9,2)","v":19.46},{"$f":"ROUND(DarbųĮkainiai2024[[#This Row],[Degalų sąnaudų norma, l/ha]] * $AL$9,2)","v":11.33},{"$f":"ROUND(1/DarbųĮkainiai2024[[#This Row],[Išdirbio norma, ha/val.]]*$AM$9,2)","v":5.05},{"$f":"+DarbųĮkainiai2024[[#This Row],[Išlaidos atnaujinimui, Eur/ha]]+DarbųĮkainiai2024[[#This Row],[Išlaidos remontui ir tech. aptarnavimui, Eur/ha]]+DarbųĮkainiai2024[[#This Row],[Išlaidos degalams ir tepalams, Eur/ha]]+DarbųĮkainiai2024[[#This Row],[Išlaidos darbo užmokesčiui su priskaitymais, Eur/ha]]","v":73.86},{"$f":"ROUND(DarbųĮkainiai2018[[#This Row],[Kitos, Eur/ha]] * $AO$9,2)","v":5.0999999999999996},{"$f":"+DarbųĮkainiai2024[[#This Row],[Kitos, Eur/ha]]+DarbųĮkainiai2024[[#This Row],[Išlaidos iš viso, Eur/ha]]","v":78.959999999999994},{"$f":"ROUND(DarbųĮkainiai2024[[#This Row],[Savikaina, Eur/ha]]*$AQ$9,2)","v":3.95},{"$f":"+DarbųĮkainiai2024[[#This Row],[Pelnas, Eur/ha]]+DarbųĮkainiai2024[[#This Row],[Savikaina, Eur/ha]]","v":82.91},{"$f":"+DarbųĮkainiai2024[[#This Row],[Įkainis, Eur/ha]]-DarbųĮkainiai2024[[#This Row],[Pelnas, Eur/ha]]-DarbųĮkainiai2024[[#This Row],[Išlaidos atnaujinimui, Eur/ha]]","v":40.939999999999991},{"$f":"+DarbųĮkainiai2018[[#This Row],[Darbas]]","v":"JAVŲ DERLIAUS NUĖMIMAS KOMBAINAIS"},2024,{"$f":"+DarbųĮkainiai2018[[#This Row],[Žemės ūkio mašinų kilmė]]","v":"Vakarų Europos"},{"$f":"+DarbųĮkainiai2018[[#This Row],[Papildomas barstytubo parametras, m3]]","v":0},{"$f":"+DarbųĮkainiai2018[[#This Row],[Aktualus darbo pavadinimas]]","v":"Derliaus nuėmimas"},{"$f":"+DarbųĮkainiai2018[[#This Row],[Stulpelis1]]","v":276}]
[{"$f":"ROW()-ROW(DarbųĮkainiai2018[[#Headers],[Eil. Nr.]])","v":65},"Vakarų Europos gamybos kombainais",7.5,8,200,174.5,null,2.11,17.32,29.36,13.23,13.34,4.91,60.83,4.87,65.7,3.28,68.98,{"$f":"+DarbųĮkainiai2018[[#This Row],[Įkainis, Eur/ha]]-DarbųĮkainiai2018[[#This Row],[Pelnas, Eur/ha]]-DarbųĮkainiai2018[[#This Row],[Išlaidos atnaujinimui, Eur/ha]]","v":36.340000000000003},"JAVŲ DERLIAUS NUĖMIMAS KOMBAINAIS",2018,"Vakarų Europos",null,"Derliaus nuėmimas",277,null,{"$f":"ROW()-ROW(DarbųĮkainiai2024[[#Headers],[Eil. Nr.]])","v":65},{"$f":"+DarbųĮkainiai2018[[#This Row],[Žemės ūkio mašina]]","v":"Vakarų Europos gamybos kombainais"},{"$f":"+DarbųĮkainiai2018[[#This Row],[Darbinis plotis, m]]","v":7.5},{"$f":"+DarbųĮkainiai2018[[#This Row],[Tręšimo, išsėjimo, purškimo norma, kg/ha; Derlingumas, t/ha]]","v":8},{"$f":"+DarbųĮkainiai2018[[#This Row],[Traktoriaus (kombaino) galia, kW]]","v":200},{"$f":"ROUND(DarbųĮkainiai2018[[#This Row],[Traktoriaus (kombaino) kaina, tūkst. Eur]]*$AF$9,2)","v":228.07},{"$f":"ROUND(DarbųĮkainiai2018[[#This Row],[Žemės ūkio mašinos (cisternos) kaina, tūkst. Eur]] * $AG$9,2)","v":0},{"$f":"+DarbųĮkainiai2018[[#This Row],[Išdirbio norma, ha/val.]]","v":2.11},{"$f":"+DarbųĮkainiai2018[[#This Row],[Degalų sąnaudų norma, l/ha]]","v":17.32},{"$f":"ROUND(DarbųĮkainiai2018[[#This Row],[Išlaidos atnaujinimui, Eur/ha]]*1.35,2)","v":39.64},{"$f":"ROUND(DarbųĮkainiai2018[[#This Row],[Išlaidos remontui ir tech. aptarnavimui, Eur/ha]]*$AK$9,2)","v":20.29},{"$f":"ROUND(DarbųĮkainiai2024[[#This Row],[Degalų sąnaudų norma, l/ha]] * $AL$9,2)","v":12.99},{"$f":"ROUND(1/DarbųĮkainiai2024[[#This Row],[Išdirbio norma, ha/val.]]*$AM$9,2)","v":5.27},{"$f":"+DarbųĮkainiai2024[[#This Row],[Išlaidos atnaujinimui, Eur/ha]]+DarbųĮkainiai2024[[#This Row],[Išlaidos remontui ir tech. aptarnavimui, Eur/ha]]+DarbųĮkainiai2024[[#This Row],[Išlaidos degalams ir tepalams, Eur/ha]]+DarbųĮkainiai2024[[#This Row],[Išlaidos darbo užmokesčiui su priskaitymais, Eur/ha]]","v":78.19},{"$f":"ROUND(DarbųĮkainiai2018[[#This Row],[Kitos, Eur/ha]] * $AO$9,2)","v":5.43},{"$f":"+DarbųĮkainiai2024[[#This Row],[Kitos, Eur/ha]]+DarbųĮkainiai2024[[#This Row],[Išlaidos iš viso, Eur/ha]]","v":83.62},{"$f":"ROUND(DarbųĮkainiai2024[[#This Row],[Savikaina, Eur/ha]]*$AQ$9,2)","v":4.18},{"$f":"+DarbųĮkainiai2024[[#This Row],[Pelnas, Eur/ha]]+DarbųĮkainiai2024[[#This Row],[Savikaina, Eur/ha]]","v":87.800000000000011},{"$f":"+DarbųĮkainiai2024[[#This Row],[Įkainis, Eur/ha]]-DarbųĮkainiai2024[[#This Row],[Pelnas, Eur/ha]]-DarbųĮkainiai2024[[#This Row],[Išlaidos atnaujinimui, Eur/ha]]","v":43.980000000000004},{"$f":"+DarbųĮkainiai2018[[#This Row],[Darbas]]","v":"JAVŲ DERLIAUS NUĖMIMAS KOMBAINAIS"},{"$f":"$AU$9","v":2024},{"$f":"+DarbųĮkainiai2018[[#This Row],[Žemės ūkio mašinų kilmė]]","v":"Vakarų Europos"},{"$f":"+DarbųĮkainiai2018[[#This Row],[Papildomas barstytubo parametras, m3]]","v":0},{"$f":"+DarbųĮkainiai2018[[#This Row],[Aktualus darbo pavadinimas]]","v":"Derliaus nuėmimas"},{"$f":"+DarbųĮkainiai2018[[#This Row],[Stulpelis1]]","v":277}]
[{"$f":"ROW()-ROW(DarbųĮkainiai2018[[#Headers],[Eil. Nr.]])","v":66},"Vakarų Europos gamybos kombainais",9,6,300,261.77999999999997,null,2.76,16.52,33.67,15.18,12.72,3.75,65.319999999999993,5.23,70.540000000000006,3.53,74.069999999999993,{"$f":"+DarbųĮkainiai2018[[#This Row],[Įkainis, Eur/ha]]-DarbųĮkainiai2018[[#This Row],[Pelnas, Eur/ha]]-DarbųĮkainiai2018[[#This Row],[Išlaidos atnaujinimui, Eur/ha]]","v":36.86999999999999},"JAVŲ DERLIAUS NUĖMIMAS KOMBAINAIS",2018,"Vakarų Europos",null,"Derliaus nuėmimas",283,null,{"$f":"ROW()-ROW(DarbųĮkainiai2024[[#Headers],[Eil. Nr.]])","v":66},{"$f":"+DarbųĮkainiai2018[[#This Row],[Žemės ūkio mašina]]","v":"Vakarų Europos gamybos kombainais"},{"$f":"+DarbųĮkainiai2018[[#This Row],[Darbinis plotis, m]]","v":9},{"$f":"+DarbųĮkainiai2018[[#This Row],[Tręšimo, išsėjimo, purškimo norma, kg/ha; Derlingumas, t/ha]]","v":6},{"$f":"+DarbųĮkainiai2018[[#This Row],[Traktoriaus (kombaino) galia, kW]]","v":300},{"$f":"ROUND(DarbųĮkainiai2018[[#This Row],[Traktoriaus (kombaino) kaina, tūkst. Eur]]*$AF$9,2)","v":342.14},{"$f":"ROUND(DarbųĮkainiai2018[[#This Row],[Žemės ūkio mašinos (cisternos) kaina, tūkst. Eur]] * $AG$9,2)","v":0},{"$f":"+DarbųĮkainiai2018[[#This Row],[Išdirbio norma, ha/val.]]","v":2.76},{"$f":"+DarbųĮkainiai2018[[#This Row],[Degalų sąnaudų norma, l/ha]]","v":16.52},{"$f":"ROUND(DarbųĮkainiai2018[[#This Row],[Išlaidos atnaujinimui, Eur/ha]]*1.35,2)","v":45.45},{"$f":"ROUND(DarbųĮkainiai2018[[#This Row],[Išlaidos remontui ir tech. aptarnavimui, Eur/ha]]*$AK$9,2)","v":23.28},{"$f":"ROUND(DarbųĮkainiai2024[[#This Row],[Degalų sąnaudų norma, l/ha]] * $AL$9,2)","v":12.39},{"$f":"ROUND(1/DarbųĮkainiai2024[[#This Row],[Išdirbio norma, ha/val.]]*$AM$9,2)","v":4.03},{"$f":"+DarbųĮkainiai2024[[#This Row],[Išlaidos atnaujinimui, Eur/ha]]+DarbųĮkainiai2024[[#This Row],[Išlaidos remontui ir tech. aptarnavimui, Eur/ha]]+DarbųĮkainiai2024[[#This Row],[Išlaidos degalams ir tepalams, Eur/ha]]+DarbųĮkainiai2024[[#This Row],[Išlaidos darbo užmokesčiui su priskaitymais, Eur/ha]]","v":85.15},{"$f":"ROUND(DarbųĮkainiai2018[[#This Row],[Kitos, Eur/ha]] * $AO$9,2)","v":5.83},{"$f":"+DarbųĮkainiai2024[[#This Row],[Kitos, Eur/ha]]+DarbųĮkainiai2024[[#This Row],[Išlaidos iš viso, Eur/ha]]","v":90.98},{"$f":"ROUND(DarbųĮkainiai2024[[#This Row],[Savikaina, Eur/ha]]*$AQ$9,2)","v":4.55},{"$f":"+DarbųĮkainiai2024[[#This Row],[Pelnas, Eur/ha]]+DarbųĮkainiai2024[[#This Row],[Savikaina, Eur/ha]]","v":95.53},{"$f":"+DarbųĮkainiai2024[[#This Row],[Įkainis, Eur/ha]]-DarbųĮkainiai2024[[#This Row],[Pelnas, Eur/ha]]-DarbųĮkainiai2024[[#This Row],[Išlaidos atnaujinimui, Eur/ha]]","v":45.53},{"$f":"+DarbųĮkainiai2018[[#This Row],[Darbas]]","v":"JAVŲ DERLIAUS NUĖMIMAS KOMBAINAIS"},2024,{"$f":"+DarbųĮkainiai2018[[#This Row],[Žemės ūkio mašinų kilmė]]","v":"Vakarų Europos"},{"$f":"+DarbųĮkainiai2018[[#This Row],[Papildomas barstytubo parametras, m3]]","v":0},{"$f":"+DarbųĮkainiai2018[[#This Row],[Aktualus darbo pavadinimas]]","v":"Derliaus nuėmimas"},{"$f":"+DarbųĮkainiai2018[[#This Row],[Stulpelis1]]","v":283}]
[{"$f":"ROW()-ROW(DarbųĮkainiai2018[[#Headers],[Eil. Nr.]])","v":67},"Vakarų Europos gamybos kombainais",9,8,300,261.77999999999997,null,2.75,19.3,33.79,15.23,14.86,3.76,67.650000000000006,5.41,73.06,3.65,76.709999999999994,{"$f":"+DarbųĮkainiai2018[[#This Row],[Įkainis, Eur/ha]]-DarbųĮkainiai2018[[#This Row],[Pelnas, Eur/ha]]-DarbųĮkainiai2018[[#This Row],[Išlaidos atnaujinimui, Eur/ha]]","v":39.269999999999989},"JAVŲ DERLIAUS NUĖMIMAS KOMBAINAIS",2018,"Vakarų Europos",null,"Derliaus nuėmimas",284,null,{"$f":"ROW()-ROW(DarbųĮkainiai2024[[#Headers],[Eil. Nr.]])","v":67},{"$f":"+DarbųĮkainiai2018[[#This Row],[Žemės ūkio mašina]]","v":"Vakarų Europos gamybos kombainais"},{"$f":"+DarbųĮkainiai2018[[#This Row],[Darbinis plotis, m]]","v":9},{"$f":"+DarbųĮkainiai2018[[#This Row],[Tręšimo, išsėjimo, purškimo norma, kg/ha; Derlingumas, t/ha]]","v":8},{"$f":"+DarbųĮkainiai2018[[#This Row],[Traktoriaus (kombaino) galia, kW]]","v":300},{"$f":"ROUND(DarbųĮkainiai2018[[#This Row],[Traktoriaus (kombaino) kaina, tūkst. Eur]]*$AF$9,2)","v":342.14},{"$f":"ROUND(DarbųĮkainiai2018[[#This Row],[Žemės ūkio mašinos (cisternos) kaina, tūkst. Eur]] * $AG$9,2)","v":0},{"$f":"+DarbųĮkainiai2018[[#This Row],[Išdirbio norma, ha/val.]]","v":2.75},{"$f":"+DarbųĮkainiai2018[[#This Row],[Degalų sąnaudų norma, l/ha]]","v":19.3},{"$f":"ROUND(DarbųĮkainiai2018[[#This Row],[Išlaidos atnaujinimui, Eur/ha]]*1.35,2)","v":45.62},{"$f":"ROUND(DarbųĮkainiai2018[[#This Row],[Išlaidos remontui ir tech. aptarnavimui, Eur/ha]]*$AK$9,2)","v":23.36},{"$f":"ROUND(DarbųĮkainiai2024[[#This Row],[Degalų sąnaudų norma, l/ha]] * $AL$9,2)","v":14.48},{"$f":"ROUND(1/DarbųĮkainiai2024[[#This Row],[Išdirbio norma, ha/val.]]*$AM$9,2)","v":4.04},{"$f":"+DarbųĮkainiai2024[[#This Row],[Išlaidos atnaujinimui, Eur/ha]]+DarbųĮkainiai2024[[#This Row],[Išlaidos remontui ir tech. aptarnavimui, Eur/ha]]+DarbųĮkainiai2024[[#This Row],[Išlaidos degalams ir tepalams, Eur/ha]]+DarbųĮkainiai2024[[#This Row],[Išlaidos darbo užmokesčiui su priskaitymais, Eur/ha]]","v":87.5},{"$f":"ROUND(DarbųĮkainiai2018[[#This Row],[Kitos, Eur/ha]] * $AO$9,2)","v":6.03},{"$f":"+DarbųĮkainiai2024[[#This Row],[Kitos, Eur/ha]]+DarbųĮkainiai2024[[#This Row],[Išlaidos iš viso, Eur/ha]]","v":93.53},{"$f":"ROUND(DarbųĮkainiai2024[[#This Row],[Savikaina, Eur/ha]]*$AQ$9,2)","v":4.68},{"$f":"+DarbųĮkainiai2024[[#This Row],[Pelnas, Eur/ha]]+DarbųĮkainiai2024[[#This Row],[Savikaina, Eur/ha]]","v":98.210000000000008},{"$f":"+DarbųĮkainiai2024[[#This Row],[Įkainis, Eur/ha]]-DarbųĮkainiai2024[[#This Row],[Pelnas, Eur/ha]]-DarbųĮkainiai2024[[#This Row],[Išlaidos atnaujinimui, Eur/ha]]","v":47.910000000000004},{"$f":"+DarbųĮkainiai2018[[#This Row],[Darbas]]","v":"JAVŲ DERLIAUS NUĖMIMAS KOMBAINAIS"},2024,{"$f":"+DarbųĮkainiai2018[[#This Row],[Žemės ūkio mašinų kilmė]]","v":"Vakarų Europos"},{"$f":"+DarbųĮkainiai2018[[#This Row],[Papildomas barstytubo parametras, m3]]","v":0},{"$f":"+DarbųĮkainiai2018[[#This Row],[Aktualus darbo pavadinimas]]","v":"Derliaus nuėmimas"},{"$f":"+DarbųĮkainiai2018[[#This Row],[Stulpelis1]]","v":284}]
[{"$f":"ROW()-ROW(DarbųĮkainiai2018[[#Headers],[Eil. Nr.]])","v":68},"Vakarų Europos gamybos kombainais",10.5,6,400,349,null,3.23,17.829999999999998,38.36,17.29,13.73,3.2,72.58,5.81,78.39,3.92,82.3,{"$f":"+DarbųĮkainiai2018[[#This Row],[Įkainis, Eur/ha]]-DarbųĮkainiai2018[[#This Row],[Pelnas, Eur/ha]]-DarbųĮkainiai2018[[#This Row],[Išlaidos atnaujinimui, Eur/ha]]","v":40.019999999999996},"JAVŲ DERLIAUS NUĖMIMAS KOMBAINAIS",2018,"Vakarų Europos",null,"Derliaus nuėmimas",286,null,{"$f":"ROW()-ROW(DarbųĮkainiai2024[[#Headers],[Eil. Nr.]])","v":68},{"$f":"+DarbųĮkainiai2018[[#This Row],[Žemės ūkio mašina]]","v":"Vakarų Europos gamybos kombainais"},{"$f":"+DarbųĮkainiai2018[[#This Row],[Darbinis plotis, m]]","v":10.5},{"$f":"+DarbųĮkainiai2018[[#This Row],[Tręšimo, išsėjimo, purškimo norma, kg/ha; Derlingumas, t/ha]]","v":6},{"$f":"+DarbųĮkainiai2018[[#This Row],[Traktoriaus (kombaino) galia, kW]]","v":400},{"$f":"ROUND(DarbųĮkainiai2018[[#This Row],[Traktoriaus (kombaino) kaina, tūkst. Eur]]*$AF$9,2)","v":456.14},{"$f":"ROUND(DarbųĮkainiai2018[[#This Row],[Žemės ūkio mašinos (cisternos) kaina, tūkst. Eur]] * $AG$9,2)","v":0},{"$f":"+DarbųĮkainiai2018[[#This Row],[Išdirbio norma, ha/val.]]","v":3.23},{"$f":"+DarbųĮkainiai2018[[#This Row],[Degalų sąnaudų norma, l/ha]]","v":17.829999999999998},{"$f":"ROUND(DarbųĮkainiai2018[[#This Row],[Išlaidos atnaujinimui, Eur/ha]]*1.35,2)","v":51.79},{"$f":"ROUND(DarbųĮkainiai2018[[#This Row],[Išlaidos remontui ir tech. aptarnavimui, Eur/ha]]*$AK$9,2)","v":26.52},{"$f":"ROUND(DarbųĮkainiai2024[[#This Row],[Degalų sąnaudų norma, l/ha]] * $AL$9,2)","v":13.37},{"$f":"ROUND(1/DarbųĮkainiai2024[[#This Row],[Išdirbio norma, ha/val.]]*$AM$9,2)","v":3.44},{"$f":"+DarbųĮkainiai2024[[#This Row],[Išlaidos atnaujinimui, Eur/ha]]+DarbųĮkainiai2024[[#This Row],[Išlaidos remontui ir tech. aptarnavimui, Eur/ha]]+DarbųĮkainiai2024[[#This Row],[Išlaidos degalams ir tepalams, Eur/ha]]+DarbųĮkainiai2024[[#This Row],[Išlaidos darbo užmokesčiui su priskaitymais, Eur/ha]]","v":95.12},{"$f":"ROUND(DarbųĮkainiai2018[[#This Row],[Kitos, Eur/ha]] * $AO$9,2)","v":6.48},{"$f":"+DarbųĮkainiai2024[[#This Row],[Kitos, Eur/ha]]+DarbųĮkainiai2024[[#This Row],[Išlaidos iš viso, Eur/ha]]","v":101.60000000000001},{"$f":"ROUND(DarbųĮkainiai2024[[#This Row],[Savikaina, Eur/ha]]*$AQ$9,2)","v":5.08},{"$f":"+DarbųĮkainiai2024[[#This Row],[Pelnas, Eur/ha]]+DarbųĮkainiai2024[[#This Row],[Savikaina, Eur/ha]]","v":106.68},{"$f":"+DarbųĮkainiai2024[[#This Row],[Įkainis, Eur/ha]]-DarbųĮkainiai2024[[#This Row],[Pelnas, Eur/ha]]-DarbųĮkainiai2024[[#This Row],[Išlaidos atnaujinimui, Eur/ha]]","v":49.810000000000009},{"$f":"+DarbųĮkainiai2018[[#This Row],[Darbas]]","v":"JAVŲ DERLIAUS NUĖMIMAS KOMBAINAIS"},2024,{"$f":"+DarbųĮkainiai2018[[#This Row],[Žemės ūkio mašinų kilmė]]","v":"Vakarų Europos"},{"$f":"+DarbųĮkainiai2018[[#This Row],[Papildomas barstytubo parametras, m3]]","v":0},{"$f":"+DarbųĮkainiai2018[[#This Row],[Aktualus darbo pavadinimas]]","v":"Derliaus nuėmimas"},{"$f":"+DarbųĮkainiai2018[[#This Row],[Stulpelis1]]","v":286}]
[{"$f":"ROW()-ROW(DarbųĮkainiai2018[[#Headers],[Eil. Nr.]])","v":69},"Vakarų Europos gamybos kombainais",10.5,8,400,349,null,3.23,20.43,38.36,17.29,15.73,3.2,74.58,5.97,80.55,4.03,84.57,{"$f":"+DarbųĮkainiai2018[[#This Row],[Įkainis, Eur/ha]]-DarbųĮkainiai2018[[#This Row],[Pelnas, Eur/ha]]-DarbųĮkainiai2018[[#This Row],[Išlaidos atnaujinimui, Eur/ha]]","v":42.179999999999993},"JAVŲ DERLIAUS NUĖMIMAS KOMBAINAIS",2018,"Vakarų Europos",null,"Derliaus nuėmimas",287,null,{"$f":"ROW()-ROW(DarbųĮkainiai2024[[#Headers],[Eil. Nr.]])","v":69},{"$f":"+DarbųĮkainiai2018[[#This Row],[Žemės ūkio mašina]]","v":"Vakarų Europos gamybos kombainais"},{"$f":"+DarbųĮkainiai2018[[#This Row],[Darbinis plotis, m]]","v":10.5},{"$f":"+DarbųĮkainiai2018[[#This Row],[Tręšimo, išsėjimo, purškimo norma, kg/ha; Derlingumas, t/ha]]","v":8},{"$f":"+DarbųĮkainiai2018[[#This Row],[Traktoriaus (kombaino) galia, kW]]","v":400},{"$f":"ROUND(DarbųĮkainiai2018[[#This Row],[Traktoriaus (kombaino) kaina, tūkst. Eur]]*$AF$9,2)","v":456.14},{"$f":"ROUND(DarbųĮkainiai2018[[#This Row],[Žemės ūkio mašinos (cisternos) kaina, tūkst. Eur]] * $AG$9,2)","v":0},{"$f":"+DarbųĮkainiai2018[[#This Row],[Išdirbio norma, ha/val.]]","v":3.23},{"$f":"+DarbųĮkainiai2018[[#This Row],[Degalų sąnaudų norma, l/ha]]","v":20.43},{"$f":"ROUND(DarbųĮkainiai2018[[#This Row],[Išlaidos atnaujinimui, Eur/ha]]*1.35,2)","v":51.79},{"$f":"ROUND(DarbųĮkainiai2018[[#This Row],[Išlaidos remontui ir tech. aptarnavimui, Eur/ha]]*$AK$9,2)","v":26.52},{"$f":"ROUND(DarbųĮkainiai2024[[#This Row],[Degalų sąnaudų norma, l/ha]] * $AL$9,2)","v":15.32},{"$f":"ROUND(1/DarbųĮkainiai2024[[#This Row],[Išdirbio norma, ha/val.]]*$AM$9,2)","v":3.44},{"$f":"+DarbųĮkainiai2024[[#This Row],[Išlaidos atnaujinimui, Eur/ha]]+DarbųĮkainiai2024[[#This Row],[Išlaidos remontui ir tech. aptarnavimui, Eur/ha]]+DarbųĮkainiai2024[[#This Row],[Išlaidos degalams ir tepalams, Eur/ha]]+DarbųĮkainiai2024[[#This Row],[Išlaidos darbo užmokesčiui su priskaitymais, Eur/ha]]","v":97.07},{"$f":"ROUND(DarbųĮkainiai2018[[#This Row],[Kitos, Eur/ha]] * $AO$9,2)","v":6.66},{"$f":"+DarbųĮkainiai2024[[#This Row],[Kitos, Eur/ha]]+DarbųĮkainiai2024[[#This Row],[Išlaidos iš viso, Eur/ha]]","v":103.72999999999999},{"$f":"ROUND(DarbųĮkainiai2024[[#This Row],[Savikaina, Eur/ha]]*$AQ$9,2)","v":5.19},{"$f":"+DarbųĮkainiai2024[[#This Row],[Pelnas, Eur/ha]]+DarbųĮkainiai2024[[#This Row],[Savikaina, Eur/ha]]","v":108.91999999999999},{"$f":"+DarbųĮkainiai2024[[#This Row],[Įkainis, Eur/ha]]-DarbųĮkainiai2024[[#This Row],[Pelnas, Eur/ha]]-DarbųĮkainiai2024[[#This Row],[Išlaidos atnaujinimui, Eur/ha]]","v":51.939999999999991},{"$f":"+DarbųĮkainiai2018[[#This Row],[Darbas]]","v":"JAVŲ DERLIAUS NUĖMIMAS KOMBAINAIS"},2024,{"$f":"+DarbųĮkainiai2018[[#This Row],[Žemės ūkio mašinų kilmė]]","v":"Vakarų Europos"},{"$f":"+DarbųĮkainiai2018[[#This Row],[Papildomas barstytubo parametras, m3]]","v":0},{"$f":"+DarbųĮkainiai2018[[#This Row],[Aktualus darbo pavadinimas]]","v":"Derliaus nuėmimas"},{"$f":"+DarbųĮkainiai2018[[#This Row],[Stulpelis1]]","v":287}]
[{"$f":"ROW()-ROW(DarbųĮkainiai2018[[#Headers],[Eil. Nr.]])","v":70},"Vakarų Europos gamybos kombainais",3,2,90,84.33,null,0.89,19.8,33.64,15.16,15.25,11.63,75.67,3.78,79.459999999999994,3.97,83.43,{"$f":"+DarbųĮkainiai2018[[#This Row],[Įkainis, Eur/ha]]-DarbųĮkainiai2018[[#This Row],[Pelnas, Eur/ha]]-DarbųĮkainiai2018[[#This Row],[Išlaidos atnaujinimui, Eur/ha]]","v":45.820000000000007},"RAPSŲ DERLIAUS NUĖMIMAS KOMBAINAIS",2018,"Vakarų Europos",null,"Derliaus nuėmimas",322,null,{"$f":"ROW()-ROW(DarbųĮkainiai2024[[#Headers],[Eil. Nr.]])","v":70},{"$f":"+DarbųĮkainiai2018[[#This Row],[Žemės ūkio mašina]]","v":"Vakarų Europos gamybos kombainais"},{"$f":"+DarbųĮkainiai2018[[#This Row],[Darbinis plotis, m]]","v":3},{"$f":"+DarbųĮkainiai2018[[#This Row],[Tręšimo, išsėjimo, purškimo norma, kg/ha; Derlingumas, t/ha]]","v":2},{"$f":"+DarbųĮkainiai2018[[#This Row],[Traktoriaus (kombaino) galia, kW]]","v":90},{"$f":"ROUND(DarbųĮkainiai2018[[#This Row],[Traktoriaus (kombaino) kaina, tūkst. Eur]]*$AF$9,2)","v":110.22},{"$f":"ROUND(DarbųĮkainiai2018[[#This Row],[Žemės ūkio mašinos (cisternos) kaina, tūkst. Eur]] * $AG$9,2)","v":0},{"$f":"+DarbųĮkainiai2018[[#This Row],[Išdirbio norma, ha/val.]]","v":0.89},{"$f":"+DarbųĮkainiai2018[[#This Row],[Degalų sąnaudų norma, l/ha]]","v":19.8},{"$f":"ROUND(DarbųĮkainiai2018[[#This Row],[Išlaidos atnaujinimui, Eur/ha]]*1.35,2)","v":45.41},{"$f":"ROUND(DarbųĮkainiai2018[[#This Row],[Išlaidos remontui ir tech. aptarnavimui, Eur/ha]]*$AK$9,2)","v":23.25},{"$f":"ROUND(DarbųĮkainiai2024[[#This Row],[Degalų sąnaudų norma, l/ha]] * $AL$9,2)","v":14.85},{"$f":"ROUND(1/DarbųĮkainiai2024[[#This Row],[Išdirbio norma, ha/val.]]*$AM$9,2)","v":12.48},{"$f":"+DarbųĮkainiai2024[[#This Row],[Išlaidos atnaujinimui, Eur/ha]]+DarbųĮkainiai2024[[#This Row],[Išlaidos remontui ir tech. aptarnavimui, Eur/ha]]+DarbųĮkainiai2024[[#This Row],[Išlaidos degalams ir tepalams, Eur/ha]]+DarbųĮkainiai2024[[#This Row],[Išlaidos darbo užmokesčiui su priskaitymais, Eur/ha]]","v":95.99},{"$f":"ROUND(DarbųĮkainiai2018[[#This Row],[Kitos, Eur/ha]] * $AO$9,2)","v":4.22},{"$f":"+DarbųĮkainiai2024[[#This Row],[Kitos, Eur/ha]]+DarbųĮkainiai2024[[#This Row],[Išlaidos iš viso, Eur/ha]]","v":100.21},{"$f":"ROUND(DarbųĮkainiai2024[[#This Row],[Savikaina, Eur/ha]]*$AQ$9,2)","v":5.01},{"$f":"+DarbųĮkainiai2024[[#This Row],[Pelnas, Eur/ha]]+DarbųĮkainiai2024[[#This Row],[Savikaina, Eur/ha]]","v":105.22},{"$f":"+DarbųĮkainiai2024[[#This Row],[Įkainis, Eur/ha]]-DarbųĮkainiai2024[[#This Row],[Pelnas, Eur/ha]]-DarbųĮkainiai2024[[#This Row],[Išlaidos atnaujinimui, Eur/ha]]","v":54.8},{"$f":"+DarbųĮkainiai2018[[#This Row],[Darbas]]","v":"RAPSŲ DERLIAUS NUĖMIMAS KOMBAINAIS"},2024,{"$f":"+DarbųĮkainiai2018[[#This Row],[Žemės ūkio mašinų kilmė]]","v":"Vakarų Europos"},{"$f":"+DarbųĮkainiai2018[[#This Row],[Papildomas barstytubo parametras, m3]]","v":0},{"$f":"+DarbųĮkainiai2018[[#This Row],[Aktualus darbo pavadinimas]]","v":"Derliaus nuėmimas"},{"$f":"+DarbųĮkainiai2018[[#This Row],[Stulpelis1]]","v":322}]
[{"$f":"ROW()-ROW(DarbųĮkainiai2018[[#Headers],[Eil. Nr.]])","v":71},"Vakarų Europos gamybos kombainais",3,2.5,90,84.33,null,0.88,20.62,34.020000000000003,15.33,15.88,11.76,76.989999999999995,3.85,80.84,4.04,84.88,{"$f":"+DarbųĮkainiai2018[[#This Row],[Įkainis, Eur/ha]]-DarbųĮkainiai2018[[#This Row],[Pelnas, Eur/ha]]-DarbųĮkainiai2018[[#This Row],[Išlaidos atnaujinimui, Eur/ha]]","v":46.819999999999986},"RAPSŲ DERLIAUS NUĖMIMAS KOMBAINAIS",2018,"Vakarų Europos",null,"Derliaus nuėmimas",323,null,{"$f":"ROW()-ROW(DarbųĮkainiai2024[[#Headers],[Eil. Nr.]])","v":71},{"$f":"+DarbųĮkainiai2018[[#This Row],[Žemės ūkio mašina]]","v":"Vakarų Europos gamybos kombainais"},{"$f":"+DarbųĮkainiai2018[[#This Row],[Darbinis plotis, m]]","v":3},{"$f":"+DarbųĮkainiai2018[[#This Row],[Tręšimo, išsėjimo, purškimo norma, kg/ha; Derlingumas, t/ha]]","v":2.5},{"$f":"+DarbųĮkainiai2018[[#This Row],[Traktoriaus (kombaino) galia, kW]]","v":90},{"$f":"ROUND(DarbųĮkainiai2018[[#This Row],[Traktoriaus (kombaino) kaina, tūkst. Eur]]*$AF$9,2)","v":110.22},{"$f":"ROUND(DarbųĮkainiai2018[[#This Row],[Žemės ūkio mašinos (cisternos) kaina, tūkst. Eur]] * $AG$9,2)","v":0},{"$f":"+DarbųĮkainiai2018[[#This Row],[Išdirbio norma, ha/val.]]","v":0.88},{"$f":"+DarbųĮkainiai2018[[#This Row],[Degalų sąnaudų norma, l/ha]]","v":20.62},{"$f":"ROUND(DarbųĮkainiai2018[[#This Row],[Išlaidos atnaujinimui, Eur/ha]]*1.35,2)","v":45.93},{"$f":"ROUND(DarbųĮkainiai2018[[#This Row],[Išlaidos remontui ir tech. aptarnavimui, Eur/ha]]*$AK$9,2)","v":23.51},{"$f":"ROUND(DarbųĮkainiai2024[[#This Row],[Degalų sąnaudų norma, l/ha]] * $AL$9,2)","v":15.47},{"$f":"ROUND(1/DarbųĮkainiai2024[[#This Row],[Išdirbio norma, ha/val.]]*$AM$9,2)","v":12.63},{"$f":"+DarbųĮkainiai2024[[#This Row],[Išlaidos atnaujinimui, Eur/ha]]+DarbųĮkainiai2024[[#This Row],[Išlaidos remontui ir tech. aptarnavimui, Eur/ha]]+DarbųĮkainiai2024[[#This Row],[Išlaidos degalams ir tepalams, Eur/ha]]+DarbųĮkainiai2024[[#This Row],[Išlaidos darbo užmokesčiui su priskaitymais, Eur/ha]]","v":97.539999999999992},{"$f":"ROUND(DarbųĮkainiai2018[[#This Row],[Kitos, Eur/ha]] * $AO$9,2)","v":4.29},{"$f":"+DarbųĮkainiai2024[[#This Row],[Kitos, Eur/ha]]+DarbųĮkainiai2024[[#This Row],[Išlaidos iš viso, Eur/ha]]","v":101.83},{"$f":"ROUND(DarbųĮkainiai2024[[#This Row],[Savikaina, Eur/ha]]*$AQ$9,2)","v":5.09},{"$f":"+DarbųĮkainiai2024[[#This Row],[Pelnas, Eur/ha]]+DarbųĮkainiai2024[[#This Row],[Savikaina, Eur/ha]]","v":106.92},{"$f":"+DarbųĮkainiai2024[[#This Row],[Įkainis, Eur/ha]]-DarbųĮkainiai2024[[#This Row],[Pelnas, Eur/ha]]-DarbųĮkainiai2024[[#This Row],[Išlaidos atnaujinimui, Eur/ha]]","v":55.9},{"$f":"+DarbųĮkainiai2018[[#This Row],[Darbas]]","v":"RAPSŲ DERLIAUS NUĖMIMAS KOMBAINAIS"},2024,{"$f":"+DarbųĮkainiai2018[[#This Row],[Žemės ūkio mašinų kilmė]]","v":"Vakarų Europos"},{"$f":"+DarbųĮkainiai2018[[#This Row],[Papildomas barstytubo parametras, m3]]","v":0},{"$f":"+DarbųĮkainiai2018[[#This Row],[Aktualus darbo pavadinimas]]","v":"Derliaus nuėmimas"},{"$f":"+DarbųĮkainiai2018[[#This Row],[Stulpelis1]]","v":323}]
[{"$f":"ROW()-ROW(DarbųĮkainiai2018[[#Headers],[Eil. Nr.]])","v":72},"Vakarų Europos gamybos kombainais",3,3,90,84.33,null,0.87,21.45,34.409999999999997,15.51,16.52,11.9,78.33,3.92,82.25,4.1100000000000003,86.36,{"$f":"+DarbųĮkainiai2018[[#This Row],[Įkainis, Eur/ha]]-DarbųĮkainiai2018[[#This Row],[Pelnas, Eur/ha]]-DarbųĮkainiai2018[[#This Row],[Išlaidos atnaujinimui, Eur/ha]]","v":47.84},"RAPSŲ DERLIAUS NUĖMIMAS KOMBAINAIS",2018,"Vakarų Europos",null,"Derliaus nuėmimas",324,null,{"$f":"ROW()-ROW(DarbųĮkainiai2024[[#Headers],[Eil. Nr.]])","v":72},{"$f":"+DarbųĮkainiai2018[[#This Row],[Žemės ūkio mašina]]","v":"Vakarų Europos gamybos kombainais"},{"$f":"+DarbųĮkainiai2018[[#This Row],[Darbinis plotis, m]]","v":3},{"$f":"+DarbųĮkainiai2018[[#This Row],[Tręšimo, išsėjimo, purškimo norma, kg/ha; Derlingumas, t/ha]]","v":3},{"$f":"+DarbųĮkainiai2018[[#This Row],[Traktoriaus (kombaino) galia, kW]]","v":90},{"$f":"ROUND(DarbųĮkainiai2018[[#This Row],[Traktoriaus (kombaino) kaina, tūkst. Eur]]*$AF$9,2)","v":110.22},{"$f":"ROUND(DarbųĮkainiai2018[[#This Row],[Žemės ūkio mašinos (cisternos) kaina, tūkst. Eur]] * $AG$9,2)","v":0},{"$f":"+DarbųĮkainiai2018[[#This Row],[Išdirbio norma, ha/val.]]","v":0.87},{"$f":"+DarbųĮkainiai2018[[#This Row],[Degalų sąnaudų norma, l/ha]]","v":21.45},{"$f":"ROUND(DarbųĮkainiai2018[[#This Row],[Išlaidos atnaujinimui, Eur/ha]]*1.35,2)","v":46.45},{"$f":"ROUND(DarbųĮkainiai2018[[#This Row],[Išlaidos remontui ir tech. aptarnavimui, Eur/ha]]*$AK$9,2)","v":23.79},{"$f":"ROUND(DarbųĮkainiai2024[[#This Row],[Degalų sąnaudų norma, l/ha]] * $AL$9,2)","v":16.09},{"$f":"ROUND(1/DarbųĮkainiai2024[[#This Row],[Išdirbio norma, ha/val.]]*$AM$9,2)","v":12.77},{"$f":"+DarbųĮkainiai2024[[#This Row],[Išlaidos atnaujinimui, Eur/ha]]+DarbųĮkainiai2024[[#This Row],[Išlaidos remontui ir tech. aptarnavimui, Eur/ha]]+DarbųĮkainiai2024[[#This Row],[Išlaidos degalams ir tepalams, Eur/ha]]+DarbųĮkainiai2024[[#This Row],[Išlaidos darbo užmokesčiui su priskaitymais, Eur/ha]]","v":99.100000000000009},{"$f":"ROUND(DarbųĮkainiai2018[[#This Row],[Kitos, Eur/ha]] * $AO$9,2)","v":4.37},{"$f":"+DarbųĮkainiai2024[[#This Row],[Kitos, Eur/ha]]+DarbųĮkainiai2024[[#This Row],[Išlaidos iš viso, Eur/ha]]","v":103.47000000000001},{"$f":"ROUND(DarbųĮkainiai2024[[#This Row],[Savikaina, Eur/ha]]*$AQ$9,2)","v":5.17},{"$f":"+DarbųĮkainiai2024[[#This Row],[Pelnas, Eur/ha]]+DarbųĮkainiai2024[[#This Row],[Savikaina, Eur/ha]]","v":108.64000000000001},{"$f":"+DarbųĮkainiai2024[[#This Row],[Įkainis, Eur/ha]]-DarbųĮkainiai2024[[#This Row],[Pelnas, Eur/ha]]-DarbųĮkainiai2024[[#This Row],[Išlaidos atnaujinimui, Eur/ha]]","v":57.02000000000001},{"$f":"+DarbųĮkainiai2018[[#This Row],[Darbas]]","v":"RAPSŲ DERLIAUS NUĖMIMAS KOMBAINAIS"},2024,{"$f":"+DarbųĮkainiai2018[[#This Row],[Žemės ūkio mašinų kilmė]]","v":"Vakarų Europos"},{"$f":"+DarbųĮkainiai2018[[#This Row],[Papildomas barstytubo parametras, m3]]","v":0},{"$f":"+DarbųĮkainiai2018[[#This Row],[Aktualus darbo pavadinimas]]","v":"Derliaus nuėmimas"},{"$f":"+DarbųĮkainiai2018[[#This Row],[Stulpelis1]]","v":324}]
[{"$f":"ROW()-ROW(DarbųĮkainiai2018[[#Headers],[Eil. Nr.]])","v":73},"Vakarų Europos gamybos kombainais",3,3.5,90,84.33,null,0.86,22.51,34.81,15.69,17.329999999999998,12.03,79.87,3.99,83.86,4.1900000000000004,88.05,{"$f":"+DarbųĮkainiai2018[[#This Row],[Įkainis, Eur/ha]]-DarbųĮkainiai2018[[#This Row],[Pelnas, Eur/ha]]-DarbųĮkainiai2018[[#This Row],[Išlaidos atnaujinimui, Eur/ha]]","v":49.05},"RAPSŲ DERLIAUS NUĖMIMAS KOMBAINAIS",2018,"Vakarų Europos",null,"Derliaus nuėmimas",325,null,{"$f":"ROW()-ROW(DarbųĮkainiai2024[[#Headers],[Eil. Nr.]])","v":73},{"$f":"+DarbųĮkainiai2018[[#This Row],[Žemės ūkio mašina]]","v":"Vakarų Europos gamybos kombainais"},{"$f":"+DarbųĮkainiai2018[[#This Row],[Darbinis plotis, m]]","v":3},{"$f":"+DarbųĮkainiai2018[[#This Row],[Tręšimo, išsėjimo, purškimo norma, kg/ha; Derlingumas, t/ha]]","v":3.5},{"$f":"+DarbųĮkainiai2018[[#This Row],[Traktoriaus (kombaino) galia, kW]]","v":90},{"$f":"ROUND(DarbųĮkainiai2018[[#This Row],[Traktoriaus (kombaino) kaina, tūkst. Eur]]*$AF$9,2)","v":110.22},{"$f":"ROUND(DarbųĮkainiai2018[[#This Row],[Žemės ūkio mašinos (cisternos) kaina, tūkst. Eur]] * $AG$9,2)","v":0},{"$f":"+DarbųĮkainiai2018[[#This Row],[Išdirbio norma, ha/val.]]","v":0.86},{"$f":"+DarbųĮkainiai2018[[#This Row],[Degalų sąnaudų norma, l/ha]]","v":22.51},{"$f":"ROUND(DarbųĮkainiai2018[[#This Row],[Išlaidos atnaujinimui, Eur/ha]]*1.35,2)","v":46.99},{"$f":"ROUND(DarbųĮkainiai2018[[#This Row],[Išlaidos remontui ir tech. aptarnavimui, Eur/ha]]*$AK$9,2)","v":24.07},{"$f":"ROUND(DarbųĮkainiai2024[[#This Row],[Degalų sąnaudų norma, l/ha]] * $AL$9,2)","v":16.88},{"$f":"ROUND(1/DarbųĮkainiai2024[[#This Row],[Išdirbio norma, ha/val.]]*$AM$9,2)","v":12.92},{"$f":"+DarbųĮkainiai2024[[#This Row],[Išlaidos atnaujinimui, Eur/ha]]+DarbųĮkainiai2024[[#This Row],[Išlaidos remontui ir tech. aptarnavimui, Eur/ha]]+DarbųĮkainiai2024[[#This Row],[Išlaidos degalams ir tepalams, Eur/ha]]+DarbųĮkainiai2024[[#This Row],[Išlaidos darbo užmokesčiui su priskaitymais, Eur/ha]]","v":100.86},{"$f":"ROUND(DarbųĮkainiai2018[[#This Row],[Kitos, Eur/ha]] * $AO$9,2)","v":4.45},{"$f":"+DarbųĮkainiai2024[[#This Row],[Kitos, Eur/ha]]+DarbųĮkainiai2024[[#This Row],[Išlaidos iš viso, Eur/ha]]","v":105.31},{"$f":"ROUND(DarbųĮkainiai2024[[#This Row],[Savikaina, Eur/ha]]*$AQ$9,2)","v":5.27},{"$f":"+DarbųĮkainiai2024[[#This Row],[Pelnas, Eur/ha]]+DarbųĮkainiai2024[[#This Row],[Savikaina, Eur/ha]]","v":110.58},{"$f":"+DarbųĮkainiai2024[[#This Row],[Įkainis, Eur/ha]]-DarbųĮkainiai2024[[#This Row],[Pelnas, Eur/ha]]-DarbųĮkainiai2024[[#This Row],[Išlaidos atnaujinimui, Eur/ha]]","v":58.32},{"$f":"+DarbųĮkainiai2018[[#This Row],[Darbas]]","v":"RAPSŲ DERLIAUS NUĖMIMAS KOMBAINAIS"},2024,{"$f":"+DarbųĮkainiai2018[[#This Row],[Žemės ūkio mašinų kilmė]]","v":"Vakarų Europos"},{"$f":"+DarbųĮkainiai2018[[#This Row],[Papildomas barstytubo parametras, m3]]","v":0},{"$f":"+DarbųĮkainiai2018[[#This Row],[Aktualus darbo pavadinimas]]","v":"Derliaus nuėmimas"},{"$f":"+DarbųĮkainiai2018[[#This Row],[Stulpelis1]]","v":325}]
[{"$f":"ROW()-ROW(DarbųĮkainiai2018[[#Headers],[Eil. Nr.]])","v":74},"Vakarų Europos gamybos kombainais",3,4,90,84.33,null,0.84,23.7,35.64,16.059999999999999,18.25,12.32,82.27,4.1100000000000003,86.39,4.32,90.71,{"$f":"+DarbųĮkainiai2018[[#This Row],[Įkainis, Eur/ha]]-DarbųĮkainiai2018[[#This Row],[Pelnas, Eur/ha]]-DarbųĮkainiai2018[[#This Row],[Išlaidos atnaujinimui, Eur/ha]]","v":50.749999999999986},"RAPSŲ DERLIAUS NUĖMIMAS KOMBAINAIS",2018,"Vakarų Europos",null,"Derliaus nuėmimas",326,null,{"$f":"ROW()-ROW(DarbųĮkainiai2024[[#Headers],[Eil. Nr.]])","v":74},{"$f":"+DarbųĮkainiai2018[[#This Row],[Žemės ūkio mašina]]","v":"Vakarų Europos gamybos kombainais"},{"$f":"+DarbųĮkainiai2018[[#This Row],[Darbinis plotis, m]]","v":3},{"$f":"+DarbųĮkainiai2018[[#This Row],[Tręšimo, išsėjimo, purškimo norma, kg/ha; Derlingumas, t/ha]]","v":4},{"$f":"+DarbųĮkainiai2018[[#This Row],[Traktoriaus (kombaino) galia, kW]]","v":90},{"$f":"ROUND(DarbųĮkainiai2018[[#This Row],[Traktoriaus (kombaino) kaina, tūkst. Eur]]*$AF$9,2)","v":110.22},{"$f":"ROUND(DarbųĮkainiai2018[[#This Row],[Žemės ūkio mašinos (cisternos) kaina, tūkst. Eur]] * $AG$9,2)","v":0},{"$f":"+DarbųĮkainiai2018[[#This Row],[Išdirbio norma, ha/val.]]","v":0.84},{"$f":"+DarbųĮkainiai2018[[#This Row],[Degalų sąnaudų norma, l/ha]]","v":23.7},{"$f":"ROUND(DarbųĮkainiai2018[[#This Row],[Išlaidos atnaujinimui, Eur/ha]]*1.35,2)","v":48.11},{"$f":"ROUND(DarbųĮkainiai2018[[#This Row],[Išlaidos remontui ir tech. aptarnavimui, Eur/ha]]*$AK$9,2)","v":24.63},{"$f":"ROUND(DarbųĮkainiai2024[[#This Row],[Degalų sąnaudų norma, l/ha]] * $AL$9,2)","v":17.78},{"$f":"ROUND(1/DarbųĮkainiai2024[[#This Row],[Išdirbio norma, ha/val.]]*$AM$9,2)","v":13.23},{"$f":"+DarbųĮkainiai2024[[#This Row],[Išlaidos atnaujinimui, Eur/ha]]+DarbųĮkainiai2024[[#This Row],[Išlaidos remontui ir tech. aptarnavimui, Eur/ha]]+DarbųĮkainiai2024[[#This Row],[Išlaidos degalams ir tepalams, Eur/ha]]+DarbųĮkainiai2024[[#This Row],[Išlaidos darbo užmokesčiui su priskaitymais, Eur/ha]]","v":103.75},{"$f":"ROUND(DarbųĮkainiai2018[[#This Row],[Kitos, Eur/ha]] * $AO$9,2)","v":4.58},{"$f":"+DarbųĮkainiai2024[[#This Row],[Kitos, Eur/ha]]+DarbųĮkainiai2024[[#This Row],[Išlaidos iš viso, Eur/ha]]","v":108.33},{"$f":"ROUND(DarbųĮkainiai2024[[#This Row],[Savikaina, Eur/ha]]*$AQ$9,2)","v":5.42},{"$f":"+DarbųĮkainiai2024[[#This Row],[Pelnas, Eur/ha]]+DarbųĮkainiai2024[[#This Row],[Savikaina, Eur/ha]]","v":113.75},{"$f":"+DarbųĮkainiai2024[[#This Row],[Įkainis, Eur/ha]]-DarbųĮkainiai2024[[#This Row],[Pelnas, Eur/ha]]-DarbųĮkainiai2024[[#This Row],[Išlaidos atnaujinimui, Eur/ha]]","v":60.22},{"$f":"+DarbųĮkainiai2018[[#This Row],[Darbas]]","v":"RAPSŲ DERLIAUS NUĖMIMAS KOMBAINAIS"},2024,{"$f":"+DarbųĮkainiai2018[[#This Row],[Žemės ūkio mašinų kilmė]]","v":"Vakarų Europos"},{"$f":"+DarbųĮkainiai2018[[#This Row],[Papildomas barstytubo parametras, m3]]","v":0},{"$f":"+DarbųĮkainiai2018[[#This Row],[Aktualus darbo pavadinimas]]","v":"Derliaus nuėmimas"},{"$f":"+DarbųĮkainiai2018[[#This Row],[Stulpelis1]]","v":326}]
[{"$f":"ROW()-ROW(DarbųĮkainiai2018[[#Headers],[Eil. Nr.]])","v":75},"Vakarų Europos gamybos kombainais",4.5,2,125,115.56,null,1.31,16.61,31.32,14.11,12.79,7.9,66.12,3.31,69.430000000000007,3.47,72.900000000000006,{"$f":"+DarbųĮkainiai2018[[#This Row],[Įkainis, Eur/ha]]-DarbųĮkainiai2018[[#This Row],[Pelnas, Eur/ha]]-DarbųĮkainiai2018[[#This Row],[Išlaidos atnaujinimui, Eur/ha]]","v":38.110000000000007},"RAPSŲ DERLIAUS NUĖMIMAS KOMBAINAIS",2018,"Vakarų Europos",null,"Derliaus nuėmimas",327,null,{"$f":"ROW()-ROW(DarbųĮkainiai2024[[#Headers],[Eil. Nr.]])","v":75},{"$f":"+DarbųĮkainiai2018[[#This Row],[Žemės ūkio mašina]]","v":"Vakarų Europos gamybos kombainais"},{"$f":"+DarbųĮkainiai2018[[#This Row],[Darbinis plotis, m]]","v":4.5},{"$f":"+DarbųĮkainiai2018[[#This Row],[Tręšimo, išsėjimo, purškimo norma, kg/ha; Derlingumas, t/ha]]","v":2},{"$f":"+DarbųĮkainiai2018[[#This Row],[Traktoriaus (kombaino) galia, kW]]","v":125},{"$f":"ROUND(DarbųĮkainiai2018[[#This Row],[Traktoriaus (kombaino) kaina, tūkst. Eur]]*$AF$9,2)","v":151.04},{"$f":"ROUND(DarbųĮkainiai2018[[#This Row],[Žemės ūkio mašinos (cisternos) kaina, tūkst. Eur]] * $AG$9,2)","v":0},{"$f":"+DarbųĮkainiai2018[[#This Row],[Išdirbio norma, ha/val.]]","v":1.31},{"$f":"+DarbųĮkainiai2018[[#This Row],[Degalų sąnaudų norma, l/ha]]","v":16.61},{"$f":"ROUND(DarbųĮkainiai2018[[#This Row],[Išlaidos atnaujinimui, Eur/ha]]*1.35,2)","v":42.28},{"$f":"ROUND(DarbųĮkainiai2018[[#This Row],[Išlaidos remontui ir tech. aptarnavimui, Eur/ha]]*$AK$9,2)","v":21.64},{"$f":"ROUND(DarbųĮkainiai2024[[#This Row],[Degalų sąnaudų norma, l/ha]] * $AL$9,2)","v":12.46},{"$f":"ROUND(1/DarbųĮkainiai2024[[#This Row],[Išdirbio norma, ha/val.]]*$AM$9,2)","v":8.48},{"$f":"+DarbųĮkainiai2024[[#This Row],[Išlaidos atnaujinimui, Eur/ha]]+DarbųĮkainiai2024[[#This Row],[Išlaidos remontui ir tech. aptarnavimui, Eur/ha]]+DarbųĮkainiai2024[[#This Row],[Išlaidos degalams ir tepalams, Eur/ha]]+DarbųĮkainiai2024[[#This Row],[Išlaidos darbo užmokesčiui su priskaitymais, Eur/ha]]","v":84.86},{"$f":"ROUND(DarbųĮkainiai2018[[#This Row],[Kitos, Eur/ha]] * $AO$9,2)","v":3.69},{"$f":"+DarbųĮkainiai2024[[#This Row],[Kitos, Eur/ha]]+DarbųĮkainiai2024[[#This Row],[Išlaidos iš viso, Eur/ha]]","v":88.55},{"$f":"ROUND(DarbųĮkainiai2024[[#This Row],[Savikaina, Eur/ha]]*$AQ$9,2)","v":4.43},{"$f":"+DarbųĮkainiai2024[[#This Row],[Pelnas, Eur/ha]]+DarbųĮkainiai2024[[#This Row],[Savikaina, Eur/ha]]","v":92.97999999999999},{"$f":"+DarbųĮkainiai2024[[#This Row],[Įkainis, Eur/ha]]-DarbųĮkainiai2024[[#This Row],[Pelnas, Eur/ha]]-DarbųĮkainiai2024[[#This Row],[Išlaidos atnaujinimui, Eur/ha]]","v":46.269999999999982},{"$f":"+DarbųĮkainiai2018[[#This Row],[Darbas]]","v":"RAPSŲ DERLIAUS NUĖMIMAS KOMBAINAIS"},2024,{"$f":"+DarbųĮkainiai2018[[#This Row],[Žemės ūkio mašinų kilmė]]","v":"Vakarų Europos"},{"$f":"+DarbųĮkainiai2018[[#This Row],[Papildomas barstytubo parametras, m3]]","v":0},{"$f":"+DarbųĮkainiai2018[[#This Row],[Aktualus darbo pavadinimas]]","v":"Derliaus nuėmimas"},{"$f":"+DarbųĮkainiai2018[[#This Row],[Stulpelis1]]","v":327}]
[{"$f":"ROW()-ROW(DarbųĮkainiai2018[[#Headers],[Eil. Nr.]])","v":76},"Vakarų Europos gamybos kombainais",4.5,2.5,125,115.56,null,1.29,17.48,31.8,14.33,13.46,8.02,67.62,3.38,71,3.55,74.55,{"$f":"+DarbųĮkainiai2018[[#This Row],[Įkainis, Eur/ha]]-DarbųĮkainiai2018[[#This Row],[Pelnas, Eur/ha]]-DarbųĮkainiai2018[[#This Row],[Išlaidos atnaujinimui, Eur/ha]]","v":39.200000000000003},"RAPSŲ DERLIAUS NUĖMIMAS KOMBAINAIS",2018,"Vakarų Europos",null,"Derliaus nuėmimas",328,null,{"$f":"ROW()-ROW(DarbųĮkainiai2024[[#Headers],[Eil. Nr.]])","v":76},{"$f":"+DarbųĮkainiai2018[[#This Row],[Žemės ūkio mašina]]","v":"Vakarų Europos gamybos kombainais"},{"$f":"+DarbųĮkainiai2018[[#This Row],[Darbinis plotis, m]]","v":4.5},{"$f":"+DarbųĮkainiai2018[[#This Row],[Tręšimo, išsėjimo, purškimo norma, kg/ha; Derlingumas, t/ha]]","v":2.5},{"$f":"+DarbųĮkainiai2018[[#This Row],[Traktoriaus (kombaino) galia, kW]]","v":125},{"$f":"ROUND(DarbųĮkainiai2018[[#This Row],[Traktoriaus (kombaino) kaina, tūkst. Eur]]*$AF$9,2)","v":151.04},{"$f":"ROUND(DarbųĮkainiai2018[[#This Row],[Žemės ūkio mašinos (cisternos) kaina, tūkst. Eur]] * $AG$9,2)","v":0},{"$f":"+DarbųĮkainiai2018[[#This Row],[Išdirbio norma, ha/val.]]","v":1.29},{"$f":"+DarbųĮkainiai2018[[#This Row],[Degalų sąnaudų norma, l/ha]]","v":17.48},{"$f":"ROUND(DarbųĮkainiai2018[[#This Row],[Išlaidos atnaujinimui, Eur/ha]]*1.35,2)","v":42.93},{"$f":"ROUND(DarbųĮkainiai2018[[#This Row],[Išlaidos remontui ir tech. aptarnavimui, Eur/ha]]*$AK$9,2)","v":21.98},{"$f":"ROUND(DarbųĮkainiai2024[[#This Row],[Degalų sąnaudų norma, l/ha]] * $AL$9,2)","v":13.11},{"$f":"ROUND(1/DarbųĮkainiai2024[[#This Row],[Išdirbio norma, ha/val.]]*$AM$9,2)","v":8.61},{"$f":"+DarbųĮkainiai2024[[#This Row],[Išlaidos atnaujinimui, Eur/ha]]+DarbųĮkainiai2024[[#This Row],[Išlaidos remontui ir tech. aptarnavimui, Eur/ha]]+DarbųĮkainiai2024[[#This Row],[Išlaidos degalams ir tepalams, Eur/ha]]+DarbųĮkainiai2024[[#This Row],[Išlaidos darbo užmokesčiui su priskaitymais, Eur/ha]]","v":86.63},{"$f":"ROUND(DarbųĮkainiai2018[[#This Row],[Kitos, Eur/ha]] * $AO$9,2)","v":3.77},{"$f":"+DarbųĮkainiai2024[[#This Row],[Kitos, Eur/ha]]+DarbųĮkainiai2024[[#This Row],[Išlaidos iš viso, Eur/ha]]","v":90.399999999999991},{"$f":"ROUND(DarbųĮkainiai2024[[#This Row],[Savikaina, Eur/ha]]*$AQ$9,2)","v":4.5199999999999996},{"$f":"+DarbųĮkainiai2024[[#This Row],[Pelnas, Eur/ha]]+DarbųĮkainiai2024[[#This Row],[Savikaina, Eur/ha]]","v":94.919999999999987},{"$f":"+DarbųĮkainiai2024[[#This Row],[Įkainis, Eur/ha]]-DarbųĮkainiai2024[[#This Row],[Pelnas, Eur/ha]]-DarbųĮkainiai2024[[#This Row],[Išlaidos atnaujinimui, Eur/ha]]","v":47.469999999999992},{"$f":"+DarbųĮkainiai2018[[#This Row],[Darbas]]","v":"RAPSŲ DERLIAUS NUĖMIMAS KOMBAINAIS"},2024,{"$f":"+DarbųĮkainiai2018[[#This Row],[Žemės ūkio mašinų kilmė]]","v":"Vakarų Europos"},{"$f":"+DarbųĮkainiai2018[[#This Row],[Papildomas barstytubo parametras, m3]]","v":0},{"$f":"+DarbųĮkainiai2018[[#This Row],[Aktualus darbo pavadinimas]]","v":"Derliaus nuėmimas"},{"$f":"+DarbųĮkainiai2018[[#This Row],[Stulpelis1]]","v":328}]
[{"$f":"ROW()-ROW(DarbųĮkainiai2018[[#Headers],[Eil. Nr.]])","v":77},"Vakarų Europos gamybos kombainais",4.5,3,125,115.56,null,1.27,18.350000000000001,32.299999999999997,14.56,14.13,8.15,69.14,3.46,72.599999999999994,3.63,76.23,{"$f":"+DarbųĮkainiai2018[[#This Row],[Įkainis, Eur/ha]]-DarbųĮkainiai2018[[#This Row],[Pelnas, Eur/ha]]-DarbųĮkainiai2018[[#This Row],[Išlaidos atnaujinimui, Eur/ha]]","v":40.300000000000011},"RAPSŲ DERLIAUS NUĖMIMAS KOMBAINAIS",2018,"Vakarų Europos",null,"Derliaus nuėmimas",329,null,{"$f":"ROW()-ROW(DarbųĮkainiai2024[[#Headers],[Eil. Nr.]])","v":77},{"$f":"+DarbųĮkainiai2018[[#This Row],[Žemės ūkio mašina]]","v":"Vakarų Europos gamybos kombainais"},{"$f":"+DarbųĮkainiai2018[[#This Row],[Darbinis plotis, m]]","v":4.5},{"$f":"+DarbųĮkainiai2018[[#This Row],[Tręšimo, išsėjimo, purškimo norma, kg/ha; Derlingumas, t/ha]]","v":3},{"$f":"+DarbųĮkainiai2018[[#This Row],[Traktoriaus (kombaino) galia, kW]]","v":125},{"$f":"ROUND(DarbųĮkainiai2018[[#This Row],[Traktoriaus (kombaino) kaina, tūkst. Eur]]*$AF$9,2)","v":151.04},{"$f":"ROUND(DarbųĮkainiai2018[[#This Row],[Žemės ūkio mašinos (cisternos) kaina, tūkst. Eur]] * $AG$9,2)","v":0},{"$f":"+DarbųĮkainiai2018[[#This Row],[Išdirbio norma, ha/val.]]","v":1.27},{"$f":"+DarbųĮkainiai2018[[#This Row],[Degalų sąnaudų norma, l/ha]]","v":18.350000000000001},{"$f":"ROUND(DarbųĮkainiai2018[[#This Row],[Išlaidos atnaujinimui, Eur/ha]]*1.35,2)","v":43.61},{"$f":"ROUND(DarbųĮkainiai2018[[#This Row],[Išlaidos remontui ir tech. aptarnavimui, Eur/ha]]*$AK$9,2)","v":22.33},{"$f":"ROUND(DarbųĮkainiai2024[[#This Row],[Degalų sąnaudų norma, l/ha]] * $AL$9,2)","v":13.76},{"$f":"ROUND(1/DarbųĮkainiai2024[[#This Row],[Išdirbio norma, ha/val.]]*$AM$9,2)","v":8.75},{"$f":"+DarbųĮkainiai2024[[#This Row],[Išlaidos atnaujinimui, Eur/ha]]+DarbųĮkainiai2024[[#This Row],[Išlaidos remontui ir tech. aptarnavimui, Eur/ha]]+DarbųĮkainiai2024[[#This Row],[Išlaidos degalams ir tepalams, Eur/ha]]+DarbųĮkainiai2024[[#This Row],[Išlaidos darbo užmokesčiui su priskaitymais, Eur/ha]]","v":88.45},{"$f":"ROUND(DarbųĮkainiai2018[[#This Row],[Kitos, Eur/ha]] * $AO$9,2)","v":3.86},{"$f":"+DarbųĮkainiai2024[[#This Row],[Kitos, Eur/ha]]+DarbųĮkainiai2024[[#This Row],[Išlaidos iš viso, Eur/ha]]","v":92.31},{"$f":"ROUND(DarbųĮkainiai2024[[#This Row],[Savikaina, Eur/ha]]*$AQ$9,2)","v":4.62},{"$f":"+DarbųĮkainiai2024[[#This Row],[Pelnas, Eur/ha]]+DarbųĮkainiai2024[[#This Row],[Savikaina, Eur/ha]]","v":96.93},{"$f":"+DarbųĮkainiai2024[[#This Row],[Įkainis, Eur/ha]]-DarbųĮkainiai2024[[#This Row],[Pelnas, Eur/ha]]-DarbųĮkainiai2024[[#This Row],[Išlaidos atnaujinimui, Eur/ha]]","v":48.7},{"$f":"+DarbųĮkainiai2018[[#This Row],[Darbas]]","v":"RAPSŲ DERLIAUS NUĖMIMAS KOMBAINAIS"},2024,{"$f":"+DarbųĮkainiai2018[[#This Row],[Žemės ūkio mašinų kilmė]]","v":"Vakarų Europos"},{"$f":"+DarbųĮkainiai2018[[#This Row],[Papildomas barstytubo parametras, m3]]","v":0},{"$f":"+DarbųĮkainiai2018[[#This Row],[Aktualus darbo pavadinimas]]","v":"Derliaus nuėmimas"},{"$f":"+DarbųĮkainiai2018[[#This Row],[Stulpelis1]]","v":329}]
[{"$f":"ROW()-ROW(DarbųĮkainiai2018[[#Headers],[Eil. Nr.]])","v":78},"Vakarų Europos gamybos kombainais",4.5,3.5,125,115.56,null,1.26,19.170000000000002,32.56,14.67,14.76,8.2100000000000009,70.209999999999994,3.51,73.72,3.69,77.400000000000006,{"$f":"+DarbųĮkainiai2018[[#This Row],[Įkainis, Eur/ha]]-DarbųĮkainiai2018[[#This Row],[Pelnas, Eur/ha]]-DarbųĮkainiai2018[[#This Row],[Išlaidos atnaujinimui, Eur/ha]]","v":41.150000000000006},"RAPSŲ DERLIAUS NUĖMIMAS KOMBAINAIS",2018,"Vakarų Europos",null,"Derliaus nuėmimas",330,null,{"$f":"ROW()-ROW(DarbųĮkainiai2024[[#Headers],[Eil. Nr.]])","v":78},{"$f":"+DarbųĮkainiai2018[[#This Row],[Žemės ūkio mašina]]","v":"Vakarų Europos gamybos kombainais"},{"$f":"+DarbųĮkainiai2018[[#This Row],[Darbinis plotis, m]]","v":4.5},{"$f":"+DarbųĮkainiai2018[[#This Row],[Tręšimo, išsėjimo, purškimo norma, kg/ha; Derlingumas, t/ha]]","v":3.5},{"$f":"+DarbųĮkainiai2018[[#This Row],[Traktoriaus (kombaino) galia, kW]]","v":125},{"$f":"ROUND(DarbųĮkainiai2018[[#This Row],[Traktoriaus (kombaino) kaina, tūkst. Eur]]*$AF$9,2)","v":151.04},{"$f":"ROUND(DarbųĮkainiai2018[[#This Row],[Žemės ūkio mašinos (cisternos) kaina, tūkst. Eur]] * $AG$9,2)","v":0},{"$f":"+DarbųĮkainiai2018[[#This Row],[Išdirbio norma, ha/val.]]","v":1.26},{"$f":"+DarbųĮkainiai2018[[#This Row],[Degalų sąnaudų norma, l/ha]]","v":19.170000000000002},{"$f":"ROUND(DarbųĮkainiai2018[[#This Row],[Išlaidos atnaujinimui, Eur/ha]]*1.35,2)","v":43.96},{"$f":"ROUND(DarbųĮkainiai2018[[#This Row],[Išlaidos remontui ir tech. aptarnavimui, Eur/ha]]*$AK$9,2)","v":22.5},{"$f":"ROUND(DarbųĮkainiai2024[[#This Row],[Degalų sąnaudų norma, l/ha]] * $AL$9,2)","v":14.38},{"$f":"ROUND(1/DarbųĮkainiai2024[[#This Row],[Išdirbio norma, ha/val.]]*$AM$9,2)","v":8.82},{"$f":"+DarbųĮkainiai2024[[#This Row],[Išlaidos atnaujinimui, Eur/ha]]+DarbųĮkainiai2024[[#This Row],[Išlaidos remontui ir tech. aptarnavimui, Eur/ha]]+DarbųĮkainiai2024[[#This Row],[Išlaidos degalams ir tepalams, Eur/ha]]+DarbųĮkainiai2024[[#This Row],[Išlaidos darbo užmokesčiui su priskaitymais, Eur/ha]]","v":89.66},{"$f":"ROUND(DarbųĮkainiai2018[[#This Row],[Kitos, Eur/ha]] * $AO$9,2)","v":3.91},{"$f":"+DarbųĮkainiai2024[[#This Row],[Kitos, Eur/ha]]+DarbųĮkainiai2024[[#This Row],[Išlaidos iš viso, Eur/ha]]","v":93.57},{"$f":"ROUND(DarbųĮkainiai2024[[#This Row],[Savikaina, Eur/ha]]*$AQ$9,2)","v":4.68},{"$f":"+DarbųĮkainiai2024[[#This Row],[Pelnas, Eur/ha]]+DarbųĮkainiai2024[[#This Row],[Savikaina, Eur/ha]]","v":98.25},{"$f":"+DarbųĮkainiai2024[[#This Row],[Įkainis, Eur/ha]]-DarbųĮkainiai2024[[#This Row],[Pelnas, Eur/ha]]-DarbųĮkainiai2024[[#This Row],[Išlaidos atnaujinimui, Eur/ha]]","v":49.609999999999992},{"$f":"+DarbųĮkainiai2018[[#This Row],[Darbas]]","v":"RAPSŲ DERLIAUS NUĖMIMAS KOMBAINAIS"},2024,{"$f":"+DarbųĮkainiai2018[[#This Row],[Žemės ūkio mašinų kilmė]]","v":"Vakarų Europos"},{"$f":"+DarbųĮkainiai2018[[#This Row],[Papildomas barstytubo parametras, m3]]","v":0},{"$f":"+DarbųĮkainiai2018[[#This Row],[Aktualus darbo pavadinimas]]","v":"Derliaus nuėmimas"},{"$f":"+DarbųĮkainiai2018[[#This Row],[Stulpelis1]]","v":330}]
[{"$f":"ROW()-ROW(DarbųĮkainiai2018[[#Headers],[Eil. Nr.]])","v":79},"Vakarų Europos gamybos kombainais",4.5,4,125,115.56,null,1.24,20.05,33.08,14.91,15.44,8.35,71.78,3.59,75.37,3.77,79.14,{"$f":"+DarbųĮkainiai2018[[#This Row],[Įkainis, Eur/ha]]-DarbųĮkainiai2018[[#This Row],[Pelnas, Eur/ha]]-DarbųĮkainiai2018[[#This Row],[Išlaidos atnaujinimui, Eur/ha]]","v":42.290000000000006},"RAPSŲ DERLIAUS NUĖMIMAS KOMBAINAIS",2018,"Vakarų Europos",null,"Derliaus nuėmimas",331,null,{"$f":"ROW()-ROW(DarbųĮkainiai2024[[#Headers],[Eil. Nr.]])","v":79},{"$f":"+DarbųĮkainiai2018[[#This Row],[Žemės ūkio mašina]]","v":"Vakarų Europos gamybos kombainais"},{"$f":"+DarbųĮkainiai2018[[#This Row],[Darbinis plotis, m]]","v":4.5},{"$f":"+DarbųĮkainiai2018[[#This Row],[Tręšimo, išsėjimo, purškimo norma, kg/ha; Derlingumas, t/ha]]","v":4},{"$f":"+DarbųĮkainiai2018[[#This Row],[Traktoriaus (kombaino) galia, kW]]","v":125},{"$f":"ROUND(DarbųĮkainiai2018[[#This Row],[Traktoriaus (kombaino) kaina, tūkst. Eur]]*$AF$9,2)","v":151.04},{"$f":"ROUND(DarbųĮkainiai2018[[#This Row],[Žemės ūkio mašinos (cisternos) kaina, tūkst. Eur]] * $AG$9,2)","v":0},{"$f":"+DarbųĮkainiai2018[[#This Row],[Išdirbio norma, ha/val.]]","v":1.24},{"$f":"+DarbųĮkainiai2018[[#This Row],[Degalų sąnaudų norma, l/ha]]","v":20.05},{"$f":"ROUND(DarbųĮkainiai2018[[#This Row],[Išlaidos atnaujinimui, Eur/ha]]*1.35,2)","v":44.66},{"$f":"ROUND(DarbųĮkainiai2018[[#This Row],[Išlaidos remontui ir tech. aptarnavimui, Eur/ha]]*$AK$9,2)","v":22.87},{"$f":"ROUND(DarbųĮkainiai2024[[#This Row],[Degalų sąnaudų norma, l/ha]] * $AL$9,2)","v":15.04},{"$f":"ROUND(1/DarbųĮkainiai2024[[#This Row],[Išdirbio norma, ha/val.]]*$AM$9,2)","v":8.9600000000000009},{"$f":"+DarbųĮkainiai2024[[#This Row],[Išlaidos atnaujinimui, Eur/ha]]+DarbųĮkainiai2024[[#This Row],[Išlaidos remontui ir tech. aptarnavimui, Eur/ha]]+DarbųĮkainiai2024[[#This Row],[Išlaidos degalams ir tepalams, Eur/ha]]+DarbųĮkainiai2024[[#This Row],[Išlaidos darbo užmokesčiui su priskaitymais, Eur/ha]]","v":91.53},{"$f":"ROUND(DarbųĮkainiai2018[[#This Row],[Kitos, Eur/ha]] * $AO$9,2)","v":4},{"$f":"+DarbųĮkainiai2024[[#This Row],[Kitos, Eur/ha]]+DarbųĮkainiai2024[[#This Row],[Išlaidos iš viso, Eur/ha]]","v":95.53},{"$f":"ROUND(DarbųĮkainiai2024[[#This Row],[Savikaina, Eur/ha]]*$AQ$9,2)","v":4.78},{"$f":"+DarbųĮkainiai2024[[#This Row],[Pelnas, Eur/ha]]+DarbųĮkainiai2024[[#This Row],[Savikaina, Eur/ha]]","v":100.31},{"$f":"+DarbųĮkainiai2024[[#This Row],[Įkainis, Eur/ha]]-DarbųĮkainiai2024[[#This Row],[Pelnas, Eur/ha]]-DarbųĮkainiai2024[[#This Row],[Išlaidos atnaujinimui, Eur/ha]]","v":50.870000000000005},{"$f":"+DarbųĮkainiai2018[[#This Row],[Darbas]]","v":"RAPSŲ DERLIAUS NUĖMIMAS KOMBAINAIS"},2024,{"$f":"+DarbųĮkainiai2018[[#This Row],[Žemės ūkio mašinų kilmė]]","v":"Vakarų Europos"},{"$f":"+DarbųĮkainiai2018[[#This Row],[Papildomas barstytubo parametras, m3]]","v":0},{"$f":"+DarbųĮkainiai2018[[#This Row],[Aktualus darbo pavadinimas]]","v":"Derliaus nuėmimas"},{"$f":"+DarbųĮkainiai2018[[#This Row],[Stulpelis1]]","v":331}]
[{"$f":"ROW()-ROW(DarbųĮkainiai2018[[#Headers],[Eil. Nr.]])","v":80},"Vakarų Europos gamybos kombainais",5,2,150,137.63,null,1.46,16.52,33.46,15.08,12.72,7.09,68.36,3.42,71.77,3.59,75.36,{"$f":"+DarbųĮkainiai2018[[#This Row],[Įkainis, Eur/ha]]-DarbųĮkainiai2018[[#This Row],[Pelnas, Eur/ha]]-DarbųĮkainiai2018[[#This Row],[Išlaidos atnaujinimui, Eur/ha]]","v":38.309999999999995},"RAPSŲ DERLIAUS NUĖMIMAS KOMBAINAIS",2018,"Vakarų Europos",null,"Derliaus nuėmimas",332,null,{"$f":"ROW()-ROW(DarbųĮkainiai2024[[#Headers],[Eil. Nr.]])","v":80},{"$f":"+DarbųĮkainiai2018[[#This Row],[Žemės ūkio mašina]]","v":"Vakarų Europos gamybos kombainais"},{"$f":"+DarbųĮkainiai2018[[#This Row],[Darbinis plotis, m]]","v":5},{"$f":"+DarbųĮkainiai2018[[#This Row],[Tręšimo, išsėjimo, purškimo norma, kg/ha; Derlingumas, t/ha]]","v":2},{"$f":"+DarbųĮkainiai2018[[#This Row],[Traktoriaus (kombaino) galia, kW]]","v":150},{"$f":"ROUND(DarbųĮkainiai2018[[#This Row],[Traktoriaus (kombaino) kaina, tūkst. Eur]]*$AF$9,2)","v":179.88},{"$f":"ROUND(DarbųĮkainiai2018[[#This Row],[Žemės ūkio mašinos (cisternos) kaina, tūkst. Eur]] * $AG$9,2)","v":0},{"$f":"+DarbųĮkainiai2018[[#This Row],[Išdirbio norma, ha/val.]]","v":1.46},{"$f":"+DarbųĮkainiai2018[[#This Row],[Degalų sąnaudų norma, l/ha]]","v":16.52},{"$f":"ROUND(DarbųĮkainiai2018[[#This Row],[Išlaidos atnaujinimui, Eur/ha]]*1.35,2)","v":45.17},{"$f":"ROUND(DarbųĮkainiai2018[[#This Row],[Išlaidos remontui ir tech. aptarnavimui, Eur/ha]]*$AK$9,2)","v":23.13},{"$f":"ROUND(DarbųĮkainiai2024[[#This Row],[Degalų sąnaudų norma, l/ha]] * $AL$9,2)","v":12.39},{"$f":"ROUND(1/DarbųĮkainiai2024[[#This Row],[Išdirbio norma, ha/val.]]*$AM$9,2)","v":7.61},{"$f":"+DarbųĮkainiai2024[[#This Row],[Išlaidos atnaujinimui, Eur/ha]]+DarbųĮkainiai2024[[#This Row],[Išlaidos remontui ir tech. aptarnavimui, Eur/ha]]+DarbųĮkainiai2024[[#This Row],[Išlaidos degalams ir tepalams, Eur/ha]]+DarbųĮkainiai2024[[#This Row],[Išlaidos darbo užmokesčiui su priskaitymais, Eur/ha]]","v":88.3},{"$f":"ROUND(DarbųĮkainiai2018[[#This Row],[Kitos, Eur/ha]] * $AO$9,2)","v":3.81},{"$f":"+DarbųĮkainiai2024[[#This Row],[Kitos, Eur/ha]]+DarbųĮkainiai2024[[#This Row],[Išlaidos iš viso, Eur/ha]]","v":92.11},{"$f":"ROUND(DarbųĮkainiai2024[[#This Row],[Savikaina, Eur/ha]]*$AQ$9,2)","v":4.6100000000000003},{"$f":"+DarbųĮkainiai2024[[#This Row],[Pelnas, Eur/ha]]+DarbųĮkainiai2024[[#This Row],[Savikaina, Eur/ha]]","v":96.72},{"$f":"+DarbųĮkainiai2024[[#This Row],[Įkainis, Eur/ha]]-DarbųĮkainiai2024[[#This Row],[Pelnas, Eur/ha]]-DarbųĮkainiai2024[[#This Row],[Išlaidos atnaujinimui, Eur/ha]]","v":46.94},{"$f":"+DarbųĮkainiai2018[[#This Row],[Darbas]]","v":"RAPSŲ DERLIAUS NUĖMIMAS KOMBAINAIS"},2024,{"$f":"+DarbųĮkainiai2018[[#This Row],[Žemės ūkio mašinų kilmė]]","v":"Vakarų Europos"},{"$f":"+DarbųĮkainiai2018[[#This Row],[Papildomas barstytubo parametras, m3]]","v":0},{"$f":"+DarbųĮkainiai2018[[#This Row],[Aktualus darbo pavadinimas]]","v":"Derliaus nuėmimas"},{"$f":"+DarbųĮkainiai2018[[#This Row],[Stulpelis1]]","v":332}]
[{"$f":"ROW()-ROW(DarbųĮkainiai2018[[#Headers],[Eil. Nr.]])","v":81},"Vakarų Europos gamybos kombainais",5,2.5,150,137.63,null,1.45,17.399999999999999,33.700000000000003,15.19,13.4,7.14,69.42,3.47,72.89,3.64,76.53,{"$f":"+DarbųĮkainiai2018[[#This Row],[Įkainis, Eur/ha]]-DarbųĮkainiai2018[[#This Row],[Pelnas, Eur/ha]]-DarbųĮkainiai2018[[#This Row],[Išlaidos atnaujinimui, Eur/ha]]","v":39.19},"RAPSŲ DERLIAUS NUĖMIMAS KOMBAINAIS",2018,"Vakarų Europos",null,"Derliaus nuėmimas",333,null,{"$f":"ROW()-ROW(DarbųĮkainiai2024[[#Headers],[Eil. Nr.]])","v":81},{"$f":"+DarbųĮkainiai2018[[#This Row],[Žemės ūkio mašina]]","v":"Vakarų Europos gamybos kombainais"},{"$f":"+DarbųĮkainiai2018[[#This Row],[Darbinis plotis, m]]","v":5},{"$f":"+DarbųĮkainiai2018[[#This Row],[Tręšimo, išsėjimo, purškimo norma, kg/ha; Derlingumas, t/ha]]","v":2.5},{"$f":"+DarbųĮkainiai2018[[#This Row],[Traktoriaus (kombaino) galia, kW]]","v":150},{"$f":"ROUND(DarbųĮkainiai2018[[#This Row],[Traktoriaus (kombaino) kaina, tūkst. Eur]]*$AF$9,2)","v":179.88},{"$f":"ROUND(DarbųĮkainiai2018[[#This Row],[Žemės ūkio mašinos (cisternos) kaina, tūkst. Eur]] * $AG$9,2)","v":0},{"$f":"+DarbųĮkainiai2018[[#This Row],[Išdirbio norma, ha/val.]]","v":1.45},{"$f":"+DarbųĮkainiai2018[[#This Row],[Degalų sąnaudų norma, l/ha]]","v":17.399999999999999},{"$f":"ROUND(DarbųĮkainiai2018[[#This Row],[Išlaidos atnaujinimui, Eur/ha]]*1.35,2)","v":45.5},{"$f":"ROUND(DarbųĮkainiai2018[[#This Row],[Išlaidos remontui ir tech. aptarnavimui, Eur/ha]]*$AK$9,2)","v":23.3},{"$f":"ROUND(DarbųĮkainiai2024[[#This Row],[Degalų sąnaudų norma, l/ha]] * $AL$9,2)","v":13.05},{"$f":"ROUND(1/DarbųĮkainiai2024[[#This Row],[Išdirbio norma, ha/val.]]*$AM$9,2)","v":7.66},{"$f":"+DarbųĮkainiai2024[[#This Row],[Išlaidos atnaujinimui, Eur/ha]]+DarbųĮkainiai2024[[#This Row],[Išlaidos remontui ir tech. aptarnavimui, Eur/ha]]+DarbųĮkainiai2024[[#This Row],[Išlaidos degalams ir tepalams, Eur/ha]]+DarbųĮkainiai2024[[#This Row],[Išlaidos darbo užmokesčiui su priskaitymais, Eur/ha]]","v":89.509999999999991},{"$f":"ROUND(DarbųĮkainiai2018[[#This Row],[Kitos, Eur/ha]] * $AO$9,2)","v":3.87},{"$f":"+DarbųĮkainiai2024[[#This Row],[Kitos, Eur/ha]]+DarbųĮkainiai2024[[#This Row],[Išlaidos iš viso, Eur/ha]]","v":93.38},{"$f":"ROUND(DarbųĮkainiai2024[[#This Row],[Savikaina, Eur/ha]]*$AQ$9,2)","v":4.67},{"$f":"+DarbųĮkainiai2024[[#This Row],[Pelnas, Eur/ha]]+DarbųĮkainiai2024[[#This Row],[Savikaina, Eur/ha]]","v":98.05},{"$f":"+DarbųĮkainiai2024[[#This Row],[Įkainis, Eur/ha]]-DarbųĮkainiai2024[[#This Row],[Pelnas, Eur/ha]]-DarbųĮkainiai2024[[#This Row],[Išlaidos atnaujinimui, Eur/ha]]","v":47.879999999999995},{"$f":"+DarbųĮkainiai2018[[#This Row],[Darbas]]","v":"RAPSŲ DERLIAUS NUĖMIMAS KOMBAINAIS"},2024,{"$f":"+DarbųĮkainiai2018[[#This Row],[Žemės ūkio mašinų kilmė]]","v":"Vakarų Europos"},{"$f":"+DarbųĮkainiai2018[[#This Row],[Papildomas barstytubo parametras, m3]]","v":0},{"$f":"+DarbųĮkainiai2018[[#This Row],[Aktualus darbo pavadinimas]]","v":"Derliaus nuėmimas"},{"$f":"+DarbųĮkainiai2018[[#This Row],[Stulpelis1]]","v":333}]
[{"$f":"ROW()-ROW(DarbųĮkainiai2018[[#Headers],[Eil. Nr.]])","v":82},"Vakarų Europos gamybos kombainais",5,3,150,137.63,null,1.43,18.28,34.17,15.4,14.08,7.24,70.88,3.54,74.42,3.72,78.14,{"$f":"+DarbųĮkainiai2018[[#This Row],[Įkainis, Eur/ha]]-DarbųĮkainiai2018[[#This Row],[Pelnas, Eur/ha]]-DarbųĮkainiai2018[[#This Row],[Išlaidos atnaujinimui, Eur/ha]]","v":40.25},"RAPSŲ DERLIAUS NUĖMIMAS KOMBAINAIS",2018,"Vakarų Europos",null,"Derliaus nuėmimas",334,null,{"$f":"ROW()-ROW(DarbųĮkainiai2024[[#Headers],[Eil. Nr.]])","v":82},{"$f":"+DarbųĮkainiai2018[[#This Row],[Žemės ūkio mašina]]","v":"Vakarų Europos gamybos kombainais"},{"$f":"+DarbųĮkainiai2018[[#This Row],[Darbinis plotis, m]]","v":5},{"$f":"+DarbųĮkainiai2018[[#This Row],[Tręšimo, išsėjimo, purškimo norma, kg/ha; Derlingumas, t/ha]]","v":3},{"$f":"+DarbųĮkainiai2018[[#This Row],[Traktoriaus (kombaino) galia, kW]]","v":150},{"$f":"ROUND(DarbųĮkainiai2018[[#This Row],[Traktoriaus (kombaino) kaina, tūkst. Eur]]*$AF$9,2)","v":179.88},{"$f":"ROUND(DarbųĮkainiai2018[[#This Row],[Žemės ūkio mašinos (cisternos) kaina, tūkst. Eur]] * $AG$9,2)","v":0},{"$f":"+DarbųĮkainiai2018[[#This Row],[Išdirbio norma, ha/val.]]","v":1.43},{"$f":"+DarbųĮkainiai2018[[#This Row],[Degalų sąnaudų norma, l/ha]]","v":18.28},{"$f":"ROUND(DarbųĮkainiai2018[[#This Row],[Išlaidos atnaujinimui, Eur/ha]]*1.35,2)","v":46.13},{"$f":"ROUND(DarbųĮkainiai2018[[#This Row],[Išlaidos remontui ir tech. aptarnavimui, Eur/ha]]*$AK$9,2)","v":23.62},{"$f":"ROUND(DarbųĮkainiai2024[[#This Row],[Degalų sąnaudų norma, l/ha]] * $AL$9,2)","v":13.71},{"$f":"ROUND(1/DarbųĮkainiai2024[[#This Row],[Išdirbio norma, ha/val.]]*$AM$9,2)","v":7.77},{"$f":"+DarbųĮkainiai2024[[#This Row],[Išlaidos atnaujinimui, Eur/ha]]+DarbųĮkainiai2024[[#This Row],[Išlaidos remontui ir tech. aptarnavimui, Eur/ha]]+DarbųĮkainiai2024[[#This Row],[Išlaidos degalams ir tepalams, Eur/ha]]+DarbųĮkainiai2024[[#This Row],[Išlaidos darbo užmokesčiui su priskaitymais, Eur/ha]]","v":91.23},{"$f":"ROUND(DarbųĮkainiai2018[[#This Row],[Kitos, Eur/ha]] * $AO$9,2)","v":3.95},{"$f":"+DarbųĮkainiai2024[[#This Row],[Kitos, Eur/ha]]+DarbųĮkainiai2024[[#This Row],[Išlaidos iš viso, Eur/ha]]","v":95.18},{"$f":"ROUND(DarbųĮkainiai2024[[#This Row],[Savikaina, Eur/ha]]*$AQ$9,2)","v":4.76},{"$f":"+DarbųĮkainiai2024[[#This Row],[Pelnas, Eur/ha]]+DarbųĮkainiai2024[[#This Row],[Savikaina, Eur/ha]]","v":99.940000000000012},{"$f":"+DarbųĮkainiai2024[[#This Row],[Įkainis, Eur/ha]]-DarbųĮkainiai2024[[#This Row],[Pelnas, Eur/ha]]-DarbųĮkainiai2024[[#This Row],[Išlaidos atnaujinimui, Eur/ha]]","v":49.050000000000004},{"$f":"+DarbųĮkainiai2018[[#This Row],[Darbas]]","v":"RAPSŲ DERLIAUS NUĖMIMAS KOMBAINAIS"},2024,{"$f":"+DarbųĮkainiai2018[[#This Row],[Žemės ūkio mašinų kilmė]]","v":"Vakarų Europos"},{"$f":"+DarbųĮkainiai2018[[#This Row],[Papildomas barstytubo parametras, m3]]","v":0},{"$f":"+DarbųĮkainiai2018[[#This Row],[Aktualus darbo pavadinimas]]","v":"Derliaus nuėmimas"},{"$f":"+DarbųĮkainiai2018[[#This Row],[Stulpelis1]]","v":334}]
[{"$f":"ROW()-ROW(DarbųĮkainiai2018[[#Headers],[Eil. Nr.]])","v":83},"Vakarų Europos gamybos kombainais",5,3.5,150,137.63,null,1.41,19.16,34.65,15.62,14.75,7.34,72.36,3.62,75.98,3.8,79.78,{"$f":"+DarbųĮkainiai2018[[#This Row],[Įkainis, Eur/ha]]-DarbųĮkainiai2018[[#This Row],[Pelnas, Eur/ha]]-DarbųĮkainiai2018[[#This Row],[Išlaidos atnaujinimui, Eur/ha]]","v":41.330000000000005},"RAPSŲ DERLIAUS NUĖMIMAS KOMBAINAIS",2018,"Vakarų Europos",null,"Derliaus nuėmimas",335,null,{"$f":"ROW()-ROW(DarbųĮkainiai2024[[#Headers],[Eil. Nr.]])","v":83},{"$f":"+DarbųĮkainiai2018[[#This Row],[Žemės ūkio mašina]]","v":"Vakarų Europos gamybos kombainais"},{"$f":"+DarbųĮkainiai2018[[#This Row],[Darbinis plotis, m]]","v":5},{"$f":"+DarbųĮkainiai2018[[#This Row],[Tręšimo, išsėjimo, purškimo norma, kg/ha; Derlingumas, t/ha]]","v":3.5},{"$f":"+DarbųĮkainiai2018[[#This Row],[Traktoriaus (kombaino) galia, kW]]","v":150},{"$f":"ROUND(DarbųĮkainiai2018[[#This Row],[Traktoriaus (kombaino) kaina, tūkst. Eur]]*$AF$9,2)","v":179.88},{"$f":"ROUND(DarbųĮkainiai2018[[#This Row],[Žemės ūkio mašinos (cisternos) kaina, tūkst. Eur]] * $AG$9,2)","v":0},{"$f":"+DarbųĮkainiai2018[[#This Row],[Išdirbio norma, ha/val.]]","v":1.41},{"$f":"+DarbųĮkainiai2018[[#This Row],[Degalų sąnaudų norma, l/ha]]","v":19.16},{"$f":"ROUND(DarbųĮkainiai2018[[#This Row],[Išlaidos atnaujinimui, Eur/ha]]*1.35,2)","v":46.78},{"$f":"ROUND(DarbųĮkainiai2018[[#This Row],[Išlaidos remontui ir tech. aptarnavimui, Eur/ha]]*$AK$9,2)","v":23.96},{"$f":"ROUND(DarbųĮkainiai2024[[#This Row],[Degalų sąnaudų norma, l/ha]] * $AL$9,2)","v":14.37},{"$f":"ROUND(1/DarbųĮkainiai2024[[#This Row],[Išdirbio norma, ha/val.]]*$AM$9,2)","v":7.88},{"$f":"+DarbųĮkainiai2024[[#This Row],[Išlaidos atnaujinimui, Eur/ha]]+DarbųĮkainiai2024[[#This Row],[Išlaidos remontui ir tech. aptarnavimui, Eur/ha]]+DarbųĮkainiai2024[[#This Row],[Išlaidos degalams ir tepalams, Eur/ha]]+DarbųĮkainiai2024[[#This Row],[Išlaidos darbo užmokesčiui su priskaitymais, Eur/ha]]","v":92.990000000000009},{"$f":"ROUND(DarbųĮkainiai2018[[#This Row],[Kitos, Eur/ha]] * $AO$9,2)","v":4.04},{"$f":"+DarbųĮkainiai2024[[#This Row],[Kitos, Eur/ha]]+DarbųĮkainiai2024[[#This Row],[Išlaidos iš viso, Eur/ha]]","v":97.030000000000015},{"$f":"ROUND(DarbųĮkainiai2024[[#This Row],[Savikaina, Eur/ha]]*$AQ$9,2)","v":4.8499999999999996},{"$f":"+DarbųĮkainiai2024[[#This Row],[Pelnas, Eur/ha]]+DarbųĮkainiai2024[[#This Row],[Savikaina, Eur/ha]]","v":101.88000000000001},{"$f":"+DarbųĮkainiai2024[[#This Row],[Įkainis, Eur/ha]]-DarbųĮkainiai2024[[#This Row],[Pelnas, Eur/ha]]-DarbųĮkainiai2024[[#This Row],[Išlaidos atnaujinimui, Eur/ha]]","v":50.250000000000014},{"$f":"+DarbųĮkainiai2018[[#This Row],[Darbas]]","v":"RAPSŲ DERLIAUS NUĖMIMAS KOMBAINAIS"},2024,{"$f":"+DarbųĮkainiai2018[[#This Row],[Žemės ūkio mašinų kilmė]]","v":"Vakarų Europos"},{"$f":"+DarbųĮkainiai2018[[#This Row],[Papildomas barstytubo parametras, m3]]","v":0},{"$f":"+DarbųĮkainiai2018[[#This Row],[Aktualus darbo pavadinimas]]","v":"Derliaus nuėmimas"},{"$f":"+DarbųĮkainiai2018[[#This Row],[Stulpelis1]]","v":335}]
[{"$f":"ROW()-ROW(DarbųĮkainiai2018[[#Headers],[Eil. Nr.]])","v":84},"Vakarų Europos gamybos kombainais",5,4,150,137.63,null,1.4,19.98,34.9,15.73,15.38,7.39,73.41,3.67,77.08,3.85,80.930000000000007,{"$f":"+DarbųĮkainiai2018[[#This Row],[Įkainis, Eur/ha]]-DarbųĮkainiai2018[[#This Row],[Pelnas, Eur/ha]]-DarbųĮkainiai2018[[#This Row],[Išlaidos atnaujinimui, Eur/ha]]","v":42.180000000000014},"RAPSŲ DERLIAUS NUĖMIMAS KOMBAINAIS",2018,"Vakarų Europos",null,"Derliaus nuėmimas",336,null,{"$f":"ROW()-ROW(DarbųĮkainiai2024[[#Headers],[Eil. Nr.]])","v":84},{"$f":"+DarbųĮkainiai2018[[#This Row],[Žemės ūkio mašina]]","v":"Vakarų Europos gamybos kombainais"},{"$f":"+DarbųĮkainiai2018[[#This Row],[Darbinis plotis, m]]","v":5},{"$f":"+DarbųĮkainiai2018[[#This Row],[Tręšimo, išsėjimo, purškimo norma, kg/ha; Derlingumas, t/ha]]","v":4},{"$f":"+DarbųĮkainiai2018[[#This Row],[Traktoriaus (kombaino) galia, kW]]","v":150},{"$f":"ROUND(DarbųĮkainiai2018[[#This Row],[Traktoriaus (kombaino) kaina, tūkst. Eur]]*$AF$9,2)","v":179.88},{"$f":"ROUND(DarbųĮkainiai2018[[#This Row],[Žemės ūkio mašinos (cisternos) kaina, tūkst. Eur]] * $AG$9,2)","v":0},{"$f":"+DarbųĮkainiai2018[[#This Row],[Išdirbio norma, ha/val.]]","v":1.4},{"$f":"+DarbųĮkainiai2018[[#This Row],[Degalų sąnaudų norma, l/ha]]","v":19.98},{"$f":"ROUND(DarbųĮkainiai2018[[#This Row],[Išlaidos atnaujinimui, Eur/ha]]*1.35,2)","v":47.12},{"$f":"ROUND(DarbųĮkainiai2018[[#This Row],[Išlaidos remontui ir tech. aptarnavimui, Eur/ha]]*$AK$9,2)","v":24.13},{"$f":"ROUND(DarbųĮkainiai2024[[#This Row],[Degalų sąnaudų norma, l/ha]] * $AL$9,2)","v":14.99},{"$f":"ROUND(1/DarbųĮkainiai2024[[#This Row],[Išdirbio norma, ha/val.]]*$AM$9,2)","v":7.94},{"$f":"+DarbųĮkainiai2024[[#This Row],[Išlaidos atnaujinimui, Eur/ha]]+DarbųĮkainiai2024[[#This Row],[Išlaidos remontui ir tech. aptarnavimui, Eur/ha]]+DarbųĮkainiai2024[[#This Row],[Išlaidos degalams ir tepalams, Eur/ha]]+DarbųĮkainiai2024[[#This Row],[Išlaidos darbo užmokesčiui su priskaitymais, Eur/ha]]","v":94.179999999999993},{"$f":"ROUND(DarbųĮkainiai2018[[#This Row],[Kitos, Eur/ha]] * $AO$9,2)","v":4.09},{"$f":"+DarbųĮkainiai2024[[#This Row],[Kitos, Eur/ha]]+DarbųĮkainiai2024[[#This Row],[Išlaidos iš viso, Eur/ha]]","v":98.27},{"$f":"ROUND(DarbųĮkainiai2024[[#This Row],[Savikaina, Eur/ha]]*$AQ$9,2)","v":4.91},{"$f":"+DarbųĮkainiai2024[[#This Row],[Pelnas, Eur/ha]]+DarbųĮkainiai2024[[#This Row],[Savikaina, Eur/ha]]","v":103.17999999999999},{"$f":"+DarbųĮkainiai2024[[#This Row],[Įkainis, Eur/ha]]-DarbųĮkainiai2024[[#This Row],[Pelnas, Eur/ha]]-DarbųĮkainiai2024[[#This Row],[Išlaidos atnaujinimui, Eur/ha]]","v":51.15},{"$f":"+DarbųĮkainiai2018[[#This Row],[Darbas]]","v":"RAPSŲ DERLIAUS NUĖMIMAS KOMBAINAIS"},2024,{"$f":"+DarbųĮkainiai2018[[#This Row],[Žemės ūkio mašinų kilmė]]","v":"Vakarų Europos"},{"$f":"+DarbųĮkainiai2018[[#This Row],[Papildomas barstytubo parametras, m3]]","v":0},{"$f":"+DarbųĮkainiai2018[[#This Row],[Aktualus darbo pavadinimas]]","v":"Derliaus nuėmimas"},{"$f":"+DarbųĮkainiai2018[[#This Row],[Stulpelis1]]","v":336}]
[{"$f":"ROW()-ROW(DarbųĮkainiai2018[[#Headers],[Eil. Nr.]])","v":85},"Vakarų Europos gamybos kombainais",6,2,175,159.94999999999999,null,1.76,15.27,32.26,14.54,11.76,5.88,64.44,3.22,67.66,3.38,71.05,{"$f":"+DarbųĮkainiai2018[[#This Row],[Įkainis, Eur/ha]]-DarbųĮkainiai2018[[#This Row],[Pelnas, Eur/ha]]-DarbųĮkainiai2018[[#This Row],[Išlaidos atnaujinimui, Eur/ha]]","v":35.410000000000004},"RAPSŲ DERLIAUS NUĖMIMAS KOMBAINAIS",2018,"Vakarų Europos",null,"Derliaus nuėmimas",337,null,{"$f":"ROW()-ROW(DarbųĮkainiai2024[[#Headers],[Eil. Nr.]])","v":85},{"$f":"+DarbųĮkainiai2018[[#This Row],[Žemės ūkio mašina]]","v":"Vakarų Europos gamybos kombainais"},{"$f":"+DarbųĮkainiai2018[[#This Row],[Darbinis plotis, m]]","v":6},{"$f":"+DarbųĮkainiai2018[[#This Row],[Tręšimo, išsėjimo, purškimo norma, kg/ha; Derlingumas, t/ha]]","v":2},{"$f":"+DarbųĮkainiai2018[[#This Row],[Traktoriaus (kombaino) galia, kW]]","v":175},{"$f":"ROUND(DarbųĮkainiai2018[[#This Row],[Traktoriaus (kombaino) kaina, tūkst. Eur]]*$AF$9,2)","v":209.05},{"$f":"ROUND(DarbųĮkainiai2018[[#This Row],[Žemės ūkio mašinos (cisternos) kaina, tūkst. Eur]] * $AG$9,2)","v":0},{"$f":"+DarbųĮkainiai2018[[#This Row],[Išdirbio norma, ha/val.]]","v":1.76},{"$f":"+DarbųĮkainiai2018[[#This Row],[Degalų sąnaudų norma, l/ha]]","v":15.27},{"$f":"ROUND(DarbųĮkainiai2018[[#This Row],[Išlaidos atnaujinimui, Eur/ha]]*1.35,2)","v":43.55},{"$f":"ROUND(DarbųĮkainiai2018[[#This Row],[Išlaidos remontui ir tech. aptarnavimui, Eur/ha]]*$AK$9,2)","v":22.3},{"$f":"ROUND(DarbųĮkainiai2024[[#This Row],[Degalų sąnaudų norma, l/ha]] * $AL$9,2)","v":11.45},{"$f":"ROUND(1/DarbųĮkainiai2024[[#This Row],[Išdirbio norma, ha/val.]]*$AM$9,2)","v":6.31},{"$f":"+DarbųĮkainiai2024[[#This Row],[Išlaidos atnaujinimui, Eur/ha]]+DarbųĮkainiai2024[[#This Row],[Išlaidos remontui ir tech. aptarnavimui, Eur/ha]]+DarbųĮkainiai2024[[#This Row],[Išlaidos degalams ir tepalams, Eur/ha]]+DarbųĮkainiai2024[[#This Row],[Išlaidos darbo užmokesčiui su priskaitymais, Eur/ha]]","v":83.61},{"$f":"ROUND(DarbųĮkainiai2018[[#This Row],[Kitos, Eur/ha]] * $AO$9,2)","v":3.59},{"$f":"+DarbųĮkainiai2024[[#This Row],[Kitos, Eur/ha]]+DarbųĮkainiai2024[[#This Row],[Išlaidos iš viso, Eur/ha]]","v":87.2},{"$f":"ROUND(DarbųĮkainiai2024[[#This Row],[Savikaina, Eur/ha]]*$AQ$9,2)","v":4.3600000000000003},{"$f":"+DarbųĮkainiai2024[[#This Row],[Pelnas, Eur/ha]]+DarbųĮkainiai2024[[#This Row],[Savikaina, Eur/ha]]","v":91.56},{"$f":"+DarbųĮkainiai2024[[#This Row],[Įkainis, Eur/ha]]-DarbųĮkainiai2024[[#This Row],[Pelnas, Eur/ha]]-DarbųĮkainiai2024[[#This Row],[Išlaidos atnaujinimui, Eur/ha]]","v":43.650000000000006},{"$f":"+DarbųĮkainiai2018[[#This Row],[Darbas]]","v":"RAPSŲ DERLIAUS NUĖMIMAS KOMBAINAIS"},2024,{"$f":"+DarbųĮkainiai2018[[#This Row],[Žemės ūkio mašinų kilmė]]","v":"Vakarų Europos"},{"$f":"+DarbųĮkainiai2018[[#This Row],[Papildomas barstytubo parametras, m3]]","v":0},{"$f":"+DarbųĮkainiai2018[[#This Row],[Aktualus darbo pavadinimas]]","v":"Derliaus nuėmimas"},{"$f":"+DarbųĮkainiai2018[[#This Row],[Stulpelis1]]","v":337}]
[{"$f":"ROW()-ROW(DarbųĮkainiai2018[[#Headers],[Eil. Nr.]])","v":86},"Vakarų Europos gamybos kombainais",6,2.5,175,159.94999999999999,null,1.74,16.190000000000001,32.630000000000003,14.71,12.47,5.95,65.760000000000005,3.29,69.040000000000006,3.45,72.5,{"$f":"+DarbųĮkainiai2018[[#This Row],[Įkainis, Eur/ha]]-DarbųĮkainiai2018[[#This Row],[Pelnas, Eur/ha]]-DarbųĮkainiai2018[[#This Row],[Išlaidos atnaujinimui, Eur/ha]]","v":36.419999999999995},"RAPSŲ DERLIAUS NUĖMIMAS KOMBAINAIS",2018,"Vakarų Europos",null,"Derliaus nuėmimas",338,null,{"$f":"ROW()-ROW(DarbųĮkainiai2024[[#Headers],[Eil. Nr.]])","v":86},{"$f":"+DarbųĮkainiai2018[[#This Row],[Žemės ūkio mašina]]","v":"Vakarų Europos gamybos kombainais"},{"$f":"+DarbųĮkainiai2018[[#This Row],[Darbinis plotis, m]]","v":6},{"$f":"+DarbųĮkainiai2018[[#This Row],[Tręšimo, išsėjimo, purškimo norma, kg/ha; Derlingumas, t/ha]]","v":2.5},{"$f":"+DarbųĮkainiai2018[[#This Row],[Traktoriaus (kombaino) galia, kW]]","v":175},{"$f":"ROUND(DarbųĮkainiai2018[[#This Row],[Traktoriaus (kombaino) kaina, tūkst. Eur]]*$AF$9,2)","v":209.05},{"$f":"ROUND(DarbųĮkainiai2018[[#This Row],[Žemės ūkio mašinos (cisternos) kaina, tūkst. Eur]] * $AG$9,2)","v":0},{"$f":"+DarbųĮkainiai2018[[#This Row],[Išdirbio norma, ha/val.]]","v":1.74},{"$f":"+DarbųĮkainiai2018[[#This Row],[Degalų sąnaudų norma, l/ha]]","v":16.190000000000001},{"$f":"ROUND(DarbųĮkainiai2018[[#This Row],[Išlaidos atnaujinimui, Eur/ha]]*1.35,2)","v":44.05},{"$f":"ROUND(DarbųĮkainiai2018[[#This Row],[Išlaidos remontui ir tech. aptarnavimui, Eur/ha]]*$AK$9,2)","v":22.56},{"$f":"ROUND(DarbųĮkainiai2024[[#This Row],[Degalų sąnaudų norma, l/ha]] * $AL$9,2)","v":12.14},{"$f":"ROUND(1/DarbųĮkainiai2024[[#This Row],[Išdirbio norma, ha/val.]]*$AM$9,2)","v":6.39},{"$f":"+DarbųĮkainiai2024[[#This Row],[Išlaidos atnaujinimui, Eur/ha]]+DarbųĮkainiai2024[[#This Row],[Išlaidos remontui ir tech. aptarnavimui, Eur/ha]]+DarbųĮkainiai2024[[#This Row],[Išlaidos degalams ir tepalams, Eur/ha]]+DarbųĮkainiai2024[[#This Row],[Išlaidos darbo užmokesčiui su priskaitymais, Eur/ha]]","v":85.14},{"$f":"ROUND(DarbųĮkainiai2018[[#This Row],[Kitos, Eur/ha]] * $AO$9,2)","v":3.67},{"$f":"+DarbųĮkainiai2024[[#This Row],[Kitos, Eur/ha]]+DarbųĮkainiai2024[[#This Row],[Išlaidos iš viso, Eur/ha]]","v":88.81},{"$f":"ROUND(DarbųĮkainiai2024[[#This Row],[Savikaina, Eur/ha]]*$AQ$9,2)","v":4.4400000000000004},{"$f":"+DarbųĮkainiai2024[[#This Row],[Pelnas, Eur/ha]]+DarbųĮkainiai2024[[#This Row],[Savikaina, Eur/ha]]","v":93.25},{"$f":"+DarbųĮkainiai2024[[#This Row],[Įkainis, Eur/ha]]-DarbųĮkainiai2024[[#This Row],[Pelnas, Eur/ha]]-DarbųĮkainiai2024[[#This Row],[Išlaidos atnaujinimui, Eur/ha]]","v":44.760000000000005},{"$f":"+DarbųĮkainiai2018[[#This Row],[Darbas]]","v":"RAPSŲ DERLIAUS NUĖMIMAS KOMBAINAIS"},2024,{"$f":"+DarbųĮkainiai2018[[#This Row],[Žemės ūkio mašinų kilmė]]","v":"Vakarų Europos"},{"$f":"+DarbųĮkainiai2018[[#This Row],[Papildomas barstytubo parametras, m3]]","v":0},{"$f":"+DarbųĮkainiai2018[[#This Row],[Aktualus darbo pavadinimas]]","v":"Derliaus nuėmimas"},{"$f":"+DarbųĮkainiai2018[[#This Row],[Stulpelis1]]","v":338}]
[{"$f":"ROW()-ROW(DarbųĮkainiai2018[[#Headers],[Eil. Nr.]])","v":87},"Vakarų Europos gamybos kombainais",6,3,175,159.94999999999999,null,1.72,17.100000000000001,33.01,14.88,13.17,6.02,67.08,3.35,70.430000000000007,3.52,73.95,{"$f":"+DarbųĮkainiai2018[[#This Row],[Įkainis, Eur/ha]]-DarbųĮkainiai2018[[#This Row],[Pelnas, Eur/ha]]-DarbųĮkainiai2018[[#This Row],[Išlaidos atnaujinimui, Eur/ha]]","v":37.420000000000009},"RAPSŲ DERLIAUS NUĖMIMAS KOMBAINAIS",2018,"Vakarų Europos",null,"Derliaus nuėmimas",339,null,{"$f":"ROW()-ROW(DarbųĮkainiai2024[[#Headers],[Eil. Nr.]])","v":87},{"$f":"+DarbųĮkainiai2018[[#This Row],[Žemės ūkio mašina]]","v":"Vakarų Europos gamybos kombainais"},{"$f":"+DarbųĮkainiai2018[[#This Row],[Darbinis plotis, m]]","v":6},{"$f":"+DarbųĮkainiai2018[[#This Row],[Tręšimo, išsėjimo, purškimo norma, kg/ha; Derlingumas, t/ha]]","v":3},{"$f":"+DarbųĮkainiai2018[[#This Row],[Traktoriaus (kombaino) galia, kW]]","v":175},{"$f":"ROUND(DarbųĮkainiai2018[[#This Row],[Traktoriaus (kombaino) kaina, tūkst. Eur]]*$AF$9,2)","v":209.05},{"$f":"ROUND(DarbųĮkainiai2018[[#This Row],[Žemės ūkio mašinos (cisternos) kaina, tūkst. Eur]] * $AG$9,2)","v":0},{"$f":"+DarbųĮkainiai2018[[#This Row],[Išdirbio norma, ha/val.]]","v":1.72},{"$f":"+DarbųĮkainiai2018[[#This Row],[Degalų sąnaudų norma, l/ha]]","v":17.100000000000001},{"$f":"ROUND(DarbųĮkainiai2018[[#This Row],[Išlaidos atnaujinimui, Eur/ha]]*1.35,2)","v":44.56},{"$f":"ROUND(DarbųĮkainiai2018[[#This Row],[Išlaidos remontui ir tech. aptarnavimui, Eur/ha]]*$AK$9,2)","v":22.82},{"$f":"ROUND(DarbųĮkainiai2024[[#This Row],[Degalų sąnaudų norma, l/ha]] * $AL$9,2)","v":12.83},{"$f":"ROUND(1/DarbųĮkainiai2024[[#This Row],[Išdirbio norma, ha/val.]]*$AM$9,2)","v":6.46},{"$f":"+DarbųĮkainiai2024[[#This Row],[Išlaidos atnaujinimui, Eur/ha]]+DarbųĮkainiai2024[[#This Row],[Išlaidos remontui ir tech. aptarnavimui, Eur/ha]]+DarbųĮkainiai2024[[#This Row],[Išlaidos degalams ir tepalams, Eur/ha]]+DarbųĮkainiai2024[[#This Row],[Išlaidos darbo užmokesčiui su priskaitymais, Eur/ha]]","v":86.669999999999987},{"$f":"ROUND(DarbųĮkainiai2018[[#This Row],[Kitos, Eur/ha]] * $AO$9,2)","v":3.74},{"$f":"+DarbųĮkainiai2024[[#This Row],[Kitos, Eur/ha]]+DarbųĮkainiai2024[[#This Row],[Išlaidos iš viso, Eur/ha]]","v":90.409999999999982},{"$f":"ROUND(DarbųĮkainiai2024[[#This Row],[Savikaina, Eur/ha]]*$AQ$9,2)","v":4.5199999999999996},{"$f":"+DarbųĮkainiai2024[[#This Row],[Pelnas, Eur/ha]]+DarbųĮkainiai2024[[#This Row],[Savikaina, Eur/ha]]","v":94.929999999999978},{"$f":"+DarbųĮkainiai2024[[#This Row],[Įkainis, Eur/ha]]-DarbųĮkainiai2024[[#This Row],[Pelnas, Eur/ha]]-DarbųĮkainiai2024[[#This Row],[Išlaidos atnaujinimui, Eur/ha]]","v":45.84999999999998},{"$f":"+DarbųĮkainiai2018[[#This Row],[Darbas]]","v":"RAPSŲ DERLIAUS NUĖMIMAS KOMBAINAIS"},2024,{"$f":"+DarbųĮkainiai2018[[#This Row],[Žemės ūkio mašinų kilmė]]","v":"Vakarų Europos"},{"$f":"+DarbųĮkainiai2018[[#This Row],[Papildomas barstytubo parametras, m3]]","v":0},{"$f":"+DarbųĮkainiai2018[[#This Row],[Aktualus darbo pavadinimas]]","v":"Derliaus nuėmimas"},{"$f":"+DarbųĮkainiai2018[[#This Row],[Stulpelis1]]","v":339}]
[{"$f":"ROW()-ROW(DarbųĮkainiai2018[[#Headers],[Eil. Nr.]])","v":88},"Vakarų Europos gamybos kombainais",6,3.5,175,159.94999999999999,null,1.7,17.95,33.4,15.05,13.82,6.09,68.37,3.42,71.78,3.59,75.37,{"$f":"+DarbųĮkainiai2018[[#This Row],[Įkainis, Eur/ha]]-DarbųĮkainiai2018[[#This Row],[Pelnas, Eur/ha]]-DarbųĮkainiai2018[[#This Row],[Išlaidos atnaujinimui, Eur/ha]]","v":38.380000000000003},"RAPSŲ DERLIAUS NUĖMIMAS KOMBAINAIS",2018,"Vakarų Europos",null,"Derliaus nuėmimas",340,null,{"$f":"ROW()-ROW(DarbųĮkainiai2024[[#Headers],[Eil. Nr.]])","v":88},{"$f":"+DarbųĮkainiai2018[[#This Row],[Žemės ūkio mašina]]","v":"Vakarų Europos gamybos kombainais"},{"$f":"+DarbųĮkainiai2018[[#This Row],[Darbinis plotis, m]]","v":6},{"$f":"+DarbųĮkainiai2018[[#This Row],[Tręšimo, išsėjimo, purškimo norma, kg/ha; Derlingumas, t/ha]]","v":3.5},{"$f":"+DarbųĮkainiai2018[[#This Row],[Traktoriaus (kombaino) galia, kW]]","v":175},{"$f":"ROUND(DarbųĮkainiai2018[[#This Row],[Traktoriaus (kombaino) kaina, tūkst. Eur]]*$AF$9,2)","v":209.05},{"$f":"ROUND(DarbųĮkainiai2018[[#This Row],[Žemės ūkio mašinos (cisternos) kaina, tūkst. Eur]] * $AG$9,2)","v":0},{"$f":"+DarbųĮkainiai2018[[#This Row],[Išdirbio norma, ha/val.]]","v":1.7},{"$f":"+DarbųĮkainiai2018[[#This Row],[Degalų sąnaudų norma, l/ha]]","v":17.95},{"$f":"ROUND(DarbųĮkainiai2018[[#This Row],[Išlaidos atnaujinimui, Eur/ha]]*1.35,2)","v":45.09},{"$f":"ROUND(DarbųĮkainiai2018[[#This Row],[Išlaidos remontui ir tech. aptarnavimui, Eur/ha]]*$AK$9,2)","v":23.08},{"$f":"ROUND(DarbųĮkainiai2024[[#This Row],[Degalų sąnaudų norma, l/ha]] * $AL$9,2)","v":13.46},{"$f":"ROUND(1/DarbųĮkainiai2024[[#This Row],[Išdirbio norma, ha/val.]]*$AM$9,2)","v":6.54},{"$f":"+DarbųĮkainiai2024[[#This Row],[Išlaidos atnaujinimui, Eur/ha]]+DarbųĮkainiai2024[[#This Row],[Išlaidos remontui ir tech. aptarnavimui, Eur/ha]]+DarbųĮkainiai2024[[#This Row],[Išlaidos degalams ir tepalams, Eur/ha]]+DarbųĮkainiai2024[[#This Row],[Išlaidos darbo užmokesčiui su priskaitymais, Eur/ha]]","v":88.17},{"$f":"ROUND(DarbųĮkainiai2018[[#This Row],[Kitos, Eur/ha]] * $AO$9,2)","v":3.81},{"$f":"+DarbųĮkainiai2024[[#This Row],[Kitos, Eur/ha]]+DarbųĮkainiai2024[[#This Row],[Išlaidos iš viso, Eur/ha]]","v":91.98},{"$f":"ROUND(DarbųĮkainiai2024[[#This Row],[Savikaina, Eur/ha]]*$AQ$9,2)","v":4.5999999999999996},{"$f":"+DarbųĮkainiai2024[[#This Row],[Pelnas, Eur/ha]]+DarbųĮkainiai2024[[#This Row],[Savikaina, Eur/ha]]","v":96.58},{"$f":"+DarbųĮkainiai2024[[#This Row],[Įkainis, Eur/ha]]-DarbųĮkainiai2024[[#This Row],[Pelnas, Eur/ha]]-DarbųĮkainiai2024[[#This Row],[Išlaidos atnaujinimui, Eur/ha]]","v":46.89},{"$f":"+DarbųĮkainiai2018[[#This Row],[Darbas]]","v":"RAPSŲ DERLIAUS NUĖMIMAS KOMBAINAIS"},2024,{"$f":"+DarbųĮkainiai2018[[#This Row],[Žemės ūkio mašinų kilmė]]","v":"Vakarų Europos"},{"$f":"+DarbųĮkainiai2018[[#This Row],[Papildomas barstytubo parametras, m3]]","v":0},{"$f":"+DarbųĮkainiai2018[[#This Row],[Aktualus darbo pavadinimas]]","v":"Derliaus nuėmimas"},{"$f":"+DarbųĮkainiai2018[[#This Row],[Stulpelis1]]","v":340}]
[{"$f":"ROW()-ROW(DarbųĮkainiai2018[[#Headers],[Eil. Nr.]])","v":89},"Vakarų Europos gamybos kombainais",6,4,175,159.94999999999999,null,1.67,18.86,34,15.32,14.52,6.2,70.05,3.5,73.55,3.68,77.23,{"$f":"+DarbųĮkainiai2018[[#This Row],[Įkainis, Eur/ha]]-DarbųĮkainiai2018[[#This Row],[Pelnas, Eur/ha]]-DarbųĮkainiai2018[[#This Row],[Išlaidos atnaujinimui, Eur/ha]]","v":39.549999999999997},"RAPSŲ DERLIAUS NUĖMIMAS KOMBAINAIS",2018,"Vakarų Europos",null,"Derliaus nuėmimas",341,null,{"$f":"ROW()-ROW(DarbųĮkainiai2024[[#Headers],[Eil. Nr.]])","v":89},{"$f":"+DarbųĮkainiai2018[[#This Row],[Žemės ūkio mašina]]","v":"Vakarų Europos gamybos kombainais"},{"$f":"+DarbųĮkainiai2018[[#This Row],[Darbinis plotis, m]]","v":6},{"$f":"+DarbųĮkainiai2018[[#This Row],[Tręšimo, išsėjimo, purškimo norma, kg/ha; Derlingumas, t/ha]]","v":4},{"$f":"+DarbųĮkainiai2018[[#This Row],[Traktoriaus (kombaino) galia, kW]]","v":175},{"$f":"ROUND(DarbųĮkainiai2018[[#This Row],[Traktoriaus (kombaino) kaina, tūkst. Eur]]*$AF$9,2)","v":209.05},{"$f":"ROUND(DarbųĮkainiai2018[[#This Row],[Žemės ūkio mašinos (cisternos) kaina, tūkst. Eur]] * $AG$9,2)","v":0},{"$f":"+DarbųĮkainiai2018[[#This Row],[Išdirbio norma, ha/val.]]","v":1.67},{"$f":"+DarbųĮkainiai2018[[#This Row],[Degalų sąnaudų norma, l/ha]]","v":18.86},{"$f":"ROUND(DarbųĮkainiai2018[[#This Row],[Išlaidos atnaujinimui, Eur/ha]]*1.35,2)","v":45.9},{"$f":"ROUND(DarbųĮkainiai2018[[#This Row],[Išlaidos remontui ir tech. aptarnavimui, Eur/ha]]*$AK$9,2)","v":23.5},{"$f":"ROUND(DarbųĮkainiai2024[[#This Row],[Degalų sąnaudų norma, l/ha]] * $AL$9,2)","v":14.15},{"$f":"ROUND(1/DarbųĮkainiai2024[[#This Row],[Išdirbio norma, ha/val.]]*$AM$9,2)","v":6.65},{"$f":"+DarbųĮkainiai2024[[#This Row],[Išlaidos atnaujinimui, Eur/ha]]+DarbųĮkainiai2024[[#This Row],[Išlaidos remontui ir tech. aptarnavimui, Eur/ha]]+DarbųĮkainiai2024[[#This Row],[Išlaidos degalams ir tepalams, Eur/ha]]+DarbųĮkainiai2024[[#This Row],[Išlaidos darbo užmokesčiui su priskaitymais, Eur/ha]]","v":90.200000000000017},{"$f":"ROUND(DarbųĮkainiai2018[[#This Row],[Kitos, Eur/ha]] * $AO$9,2)","v":3.9},{"$f":"+DarbųĮkainiai2024[[#This Row],[Kitos, Eur/ha]]+DarbųĮkainiai2024[[#This Row],[Išlaidos iš viso, Eur/ha]]","v":94.100000000000023},{"$f":"ROUND(DarbųĮkainiai2024[[#This Row],[Savikaina, Eur/ha]]*$AQ$9,2)","v":4.71},{"$f":"+DarbųĮkainiai2024[[#This Row],[Pelnas, Eur/ha]]+DarbųĮkainiai2024[[#This Row],[Savikaina, Eur/ha]]","v":98.810000000000016},{"$f":"+DarbųĮkainiai2024[[#This Row],[Įkainis, Eur/ha]]-DarbųĮkainiai2024[[#This Row],[Pelnas, Eur/ha]]-DarbųĮkainiai2024[[#This Row],[Išlaidos atnaujinimui, Eur/ha]]","v":48.200000000000024},{"$f":"+DarbųĮkainiai2018[[#This Row],[Darbas]]","v":"RAPSŲ DERLIAUS NUĖMIMAS KOMBAINAIS"},2024,{"$f":"+DarbųĮkainiai2018[[#This Row],[Žemės ūkio mašinų kilmė]]","v":"Vakarų Europos"},{"$f":"+DarbųĮkainiai2018[[#This Row],[Papildomas barstytubo parametras, m3]]","v":0},{"$f":"+DarbųĮkainiai2018[[#This Row],[Aktualus darbo pavadinimas]]","v":"Derliaus nuėmimas"},{"$f":"+DarbųĮkainiai2018[[#This Row],[Stulpelis1]]","v":341}]
[{"$f":"ROW()-ROW(DarbųĮkainiai2018[[#Headers],[Eil. Nr.]])","v":90},"Vakarų Europos gamybos kombainais",7.5,2,200,182.47,null,2.1800000000000002,13.77,29.71,13.39,10.6,4.75,58.46,2.92,61.38,3.07,64.45,{"$f":"+DarbųĮkainiai2018[[#This Row],[Įkainis, Eur/ha]]-DarbųĮkainiai2018[[#This Row],[Pelnas, Eur/ha]]-DarbųĮkainiai2018[[#This Row],[Išlaidos atnaujinimui, Eur/ha]]","v":31.67},"RAPSŲ DERLIAUS NUĖMIMAS KOMBAINAIS",2018,"Vakarų Europos",null,"Derliaus nuėmimas",342,null,{"$f":"ROW()-ROW(DarbųĮkainiai2024[[#Headers],[Eil. Nr.]])","v":90},{"$f":"+DarbųĮkainiai2018[[#This Row],[Žemės ūkio mašina]]","v":"Vakarų Europos gamybos kombainais"},{"$f":"+DarbųĮkainiai2018[[#This Row],[Darbinis plotis, m]]","v":7.5},{"$f":"+DarbųĮkainiai2018[[#This Row],[Tręšimo, išsėjimo, purškimo norma, kg/ha; Derlingumas, t/ha]]","v":2},{"$f":"+DarbųĮkainiai2018[[#This Row],[Traktoriaus (kombaino) galia, kW]]","v":200},{"$f":"ROUND(DarbųĮkainiai2018[[#This Row],[Traktoriaus (kombaino) kaina, tūkst. Eur]]*$AF$9,2)","v":238.49},{"$f":"ROUND(DarbųĮkainiai2018[[#This Row],[Žemės ūkio mašinos (cisternos) kaina, tūkst. Eur]] * $AG$9,2)","v":0},{"$f":"+DarbųĮkainiai2018[[#This Row],[Išdirbio norma, ha/val.]]","v":2.1800000000000002},{"$f":"+DarbųĮkainiai2018[[#This Row],[Degalų sąnaudų norma, l/ha]]","v":13.77},{"$f":"ROUND(DarbųĮkainiai2018[[#This Row],[Išlaidos atnaujinimui, Eur/ha]]*1.35,2)","v":40.11},{"$f":"ROUND(DarbųĮkainiai2018[[#This Row],[Išlaidos remontui ir tech. aptarnavimui, Eur/ha]]*$AK$9,2)","v":20.54},{"$f":"ROUND(DarbųĮkainiai2024[[#This Row],[Degalų sąnaudų norma, l/ha]] * $AL$9,2)","v":10.33},{"$f":"ROUND(1/DarbųĮkainiai2024[[#This Row],[Išdirbio norma, ha/val.]]*$AM$9,2)","v":5.0999999999999996},{"$f":"+DarbųĮkainiai2024[[#This Row],[Išlaidos atnaujinimui, Eur/ha]]+DarbųĮkainiai2024[[#This Row],[Išlaidos remontui ir tech. aptarnavimui, Eur/ha]]+DarbųĮkainiai2024[[#This Row],[Išlaidos degalams ir tepalams, Eur/ha]]+DarbųĮkainiai2024[[#This Row],[Išlaidos darbo užmokesčiui su priskaitymais, Eur/ha]]","v":76.08},{"$f":"ROUND(DarbųĮkainiai2018[[#This Row],[Kitos, Eur/ha]] * $AO$9,2)","v":3.26},{"$f":"+DarbųĮkainiai2024[[#This Row],[Kitos, Eur/ha]]+DarbųĮkainiai2024[[#This Row],[Išlaidos iš viso, Eur/ha]]","v":79.34},{"$f":"ROUND(DarbųĮkainiai2024[[#This Row],[Savikaina, Eur/ha]]*$AQ$9,2)","v":3.97},{"$f":"+DarbųĮkainiai2024[[#This Row],[Pelnas, Eur/ha]]+DarbųĮkainiai2024[[#This Row],[Savikaina, Eur/ha]]","v":83.31},{"$f":"+DarbųĮkainiai2024[[#This Row],[Įkainis, Eur/ha]]-DarbųĮkainiai2024[[#This Row],[Pelnas, Eur/ha]]-DarbųĮkainiai2024[[#This Row],[Išlaidos atnaujinimui, Eur/ha]]","v":39.230000000000004},{"$f":"+DarbųĮkainiai2018[[#This Row],[Darbas]]","v":"RAPSŲ DERLIAUS NUĖMIMAS KOMBAINAIS"},2024,{"$f":"+DarbųĮkainiai2018[[#This Row],[Žemės ūkio mašinų kilmė]]","v":"Vakarų Europos"},{"$f":"+DarbųĮkainiai2018[[#This Row],[Papildomas barstytubo parametras, m3]]","v":0},{"$f":"+DarbųĮkainiai2018[[#This Row],[Aktualus darbo pavadinimas]]","v":"Derliaus nuėmimas"},{"$f":"+DarbųĮkainiai2018[[#This Row],[Stulpelis1]]","v":342}]
[{"$f":"ROW()-ROW(DarbųĮkainiai2018[[#Headers],[Eil. Nr.]])","v":91},"Vakarų Europos gamybos kombainais",7.5,2.5,200,182.47,null,2.14,14.71,30.27,13.64,11.33,4.84,60.08,3,63.08,3.15,66.23,{"$f":"+DarbųĮkainiai2018[[#This Row],[Įkainis, Eur/ha]]-DarbųĮkainiai2018[[#This Row],[Pelnas, Eur/ha]]-DarbųĮkainiai2018[[#This Row],[Išlaidos atnaujinimui, Eur/ha]]","v":32.81},"RAPSŲ DERLIAUS NUĖMIMAS KOMBAINAIS",2018,"Vakarų Europos",null,"Derliaus nuėmimas",343,null,{"$f":"ROW()-ROW(DarbųĮkainiai2024[[#Headers],[Eil. Nr.]])","v":91},{"$f":"+DarbųĮkainiai2018[[#This Row],[Žemės ūkio mašina]]","v":"Vakarų Europos gamybos kombainais"},{"$f":"+DarbųĮkainiai2018[[#This Row],[Darbinis plotis, m]]","v":7.5},{"$f":"+DarbųĮkainiai2018[[#This Row],[Tręšimo, išsėjimo, purškimo norma, kg/ha; Derlingumas, t/ha]]","v":2.5},{"$f":"+DarbųĮkainiai2018[[#This Row],[Traktoriaus (kombaino) galia, kW]]","v":200},{"$f":"ROUND(DarbųĮkainiai2018[[#This Row],[Traktoriaus (kombaino) kaina, tūkst. Eur]]*$AF$9,2)","v":238.49},{"$f":"ROUND(DarbųĮkainiai2018[[#This Row],[Žemės ūkio mašinos (cisternos) kaina, tūkst. Eur]] * $AG$9,2)","v":0},{"$f":"+DarbųĮkainiai2018[[#This Row],[Išdirbio norma, ha/val.]]","v":2.14},{"$f":"+DarbųĮkainiai2018[[#This Row],[Degalų sąnaudų norma, l/ha]]","v":14.71},{"$f":"ROUND(DarbųĮkainiai2018[[#This Row],[Išlaidos atnaujinimui, Eur/ha]]*1.35,2)","v":40.86},{"$f":"ROUND(DarbųĮkainiai2018[[#This Row],[Išlaidos remontui ir tech. aptarnavimui, Eur/ha]]*$AK$9,2)","v":20.92},{"$f":"ROUND(DarbųĮkainiai2024[[#This Row],[Degalų sąnaudų norma, l/ha]] * $AL$9,2)","v":11.03},{"$f":"ROUND(1/DarbųĮkainiai2024[[#This Row],[Išdirbio norma, ha/val.]]*$AM$9,2)","v":5.19},{"$f":"+DarbųĮkainiai2024[[#This Row],[Išlaidos atnaujinimui, Eur/ha]]+DarbųĮkainiai2024[[#This Row],[Išlaidos remontui ir tech. aptarnavimui, Eur/ha]]+DarbųĮkainiai2024[[#This Row],[Išlaidos degalams ir tepalams, Eur/ha]]+DarbųĮkainiai2024[[#This Row],[Išlaidos darbo užmokesčiui su priskaitymais, Eur/ha]]","v":78},{"$f":"ROUND(DarbųĮkainiai2018[[#This Row],[Kitos, Eur/ha]] * $AO$9,2)","v":3.35},{"$f":"+DarbųĮkainiai2024[[#This Row],[Kitos, Eur/ha]]+DarbųĮkainiai2024[[#This Row],[Išlaidos iš viso, Eur/ha]]","v":81.349999999999994},{"$f":"ROUND(DarbųĮkainiai2024[[#This Row],[Savikaina, Eur/ha]]*$AQ$9,2)","v":4.07},{"$f":"+DarbųĮkainiai2024[[#This Row],[Pelnas, Eur/ha]]+DarbųĮkainiai2024[[#This Row],[Savikaina, Eur/ha]]","v":85.419999999999987},{"$f":"+DarbųĮkainiai2024[[#This Row],[Įkainis, Eur/ha]]-DarbųĮkainiai2024[[#This Row],[Pelnas, Eur/ha]]-DarbųĮkainiai2024[[#This Row],[Išlaidos atnaujinimui, Eur/ha]]","v":40.489999999999995},{"$f":"+DarbųĮkainiai2018[[#This Row],[Darbas]]","v":"RAPSŲ DERLIAUS NUĖMIMAS KOMBAINAIS"},2024,{"$f":"+DarbųĮkainiai2018[[#This Row],[Žemės ūkio mašinų kilmė]]","v":"Vakarų Europos"},{"$f":"+DarbųĮkainiai2018[[#This Row],[Papildomas barstytubo parametras, m3]]","v":0},{"$f":"+DarbųĮkainiai2018[[#This Row],[Aktualus darbo pavadinimas]]","v":"Derliaus nuėmimas"},{"$f":"+DarbųĮkainiai2018[[#This Row],[Stulpelis1]]","v":343}]
[{"$f":"ROW()-ROW(DarbųĮkainiai2018[[#Headers],[Eil. Nr.]])","v":92},"Vakarų Europos gamybos kombainais",7.5,3,200,182.47,null,2.12,15.59,30.56,13.77,12,4.88,61.21,3.06,64.27,3.21,67.489999999999995,{"$f":"+DarbųĮkainiai2018[[#This Row],[Įkainis, Eur/ha]]-DarbųĮkainiai2018[[#This Row],[Pelnas, Eur/ha]]-DarbųĮkainiai2018[[#This Row],[Išlaidos atnaujinimui, Eur/ha]]","v":33.72},"RAPSŲ DERLIAUS NUĖMIMAS KOMBAINAIS",2018,"Vakarų Europos",null,"Derliaus nuėmimas",344,null,{"$f":"ROW()-ROW(DarbųĮkainiai2024[[#Headers],[Eil. Nr.]])","v":92},{"$f":"+DarbųĮkainiai2018[[#This Row],[Žemės ūkio mašina]]","v":"Vakarų Europos gamybos kombainais"},{"$f":"+DarbųĮkainiai2018[[#This Row],[Darbinis plotis, m]]","v":7.5},{"$f":"+DarbųĮkainiai2018[[#This Row],[Tręšimo, išsėjimo, purškimo norma, kg/ha; Derlingumas, t/ha]]","v":3},{"$f":"+DarbųĮkainiai2018[[#This Row],[Traktoriaus (kombaino) galia, kW]]","v":200},{"$f":"ROUND(DarbųĮkainiai2018[[#This Row],[Traktoriaus (kombaino) kaina, tūkst. Eur]]*$AF$9,2)","v":238.49},{"$f":"ROUND(DarbųĮkainiai2018[[#This Row],[Žemės ūkio mašinos (cisternos) kaina, tūkst. Eur]] * $AG$9,2)","v":0},{"$f":"+DarbųĮkainiai2018[[#This Row],[Išdirbio norma, ha/val.]]","v":2.12},{"$f":"+DarbųĮkainiai2018[[#This Row],[Degalų sąnaudų norma, l/ha]]","v":15.59},{"$f":"ROUND(DarbųĮkainiai2018[[#This Row],[Išlaidos atnaujinimui, Eur/ha]]*1.35,2)","v":41.26},{"$f":"ROUND(DarbųĮkainiai2018[[#This Row],[Išlaidos remontui ir tech. aptarnavimui, Eur/ha]]*$AK$9,2)","v":21.12},{"$f":"ROUND(DarbųĮkainiai2024[[#This Row],[Degalų sąnaudų norma, l/ha]] * $AL$9,2)","v":11.69},{"$f":"ROUND(1/DarbųĮkainiai2024[[#This Row],[Išdirbio norma, ha/val.]]*$AM$9,2)","v":5.24},{"$f":"+DarbųĮkainiai2024[[#This Row],[Išlaidos atnaujinimui, Eur/ha]]+DarbųĮkainiai2024[[#This Row],[Išlaidos remontui ir tech. aptarnavimui, Eur/ha]]+DarbųĮkainiai2024[[#This Row],[Išlaidos degalams ir tepalams, Eur/ha]]+DarbųĮkainiai2024[[#This Row],[Išlaidos darbo užmokesčiui su priskaitymais, Eur/ha]]","v":79.309999999999988},{"$f":"ROUND(DarbųĮkainiai2018[[#This Row],[Kitos, Eur/ha]] * $AO$9,2)","v":3.41},{"$f":"+DarbųĮkainiai2024[[#This Row],[Kitos, Eur/ha]]+DarbųĮkainiai2024[[#This Row],[Išlaidos iš viso, Eur/ha]]","v":82.719999999999985},{"$f":"ROUND(DarbųĮkainiai2024[[#This Row],[Savikaina, Eur/ha]]*$AQ$9,2)","v":4.1399999999999997},{"$f":"+DarbųĮkainiai2024[[#This Row],[Pelnas, Eur/ha]]+DarbųĮkainiai2024[[#This Row],[Savikaina, Eur/ha]]","v":86.859999999999985},{"$f":"+DarbųĮkainiai2024[[#This Row],[Įkainis, Eur/ha]]-DarbųĮkainiai2024[[#This Row],[Pelnas, Eur/ha]]-DarbųĮkainiai2024[[#This Row],[Išlaidos atnaujinimui, Eur/ha]]","v":41.459999999999987},{"$f":"+DarbųĮkainiai2018[[#This Row],[Darbas]]","v":"RAPSŲ DERLIAUS NUĖMIMAS KOMBAINAIS"},2024,{"$f":"+DarbųĮkainiai2018[[#This Row],[Žemės ūkio mašinų kilmė]]","v":"Vakarų Europos"},{"$f":"+DarbųĮkainiai2018[[#This Row],[Papildomas barstytubo parametras, m3]]","v":0},{"$f":"+DarbųĮkainiai2018[[#This Row],[Aktualus darbo pavadinimas]]","v":"Derliaus nuėmimas"},{"$f":"+DarbųĮkainiai2018[[#This Row],[Stulpelis1]]","v":344}]
[{"$f":"ROW()-ROW(DarbųĮkainiai2018[[#Headers],[Eil. Nr.]])","v":93},"Vakarų Europos gamybos kombainais",7.5,3.5,200,182.47,null,2.08,16.53,31.14,14.04,12.73,4.9800000000000004,62.88,3.14,66.03,3.3,69.33,{"$f":"+DarbųĮkainiai2018[[#This Row],[Įkainis, Eur/ha]]-DarbųĮkainiai2018[[#This Row],[Pelnas, Eur/ha]]-DarbųĮkainiai2018[[#This Row],[Išlaidos atnaujinimui, Eur/ha]]","v":34.89},"RAPSŲ DERLIAUS NUĖMIMAS KOMBAINAIS",2018,"Vakarų Europos",null,"Derliaus nuėmimas",345,null,{"$f":"ROW()-ROW(DarbųĮkainiai2024[[#Headers],[Eil. Nr.]])","v":93},{"$f":"+DarbųĮkainiai2018[[#This Row],[Žemės ūkio mašina]]","v":"Vakarų Europos gamybos kombainais"},{"$f":"+DarbųĮkainiai2018[[#This Row],[Darbinis plotis, m]]","v":7.5},{"$f":"+DarbųĮkainiai2018[[#This Row],[Tręšimo, išsėjimo, purškimo norma, kg/ha; Derlingumas, t/ha]]","v":3.5},{"$f":"+DarbųĮkainiai2018[[#This Row],[Traktoriaus (kombaino) galia, kW]]","v":200},{"$f":"ROUND(DarbųĮkainiai2018[[#This Row],[Traktoriaus (kombaino) kaina, tūkst. Eur]]*$AF$9,2)","v":238.49},{"$f":"ROUND(DarbųĮkainiai2018[[#This Row],[Žemės ūkio mašinos (cisternos) kaina, tūkst. Eur]] * $AG$9,2)","v":0},{"$f":"+DarbųĮkainiai2018[[#This Row],[Išdirbio norma, ha/val.]]","v":2.08},{"$f":"+DarbųĮkainiai2018[[#This Row],[Degalų sąnaudų norma, l/ha]]","v":16.53},{"$f":"ROUND(DarbųĮkainiai2018[[#This Row],[Išlaidos atnaujinimui, Eur/ha]]*1.35,2)","v":42.04},{"$f":"ROUND(DarbųĮkainiai2018[[#This Row],[Išlaidos remontui ir tech. aptarnavimui, Eur/ha]]*$AK$9,2)","v":21.54},{"$f":"ROUND(DarbųĮkainiai2024[[#This Row],[Degalų sąnaudų norma, l/ha]] * $AL$9,2)","v":12.4},{"$f":"ROUND(1/DarbųĮkainiai2024[[#This Row],[Išdirbio norma, ha/val.]]*$AM$9,2)","v":5.34},{"$f":"+DarbųĮkainiai2024[[#This Row],[Išlaidos atnaujinimui, Eur/ha]]+DarbųĮkainiai2024[[#This Row],[Išlaidos remontui ir tech. aptarnavimui, Eur/ha]]+DarbųĮkainiai2024[[#This Row],[Išlaidos degalams ir tepalams, Eur/ha]]+DarbųĮkainiai2024[[#This Row],[Išlaidos darbo užmokesčiui su priskaitymais, Eur/ha]]","v":81.320000000000007},{"$f":"ROUND(DarbųĮkainiai2018[[#This Row],[Kitos, Eur/ha]] * $AO$9,2)","v":3.5},{"$f":"+DarbųĮkainiai2024[[#This Row],[Kitos, Eur/ha]]+DarbųĮkainiai2024[[#This Row],[Išlaidos iš viso, Eur/ha]]","v":84.820000000000007},{"$f":"ROUND(DarbųĮkainiai2024[[#This Row],[Savikaina, Eur/ha]]*$AQ$9,2)","v":4.24},{"$f":"+DarbųĮkainiai2024[[#This Row],[Pelnas, Eur/ha]]+DarbųĮkainiai2024[[#This Row],[Savikaina, Eur/ha]]","v":89.06},{"$f":"+DarbųĮkainiai2024[[#This Row],[Įkainis, Eur/ha]]-DarbųĮkainiai2024[[#This Row],[Pelnas, Eur/ha]]-DarbųĮkainiai2024[[#This Row],[Išlaidos atnaujinimui, Eur/ha]]","v":42.780000000000008},{"$f":"+DarbųĮkainiai2018[[#This Row],[Darbas]]","v":"RAPSŲ DERLIAUS NUĖMIMAS KOMBAINAIS"},2024,{"$f":"+DarbųĮkainiai2018[[#This Row],[Žemės ūkio mašinų kilmė]]","v":"Vakarų Europos"},{"$f":"+DarbųĮkainiai2018[[#This Row],[Papildomas barstytubo parametras, m3]]","v":0},{"$f":"+DarbųĮkainiai2018[[#This Row],[Aktualus darbo pavadinimas]]","v":"Derliaus nuėmimas"},{"$f":"+DarbųĮkainiai2018[[#This Row],[Stulpelis1]]","v":345}]
[{"$f":"ROW()-ROW(DarbųĮkainiai2018[[#Headers],[Eil. Nr.]])","v":94},"Vakarų Europos gamybos kombainais",7.5,4,200,182.47,null,2.06,17.37,31.45,14.17,13.37,5.0199999999999996,64.02,3.2,67.22,3.36,70.58,{"$f":"+DarbųĮkainiai2018[[#This Row],[Įkainis, Eur/ha]]-DarbųĮkainiai2018[[#This Row],[Pelnas, Eur/ha]]-DarbųĮkainiai2018[[#This Row],[Išlaidos atnaujinimui, Eur/ha]]","v":35.769999999999996},"RAPSŲ DERLIAUS NUĖMIMAS KOMBAINAIS",2018,"Vakarų Europos",null,"Derliaus nuėmimas",346,null,{"$f":"ROW()-ROW(DarbųĮkainiai2024[[#Headers],[Eil. Nr.]])","v":94},{"$f":"+DarbųĮkainiai2018[[#This Row],[Žemės ūkio mašina]]","v":"Vakarų Europos gamybos kombainais"},{"$f":"+DarbųĮkainiai2018[[#This Row],[Darbinis plotis, m]]","v":7.5},{"$f":"+DarbųĮkainiai2018[[#This Row],[Tręšimo, išsėjimo, purškimo norma, kg/ha; Derlingumas, t/ha]]","v":4},{"$f":"+DarbųĮkainiai2018[[#This Row],[Traktoriaus (kombaino) galia, kW]]","v":200},{"$f":"ROUND(DarbųĮkainiai2018[[#This Row],[Traktoriaus (kombaino) kaina, tūkst. Eur]]*$AF$9,2)","v":238.49},{"$f":"ROUND(DarbųĮkainiai2018[[#This Row],[Žemės ūkio mašinos (cisternos) kaina, tūkst. Eur]] * $AG$9,2)","v":0},{"$f":"+DarbųĮkainiai2018[[#This Row],[Išdirbio norma, ha/val.]]","v":2.06},{"$f":"+DarbųĮkainiai2018[[#This Row],[Degalų sąnaudų norma, l/ha]]","v":17.37},{"$f":"ROUND(DarbųĮkainiai2018[[#This Row],[Išlaidos atnaujinimui, Eur/ha]]*1.35,2)","v":42.46},{"$f":"ROUND(DarbųĮkainiai2018[[#This Row],[Išlaidos remontui ir tech. aptarnavimui, Eur/ha]]*$AK$9,2)","v":21.73},{"$f":"ROUND(DarbųĮkainiai2024[[#This Row],[Degalų sąnaudų norma, l/ha]] * $AL$9,2)","v":13.03},{"$f":"ROUND(1/DarbųĮkainiai2024[[#This Row],[Išdirbio norma, ha/val.]]*$AM$9,2)","v":5.39},{"$f":"+DarbųĮkainiai2024[[#This Row],[Išlaidos atnaujinimui, Eur/ha]]+DarbųĮkainiai2024[[#This Row],[Išlaidos remontui ir tech. aptarnavimui, Eur/ha]]+DarbųĮkainiai2024[[#This Row],[Išlaidos degalams ir tepalams, Eur/ha]]+DarbųĮkainiai2024[[#This Row],[Išlaidos darbo užmokesčiui su priskaitymais, Eur/ha]]","v":82.61},{"$f":"ROUND(DarbųĮkainiai2018[[#This Row],[Kitos, Eur/ha]] * $AO$9,2)","v":3.57},{"$f":"+DarbųĮkainiai2024[[#This Row],[Kitos, Eur/ha]]+DarbųĮkainiai2024[[#This Row],[Išlaidos iš viso, Eur/ha]]","v":86.179999999999993},{"$f":"ROUND(DarbųĮkainiai2024[[#This Row],[Savikaina, Eur/ha]]*$AQ$9,2)","v":4.3099999999999996},{"$f":"+DarbųĮkainiai2024[[#This Row],[Pelnas, Eur/ha]]+DarbųĮkainiai2024[[#This Row],[Savikaina, Eur/ha]]","v":90.49},{"$f":"+DarbųĮkainiai2024[[#This Row],[Įkainis, Eur/ha]]-DarbųĮkainiai2024[[#This Row],[Pelnas, Eur/ha]]-DarbųĮkainiai2024[[#This Row],[Išlaidos atnaujinimui, Eur/ha]]","v":43.719999999999992},{"$f":"+DarbųĮkainiai2018[[#This Row],[Darbas]]","v":"RAPSŲ DERLIAUS NUĖMIMAS KOMBAINAIS"},2024,{"$f":"+DarbųĮkainiai2018[[#This Row],[Žemės ūkio mašinų kilmė]]","v":"Vakarų Europos"},{"$f":"+DarbųĮkainiai2018[[#This Row],[Papildomas barstytubo parametras, m3]]","v":0},{"$f":"+DarbųĮkainiai2018[[#This Row],[Aktualus darbo pavadinimas]]","v":"Derliaus nuėmimas"},{"$f":"+DarbųĮkainiai2018[[#This Row],[Stulpelis1]]","v":346}]
[{"$f":"ROW()-ROW(DarbųĮkainiai2018[[#Headers],[Eil. Nr.]])","v":95},"Vakarų Europos gamybos kombainais",7.5,2,225,205.55,null,2.2200000000000002,17.309999999999999,32.869999999999997,14.81,13.33,4.66,65.67,3.28,68.959999999999994,3.45,72.41,{"$f":"+DarbųĮkainiai2018[[#This Row],[Įkainis, Eur/ha]]-DarbųĮkainiai2018[[#This Row],[Pelnas, Eur/ha]]-DarbųĮkainiai2018[[#This Row],[Išlaidos atnaujinimui, Eur/ha]]","v":36.089999999999996},"RAPSŲ DERLIAUS NUĖMIMAS KOMBAINAIS",2018,"Vakarų Europos",null,"Derliaus nuėmimas",347,null,{"$f":"ROW()-ROW(DarbųĮkainiai2024[[#Headers],[Eil. Nr.]])","v":95},{"$f":"+DarbųĮkainiai2018[[#This Row],[Žemės ūkio mašina]]","v":"Vakarų Europos gamybos kombainais"},{"$f":"+DarbųĮkainiai2018[[#This Row],[Darbinis plotis, m]]","v":7.5},{"$f":"+DarbųĮkainiai2018[[#This Row],[Tręšimo, išsėjimo, purškimo norma, kg/ha; Derlingumas, t/ha]]","v":2},{"$f":"+DarbųĮkainiai2018[[#This Row],[Traktoriaus (kombaino) galia, kW]]","v":225},{"$f":"ROUND(DarbųĮkainiai2018[[#This Row],[Traktoriaus (kombaino) kaina, tūkst. Eur]]*$AF$9,2)","v":268.64999999999998},{"$f":"ROUND(DarbųĮkainiai2018[[#This Row],[Žemės ūkio mašinos (cisternos) kaina, tūkst. Eur]] * $AG$9,2)","v":0},{"$f":"+DarbųĮkainiai2018[[#This Row],[Išdirbio norma, ha/val.]]","v":2.2200000000000002},{"$f":"+DarbųĮkainiai2018[[#This Row],[Degalų sąnaudų norma, l/ha]]","v":17.309999999999999},{"$f":"ROUND(DarbųĮkainiai2018[[#This Row],[Išlaidos atnaujinimui, Eur/ha]]*1.35,2)","v":44.37},{"$f":"ROUND(DarbųĮkainiai2018[[#This Row],[Išlaidos remontui ir tech. aptarnavimui, Eur/ha]]*$AK$9,2)","v":22.72},{"$f":"ROUND(DarbųĮkainiai2024[[#This Row],[Degalų sąnaudų norma, l/ha]] * $AL$9,2)","v":12.98},{"$f":"ROUND(1/DarbųĮkainiai2024[[#This Row],[Išdirbio norma, ha/val.]]*$AM$9,2)","v":5},{"$f":"+DarbųĮkainiai2024[[#This Row],[Išlaidos atnaujinimui, Eur/ha]]+DarbųĮkainiai2024[[#This Row],[Išlaidos remontui ir tech. aptarnavimui, Eur/ha]]+DarbųĮkainiai2024[[#This Row],[Išlaidos degalams ir tepalams, Eur/ha]]+DarbųĮkainiai2024[[#This Row],[Išlaidos darbo užmokesčiui su priskaitymais, Eur/ha]]","v":85.070000000000007},{"$f":"ROUND(DarbųĮkainiai2018[[#This Row],[Kitos, Eur/ha]] * $AO$9,2)","v":3.66},{"$f":"+DarbųĮkainiai2024[[#This Row],[Kitos, Eur/ha]]+DarbųĮkainiai2024[[#This Row],[Išlaidos iš viso, Eur/ha]]","v":88.73},{"$f":"ROUND(DarbųĮkainiai2024[[#This Row],[Savikaina, Eur/ha]]*$AQ$9,2)","v":4.4400000000000004},{"$f":"+DarbųĮkainiai2024[[#This Row],[Pelnas, Eur/ha]]+DarbųĮkainiai2024[[#This Row],[Savikaina, Eur/ha]]","v":93.17},{"$f":"+DarbųĮkainiai2024[[#This Row],[Įkainis, Eur/ha]]-DarbųĮkainiai2024[[#This Row],[Pelnas, Eur/ha]]-DarbųĮkainiai2024[[#This Row],[Išlaidos atnaujinimui, Eur/ha]]","v":44.360000000000007},{"$f":"+DarbųĮkainiai2018[[#This Row],[Darbas]]","v":"RAPSŲ DERLIAUS NUĖMIMAS KOMBAINAIS"},2024,{"$f":"+DarbųĮkainiai2018[[#This Row],[Žemės ūkio mašinų kilmė]]","v":"Vakarų Europos"},{"$f":"+DarbųĮkainiai2018[[#This Row],[Papildomas barstytubo parametras, m3]]","v":0},{"$f":"+DarbųĮkainiai2018[[#This Row],[Aktualus darbo pavadinimas]]","v":"Derliaus nuėmimas"},{"$f":"+DarbųĮkainiai2018[[#This Row],[Stulpelis1]]","v":347}]
[{"$f":"ROW()-ROW(DarbųĮkainiai2018[[#Headers],[Eil. Nr.]])","v":96},"Vakarų Europos gamybos kombainais",7.5,2.5,225,205.55,null,2.2200000000000002,18.309999999999999,32.869999999999997,14.81,14.1,4.66,66.44,3.32,69.77,3.49,73.260000000000005,{"$f":"+DarbųĮkainiai2018[[#This Row],[Įkainis, Eur/ha]]-DarbųĮkainiai2018[[#This Row],[Pelnas, Eur/ha]]-DarbųĮkainiai2018[[#This Row],[Išlaidos atnaujinimui, Eur/ha]]","v":36.900000000000013},"RAPSŲ DERLIAUS NUĖMIMAS KOMBAINAIS",2018,"Vakarų Europos",null,"Derliaus nuėmimas",348,null,{"$f":"ROW()-ROW(DarbųĮkainiai2024[[#Headers],[Eil. Nr.]])","v":96},{"$f":"+DarbųĮkainiai2018[[#This Row],[Žemės ūkio mašina]]","v":"Vakarų Europos gamybos kombainais"},{"$f":"+DarbųĮkainiai2018[[#This Row],[Darbinis plotis, m]]","v":7.5},{"$f":"+DarbųĮkainiai2018[[#This Row],[Tręšimo, išsėjimo, purškimo norma, kg/ha; Derlingumas, t/ha]]","v":2.5},{"$f":"+DarbųĮkainiai2018[[#This Row],[Traktoriaus (kombaino) galia, kW]]","v":225},{"$f":"ROUND(DarbųĮkainiai2018[[#This Row],[Traktoriaus (kombaino) kaina, tūkst. Eur]]*$AF$9,2)","v":268.64999999999998},{"$f":"ROUND(DarbųĮkainiai2018[[#This Row],[Žemės ūkio mašinos (cisternos) kaina, tūkst. Eur]] * $AG$9,2)","v":0},{"$f":"+DarbųĮkainiai2018[[#This Row],[Išdirbio norma, ha/val.]]","v":2.2200000000000002},{"$f":"+DarbųĮkainiai2018[[#This Row],[Degalų sąnaudų norma, l/ha]]","v":18.309999999999999},{"$f":"ROUND(DarbųĮkainiai2018[[#This Row],[Išlaidos atnaujinimui, Eur/ha]]*1.35,2)","v":44.37},{"$f":"ROUND(DarbųĮkainiai2018[[#This Row],[Išlaidos remontui ir tech. aptarnavimui, Eur/ha]]*$AK$9,2)","v":22.72},{"$f":"ROUND(DarbųĮkainiai2024[[#This Row],[Degalų sąnaudų norma, l/ha]] * $AL$9,2)","v":13.73},{"$f":"ROUND(1/DarbųĮkainiai2024[[#This Row],[Išdirbio norma, ha/val.]]*$AM$9,2)","v":5},{"$f":"+DarbųĮkainiai2024[[#This Row],[Išlaidos atnaujinimui, Eur/ha]]+DarbųĮkainiai2024[[#This Row],[Išlaidos remontui ir tech. aptarnavimui, Eur/ha]]+DarbųĮkainiai2024[[#This Row],[Išlaidos degalams ir tepalams, Eur/ha]]+DarbųĮkainiai2024[[#This Row],[Išlaidos darbo užmokesčiui su priskaitymais, Eur/ha]]","v":85.820000000000007},{"$f":"ROUND(DarbųĮkainiai2018[[#This Row],[Kitos, Eur/ha]] * $AO$9,2)","v":3.7},{"$f":"+DarbųĮkainiai2024[[#This Row],[Kitos, Eur/ha]]+DarbųĮkainiai2024[[#This Row],[Išlaidos iš viso, Eur/ha]]","v":89.52000000000001},{"$f":"ROUND(DarbųĮkainiai2024[[#This Row],[Savikaina, Eur/ha]]*$AQ$9,2)","v":4.4800000000000004},{"$f":"+DarbųĮkainiai2024[[#This Row],[Pelnas, Eur/ha]]+DarbųĮkainiai2024[[#This Row],[Savikaina, Eur/ha]]","v":94.000000000000014},{"$f":"+DarbųĮkainiai2024[[#This Row],[Įkainis, Eur/ha]]-DarbųĮkainiai2024[[#This Row],[Pelnas, Eur/ha]]-DarbųĮkainiai2024[[#This Row],[Išlaidos atnaujinimui, Eur/ha]]","v":45.150000000000013},{"$f":"+DarbųĮkainiai2018[[#This Row],[Darbas]]","v":"RAPSŲ DERLIAUS NUĖMIMAS KOMBAINAIS"},2024,{"$f":"+DarbųĮkainiai2018[[#This Row],[Žemės ūkio mašinų kilmė]]","v":"Vakarų Europos"},{"$f":"+DarbųĮkainiai2018[[#This Row],[Papildomas barstytubo parametras, m3]]","v":0},{"$f":"+DarbųĮkainiai2018[[#This Row],[Aktualus darbo pavadinimas]]","v":"Derliaus nuėmimas"},{"$f":"+DarbųĮkainiai2018[[#This Row],[Stulpelis1]]","v":348}]
[{"$f":"ROW()-ROW(DarbųĮkainiai2018[[#Headers],[Eil. Nr.]])","v":97},"Vakarų Europos gamybos kombainais",7.5,3,225,205.55,null,2.2200000000000002,19.47,32.869999999999997,14.81,14.99,4.66,67.34,3.37,70.7,3.54,74.239999999999995,{"$f":"+DarbųĮkainiai2018[[#This Row],[Įkainis, Eur/ha]]-DarbųĮkainiai2018[[#This Row],[Pelnas, Eur/ha]]-DarbųĮkainiai2018[[#This Row],[Išlaidos atnaujinimui, Eur/ha]]","v":37.829999999999991},"RAPSŲ DERLIAUS NUĖMIMAS KOMBAINAIS",2018,"Vakarų Europos",null,"Derliaus nuėmimas",349,null,{"$f":"ROW()-ROW(DarbųĮkainiai2024[[#Headers],[Eil. Nr.]])","v":97},{"$f":"+DarbųĮkainiai2018[[#This Row],[Žemės ūkio mašina]]","v":"Vakarų Europos gamybos kombainais"},{"$f":"+DarbųĮkainiai2018[[#This Row],[Darbinis plotis, m]]","v":7.5},{"$f":"+DarbųĮkainiai2018[[#This Row],[Tręšimo, išsėjimo, purškimo norma, kg/ha; Derlingumas, t/ha]]","v":3},{"$f":"+DarbųĮkainiai2018[[#This Row],[Traktoriaus (kombaino) galia, kW]]","v":225},{"$f":"ROUND(DarbųĮkainiai2018[[#This Row],[Traktoriaus (kombaino) kaina, tūkst. Eur]]*$AF$9,2)","v":268.64999999999998},{"$f":"ROUND(DarbųĮkainiai2018[[#This Row],[Žemės ūkio mašinos (cisternos) kaina, tūkst. Eur]] * $AG$9,2)","v":0},{"$f":"+DarbųĮkainiai2018[[#This Row],[Išdirbio norma, ha/val.]]","v":2.2200000000000002},{"$f":"+DarbųĮkainiai2018[[#This Row],[Degalų sąnaudų norma, l/ha]]","v":19.47},{"$f":"ROUND(DarbųĮkainiai2018[[#This Row],[Išlaidos atnaujinimui, Eur/ha]]*1.35,2)","v":44.37},{"$f":"ROUND(DarbųĮkainiai2018[[#This Row],[Išlaidos remontui ir tech. aptarnavimui, Eur/ha]]*$AK$9,2)","v":22.72},{"$f":"ROUND(DarbųĮkainiai2024[[#This Row],[Degalų sąnaudų norma, l/ha]] * $AL$9,2)","v":14.6},{"$f":"ROUND(1/DarbųĮkainiai2024[[#This Row],[Išdirbio norma, ha/val.]]*$AM$9,2)","v":5},{"$f":"+DarbųĮkainiai2024[[#This Row],[Išlaidos atnaujinimui, Eur/ha]]+DarbųĮkainiai2024[[#This Row],[Išlaidos remontui ir tech. aptarnavimui, Eur/ha]]+DarbųĮkainiai2024[[#This Row],[Išlaidos degalams ir tepalams, Eur/ha]]+DarbųĮkainiai2024[[#This Row],[Išlaidos darbo užmokesčiui su priskaitymais, Eur/ha]]","v":86.69},{"$f":"ROUND(DarbųĮkainiai2018[[#This Row],[Kitos, Eur/ha]] * $AO$9,2)","v":3.76},{"$f":"+DarbųĮkainiai2024[[#This Row],[Kitos, Eur/ha]]+DarbųĮkainiai2024[[#This Row],[Išlaidos iš viso, Eur/ha]]","v":90.45},{"$f":"ROUND(DarbųĮkainiai2024[[#This Row],[Savikaina, Eur/ha]]*$AQ$9,2)","v":4.5199999999999996},{"$f":"+DarbųĮkainiai2024[[#This Row],[Pelnas, Eur/ha]]+DarbųĮkainiai2024[[#This Row],[Savikaina, Eur/ha]]","v":94.97},{"$f":"+DarbųĮkainiai2024[[#This Row],[Įkainis, Eur/ha]]-DarbųĮkainiai2024[[#This Row],[Pelnas, Eur/ha]]-DarbųĮkainiai2024[[#This Row],[Išlaidos atnaujinimui, Eur/ha]]","v":46.080000000000005},{"$f":"+DarbųĮkainiai2018[[#This Row],[Darbas]]","v":"RAPSŲ DERLIAUS NUĖMIMAS KOMBAINAIS"},{"$f":"$AU$9","v":2024},{"$f":"+DarbųĮkainiai2018[[#This Row],[Žemės ūkio mašinų kilmė]]","v":"Vakarų Europos"},{"$f":"+DarbųĮkainiai2018[[#This Row],[Papildomas barstytubo parametras, m3]]","v":0},{"$f":"+DarbųĮkainiai2018[[#This Row],[Aktualus darbo pavadinimas]]","v":"Derliaus nuėmimas"},{"$f":"+DarbųĮkainiai2018[[#This Row],[Stulpelis1]]","v":349}]
[{"$f":"ROW()-ROW(DarbųĮkainiai2018[[#Headers],[Eil. Nr.]])","v":98},"Vakarų Europos gamybos kombainais",7.5,3.5,225,205.55,null,2.17,20.43,33.630000000000003,15.16,15.73,4.7699999999999996,69.28,3.46,72.75,3.64,76.38,{"$f":"+DarbųĮkainiai2018[[#This Row],[Įkainis, Eur/ha]]-DarbųĮkainiai2018[[#This Row],[Pelnas, Eur/ha]]-DarbųĮkainiai2018[[#This Row],[Išlaidos atnaujinimui, Eur/ha]]","v":39.109999999999992},"RAPSŲ DERLIAUS NUĖMIMAS KOMBAINAIS",2018,"Vakarų Europos",null,"Derliaus nuėmimas",350,null,{"$f":"ROW()-ROW(DarbųĮkainiai2024[[#Headers],[Eil. Nr.]])","v":98},{"$f":"+DarbųĮkainiai2018[[#This Row],[Žemės ūkio mašina]]","v":"Vakarų Europos gamybos kombainais"},{"$f":"+DarbųĮkainiai2018[[#This Row],[Darbinis plotis, m]]","v":7.5},{"$f":"+DarbųĮkainiai2018[[#This Row],[Tręšimo, išsėjimo, purškimo norma, kg/ha; Derlingumas, t/ha]]","v":3.5},{"$f":"+DarbųĮkainiai2018[[#This Row],[Traktoriaus (kombaino) galia, kW]]","v":225},{"$f":"ROUND(DarbųĮkainiai2018[[#This Row],[Traktoriaus (kombaino) kaina, tūkst. Eur]]*$AF$9,2)","v":268.64999999999998},{"$f":"ROUND(DarbųĮkainiai2018[[#This Row],[Žemės ūkio mašinos (cisternos) kaina, tūkst. Eur]] * $AG$9,2)","v":0},{"$f":"+DarbųĮkainiai2018[[#This Row],[Išdirbio norma, ha/val.]]","v":2.17},{"$f":"+DarbųĮkainiai2018[[#This Row],[Degalų sąnaudų norma, l/ha]]","v":20.43},{"$f":"ROUND(DarbųĮkainiai2018[[#This Row],[Išlaidos atnaujinimui, Eur/ha]]*1.35,2)","v":45.4},{"$f":"ROUND(DarbųĮkainiai2018[[#This Row],[Išlaidos remontui ir tech. aptarnavimui, Eur/ha]]*$AK$9,2)","v":23.25},{"$f":"ROUND(DarbųĮkainiai2024[[#This Row],[Degalų sąnaudų norma, l/ha]] * $AL$9,2)","v":15.32},{"$f":"ROUND(1/DarbųĮkainiai2024[[#This Row],[Išdirbio norma, ha/val.]]*$AM$9,2)","v":5.12},{"$f":"+DarbųĮkainiai2024[[#This Row],[Išlaidos atnaujinimui, Eur/ha]]+DarbųĮkainiai2024[[#This Row],[Išlaidos remontui ir tech. aptarnavimui, Eur/ha]]+DarbųĮkainiai2024[[#This Row],[Išlaidos degalams ir tepalams, Eur/ha]]+DarbųĮkainiai2024[[#This Row],[Išlaidos darbo užmokesčiui su priskaitymais, Eur/ha]]","v":89.09},{"$f":"ROUND(DarbųĮkainiai2018[[#This Row],[Kitos, Eur/ha]] * $AO$9,2)","v":3.86},{"$f":"+DarbųĮkainiai2024[[#This Row],[Kitos, Eur/ha]]+DarbųĮkainiai2024[[#This Row],[Išlaidos iš viso, Eur/ha]]","v":92.95},{"$f":"ROUND(DarbųĮkainiai2024[[#This Row],[Savikaina, Eur/ha]]*$AQ$9,2)","v":4.6500000000000004},{"$f":"+DarbųĮkainiai2024[[#This Row],[Pelnas, Eur/ha]]+DarbųĮkainiai2024[[#This Row],[Savikaina, Eur/ha]]","v":97.600000000000009},{"$f":"+DarbųĮkainiai2024[[#This Row],[Įkainis, Eur/ha]]-DarbųĮkainiai2024[[#This Row],[Pelnas, Eur/ha]]-DarbųĮkainiai2024[[#This Row],[Išlaidos atnaujinimui, Eur/ha]]","v":47.550000000000004},{"$f":"+DarbųĮkainiai2018[[#This Row],[Darbas]]","v":"RAPSŲ DERLIAUS NUĖMIMAS KOMBAINAIS"},2024,{"$f":"+DarbųĮkainiai2018[[#This Row],[Žemės ūkio mašinų kilmė]]","v":"Vakarų Europos"},{"$f":"+DarbųĮkainiai2018[[#This Row],[Papildomas barstytubo parametras, m3]]","v":0},{"$f":"+DarbųĮkainiai2018[[#This Row],[Aktualus darbo pavadinimas]]","v":"Derliaus nuėmimas"},{"$f":"+DarbųĮkainiai2018[[#This Row],[Stulpelis1]]","v":350}]
[{"$f":"ROW()-ROW(DarbųĮkainiai2018[[#Headers],[Eil. Nr.]])","v":99},"Vakarų Europos gamybos kombainais",7.5,4,225,205.55,null,2.17,21.37,33.630000000000003,15.16,16.45,4.7699999999999996,70.010000000000005,3.5,73.510000000000005,3.68,77.180000000000007,{"$f":"+DarbųĮkainiai2018[[#This Row],[Įkainis, Eur/ha]]-DarbųĮkainiai2018[[#This Row],[Pelnas, Eur/ha]]-DarbųĮkainiai2018[[#This Row],[Išlaidos atnaujinimui, Eur/ha]]","v":39.869999999999997},"RAPSŲ DERLIAUS NUĖMIMAS KOMBAINAIS",2018,"Vakarų Europos",null,"Derliaus nuėmimas",351,null,{"$f":"ROW()-ROW(DarbųĮkainiai2024[[#Headers],[Eil. Nr.]])","v":99},{"$f":"+DarbųĮkainiai2018[[#This Row],[Žemės ūkio mašina]]","v":"Vakarų Europos gamybos kombainais"},{"$f":"+DarbųĮkainiai2018[[#This Row],[Darbinis plotis, m]]","v":7.5},{"$f":"+DarbųĮkainiai2018[[#This Row],[Tręšimo, išsėjimo, purškimo norma, kg/ha; Derlingumas, t/ha]]","v":4},{"$f":"+DarbųĮkainiai2018[[#This Row],[Traktoriaus (kombaino) galia, kW]]","v":225},{"$f":"ROUND(DarbųĮkainiai2018[[#This Row],[Traktoriaus (kombaino) kaina, tūkst. Eur]]*$AF$9,2)","v":268.64999999999998},{"$f":"ROUND(DarbųĮkainiai2018[[#This Row],[Žemės ūkio mašinos (cisternos) kaina, tūkst. Eur]] * $AG$9,2)","v":0},{"$f":"+DarbųĮkainiai2018[[#This Row],[Išdirbio norma, ha/val.]]","v":2.17},{"$f":"+DarbųĮkainiai2018[[#This Row],[Degalų sąnaudų norma, l/ha]]","v":21.37},{"$f":"ROUND(DarbųĮkainiai2018[[#This Row],[Išlaidos atnaujinimui, Eur/ha]]*1.35,2)","v":45.4},{"$f":"ROUND(DarbųĮkainiai2018[[#This Row],[Išlaidos remontui ir tech. aptarnavimui, Eur/ha]]*$AK$9,2)","v":23.25},{"$f":"ROUND(DarbųĮkainiai2024[[#This Row],[Degalų sąnaudų norma, l/ha]] * $AL$9,2)","v":16.03},{"$f":"ROUND(1/DarbųĮkainiai2024[[#This Row],[Išdirbio norma, ha/val.]]*$AM$9,2)","v":5.12},{"$f":"+DarbųĮkainiai2024[[#This Row],[Išlaidos atnaujinimui, Eur/ha]]+DarbųĮkainiai2024[[#This Row],[Išlaidos remontui ir tech. aptarnavimui, Eur/ha]]+DarbųĮkainiai2024[[#This Row],[Išlaidos degalams ir tepalams, Eur/ha]]+DarbųĮkainiai2024[[#This Row],[Išlaidos darbo užmokesčiui su priskaitymais, Eur/ha]]","v":89.800000000000011},{"$f":"ROUND(DarbųĮkainiai2018[[#This Row],[Kitos, Eur/ha]] * $AO$9,2)","v":3.9},{"$f":"+DarbųĮkainiai2024[[#This Row],[Kitos, Eur/ha]]+DarbųĮkainiai2024[[#This Row],[Išlaidos iš viso, Eur/ha]]","v":93.700000000000017},{"$f":"ROUND(DarbųĮkainiai2024[[#This Row],[Savikaina, Eur/ha]]*$AQ$9,2)","v":4.6900000000000004},{"$f":"+DarbųĮkainiai2024[[#This Row],[Pelnas, Eur/ha]]+DarbųĮkainiai2024[[#This Row],[Savikaina, Eur/ha]]","v":98.390000000000015},{"$f":"+DarbųĮkainiai2024[[#This Row],[Įkainis, Eur/ha]]-DarbųĮkainiai2024[[#This Row],[Pelnas, Eur/ha]]-DarbųĮkainiai2024[[#This Row],[Išlaidos atnaujinimui, Eur/ha]]","v":48.300000000000018},{"$f":"+DarbųĮkainiai2018[[#This Row],[Darbas]]","v":"RAPSŲ DERLIAUS NUĖMIMAS KOMBAINAIS"},2024,{"$f":"+DarbųĮkainiai2018[[#This Row],[Žemės ūkio mašinų kilmė]]","v":"Vakarų Europos"},{"$f":"+DarbųĮkainiai2018[[#This Row],[Papildomas barstytubo parametras, m3]]","v":0},{"$f":"+DarbųĮkainiai2018[[#This Row],[Aktualus darbo pavadinimas]]","v":"Derliaus nuėmimas"},{"$f":"+DarbųĮkainiai2018[[#This Row],[Stulpelis1]]","v":351}]
[{"$f":"ROW()-ROW(DarbųĮkainiai2018[[#Headers],[Eil. Nr.]])","v":100},"Vakarų Europos gamybos kombainais",9,2,375,337.2,null,3.08,14.72,38.869999999999997,17.52,11.33,3.36,71.08,3.55,74.63,3.73,78.36,{"$f":"+DarbųĮkainiai2018[[#This Row],[Įkainis, Eur/ha]]-DarbųĮkainiai2018[[#This Row],[Pelnas, Eur/ha]]-DarbųĮkainiai2018[[#This Row],[Išlaidos atnaujinimui, Eur/ha]]","v":35.76},"RAPSŲ DERLIAUS NUĖMIMAS KOMBAINAIS",2018,"Vakarų Europos",null,"Derliaus nuėmimas",352,null,{"$f":"ROW()-ROW(DarbųĮkainiai2024[[#Headers],[Eil. Nr.]])","v":100},{"$f":"+DarbųĮkainiai2018[[#This Row],[Žemės ūkio mašina]]","v":"Vakarų Europos gamybos kombainais"},{"$f":"+DarbųĮkainiai2018[[#This Row],[Darbinis plotis, m]]","v":9},{"$f":"+DarbųĮkainiai2018[[#This Row],[Tręšimo, išsėjimo, purškimo norma, kg/ha; Derlingumas, t/ha]]","v":2},{"$f":"+DarbųĮkainiai2018[[#This Row],[Traktoriaus (kombaino) galia, kW]]","v":375},{"$f":"ROUND(DarbųĮkainiai2018[[#This Row],[Traktoriaus (kombaino) kaina, tūkst. Eur]]*$AF$9,2)","v":440.72},{"$f":"ROUND(DarbųĮkainiai2018[[#This Row],[Žemės ūkio mašinos (cisternos) kaina, tūkst. Eur]] * $AG$9,2)","v":0},{"$f":"+DarbųĮkainiai2018[[#This Row],[Išdirbio norma, ha/val.]]","v":3.08},{"$f":"+DarbųĮkainiai2018[[#This Row],[Degalų sąnaudų norma, l/ha]]","v":14.72},{"$f":"ROUND(DarbųĮkainiai2018[[#This Row],[Išlaidos atnaujinimui, Eur/ha]]*1.35,2)","v":52.47},{"$f":"ROUND(DarbųĮkainiai2018[[#This Row],[Išlaidos remontui ir tech. aptarnavimui, Eur/ha]]*$AK$9,2)","v":26.87},{"$f":"ROUND(DarbųĮkainiai2024[[#This Row],[Degalų sąnaudų norma, l/ha]] * $AL$9,2)","v":11.04},{"$f":"ROUND(1/DarbųĮkainiai2024[[#This Row],[Išdirbio norma, ha/val.]]*$AM$9,2)","v":3.61},{"$f":"+DarbųĮkainiai2024[[#This Row],[Išlaidos atnaujinimui, Eur/ha]]+DarbųĮkainiai2024[[#This Row],[Išlaidos remontui ir tech. aptarnavimui, Eur/ha]]+DarbųĮkainiai2024[[#This Row],[Išlaidos degalams ir tepalams, Eur/ha]]+DarbųĮkainiai2024[[#This Row],[Išlaidos darbo užmokesčiui su priskaitymais, Eur/ha]]","v":93.99},{"$f":"ROUND(DarbųĮkainiai2018[[#This Row],[Kitos, Eur/ha]] * $AO$9,2)","v":3.96},{"$f":"+DarbųĮkainiai2024[[#This Row],[Kitos, Eur/ha]]+DarbųĮkainiai2024[[#This Row],[Išlaidos iš viso, Eur/ha]]","v":97.949999999999989},{"$f":"ROUND(DarbųĮkainiai2024[[#This Row],[Savikaina, Eur/ha]]*$AQ$9,2)","v":4.9000000000000004},{"$f":"+DarbųĮkainiai2024[[#This Row],[Pelnas, Eur/ha]]+DarbųĮkainiai2024[[#This Row],[Savikaina, Eur/ha]]","v":102.85},{"$f":"+DarbųĮkainiai2024[[#This Row],[Įkainis, Eur/ha]]-DarbųĮkainiai2024[[#This Row],[Pelnas, Eur/ha]]-DarbųĮkainiai2024[[#This Row],[Išlaidos atnaujinimui, Eur/ha]]","v":45.47999999999999},{"$f":"+DarbųĮkainiai2018[[#This Row],[Darbas]]","v":"RAPSŲ DERLIAUS NUĖMIMAS KOMBAINAIS"},2024,{"$f":"+DarbųĮkainiai2018[[#This Row],[Žemės ūkio mašinų kilmė]]","v":"Vakarų Europos"},{"$f":"+DarbųĮkainiai2018[[#This Row],[Papildomas barstytubo parametras, m3]]","v":0},{"$f":"+DarbųĮkainiai2018[[#This Row],[Aktualus darbo pavadinimas]]","v":"Derliaus nuėmimas"},{"$f":"+DarbųĮkainiai2018[[#This Row],[Stulpelis1]]","v":352}]
[{"$f":"ROW()-ROW(DarbųĮkainiai2018[[#Headers],[Eil. Nr.]])","v":101},"Vakarų Europos gamybos kombainais",9,2.5,375,337.2,null,3.04,15.66,39.380000000000003,17.75,12.06,3.4,72.59,3.63,76.22,3.81,80.03,{"$f":"+DarbųĮkainiai2018[[#This Row],[Įkainis, Eur/ha]]-DarbųĮkainiai2018[[#This Row],[Pelnas, Eur/ha]]-DarbųĮkainiai2018[[#This Row],[Išlaidos atnaujinimui, Eur/ha]]","v":36.839999999999996},"RAPSŲ DERLIAUS NUĖMIMAS KOMBAINAIS",2018,"Vakarų Europos",null,"Derliaus nuėmimas",353,null,{"$f":"ROW()-ROW(DarbųĮkainiai2024[[#Headers],[Eil. Nr.]])","v":101},{"$f":"+DarbųĮkainiai2018[[#This Row],[Žemės ūkio mašina]]","v":"Vakarų Europos gamybos kombainais"},{"$f":"+DarbųĮkainiai2018[[#This Row],[Darbinis plotis, m]]","v":9},{"$f":"+DarbųĮkainiai2018[[#This Row],[Tręšimo, išsėjimo, purškimo norma, kg/ha; Derlingumas, t/ha]]","v":2.5},{"$f":"+DarbųĮkainiai2018[[#This Row],[Traktoriaus (kombaino) galia, kW]]","v":375},{"$f":"ROUND(DarbųĮkainiai2018[[#This Row],[Traktoriaus (kombaino) kaina, tūkst. Eur]]*$AF$9,2)","v":440.72},{"$f":"ROUND(DarbųĮkainiai2018[[#This Row],[Žemės ūkio mašinos (cisternos) kaina, tūkst. Eur]] * $AG$9,2)","v":0},{"$f":"+DarbųĮkainiai2018[[#This Row],[Išdirbio norma, ha/val.]]","v":3.04},{"$f":"+DarbųĮkainiai2018[[#This Row],[Degalų sąnaudų norma, l/ha]]","v":15.66},{"$f":"ROUND(DarbųĮkainiai2018[[#This Row],[Išlaidos atnaujinimui, Eur/ha]]*1.35,2)","v":53.16},{"$f":"ROUND(DarbųĮkainiai2018[[#This Row],[Išlaidos remontui ir tech. aptarnavimui, Eur/ha]]*$AK$9,2)","v":27.23},{"$f":"ROUND(DarbųĮkainiai2024[[#This Row],[Degalų sąnaudų norma, l/ha]] * $AL$9,2)","v":11.75},{"$f":"ROUND(1/DarbųĮkainiai2024[[#This Row],[Išdirbio norma, ha/val.]]*$AM$9,2)","v":3.65},{"$f":"+DarbųĮkainiai2024[[#This Row],[Išlaidos atnaujinimui, Eur/ha]]+DarbųĮkainiai2024[[#This Row],[Išlaidos remontui ir tech. aptarnavimui, Eur/ha]]+DarbųĮkainiai2024[[#This Row],[Išlaidos degalams ir tepalams, Eur/ha]]+DarbųĮkainiai2024[[#This Row],[Išlaidos darbo užmokesčiui su priskaitymais, Eur/ha]]","v":95.79},{"$f":"ROUND(DarbųĮkainiai2018[[#This Row],[Kitos, Eur/ha]] * $AO$9,2)","v":4.05},{"$f":"+DarbųĮkainiai2024[[#This Row],[Kitos, Eur/ha]]+DarbųĮkainiai2024[[#This Row],[Išlaidos iš viso, Eur/ha]]","v":99.84},{"$f":"ROUND(DarbųĮkainiai2024[[#This Row],[Savikaina, Eur/ha]]*$AQ$9,2)","v":4.99},{"$f":"+DarbųĮkainiai2024[[#This Row],[Pelnas, Eur/ha]]+DarbųĮkainiai2024[[#This Row],[Savikaina, Eur/ha]]","v":104.83},{"$f":"+DarbųĮkainiai2024[[#This Row],[Įkainis, Eur/ha]]-DarbųĮkainiai2024[[#This Row],[Pelnas, Eur/ha]]-DarbųĮkainiai2024[[#This Row],[Išlaidos atnaujinimui, Eur/ha]]","v":46.680000000000007},{"$f":"+DarbųĮkainiai2018[[#This Row],[Darbas]]","v":"RAPSŲ DERLIAUS NUĖMIMAS KOMBAINAIS"},2024,{"$f":"+DarbųĮkainiai2018[[#This Row],[Žemės ūkio mašinų kilmė]]","v":"Vakarų Europos"},{"$f":"+DarbųĮkainiai2018[[#This Row],[Papildomas barstytubo parametras, m3]]","v":0},{"$f":"+DarbųĮkainiai2018[[#This Row],[Aktualus darbo pavadinimas]]","v":"Derliaus nuėmimas"},{"$f":"+DarbųĮkainiai2018[[#This Row],[Stulpelis1]]","v":353}]
[{"$f":"ROW()-ROW(DarbųĮkainiai2018[[#Headers],[Eil. Nr.]])","v":102},"Vakarų Europos gamybos kombainais",9,3,375,337.2,null,3.03,16.54,39.51,17.809999999999999,12.74,3.42,73.459999999999994,3.67,77.14,3.86,80.989999999999995,{"$f":"+DarbųĮkainiai2018[[#This Row],[Įkainis, Eur/ha]]-DarbųĮkainiai2018[[#This Row],[Pelnas, Eur/ha]]-DarbųĮkainiai2018[[#This Row],[Išlaidos atnaujinimui, Eur/ha]]","v":37.619999999999997},"RAPSŲ DERLIAUS NUĖMIMAS KOMBAINAIS",2018,"Vakarų Europos",null,"Derliaus nuėmimas",354,null,{"$f":"ROW()-ROW(DarbųĮkainiai2024[[#Headers],[Eil. Nr.]])","v":102},{"$f":"+DarbųĮkainiai2018[[#This Row],[Žemės ūkio mašina]]","v":"Vakarų Europos gamybos kombainais"},{"$f":"+DarbųĮkainiai2018[[#This Row],[Darbinis plotis, m]]","v":9},{"$f":"+DarbųĮkainiai2018[[#This Row],[Tręšimo, išsėjimo, purškimo norma, kg/ha; Derlingumas, t/ha]]","v":3},{"$f":"+DarbųĮkainiai2018[[#This Row],[Traktoriaus (kombaino) galia, kW]]","v":375},{"$f":"ROUND(DarbųĮkainiai2018[[#This Row],[Traktoriaus (kombaino) kaina, tūkst. Eur]]*$AF$9,2)","v":440.72},{"$f":"ROUND(DarbųĮkainiai2018[[#This Row],[Žemės ūkio mašinos (cisternos) kaina, tūkst. Eur]] * $AG$9,2)","v":0},{"$f":"+DarbųĮkainiai2018[[#This Row],[Išdirbio norma, ha/val.]]","v":3.03},{"$f":"+DarbųĮkainiai2018[[#This Row],[Degalų sąnaudų norma, l/ha]]","v":16.54},{"$f":"ROUND(DarbųĮkainiai2018[[#This Row],[Išlaidos atnaujinimui, Eur/ha]]*1.35,2)","v":53.34},{"$f":"ROUND(DarbųĮkainiai2018[[#This Row],[Išlaidos remontui ir tech. aptarnavimui, Eur/ha]]*$AK$9,2)","v":27.32},{"$f":"ROUND(DarbųĮkainiai2024[[#This Row],[Degalų sąnaudų norma, l/ha]] * $AL$9,2)","v":12.41},{"$f":"ROUND(1/DarbųĮkainiai2024[[#This Row],[Išdirbio norma, ha/val.]]*$AM$9,2)","v":3.67},{"$f":"+DarbųĮkainiai2024[[#This Row],[Išlaidos atnaujinimui, Eur/ha]]+DarbųĮkainiai2024[[#This Row],[Išlaidos remontui ir tech. aptarnavimui, Eur/ha]]+DarbųĮkainiai2024[[#This Row],[Išlaidos degalams ir tepalams, Eur/ha]]+DarbųĮkainiai2024[[#This Row],[Išlaidos darbo užmokesčiui su priskaitymais, Eur/ha]]","v":96.74},{"$f":"ROUND(DarbųĮkainiai2018[[#This Row],[Kitos, Eur/ha]] * $AO$9,2)","v":4.09},{"$f":"+DarbųĮkainiai2024[[#This Row],[Kitos, Eur/ha]]+DarbųĮkainiai2024[[#This Row],[Išlaidos iš viso, Eur/ha]]","v":100.83},{"$f":"ROUND(DarbųĮkainiai2024[[#This Row],[Savikaina, Eur/ha]]*$AQ$9,2)","v":5.04},{"$f":"+DarbųĮkainiai2024[[#This Row],[Pelnas, Eur/ha]]+DarbųĮkainiai2024[[#This Row],[Savikaina, Eur/ha]]","v":105.87},{"$f":"+DarbųĮkainiai2024[[#This Row],[Įkainis, Eur/ha]]-DarbųĮkainiai2024[[#This Row],[Pelnas, Eur/ha]]-DarbųĮkainiai2024[[#This Row],[Išlaidos atnaujinimui, Eur/ha]]","v":47.489999999999995},{"$f":"+DarbųĮkainiai2018[[#This Row],[Darbas]]","v":"RAPSŲ DERLIAUS NUĖMIMAS KOMBAINAIS"},2024,{"$f":"+DarbųĮkainiai2018[[#This Row],[Žemės ūkio mašinų kilmė]]","v":"Vakarų Europos"},{"$f":"+DarbųĮkainiai2018[[#This Row],[Papildomas barstytubo parametras, m3]]","v":0},{"$f":"+DarbųĮkainiai2018[[#This Row],[Aktualus darbo pavadinimas]]","v":"Derliaus nuėmimas"},{"$f":"+DarbųĮkainiai2018[[#This Row],[Stulpelis1]]","v":354}]
[{"$f":"ROW()-ROW(DarbųĮkainiai2018[[#Headers],[Eil. Nr.]])","v":103},"Vakarų Europos gamybos kombainais",9,3.5,375,337.2,null,2.99,17.64,40.04,18.04,13.58,3.46,75.12,3.76,78.88,3.94,82.82,{"$f":"+DarbųĮkainiai2018[[#This Row],[Įkainis, Eur/ha]]-DarbųĮkainiai2018[[#This Row],[Pelnas, Eur/ha]]-DarbųĮkainiai2018[[#This Row],[Išlaidos atnaujinimui, Eur/ha]]","v":38.839999999999996},"RAPSŲ DERLIAUS NUĖMIMAS KOMBAINAIS",2018,"Vakarų Europos",null,"Derliaus nuėmimas",355,null,{"$f":"ROW()-ROW(DarbųĮkainiai2024[[#Headers],[Eil. Nr.]])","v":103},{"$f":"+DarbųĮkainiai2018[[#This Row],[Žemės ūkio mašina]]","v":"Vakarų Europos gamybos kombainais"},{"$f":"+DarbųĮkainiai2018[[#This Row],[Darbinis plotis, m]]","v":9},{"$f":"+DarbųĮkainiai2018[[#This Row],[Tręšimo, išsėjimo, purškimo norma, kg/ha; Derlingumas, t/ha]]","v":3.5},{"$f":"+DarbųĮkainiai2018[[#This Row],[Traktoriaus (kombaino) galia, kW]]","v":375},{"$f":"ROUND(DarbųĮkainiai2018[[#This Row],[Traktoriaus (kombaino) kaina, tūkst. Eur]]*$AF$9,2)","v":440.72},{"$f":"ROUND(DarbųĮkainiai2018[[#This Row],[Žemės ūkio mašinos (cisternos) kaina, tūkst. Eur]] * $AG$9,2)","v":0},{"$f":"+DarbųĮkainiai2018[[#This Row],[Išdirbio norma, ha/val.]]","v":2.99},{"$f":"+DarbųĮkainiai2018[[#This Row],[Degalų sąnaudų norma, l/ha]]","v":17.64},{"$f":"ROUND(DarbųĮkainiai2018[[#This Row],[Išlaidos atnaujinimui, Eur/ha]]*1.35,2)","v":54.05},{"$f":"ROUND(DarbųĮkainiai2018[[#This Row],[Išlaidos remontui ir tech. aptarnavimui, Eur/ha]]*$AK$9,2)","v":27.67},{"$f":"ROUND(DarbųĮkainiai2024[[#This Row],[Degalų sąnaudų norma, l/ha]] * $AL$9,2)","v":13.23},{"$f":"ROUND(1/DarbųĮkainiai2024[[#This Row],[Išdirbio norma, ha/val.]]*$AM$9,2)","v":3.72},{"$f":"+DarbųĮkainiai2024[[#This Row],[Išlaidos atnaujinimui, Eur/ha]]+DarbųĮkainiai2024[[#This Row],[Išlaidos remontui ir tech. aptarnavimui, Eur/ha]]+DarbųĮkainiai2024[[#This Row],[Išlaidos degalams ir tepalams, Eur/ha]]+DarbųĮkainiai2024[[#This Row],[Išlaidos darbo užmokesčiui su priskaitymais, Eur/ha]]","v":98.67},{"$f":"ROUND(DarbųĮkainiai2018[[#This Row],[Kitos, Eur/ha]] * $AO$9,2)","v":4.1900000000000004},{"$f":"+DarbųĮkainiai2024[[#This Row],[Kitos, Eur/ha]]+DarbųĮkainiai2024[[#This Row],[Išlaidos iš viso, Eur/ha]]","v":102.86},{"$f":"ROUND(DarbųĮkainiai2024[[#This Row],[Savikaina, Eur/ha]]*$AQ$9,2)","v":5.14},{"$f":"+DarbųĮkainiai2024[[#This Row],[Pelnas, Eur/ha]]+DarbųĮkainiai2024[[#This Row],[Savikaina, Eur/ha]]","v":108},{"$f":"+DarbųĮkainiai2024[[#This Row],[Įkainis, Eur/ha]]-DarbųĮkainiai2024[[#This Row],[Pelnas, Eur/ha]]-DarbųĮkainiai2024[[#This Row],[Išlaidos atnaujinimui, Eur/ha]]","v":48.81},{"$f":"+DarbųĮkainiai2018[[#This Row],[Darbas]]","v":"RAPSŲ DERLIAUS NUĖMIMAS KOMBAINAIS"},2024,{"$f":"+DarbųĮkainiai2018[[#This Row],[Žemės ūkio mašinų kilmė]]","v":"Vakarų Europos"},{"$f":"+DarbųĮkainiai2018[[#This Row],[Papildomas barstytubo parametras, m3]]","v":0},{"$f":"+DarbųĮkainiai2018[[#This Row],[Aktualus darbo pavadinimas]]","v":"Derliaus nuėmimas"},{"$f":"+DarbųĮkainiai2018[[#This Row],[Stulpelis1]]","v":355}]
[{"$f":"ROW()-ROW(DarbųĮkainiai2018[[#Headers],[Eil. Nr.]])","v":104},"Vakarų Europos gamybos kombainais",9,4,375,337.2,null,2.95,18.68,40.58,18.29,14.38,3.51,76.760000000000005,3.84,80.599999999999994,4.03,84.63,{"$f":"+DarbųĮkainiai2018[[#This Row],[Įkainis, Eur/ha]]-DarbųĮkainiai2018[[#This Row],[Pelnas, Eur/ha]]-DarbųĮkainiai2018[[#This Row],[Išlaidos atnaujinimui, Eur/ha]]","v":40.019999999999996},"RAPSŲ DERLIAUS NUĖMIMAS KOMBAINAIS",2018,"Vakarų Europos",null,"Derliaus nuėmimas",356,null,{"$f":"ROW()-ROW(DarbųĮkainiai2024[[#Headers],[Eil. Nr.]])","v":104},{"$f":"+DarbųĮkainiai2018[[#This Row],[Žemės ūkio mašina]]","v":"Vakarų Europos gamybos kombainais"},{"$f":"+DarbųĮkainiai2018[[#This Row],[Darbinis plotis, m]]","v":9},{"$f":"+DarbųĮkainiai2018[[#This Row],[Tręšimo, išsėjimo, purškimo norma, kg/ha; Derlingumas, t/ha]]","v":4},{"$f":"+DarbųĮkainiai2018[[#This Row],[Traktoriaus (kombaino) galia, kW]]","v":375},{"$f":"ROUND(DarbųĮkainiai2018[[#This Row],[Traktoriaus (kombaino) kaina, tūkst. Eur]]*$AF$9,2)","v":440.72},{"$f":"ROUND(DarbųĮkainiai2018[[#This Row],[Žemės ūkio mašinos (cisternos) kaina, tūkst. Eur]] * $AG$9,2)","v":0},{"$f":"+DarbųĮkainiai2018[[#This Row],[Išdirbio norma, ha/val.]]","v":2.95},{"$f":"+DarbųĮkainiai2018[[#This Row],[Degalų sąnaudų norma, l/ha]]","v":18.68},{"$f":"ROUND(DarbųĮkainiai2018[[#This Row],[Išlaidos atnaujinimui, Eur/ha]]*1.35,2)","v":54.78},{"$f":"ROUND(DarbųĮkainiai2018[[#This Row],[Išlaidos remontui ir tech. aptarnavimui, Eur/ha]]*$AK$9,2)","v":28.05},{"$f":"ROUND(DarbųĮkainiai2024[[#This Row],[Degalų sąnaudų norma, l/ha]] * $AL$9,2)","v":14.01},{"$f":"ROUND(1/DarbųĮkainiai2024[[#This Row],[Išdirbio norma, ha/val.]]*$AM$9,2)","v":3.77},{"$f":"+DarbųĮkainiai2024[[#This Row],[Išlaidos atnaujinimui, Eur/ha]]+DarbųĮkainiai2024[[#This Row],[Išlaidos remontui ir tech. aptarnavimui, Eur/ha]]+DarbųĮkainiai2024[[#This Row],[Išlaidos degalams ir tepalams, Eur/ha]]+DarbųĮkainiai2024[[#This Row],[Išlaidos darbo užmokesčiui su priskaitymais, Eur/ha]]","v":100.61},{"$f":"ROUND(DarbųĮkainiai2018[[#This Row],[Kitos, Eur/ha]] * $AO$9,2)","v":4.28},{"$f":"+DarbųĮkainiai2024[[#This Row],[Kitos, Eur/ha]]+DarbųĮkainiai2024[[#This Row],[Išlaidos iš viso, Eur/ha]]","v":104.89},{"$f":"ROUND(DarbųĮkainiai2024[[#This Row],[Savikaina, Eur/ha]]*$AQ$9,2)","v":5.24},{"$f":"+DarbųĮkainiai2024[[#This Row],[Pelnas, Eur/ha]]+DarbųĮkainiai2024[[#This Row],[Savikaina, Eur/ha]]","v":110.13},{"$f":"+DarbųĮkainiai2024[[#This Row],[Įkainis, Eur/ha]]-DarbųĮkainiai2024[[#This Row],[Pelnas, Eur/ha]]-DarbųĮkainiai2024[[#This Row],[Išlaidos atnaujinimui, Eur/ha]]","v":50.11},{"$f":"+DarbųĮkainiai2018[[#This Row],[Darbas]]","v":"RAPSŲ DERLIAUS NUĖMIMAS KOMBAINAIS"},2024,{"$f":"+DarbųĮkainiai2018[[#This Row],[Žemės ūkio mašinų kilmė]]","v":"Vakarų Europos"},{"$f":"+DarbųĮkainiai2018[[#This Row],[Papildomas barstytubo parametras, m3]]","v":0},{"$f":"+DarbųĮkainiai2018[[#This Row],[Aktualus darbo pavadinimas]]","v":"Derliaus nuėmimas"},{"$f":"+DarbųĮkainiai2018[[#This Row],[Stulpelis1]]","v":356}]
[{"$f":"ROW()-ROW(DarbųĮkainiai2018[[#Headers],[Eil. Nr.]])","v":105},"pakabinamaisiais purkštuvais",12,300,37,20.170000000000002,11.46,4.97,0.88,1.68,0.7,0.62,1.83,4.84,0.48,5.32,0.27,5.59,{"$f":"+DarbųĮkainiai2018[[#This Row],[Įkainis, Eur/ha]]-DarbųĮkainiai2018[[#This Row],[Pelnas, Eur/ha]]-DarbųĮkainiai2018[[#This Row],[Išlaidos atnaujinimui, Eur/ha]]","v":3.6400000000000006},"PURŠKIMAS",2018,"Vakarų Europos",0.6,"Purškimas",410,null,{"$f":"ROW()-ROW(DarbųĮkainiai2024[[#Headers],[Eil. Nr.]])","v":105},{"$f":"+DarbųĮkainiai2018[[#This Row],[Žemės ūkio mašina]]","v":"pakabinamaisiais purkštuvais"},{"$f":"+DarbųĮkainiai2018[[#This Row],[Darbinis plotis, m]]","v":12},{"$f":"+DarbųĮkainiai2018[[#This Row],[Tręšimo, išsėjimo, purškimo norma, kg/ha; Derlingumas, t/ha]]","v":300},{"$f":"+DarbųĮkainiai2018[[#This Row],[Traktoriaus (kombaino) galia, kW]]","v":37},{"$f":"ROUND(DarbųĮkainiai2018[[#This Row],[Traktoriaus (kombaino) kaina, tūkst. Eur]]*$AF$9,2)","v":26.36},{"$f":"ROUND(DarbųĮkainiai2018[[#This Row],[Žemės ūkio mašinos (cisternos) kaina, tūkst. Eur]] * $AG$9,2)","v":17.579999999999998},{"$f":"+DarbųĮkainiai2018[[#This Row],[Išdirbio norma, ha/val.]]","v":4.97},{"$f":"+DarbųĮkainiai2018[[#This Row],[Degalų sąnaudų norma, l/ha]]","v":0.88},{"$f":"ROUND(DarbųĮkainiai2018[[#This Row],[Išlaidos atnaujinimui, Eur/ha]]*1.35,2)","v":2.27},{"$f":"ROUND(DarbųĮkainiai2018[[#This Row],[Išlaidos remontui ir tech. aptarnavimui, Eur/ha]]*$AK$9,2)","v":1.07},{"$f":"ROUND(DarbųĮkainiai2024[[#This Row],[Degalų sąnaudų norma, l/ha]] * $AL$9,2)","v":0.66},{"$f":"ROUND(1/DarbųĮkainiai2024[[#This Row],[Išdirbio norma, ha/val.]]*$AM$9,2)","v":2.2400000000000002},{"$f":"+DarbųĮkainiai2024[[#This Row],[Išlaidos atnaujinimui, Eur/ha]]+DarbųĮkainiai2024[[#This Row],[Išlaidos remontui ir tech. aptarnavimui, Eur/ha]]+DarbųĮkainiai2024[[#This Row],[Išlaidos degalams ir tepalams, Eur/ha]]+DarbųĮkainiai2024[[#This Row],[Išlaidos darbo užmokesčiui su priskaitymais, Eur/ha]]","v":6.24},{"$f":"ROUND(DarbųĮkainiai2018[[#This Row],[Kitos, Eur/ha]] * $AO$9,2)","v":0.54},{"$f":"+DarbųĮkainiai2024[[#This Row],[Kitos, Eur/ha]]+DarbųĮkainiai2024[[#This Row],[Išlaidos iš viso, Eur/ha]]","v":6.78},{"$f":"ROUND(DarbųĮkainiai2024[[#This Row],[Savikaina, Eur/ha]]*$AQ$9,2)","v":0.34},{"$f":"+DarbųĮkainiai2024[[#This Row],[Pelnas, Eur/ha]]+DarbųĮkainiai2024[[#This Row],[Savikaina, Eur/ha]]","v":7.12},{"$f":"+DarbųĮkainiai2024[[#This Row],[Įkainis, Eur/ha]]-DarbųĮkainiai2024[[#This Row],[Pelnas, Eur/ha]]-DarbųĮkainiai2024[[#This Row],[Išlaidos atnaujinimui, Eur/ha]]","v":4.51},{"$f":"+DarbųĮkainiai2018[[#This Row],[Darbas]]","v":"PURŠKIMAS"},2024,{"$f":"+DarbųĮkainiai2018[[#This Row],[Žemės ūkio mašinų kilmė]]","v":"Vakarų Europos"},{"$f":"+DarbųĮkainiai2018[[#This Row],[Papildomas barstytubo parametras, m3]]","v":0.6},{"$f":"+DarbųĮkainiai2018[[#This Row],[Aktualus darbo pavadinimas]]","v":"Purškimas"},{"$f":"+DarbųĮkainiai2018[[#This Row],[Stulpelis1]]","v":410}]
[{"$f":"ROW()-ROW(DarbųĮkainiai2018[[#Headers],[Eil. Nr.]])","v":106},"pakabinamaisiais purkštuvais",15,300,54,31.43,14.34,6.86,0.94,1.61,0.69,0.67,1.32,4.3,0.43,4.7300000000000004,0.24,4.96,{"$f":"+DarbųĮkainiai2018[[#This Row],[Įkainis, Eur/ha]]-DarbųĮkainiai2018[[#This Row],[Pelnas, Eur/ha]]-DarbųĮkainiai2018[[#This Row],[Išlaidos atnaujinimui, Eur/ha]]","v":3.1099999999999994},"PURŠKIMAS",2018,"Vakarų Europos",1,"Purškimas",413,null,{"$f":"ROW()-ROW(DarbųĮkainiai2024[[#Headers],[Eil. Nr.]])","v":106},{"$f":"+DarbųĮkainiai2018[[#This Row],[Žemės ūkio mašina]]","v":"pakabinamaisiais purkštuvais"},{"$f":"+DarbųĮkainiai2018[[#This Row],[Darbinis plotis, m]]","v":15},{"$f":"+DarbųĮkainiai2018[[#This Row],[Tręšimo, išsėjimo, purškimo norma, kg/ha; Derlingumas, t/ha]]","v":300},{"$f":"+DarbųĮkainiai2018[[#This Row],[Traktoriaus (kombaino) galia, kW]]","v":54},{"$f":"ROUND(DarbųĮkainiai2018[[#This Row],[Traktoriaus (kombaino) kaina, tūkst. Eur]]*$AF$9,2)","v":41.08},{"$f":"ROUND(DarbųĮkainiai2018[[#This Row],[Žemės ūkio mašinos (cisternos) kaina, tūkst. Eur]] * $AG$9,2)","v":22},{"$f":"+DarbųĮkainiai2018[[#This Row],[Išdirbio norma, ha/val.]]","v":6.86},{"$f":"+DarbųĮkainiai2018[[#This Row],[Degalų sąnaudų norma, l/ha]]","v":0.94},{"$f":"ROUND(DarbųĮkainiai2018[[#This Row],[Išlaidos atnaujinimui, Eur/ha]]*1.35,2)","v":2.17},{"$f":"ROUND(DarbųĮkainiai2018[[#This Row],[Išlaidos remontui ir tech. aptarnavimui, Eur/ha]]*$AK$9,2)","v":1.06},{"$f":"ROUND(DarbųĮkainiai2024[[#This Row],[Degalų sąnaudų norma, l/ha]] * $AL$9,2)","v":0.71},{"$f":"ROUND(1/DarbųĮkainiai2024[[#This Row],[Išdirbio norma, ha/val.]]*$AM$9,2)","v":1.62},{"$f":"+DarbųĮkainiai2024[[#This Row],[Išlaidos atnaujinimui, Eur/ha]]+DarbųĮkainiai2024[[#This Row],[Išlaidos remontui ir tech. aptarnavimui, Eur/ha]]+DarbųĮkainiai2024[[#This Row],[Išlaidos degalams ir tepalams, Eur/ha]]+DarbųĮkainiai2024[[#This Row],[Išlaidos darbo užmokesčiui su priskaitymais, Eur/ha]]","v":5.5600000000000005},{"$f":"ROUND(DarbųĮkainiai2018[[#This Row],[Kitos, Eur/ha]] * $AO$9,2)","v":0.48},{"$f":"+DarbųĮkainiai2024[[#This Row],[Kitos, Eur/ha]]+DarbųĮkainiai2024[[#This Row],[Išlaidos iš viso, Eur/ha]]","v":6.0400000000000009},{"$f":"ROUND(DarbųĮkainiai2024[[#This Row],[Savikaina, Eur/ha]]*$AQ$9,2)","v":0.3},{"$f":"+DarbųĮkainiai2024[[#This Row],[Pelnas, Eur/ha]]+DarbųĮkainiai2024[[#This Row],[Savikaina, Eur/ha]]","v":6.3400000000000007},{"$f":"+DarbųĮkainiai2024[[#This Row],[Įkainis, Eur/ha]]-DarbųĮkainiai2024[[#This Row],[Pelnas, Eur/ha]]-DarbųĮkainiai2024[[#This Row],[Išlaidos atnaujinimui, Eur/ha]]","v":3.870000000000001},{"$f":"+DarbųĮkainiai2018[[#This Row],[Darbas]]","v":"PURŠKIMAS"},2024,{"$f":"+DarbųĮkainiai2018[[#This Row],[Žemės ūkio mašinų kilmė]]","v":"Vakarų Europos"},{"$f":"+DarbųĮkainiai2018[[#This Row],[Papildomas barstytubo parametras, m3]]","v":1},{"$f":"+DarbųĮkainiai2018[[#This Row],[Aktualus darbo pavadinimas]]","v":"Purškimas"},{"$f":"+DarbųĮkainiai2018[[#This Row],[Stulpelis1]]","v":413}]
[{"$f":"ROW()-ROW(DarbųĮkainiai2018[[#Headers],[Eil. Nr.]])","v":107},"kultivatoriais",2,null,37,20.170000000000002,3.34,1.27,6.3,3.45,2.79,4.47,2.74,13.46,1.08,14.53,0.73,15.26,11.079999999999998,"PRIEŠSĖJINIS DIRVOS ĮDIRBIMAS",2018,"Vakarų Europos",null,"Seklus purenimas",451,null,{"$f":"ROW()-ROW(DarbųĮkainiai2024[[#Headers],[Eil. Nr.]])","v":107},{"$f":"+DarbųĮkainiai2018[[#This Row],[Žemės ūkio mašina]]","v":"kultivatoriais"},{"$f":"+DarbųĮkainiai2018[[#This Row],[Darbinis plotis, m]]","v":2},{"$f":"+DarbųĮkainiai2018[[#This Row],[Tręšimo, išsėjimo, purškimo norma, kg/ha; Derlingumas, t/ha]]","v":0},{"$f":"+DarbųĮkainiai2018[[#This Row],[Traktoriaus (kombaino) galia, kW]]","v":37},{"$f":"ROUND(DarbųĮkainiai2018[[#This Row],[Traktoriaus (kombaino) kaina, tūkst. Eur]]*$AF$9,2)","v":26.36},{"$f":"ROUND(DarbųĮkainiai2018[[#This Row],[Žemės ūkio mašinos (cisternos) kaina, tūkst. Eur]] * $AG$9,2)","v":5.12},{"$f":"+DarbųĮkainiai2018[[#This Row],[Išdirbio norma, ha/val.]]","v":1.27},{"$f":"+DarbųĮkainiai2018[[#This Row],[Degalų sąnaudų norma, l/ha]]","v":6.3},{"$f":"ROUND(DarbųĮkainiai2018[[#This Row],[Išlaidos atnaujinimui, Eur/ha]]*1.35,2)","v":4.66},{"$f":"ROUND(DarbųĮkainiai2018[[#This Row],[Išlaidos remontui ir tech. aptarnavimui, Eur/ha]]*$AK$9,2)","v":4.28},{"$f":"ROUND(DarbųĮkainiai2024[[#This Row],[Degalų sąnaudų norma, l/ha]] * $AL$9,2)","v":4.7300000000000004},{"$f":"ROUND(1/DarbųĮkainiai2024[[#This Row],[Išdirbio norma, ha/val.]]*$AM$9,2)","v":8.75},{"$f":"+DarbųĮkainiai2024[[#This Row],[Išlaidos atnaujinimui, Eur/ha]]+DarbųĮkainiai2024[[#This Row],[Išlaidos remontui ir tech. aptarnavimui, Eur/ha]]+DarbųĮkainiai2024[[#This Row],[Išlaidos degalams ir tepalams, Eur/ha]]+DarbųĮkainiai2024[[#This Row],[Išlaidos darbo užmokesčiui su priskaitymais, Eur/ha]]","v":22.42},{"$f":"ROUND(DarbųĮkainiai2018[[#This Row],[Kitos, Eur/ha]] * $AO$9,2)","v":1.2},{"$f":"+DarbųĮkainiai2024[[#This Row],[Kitos, Eur/ha]]+DarbųĮkainiai2024[[#This Row],[Išlaidos iš viso, Eur/ha]]","v":23.62},{"$f":"ROUND(DarbųĮkainiai2024[[#This Row],[Savikaina, Eur/ha]]*$AQ$9,2)","v":1.18},{"$f":"+DarbųĮkainiai2024[[#This Row],[Pelnas, Eur/ha]]+DarbųĮkainiai2024[[#This Row],[Savikaina, Eur/ha]]","v":24.8},{"$f":"+DarbųĮkainiai2024[[#This Row],[Įkainis, Eur/ha]]-DarbųĮkainiai2024[[#This Row],[Pelnas, Eur/ha]]-DarbųĮkainiai2024[[#This Row],[Išlaidos atnaujinimui, Eur/ha]]","v":18.96},{"$f":"+DarbųĮkainiai2018[[#This Row],[Darbas]]","v":"PRIEŠSĖJINIS DIRVOS ĮDIRBIMAS"},2024,{"$f":"+DarbųĮkainiai2018[[#This Row],[Žemės ūkio mašinų kilmė]]","v":"Vakarų Europos"},{"$f":"+DarbųĮkainiai2018[[#This Row],[Papildomas barstytubo parametras, m3]]","v":0},{"$f":"+DarbųĮkainiai2018[[#This Row],[Aktualus darbo pavadinimas]]","v":"Seklus purenimas"},{"$f":"+DarbųĮkainiai2018[[#This Row],[Stulpelis1]]","v":451}]
[{"$f":"ROW()-ROW(DarbųĮkainiai2018[[#Headers],[Eil. Nr.]])","v":108},"kultivatoriais",2.5,null,54,31.43,4.18,1.74,6.8,3.5,2.76,4.83,2,13.1,1.05,14.14,0.71,14.85,10.64,"PRIEŠSĖJINIS DIRVOS ĮDIRBIMAS",2018,"Vakarų Europos",null,"Seklus purenimas",452,null,{"$f":"ROW()-ROW(DarbųĮkainiai2024[[#Headers],[Eil. Nr.]])","v":108},{"$f":"+DarbųĮkainiai2018[[#This Row],[Žemės ūkio mašina]]","v":"kultivatoriais"},{"$f":"+DarbųĮkainiai2018[[#This Row],[Darbinis plotis, m]]","v":2.5},{"$f":"+DarbųĮkainiai2018[[#This Row],[Tręšimo, išsėjimo, purškimo norma, kg/ha; Derlingumas, t/ha]]","v":0},{"$f":"+DarbųĮkainiai2018[[#This Row],[Traktoriaus (kombaino) galia, kW]]","v":54},{"$f":"ROUND(DarbųĮkainiai2018[[#This Row],[Traktoriaus (kombaino) kaina, tūkst. Eur]]*$AF$9,2)","v":41.08},{"$f":"ROUND(DarbųĮkainiai2018[[#This Row],[Žemės ūkio mašinos (cisternos) kaina, tūkst. Eur]] * $AG$9,2)","v":6.41},{"$f":"+DarbųĮkainiai2018[[#This Row],[Išdirbio norma, ha/val.]]","v":1.74},{"$f":"+DarbųĮkainiai2018[[#This Row],[Degalų sąnaudų norma, l/ha]]","v":6.8},{"$f":"ROUND(DarbųĮkainiai2018[[#This Row],[Išlaidos atnaujinimui, Eur/ha]]*1.35,2)","v":4.7300000000000004},{"$f":"ROUND(DarbųĮkainiai2018[[#This Row],[Išlaidos remontui ir tech. aptarnavimui, Eur/ha]]*$AK$9,2)","v":4.2300000000000004},{"$f":"ROUND(DarbųĮkainiai2024[[#This Row],[Degalų sąnaudų norma, l/ha]] * $AL$9,2)","v":5.0999999999999996},{"$f":"ROUND(1/DarbųĮkainiai2024[[#This Row],[Išdirbio norma, ha/val.]]*$AM$9,2)","v":6.39},{"$f":"+DarbųĮkainiai2024[[#This Row],[Išlaidos atnaujinimui, Eur/ha]]+DarbųĮkainiai2024[[#This Row],[Išlaidos remontui ir tech. aptarnavimui, Eur/ha]]+DarbųĮkainiai2024[[#This Row],[Išlaidos degalams ir tepalams, Eur/ha]]+DarbųĮkainiai2024[[#This Row],[Išlaidos darbo užmokesčiui su priskaitymais, Eur/ha]]","v":20.45},{"$f":"ROUND(DarbųĮkainiai2018[[#This Row],[Kitos, Eur/ha]] * $AO$9,2)","v":1.17},{"$f":"+DarbųĮkainiai2024[[#This Row],[Kitos, Eur/ha]]+DarbųĮkainiai2024[[#This Row],[Išlaidos iš viso, Eur/ha]]","v":21.619999999999997},{"$f":"ROUND(DarbųĮkainiai2024[[#This Row],[Savikaina, Eur/ha]]*$AQ$9,2)","v":1.08},{"$f":"+DarbųĮkainiai2024[[#This Row],[Pelnas, Eur/ha]]+DarbųĮkainiai2024[[#This Row],[Savikaina, Eur/ha]]","v":22.699999999999996},{"$f":"+DarbųĮkainiai2024[[#This Row],[Įkainis, Eur/ha]]-DarbųĮkainiai2024[[#This Row],[Pelnas, Eur/ha]]-DarbųĮkainiai2024[[#This Row],[Išlaidos atnaujinimui, Eur/ha]]","v":16.889999999999997},{"$f":"+DarbųĮkainiai2018[[#This Row],[Darbas]]","v":"PRIEŠSĖJINIS DIRVOS ĮDIRBIMAS"},2024,{"$f":"+DarbųĮkainiai2018[[#This Row],[Žemės ūkio mašinų kilmė]]","v":"Vakarų Europos"},{"$f":"+DarbųĮkainiai2018[[#This Row],[Papildomas barstytubo parametras, m3]]","v":0},{"$f":"+DarbųĮkainiai2018[[#This Row],[Aktualus darbo pavadinimas]]","v":"Seklus purenimas"},{"$f":"+DarbųĮkainiai2018[[#This Row],[Stulpelis1]]","v":452}]
[{"$f":"ROW()-ROW(DarbųĮkainiai2018[[#Headers],[Eil. Nr.]])","v":109},"kultivatoriais",3,null,67,40.9,5.01,1.91,6.9,4,3.12,4.9000000000000004,1.82,13.84,1.1100000000000001,14.95,0.75,15.69,10.94,"PRIEŠSĖJINIS DIRVOS ĮDIRBIMAS",2018,"Vakarų Europos",null,"Seklus purenimas",453,null,{"$f":"ROW()-ROW(DarbųĮkainiai2024[[#Headers],[Eil. Nr.]])","v":109},{"$f":"+DarbųĮkainiai2018[[#This Row],[Žemės ūkio mašina]]","v":"kultivatoriais"},{"$f":"+DarbųĮkainiai2018[[#This Row],[Darbinis plotis, m]]","v":3},{"$f":"+DarbųĮkainiai2018[[#This Row],[Tręšimo, išsėjimo, purškimo norma, kg/ha; Derlingumas, t/ha]]","v":0},{"$f":"+DarbųĮkainiai2018[[#This Row],[Traktoriaus (kombaino) galia, kW]]","v":67},{"$f":"ROUND(DarbųĮkainiai2018[[#This Row],[Traktoriaus (kombaino) kaina, tūkst. Eur]]*$AF$9,2)","v":53.46},{"$f":"ROUND(DarbųĮkainiai2018[[#This Row],[Žemės ūkio mašinos (cisternos) kaina, tūkst. Eur]] * $AG$9,2)","v":7.68},{"$f":"+DarbųĮkainiai2018[[#This Row],[Išdirbio norma, ha/val.]]","v":1.91},{"$f":"+DarbųĮkainiai2018[[#This Row],[Degalų sąnaudų norma, l/ha]]","v":6.9},{"$f":"ROUND(DarbųĮkainiai2018[[#This Row],[Išlaidos atnaujinimui, Eur/ha]]*1.35,2)","v":5.4},{"$f":"ROUND(DarbųĮkainiai2018[[#This Row],[Išlaidos remontui ir tech. aptarnavimui, Eur/ha]]*$AK$9,2)","v":4.79},{"$f":"ROUND(DarbųĮkainiai2024[[#This Row],[Degalų sąnaudų norma, l/ha]] * $AL$9,2)","v":5.18},{"$f":"ROUND(1/DarbųĮkainiai2024[[#This Row],[Išdirbio norma, ha/val.]]*$AM$9,2)","v":5.82},{"$f":"+DarbųĮkainiai2024[[#This Row],[Išlaidos atnaujinimui, Eur/ha]]+DarbųĮkainiai2024[[#This Row],[Išlaidos remontui ir tech. aptarnavimui, Eur/ha]]+DarbųĮkainiai2024[[#This Row],[Išlaidos degalams ir tepalams, Eur/ha]]+DarbųĮkainiai2024[[#This Row],[Išlaidos darbo užmokesčiui su priskaitymais, Eur/ha]]","v":21.19},{"$f":"ROUND(DarbųĮkainiai2018[[#This Row],[Kitos, Eur/ha]] * $AO$9,2)","v":1.24},{"$f":"+DarbųĮkainiai2024[[#This Row],[Kitos, Eur/ha]]+DarbųĮkainiai2024[[#This Row],[Išlaidos iš viso, Eur/ha]]","v":22.43},{"$f":"ROUND(DarbųĮkainiai2024[[#This Row],[Savikaina, Eur/ha]]*$AQ$9,2)","v":1.1200000000000001},{"$f":"+DarbųĮkainiai2024[[#This Row],[Pelnas, Eur/ha]]+DarbųĮkainiai2024[[#This Row],[Savikaina, Eur/ha]]","v":23.55},{"$f":"+DarbųĮkainiai2024[[#This Row],[Įkainis, Eur/ha]]-DarbųĮkainiai2024[[#This Row],[Pelnas, Eur/ha]]-DarbųĮkainiai2024[[#This Row],[Išlaidos atnaujinimui, Eur/ha]]","v":17.03},{"$f":"+DarbųĮkainiai2018[[#This Row],[Darbas]]","v":"PRIEŠSĖJINIS DIRVOS ĮDIRBIMAS"},2024,{"$f":"+DarbųĮkainiai2018[[#This Row],[Žemės ūkio mašinų kilmė]]","v":"Vakarų Europos"},{"$f":"+DarbųĮkainiai2018[[#This Row],[Papildomas barstytubo parametras, m3]]","v":0},{"$f":"+DarbųĮkainiai2018[[#This Row],[Aktualus darbo pavadinimas]]","v":"Seklus purenimas"},{"$f":"+DarbųĮkainiai2018[[#This Row],[Stulpelis1]]","v":453}]
[{"$f":"ROW()-ROW(DarbųĮkainiai2018[[#Headers],[Eil. Nr.]])","v":110},"kultivatoriais",4,null,83,57.12,6.68,2.5299999999999998,6.6,4.12,3.2,4.6900000000000004,1.58,13.59,1.0900000000000001,14.68,0.73,15.42,10.57,"PRIEŠSĖJINIS DIRVOS ĮDIRBIMAS",2018,"Vakarų Europos",null,"Seklus purenimas",454,null,{"$f":"ROW()-ROW(DarbųĮkainiai2024[[#Headers],[Eil. Nr.]])","v":110},{"$f":"+DarbųĮkainiai2018[[#This Row],[Žemės ūkio mašina]]","v":"kultivatoriais"},{"$f":"+DarbųĮkainiai2018[[#This Row],[Darbinis plotis, m]]","v":4},{"$f":"+DarbųĮkainiai2018[[#This Row],[Tręšimo, išsėjimo, purškimo norma, kg/ha; Derlingumas, t/ha]]","v":0},{"$f":"+DarbųĮkainiai2018[[#This Row],[Traktoriaus (kombaino) galia, kW]]","v":83},{"$f":"ROUND(DarbųĮkainiai2018[[#This Row],[Traktoriaus (kombaino) kaina, tūkst. Eur]]*$AF$9,2)","v":74.66},{"$f":"ROUND(DarbųĮkainiai2018[[#This Row],[Žemės ūkio mašinos (cisternos) kaina, tūkst. Eur]] * $AG$9,2)","v":10.25},{"$f":"+DarbųĮkainiai2018[[#This Row],[Išdirbio norma, ha/val.]]","v":2.5299999999999998},{"$f":"+DarbųĮkainiai2018[[#This Row],[Degalų sąnaudų norma, l/ha]]","v":6.6},{"$f":"ROUND(DarbųĮkainiai2018[[#This Row],[Išlaidos atnaujinimui, Eur/ha]]*1.35,2)","v":5.56},{"$f":"ROUND(DarbųĮkainiai2018[[#This Row],[Išlaidos remontui ir tech. aptarnavimui, Eur/ha]]*$AK$9,2)","v":4.91},{"$f":"ROUND(DarbųĮkainiai2024[[#This Row],[Degalų sąnaudų norma, l/ha]] * $AL$9,2)","v":4.95},{"$f":"ROUND(1/DarbųĮkainiai2024[[#This Row],[Išdirbio norma, ha/val.]]*$AM$9,2)","v":4.3899999999999997},{"$f":"+DarbųĮkainiai2024[[#This Row],[Išlaidos atnaujinimui, Eur/ha]]+DarbųĮkainiai2024[[#This Row],[Išlaidos remontui ir tech. aptarnavimui, Eur/ha]]+DarbųĮkainiai2024[[#This Row],[Išlaidos degalams ir tepalams, Eur/ha]]+DarbųĮkainiai2024[[#This Row],[Išlaidos darbo užmokesčiui su priskaitymais, Eur/ha]]","v":19.809999999999999},{"$f":"ROUND(DarbųĮkainiai2018[[#This Row],[Kitos, Eur/ha]] * $AO$9,2)","v":1.22},{"$f":"+DarbųĮkainiai2024[[#This Row],[Kitos, Eur/ha]]+DarbųĮkainiai2024[[#This Row],[Išlaidos iš viso, Eur/ha]]","v":21.029999999999998},{"$f":"ROUND(DarbųĮkainiai2024[[#This Row],[Savikaina, Eur/ha]]*$AQ$9,2)","v":1.05},{"$f":"+DarbųĮkainiai2024[[#This Row],[Pelnas, Eur/ha]]+DarbųĮkainiai2024[[#This Row],[Savikaina, Eur/ha]]","v":22.08},{"$f":"+DarbųĮkainiai2024[[#This Row],[Įkainis, Eur/ha]]-DarbųĮkainiai2024[[#This Row],[Pelnas, Eur/ha]]-DarbųĮkainiai2024[[#This Row],[Išlaidos atnaujinimui, Eur/ha]]","v":15.469999999999999},{"$f":"+DarbųĮkainiai2018[[#This Row],[Darbas]]","v":"PRIEŠSĖJINIS DIRVOS ĮDIRBIMAS"},2024,{"$f":"+DarbųĮkainiai2018[[#This Row],[Žemės ūkio mašinų kilmė]]","v":"Vakarų Europos"},{"$f":"+DarbųĮkainiai2018[[#This Row],[Papildomas barstytubo parametras, m3]]","v":0},{"$f":"+DarbųĮkainiai2018[[#This Row],[Aktualus darbo pavadinimas]]","v":"Seklus purenimas"},{"$f":"+DarbųĮkainiai2018[[#This Row],[Stulpelis1]]","v":454}]
[{"$f":"ROW()-ROW(DarbųĮkainiai2018[[#Headers],[Eil. Nr.]])","v":111},"kultivatoriais",6,null,120,83.4,10.02,3.87,6.5,3.99,3.11,4.62,1.03,12.74,1.02,13.76,0.69,14.45,9.77,"PRIEŠSĖJINIS DIRVOS ĮDIRBIMAS",2018,"Vakarų Europos",null,"Seklus purenimas",455,null,{"$f":"ROW()-ROW(DarbųĮkainiai2024[[#Headers],[Eil. Nr.]])","v":111},{"$f":"+DarbųĮkainiai2018[[#This Row],[Žemės ūkio mašina]]","v":"kultivatoriais"},{"$f":"+DarbųĮkainiai2018[[#This Row],[Darbinis plotis, m]]","v":6},{"$f":"+DarbųĮkainiai2018[[#This Row],[Tręšimo, išsėjimo, purškimo norma, kg/ha; Derlingumas, t/ha]]","v":0},{"$f":"+DarbųĮkainiai2018[[#This Row],[Traktoriaus (kombaino) galia, kW]]","v":120},{"$f":"ROUND(DarbųĮkainiai2018[[#This Row],[Traktoriaus (kombaino) kaina, tūkst. Eur]]*$AF$9,2)","v":109},{"$f":"ROUND(DarbųĮkainiai2018[[#This Row],[Žemės ūkio mašinos (cisternos) kaina, tūkst. Eur]] * $AG$9,2)","v":15.37},{"$f":"+DarbųĮkainiai2018[[#This Row],[Išdirbio norma, ha/val.]]","v":3.87},{"$f":"+DarbųĮkainiai2018[[#This Row],[Degalų sąnaudų norma, l/ha]]","v":6.5},{"$f":"ROUND(DarbųĮkainiai2018[[#This Row],[Išlaidos atnaujinimui, Eur/ha]]*1.35,2)","v":5.39},{"$f":"ROUND(DarbųĮkainiai2018[[#This Row],[Išlaidos remontui ir tech. aptarnavimui, Eur/ha]]*$AK$9,2)","v":4.7699999999999996},{"$f":"ROUND(DarbųĮkainiai2024[[#This Row],[Degalų sąnaudų norma, l/ha]] * $AL$9,2)","v":4.88},{"$f":"ROUND(1/DarbųĮkainiai2024[[#This Row],[Išdirbio norma, ha/val.]]*$AM$9,2)","v":2.87},{"$f":"+DarbųĮkainiai2024[[#This Row],[Išlaidos atnaujinimui, Eur/ha]]+DarbųĮkainiai2024[[#This Row],[Išlaidos remontui ir tech. aptarnavimui, Eur/ha]]+DarbųĮkainiai2024[[#This Row],[Išlaidos degalams ir tepalams, Eur/ha]]+DarbųĮkainiai2024[[#This Row],[Išlaidos darbo užmokesčiui su priskaitymais, Eur/ha]]","v":17.91},{"$f":"ROUND(DarbųĮkainiai2018[[#This Row],[Kitos, Eur/ha]] * $AO$9,2)","v":1.1399999999999999},{"$f":"+DarbųĮkainiai2024[[#This Row],[Kitos, Eur/ha]]+DarbųĮkainiai2024[[#This Row],[Išlaidos iš viso, Eur/ha]]","v":19.05},{"$f":"ROUND(DarbųĮkainiai2024[[#This Row],[Savikaina, Eur/ha]]*$AQ$9,2)","v":0.95},{"$f":"+DarbųĮkainiai2024[[#This Row],[Pelnas, Eur/ha]]+DarbųĮkainiai2024[[#This Row],[Savikaina, Eur/ha]]","v":20},{"$f":"+DarbųĮkainiai2024[[#This Row],[Įkainis, Eur/ha]]-DarbųĮkainiai2024[[#This Row],[Pelnas, Eur/ha]]-DarbųĮkainiai2024[[#This Row],[Išlaidos atnaujinimui, Eur/ha]]","v":13.66},{"$f":"+DarbųĮkainiai2018[[#This Row],[Darbas]]","v":"PRIEŠSĖJINIS DIRVOS ĮDIRBIMAS"},2024,{"$f":"+DarbųĮkainiai2018[[#This Row],[Žemės ūkio mašinų kilmė]]","v":"Vakarų Europos"},{"$f":"+DarbųĮkainiai2018[[#This Row],[Papildomas barstytubo parametras, m3]]","v":0},{"$f":"+DarbųĮkainiai2018[[#This Row],[Aktualus darbo pavadinimas]]","v":"Seklus purenimas"},{"$f":"+DarbųĮkainiai2018[[#This Row],[Stulpelis1]]","v":455}]
[{"$f":"ROW()-ROW(DarbųĮkainiai2018[[#Headers],[Eil. Nr.]])","v":112},"kultivatoriais",8,null,138,91.1,18.64,5.18,6.4,4.3099999999999996,3.57,4.54,0.77,13.2,1.06,14.25,0.71,14.97,9.9500000000000028,"PRIEŠSĖJINIS DIRVOS ĮDIRBIMAS",2018,"Vakarų Europos",null,"Seklus purenimas",456,null,{"$f":"ROW()-ROW(DarbųĮkainiai2024[[#Headers],[Eil. Nr.]])","v":112},{"$f":"+DarbųĮkainiai2018[[#This Row],[Žemės ūkio mašina]]","v":"kultivatoriais"},{"$f":"+DarbųĮkainiai2018[[#This Row],[Darbinis plotis, m]]","v":8},{"$f":"+DarbųĮkainiai2018[[#This Row],[Tręšimo, išsėjimo, purškimo norma, kg/ha; Derlingumas, t/ha]]","v":0},{"$f":"+DarbųĮkainiai2018[[#This Row],[Traktoriaus (kombaino) galia, kW]]","v":138},{"$f":"ROUND(DarbųĮkainiai2018[[#This Row],[Traktoriaus (kombaino) kaina, tūkst. Eur]]*$AF$9,2)","v":119.07},{"$f":"ROUND(DarbųĮkainiai2018[[#This Row],[Žemės ūkio mašinos (cisternos) kaina, tūkst. Eur]] * $AG$9,2)","v":28.59},{"$f":"+DarbųĮkainiai2018[[#This Row],[Išdirbio norma, ha/val.]]","v":5.18},{"$f":"+DarbųĮkainiai2018[[#This Row],[Degalų sąnaudų norma, l/ha]]","v":6.4},{"$f":"ROUND(DarbųĮkainiai2018[[#This Row],[Išlaidos atnaujinimui, Eur/ha]]*1.35,2)","v":5.82},{"$f":"ROUND(DarbųĮkainiai2018[[#This Row],[Išlaidos remontui ir tech. aptarnavimui, Eur/ha]]*$AK$9,2)","v":5.48},{"$f":"ROUND(DarbųĮkainiai2024[[#This Row],[Degalų sąnaudų norma, l/ha]] * $AL$9,2)","v":4.8},{"$f":"ROUND(1/DarbųĮkainiai2024[[#This Row],[Išdirbio norma, ha/val.]]*$AM$9,2)","v":2.14},{"$f":"+DarbųĮkainiai2024[[#This Row],[Išlaidos atnaujinimui, Eur/ha]]+DarbųĮkainiai2024[[#This Row],[Išlaidos remontui ir tech. aptarnavimui, Eur/ha]]+DarbųĮkainiai2024[[#This Row],[Išlaidos degalams ir tepalams, Eur/ha]]+DarbųĮkainiai2024[[#This Row],[Išlaidos darbo užmokesčiui su priskaitymais, Eur/ha]]","v":18.240000000000002},{"$f":"ROUND(DarbųĮkainiai2018[[#This Row],[Kitos, Eur/ha]] * $AO$9,2)","v":1.18},{"$f":"+DarbųĮkainiai2024[[#This Row],[Kitos, Eur/ha]]+DarbųĮkainiai2024[[#This Row],[Išlaidos iš viso, Eur/ha]]","v":19.420000000000002},{"$f":"ROUND(DarbųĮkainiai2024[[#This Row],[Savikaina, Eur/ha]]*$AQ$9,2)","v":0.97},{"$f":"+DarbųĮkainiai2024[[#This Row],[Pelnas, Eur/ha]]+DarbųĮkainiai2024[[#This Row],[Savikaina, Eur/ha]]","v":20.39},{"$f":"+DarbųĮkainiai2024[[#This Row],[Įkainis, Eur/ha]]-DarbųĮkainiai2024[[#This Row],[Pelnas, Eur/ha]]-DarbųĮkainiai2024[[#This Row],[Išlaidos atnaujinimui, Eur/ha]]","v":13.600000000000001},{"$f":"+DarbųĮkainiai2018[[#This Row],[Darbas]]","v":"PRIEŠSĖJINIS DIRVOS ĮDIRBIMAS"},2024,{"$f":"+DarbųĮkainiai2018[[#This Row],[Žemės ūkio mašinų kilmė]]","v":"Vakarų Europos"},{"$f":"+DarbųĮkainiai2018[[#This Row],[Papildomas barstytubo parametras, m3]]","v":0},{"$f":"+DarbųĮkainiai2018[[#This Row],[Aktualus darbo pavadinimas]]","v":"Seklus purenimas"},{"$f":"+DarbųĮkainiai2018[[#This Row],[Stulpelis1]]","v":456}]
[{"$f":"ROW()-ROW(DarbųĮkainiai2018[[#Headers],[Eil. Nr.]])","v":113},"Pakabinamaisiais apverčiamaisiais plūgais",0.7,null,45,25.24,7.02,0.56999999999999995,14.8,12.98,11.17,10.5,13.19,{"$f":"SUM(DarbųĮkainiai2018[[#This Row],[Išlaidos atnaujinimui, Eur/ha]:[Išlaidos darbo užmokesčiui su priskaitymais, Eur/ha]])","v":47.839999999999996},3.17,{"$f":"+DarbųĮkainiai2018[[#This Row],[Kitos, Eur/ha]]+DarbųĮkainiai2018[[#This Row],[Išlaidos iš viso, Eur/ha]]","v":51.01},{"$f":"ROUND(DarbųĮkainiai2018[[#This Row],[Savikaina, Eur/ha]]*0.05,2)","v":2.5499999999999998},{"$f":"+DarbųĮkainiai2018[[#This Row],[Pelnas, Eur/ha]]+DarbųĮkainiai2018[[#This Row],[Savikaina, Eur/ha]]","v":53.559999999999995},{"$f":"+DarbųĮkainiai2018[[#This Row],[Įkainis, Eur/ha]]-DarbųĮkainiai2018[[#This Row],[Pelnas, Eur/ha]]-DarbųĮkainiai2018[[#This Row],[Išlaidos atnaujinimui, Eur/ha]]","v":38.03},"DIRVOS DIRBIMAS",2018,"Vakarų Europos",null,"Seklus arimas",457,null,{"$f":"ROW()-ROW(DarbųĮkainiai2024[[#Headers],[Eil. Nr.]])","v":113},{"$f":"+DarbųĮkainiai2018[[#This Row],[Žemės ūkio mašina]]","v":"Pakabinamaisiais apverčiamaisiais plūgais"},{"$f":"+DarbųĮkainiai2018[[#This Row],[Darbinis plotis, m]]","v":0.7},{"$f":"+DarbųĮkainiai2018[[#This Row],[Tręšimo, išsėjimo, purškimo norma, kg/ha; Derlingumas, t/ha]]","v":0},{"$f":"+DarbųĮkainiai2018[[#This Row],[Traktoriaus (kombaino) galia, kW]]","v":45},{"$f":"ROUND(DarbųĮkainiai2018[[#This Row],[Traktoriaus (kombaino) kaina, tūkst. Eur]]*$AF$9,2)","v":32.99},{"$f":"ROUND(DarbųĮkainiai2018[[#This Row],[Žemės ūkio mašinos (cisternos) kaina, tūkst. Eur]] * $AG$9,2)","v":10.77},{"$f":"+DarbųĮkainiai2018[[#This Row],[Išdirbio norma, ha/val.]]","v":0.56999999999999995},{"$f":"+DarbųĮkainiai2018[[#This Row],[Degalų sąnaudų norma, l/ha]]","v":14.8},{"$f":"ROUND(DarbųĮkainiai2018[[#This Row],[Išlaidos atnaujinimui, Eur/ha]]*1.35,2)","v":17.52},{"$f":"ROUND(DarbųĮkainiai2018[[#This Row],[Išlaidos remontui ir tech. aptarnavimui, Eur/ha]]*$AK$9,2)","v":17.13},{"$f":"ROUND(DarbųĮkainiai2024[[#This Row],[Degalų sąnaudų norma, l/ha]] * $AL$9,2)","v":11.1},{"$f":"ROUND(1/DarbųĮkainiai2024[[#This Row],[Išdirbio norma, ha/val.]]*$AM$9,2)","v":19.489999999999998},{"$f":"+DarbųĮkainiai2024[[#This Row],[Išlaidos atnaujinimui, Eur/ha]]+DarbųĮkainiai2024[[#This Row],[Išlaidos remontui ir tech. aptarnavimui, Eur/ha]]+DarbųĮkainiai2024[[#This Row],[Išlaidos degalams ir tepalams, Eur/ha]]+DarbųĮkainiai2024[[#This Row],[Išlaidos darbo užmokesčiui su priskaitymais, Eur/ha]]","v":65.239999999999995},{"$f":"ROUND(DarbųĮkainiai2018[[#This Row],[Kitos, Eur/ha]] * $AO$9,2)","v":3.54},{"$f":"+DarbųĮkainiai2024[[#This Row],[Kitos, Eur/ha]]+DarbųĮkainiai2024[[#This Row],[Išlaidos iš viso, Eur/ha]]","v":68.78},{"$f":"ROUND(DarbųĮkainiai2024[[#This Row],[Savikaina, Eur/ha]]*$AQ$9,2)","v":3.44},{"$f":"+DarbųĮkainiai2024[[#This Row],[Pelnas, Eur/ha]]+DarbųĮkainiai2024[[#This Row],[Savikaina, Eur/ha]]","v":72.22},{"$f":"+DarbųĮkainiai2024[[#This Row],[Įkainis, Eur/ha]]-DarbųĮkainiai2024[[#This Row],[Pelnas, Eur/ha]]-DarbųĮkainiai2024[[#This Row],[Išlaidos atnaujinimui, Eur/ha]]","v":51.260000000000005},{"$f":"+DarbųĮkainiai2018[[#This Row],[Darbas]]","v":"DIRVOS DIRBIMAS"},2024,{"$f":"+DarbųĮkainiai2018[[#This Row],[Žemės ūkio mašinų kilmė]]","v":"Vakarų Europos"},{"$f":"+DarbųĮkainiai2018[[#This Row],[Papildomas barstytubo parametras, m3]]","v":0},{"$f":"+DarbųĮkainiai2018[[#This Row],[Aktualus darbo pavadinimas]]","v":"Seklus arimas"},{"$f":"+DarbųĮkainiai2018[[#This Row],[Stulpelis1]]","v":457}]
[{"$f":"ROW()-ROW(DarbųĮkainiai2018[[#Headers],[Eil. Nr.]])","v":114},"Pakabinamaisiais apverčiamaisiais plūgais",1.05,null,67,40.9,10.92,0.84,14.9,13.95,11.94,10.6,8.9600000000000009,{"$f":"SUM(DarbųĮkainiai2018[[#This Row],[Išlaidos atnaujinimui, Eur/ha]:[Išlaidos darbo užmokesčiui su priskaitymais, Eur/ha]])","v":45.45},3.07,{"$f":"+DarbųĮkainiai2018[[#This Row],[Kitos, Eur/ha]]+DarbųĮkainiai2018[[#This Row],[Išlaidos iš viso, Eur/ha]]","v":48.52},{"$f":"ROUND(DarbųĮkainiai2018[[#This Row],[Savikaina, Eur/ha]]*0.05,2)","v":2.4300000000000002},{"$f":"+DarbųĮkainiai2018[[#This Row],[Pelnas, Eur/ha]]+DarbųĮkainiai2018[[#This Row],[Savikaina, Eur/ha]]","v":50.95},{"$f":"+DarbųĮkainiai2018[[#This Row],[Įkainis, Eur/ha]]-DarbųĮkainiai2018[[#This Row],[Pelnas, Eur/ha]]-DarbųĮkainiai2018[[#This Row],[Išlaidos atnaujinimui, Eur/ha]]","v":34.570000000000007},"DIRVOS DIRBIMAS",2018,"Vakarų Europos",null,"Seklus arimas",458,null,{"$f":"ROW()-ROW(DarbųĮkainiai2024[[#Headers],[Eil. Nr.]])","v":114},{"$f":"+DarbųĮkainiai2018[[#This Row],[Žemės ūkio mašina]]","v":"Pakabinamaisiais apverčiamaisiais plūgais"},{"$f":"+DarbųĮkainiai2018[[#This Row],[Darbinis plotis, m]]","v":1.05},{"$f":"+DarbųĮkainiai2018[[#This Row],[Tręšimo, išsėjimo, purškimo norma, kg/ha; Derlingumas, t/ha]]","v":0},{"$f":"+DarbųĮkainiai2018[[#This Row],[Traktoriaus (kombaino) galia, kW]]","v":67},{"$f":"ROUND(DarbųĮkainiai2018[[#This Row],[Traktoriaus (kombaino) kaina, tūkst. Eur]]*$AF$9,2)","v":53.46},{"$f":"ROUND(DarbųĮkainiai2018[[#This Row],[Žemės ūkio mašinos (cisternos) kaina, tūkst. Eur]] * $AG$9,2)","v":16.75},{"$f":"+DarbųĮkainiai2018[[#This Row],[Išdirbio norma, ha/val.]]","v":0.84},{"$f":"+DarbųĮkainiai2018[[#This Row],[Degalų sąnaudų norma, l/ha]]","v":14.9},{"$f":"ROUND(DarbųĮkainiai2018[[#This Row],[Išlaidos atnaujinimui, Eur/ha]]*1.35,2)","v":18.829999999999998},{"$f":"ROUND(DarbųĮkainiai2018[[#This Row],[Išlaidos remontui ir tech. aptarnavimui, Eur/ha]]*$AK$9,2)","v":18.309999999999999},{"$f":"ROUND(DarbųĮkainiai2024[[#This Row],[Degalų sąnaudų norma, l/ha]] * $AL$9,2)","v":11.18},{"$f":"ROUND(1/DarbųĮkainiai2024[[#This Row],[Išdirbio norma, ha/val.]]*$AM$9,2)","v":13.23},{"$f":"+DarbųĮkainiai2024[[#This Row],[Išlaidos atnaujinimui, Eur/ha]]+DarbųĮkainiai2024[[#This Row],[Išlaidos remontui ir tech. aptarnavimui, Eur/ha]]+DarbųĮkainiai2024[[#This Row],[Išlaidos degalams ir tepalams, Eur/ha]]+DarbųĮkainiai2024[[#This Row],[Išlaidos darbo užmokesčiui su priskaitymais, Eur/ha]]","v":61.55},{"$f":"ROUND(DarbųĮkainiai2018[[#This Row],[Kitos, Eur/ha]] * $AO$9,2)","v":3.42},{"$f":"+DarbųĮkainiai2024[[#This Row],[Kitos, Eur/ha]]+DarbųĮkainiai2024[[#This Row],[Išlaidos iš viso, Eur/ha]]","v":64.97},{"$f":"ROUND(DarbųĮkainiai2024[[#This Row],[Savikaina, Eur/ha]]*$AQ$9,2)","v":3.25},{"$f":"+DarbųĮkainiai2024[[#This Row],[Pelnas, Eur/ha]]+DarbųĮkainiai2024[[#This Row],[Savikaina, Eur/ha]]","v":68.22},{"$f":"+DarbųĮkainiai2024[[#This Row],[Įkainis, Eur/ha]]-DarbųĮkainiai2024[[#This Row],[Pelnas, Eur/ha]]-DarbųĮkainiai2024[[#This Row],[Išlaidos atnaujinimui, Eur/ha]]","v":46.14},{"$f":"+DarbųĮkainiai2018[[#This Row],[Darbas]]","v":"DIRVOS DIRBIMAS"},2024,{"$f":"+DarbųĮkainiai2018[[#This Row],[Žemės ūkio mašinų kilmė]]","v":"Vakarų Europos"},{"$f":"+DarbųĮkainiai2018[[#This Row],[Papildomas barstytubo parametras, m3]]","v":0},{"$f":"+DarbųĮkainiai2018[[#This Row],[Aktualus darbo pavadinimas]]","v":"Seklus arimas"},{"$f":"+DarbųĮkainiai2018[[#This Row],[Stulpelis1]]","v":458}]
[{"$f":"ROW()-ROW(DarbųĮkainiai2018[[#Headers],[Eil. Nr.]])","v":115},"Pakabinamaisiais apverčiamaisiais plūgais",1.4,null,83,57.12,15.16,1.1399999999999999,14.2,14.3,12.23,10.1,7.6,{"$f":"SUM(DarbųĮkainiai2018[[#This Row],[Išlaidos atnaujinimui, Eur/ha]:[Išlaidos darbo užmokesčiui su priskaitymais, Eur/ha]])","v":44.230000000000004},3,{"$f":"+DarbųĮkainiai2018[[#This Row],[Kitos, Eur/ha]]+DarbųĮkainiai2018[[#This Row],[Išlaidos iš viso, Eur/ha]]","v":47.230000000000004},{"$f":"ROUND(DarbųĮkainiai2018[[#This Row],[Savikaina, Eur/ha]]*0.05,2)","v":2.36},{"$f":"+DarbųĮkainiai2018[[#This Row],[Pelnas, Eur/ha]]+DarbųĮkainiai2018[[#This Row],[Savikaina, Eur/ha]]","v":49.59},{"$f":"+DarbųĮkainiai2018[[#This Row],[Įkainis, Eur/ha]]-DarbųĮkainiai2018[[#This Row],[Pelnas, Eur/ha]]-DarbųĮkainiai2018[[#This Row],[Išlaidos atnaujinimui, Eur/ha]]","v":32.930000000000007},"DIRVOS DIRBIMAS",2018,"Vakarų Europos",null,"Seklus arimas",459,null,{"$f":"ROW()-ROW(DarbųĮkainiai2024[[#Headers],[Eil. Nr.]])","v":115},{"$f":"+DarbųĮkainiai2018[[#This Row],[Žemės ūkio mašina]]","v":"Pakabinamaisiais apverčiamaisiais plūgais"},{"$f":"+DarbųĮkainiai2018[[#This Row],[Darbinis plotis, m]]","v":1.4},{"$f":"+DarbųĮkainiai2018[[#This Row],[Tręšimo, išsėjimo, purškimo norma, kg/ha; Derlingumas, t/ha]]","v":0},{"$f":"+DarbųĮkainiai2018[[#This Row],[Traktoriaus (kombaino) galia, kW]]","v":83},{"$f":"ROUND(DarbųĮkainiai2018[[#This Row],[Traktoriaus (kombaino) kaina, tūkst. Eur]]*$AF$9,2)","v":74.66},{"$f":"ROUND(DarbųĮkainiai2018[[#This Row],[Žemės ūkio mašinos (cisternos) kaina, tūkst. Eur]] * $AG$9,2)","v":23.25},{"$f":"+DarbųĮkainiai2018[[#This Row],[Išdirbio norma, ha/val.]]","v":1.1399999999999999},{"$f":"+DarbųĮkainiai2018[[#This Row],[Degalų sąnaudų norma, l/ha]]","v":14.2},{"$f":"ROUND(DarbųĮkainiai2018[[#This Row],[Išlaidos atnaujinimui, Eur/ha]]*1.35,2)","v":19.309999999999999},{"$f":"ROUND(DarbųĮkainiai2018[[#This Row],[Išlaidos remontui ir tech. aptarnavimui, Eur/ha]]*$AK$9,2)","v":18.760000000000002},{"$f":"ROUND(DarbųĮkainiai2024[[#This Row],[Degalų sąnaudų norma, l/ha]] * $AL$9,2)","v":10.65},{"$f":"ROUND(1/DarbųĮkainiai2024[[#This Row],[Išdirbio norma, ha/val.]]*$AM$9,2)","v":9.75},{"$f":"+DarbųĮkainiai2024[[#This Row],[Išlaidos atnaujinimui, Eur/ha]]+DarbųĮkainiai2024[[#This Row],[Išlaidos remontui ir tech. aptarnavimui, Eur/ha]]+DarbųĮkainiai2024[[#This Row],[Išlaidos degalams ir tepalams, Eur/ha]]+DarbųĮkainiai2024[[#This Row],[Išlaidos darbo užmokesčiui su priskaitymais, Eur/ha]]","v":58.47},{"$f":"ROUND(DarbųĮkainiai2018[[#This Row],[Kitos, Eur/ha]] * $AO$9,2)","v":3.35},{"$f":"+DarbųĮkainiai2024[[#This Row],[Kitos, Eur/ha]]+DarbųĮkainiai2024[[#This Row],[Išlaidos iš viso, Eur/ha]]","v":61.82},{"$f":"ROUND(DarbųĮkainiai2024[[#This Row],[Savikaina, Eur/ha]]*$AQ$9,2)","v":3.09},{"$f":"+DarbųĮkainiai2024[[#This Row],[Pelnas, Eur/ha]]+DarbųĮkainiai2024[[#This Row],[Savikaina, Eur/ha]]","v":64.91},{"$f":"+DarbųĮkainiai2024[[#This Row],[Įkainis, Eur/ha]]-DarbųĮkainiai2024[[#This Row],[Pelnas, Eur/ha]]-DarbųĮkainiai2024[[#This Row],[Išlaidos atnaujinimui, Eur/ha]]","v":42.509999999999991},{"$f":"+DarbųĮkainiai2018[[#This Row],[Darbas]]","v":"DIRVOS DIRBIMAS"},2024,{"$f":"+DarbųĮkainiai2018[[#This Row],[Žemės ūkio mašinų kilmė]]","v":"Vakarų Europos"},{"$f":"+DarbųĮkainiai2018[[#This Row],[Papildomas barstytubo parametras, m3]]","v":0},{"$f":"+DarbųĮkainiai2018[[#This Row],[Aktualus darbo pavadinimas]]","v":"Seklus arimas"},{"$f":"+DarbųĮkainiai2018[[#This Row],[Stulpelis1]]","v":459}]
[{"$f":"ROW()-ROW(DarbųĮkainiai2018[[#Headers],[Eil. Nr.]])","v":116},"Pakabinamaisiais apverčiamaisiais plūgais",1.4,null,102,70.599999999999994,15.16,1.1399999999999999,15.5,15.79,13.13,11,7.6,{"$f":"SUM(DarbųĮkainiai2018[[#This Row],[Išlaidos atnaujinimui, Eur/ha]:[Išlaidos darbo užmokesčiui su priskaitymais, Eur/ha]])","v":47.52},3.23,{"$f":"+DarbųĮkainiai2018[[#This Row],[Kitos, Eur/ha]]+DarbųĮkainiai2018[[#This Row],[Išlaidos iš viso, Eur/ha]]","v":50.75},{"$f":"ROUND(DarbųĮkainiai2018[[#This Row],[Savikaina, Eur/ha]]*0.05,2)","v":2.54},{"$f":"+DarbųĮkainiai2018[[#This Row],[Pelnas, Eur/ha]]+DarbųĮkainiai2018[[#This Row],[Savikaina, Eur/ha]]","v":53.29},{"$f":"+DarbųĮkainiai2018[[#This Row],[Įkainis, Eur/ha]]-DarbųĮkainiai2018[[#This Row],[Pelnas, Eur/ha]]-DarbųĮkainiai2018[[#This Row],[Išlaidos atnaujinimui, Eur/ha]]","v":34.96},"DIRVOS DIRBIMAS",2018,"Vakarų Europos",null,"Seklus arimas",460,null,{"$f":"ROW()-ROW(DarbųĮkainiai2024[[#Headers],[Eil. Nr.]])","v":116},{"$f":"+DarbųĮkainiai2018[[#This Row],[Žemės ūkio mašina]]","v":"Pakabinamaisiais apverčiamaisiais plūgais"},{"$f":"+DarbųĮkainiai2018[[#This Row],[Darbinis plotis, m]]","v":1.4},{"$f":"+DarbųĮkainiai2018[[#This Row],[Tręšimo, išsėjimo, purškimo norma, kg/ha; Derlingumas, t/ha]]","v":0},{"$f":"+DarbųĮkainiai2018[[#This Row],[Traktoriaus (kombaino) galia, kW]]","v":102},{"$f":"ROUND(DarbųĮkainiai2018[[#This Row],[Traktoriaus (kombaino) kaina, tūkst. Eur]]*$AF$9,2)","v":92.27},{"$f":"ROUND(DarbųĮkainiai2018[[#This Row],[Žemės ūkio mašinos (cisternos) kaina, tūkst. Eur]] * $AG$9,2)","v":23.25},{"$f":"+DarbųĮkainiai2018[[#This Row],[Išdirbio norma, ha/val.]]","v":1.1399999999999999},{"$f":"+DarbųĮkainiai2018[[#This Row],[Degalų sąnaudų norma, l/ha]]","v":15.5},{"$f":"ROUND(DarbųĮkainiai2018[[#This Row],[Išlaidos atnaujinimui, Eur/ha]]*1.35,2)","v":21.32},{"$f":"ROUND(DarbųĮkainiai2018[[#This Row],[Išlaidos remontui ir tech. aptarnavimui, Eur/ha]]*$AK$9,2)","v":20.14},{"$f":"ROUND(DarbųĮkainiai2024[[#This Row],[Degalų sąnaudų norma, l/ha]] * $AL$9,2)","v":11.63},{"$f":"ROUND(1/DarbųĮkainiai2024[[#This Row],[Išdirbio norma, ha/val.]]*$AM$9,2)","v":9.75},{"$f":"+DarbųĮkainiai2024[[#This Row],[Išlaidos atnaujinimui, Eur/ha]]+DarbųĮkainiai2024[[#This Row],[Išlaidos remontui ir tech. aptarnavimui, Eur/ha]]+DarbųĮkainiai2024[[#This Row],[Išlaidos degalams ir tepalams, Eur/ha]]+DarbųĮkainiai2024[[#This Row],[Išlaidos darbo užmokesčiui su priskaitymais, Eur/ha]]","v":62.84},{"$f":"ROUND(DarbųĮkainiai2018[[#This Row],[Kitos, Eur/ha]] * $AO$9,2)","v":3.6},{"$f":"+DarbųĮkainiai2024[[#This Row],[Kitos, Eur/ha]]+DarbųĮkainiai2024[[#This Row],[Išlaidos iš viso, Eur/ha]]","v":66.44},{"$f":"ROUND(DarbųĮkainiai2024[[#This Row],[Savikaina, Eur/ha]]*$AQ$9,2)","v":3.32},{"$f":"+DarbųĮkainiai2024[[#This Row],[Pelnas, Eur/ha]]+DarbųĮkainiai2024[[#This Row],[Savikaina, Eur/ha]]","v":69.759999999999991},{"$f":"+DarbųĮkainiai2024[[#This Row],[Įkainis, Eur/ha]]-DarbųĮkainiai2024[[#This Row],[Pelnas, Eur/ha]]-DarbųĮkainiai2024[[#This Row],[Išlaidos atnaujinimui, Eur/ha]]","v":45.12},{"$f":"+DarbųĮkainiai2018[[#This Row],[Darbas]]","v":"DIRVOS DIRBIMAS"},2024,{"$f":"+DarbųĮkainiai2018[[#This Row],[Žemės ūkio mašinų kilmė]]","v":"Vakarų Europos"},{"$f":"+DarbųĮkainiai2018[[#This Row],[Papildomas barstytubo parametras, m3]]","v":0},{"$f":"+DarbųĮkainiai2018[[#This Row],[Aktualus darbo pavadinimas]]","v":"Seklus arimas"},{"$f":"+DarbųĮkainiai2018[[#This Row],[Stulpelis1]]","v":460}]
[{"$f":"ROW()-ROW(DarbųĮkainiai2018[[#Headers],[Eil. Nr.]])","v":117},"Prikabinamaisiais apverčiamaisiais plūgais",1.75,null,120,83.4,22.4,1.39,15.2,17.190000000000001,14.74,10.8,6.22,{"$f":"SUM(DarbųĮkainiai2018[[#This Row],[Išlaidos atnaujinimui, Eur/ha]:[Išlaidos darbo užmokesčiui su priskaitymais, Eur/ha]])","v":48.95},3.33,{"$f":"+DarbųĮkainiai2018[[#This Row],[Kitos, Eur/ha]]+DarbųĮkainiai2018[[#This Row],[Išlaidos iš viso, Eur/ha]]","v":52.28},{"$f":"ROUND(DarbųĮkainiai2018[[#This Row],[Savikaina, Eur/ha]]*0.05,2)","v":2.61},{"$f":"+DarbųĮkainiai2018[[#This Row],[Pelnas, Eur/ha]]+DarbųĮkainiai2018[[#This Row],[Savikaina, Eur/ha]]","v":54.89},{"$f":"+DarbųĮkainiai2018[[#This Row],[Įkainis, Eur/ha]]-DarbųĮkainiai2018[[#This Row],[Pelnas, Eur/ha]]-DarbųĮkainiai2018[[#This Row],[Išlaidos atnaujinimui, Eur/ha]]","v":35.090000000000003},"DIRVOS DIRBIMAS",2018,"Vakarų Europos",null,"Seklus arimas",461,null,{"$f":"ROW()-ROW(DarbųĮkainiai2024[[#Headers],[Eil. Nr.]])","v":117},{"$f":"+DarbųĮkainiai2018[[#This Row],[Žemės ūkio mašina]]","v":"Prikabinamaisiais apverčiamaisiais plūgais"},{"$f":"+DarbųĮkainiai2018[[#This Row],[Darbinis plotis, m]]","v":1.75},{"$f":"+DarbųĮkainiai2018[[#This Row],[Tręšimo, išsėjimo, purškimo norma, kg/ha; Derlingumas, t/ha]]","v":0},{"$f":"+DarbųĮkainiai2018[[#This Row],[Traktoriaus (kombaino) galia, kW]]","v":120},{"$f":"ROUND(DarbųĮkainiai2018[[#This Row],[Traktoriaus (kombaino) kaina, tūkst. Eur]]*$AF$9,2)","v":109},{"$f":"ROUND(DarbųĮkainiai2018[[#This Row],[Žemės ūkio mašinos (cisternos) kaina, tūkst. Eur]] * $AG$9,2)","v":34.36},{"$f":"+DarbųĮkainiai2018[[#This Row],[Išdirbio norma, ha/val.]]","v":1.39},{"$f":"+DarbųĮkainiai2018[[#This Row],[Degalų sąnaudų norma, l/ha]]","v":15.2},{"$f":"ROUND(DarbųĮkainiai2018[[#This Row],[Išlaidos atnaujinimui, Eur/ha]]*1.35,2)","v":23.21},{"$f":"ROUND(DarbųĮkainiai2018[[#This Row],[Išlaidos remontui ir tech. aptarnavimui, Eur/ha]]*$AK$9,2)","v":22.61},{"$f":"ROUND(DarbųĮkainiai2024[[#This Row],[Degalų sąnaudų norma, l/ha]] * $AL$9,2)","v":11.4},{"$f":"ROUND(1/DarbųĮkainiai2024[[#This Row],[Išdirbio norma, ha/val.]]*$AM$9,2)","v":7.99},{"$f":"+DarbųĮkainiai2024[[#This Row],[Išlaidos atnaujinimui, Eur/ha]]+DarbųĮkainiai2024[[#This Row],[Išlaidos remontui ir tech. aptarnavimui, Eur/ha]]+DarbųĮkainiai2024[[#This Row],[Išlaidos degalams ir tepalams, Eur/ha]]+DarbųĮkainiai2024[[#This Row],[Išlaidos darbo užmokesčiui su priskaitymais, Eur/ha]]","v":65.209999999999994},{"$f":"ROUND(DarbųĮkainiai2018[[#This Row],[Kitos, Eur/ha]] * $AO$9,2)","v":3.71},{"$f":"+DarbųĮkainiai2024[[#This Row],[Kitos, Eur/ha]]+DarbųĮkainiai2024[[#This Row],[Išlaidos iš viso, Eur/ha]]","v":68.919999999999987},{"$f":"ROUND(DarbųĮkainiai2024[[#This Row],[Savikaina, Eur/ha]]*$AQ$9,2)","v":3.45},{"$f":"+DarbųĮkainiai2024[[#This Row],[Pelnas, Eur/ha]]+DarbųĮkainiai2024[[#This Row],[Savikaina, Eur/ha]]","v":72.36999999999999},{"$f":"+DarbųĮkainiai2024[[#This Row],[Įkainis, Eur/ha]]-DarbųĮkainiai2024[[#This Row],[Pelnas, Eur/ha]]-DarbųĮkainiai2024[[#This Row],[Išlaidos atnaujinimui, Eur/ha]]","v":45.709999999999987},{"$f":"+DarbųĮkainiai2018[[#This Row],[Darbas]]","v":"DIRVOS DIRBIMAS"},2024,{"$f":"+DarbųĮkainiai2018[[#This Row],[Žemės ūkio mašinų kilmė]]","v":"Vakarų Europos"},{"$f":"+DarbųĮkainiai2018[[#This Row],[Papildomas barstytubo parametras, m3]]","v":0},{"$f":"+DarbųĮkainiai2018[[#This Row],[Aktualus darbo pavadinimas]]","v":"Seklus arimas"},{"$f":"+DarbųĮkainiai2018[[#This Row],[Stulpelis1]]","v":461}]
[{"$f":"ROW()-ROW(DarbųĮkainiai2018[[#Headers],[Eil. Nr.]])","v":118},"Prikabinamaisiais apverčiamaisiais plūgais",2.1,null,138,91.1,26.88,1.66,15.2,16.61,14.41,10.8,5.21,{"$f":"SUM(DarbųĮkainiai2018[[#This Row],[Išlaidos atnaujinimui, Eur/ha]:[Išlaidos darbo užmokesčiui su priskaitymais, Eur/ha]])","v":47.03},3.22,{"$f":"+DarbųĮkainiai2018[[#This Row],[Kitos, Eur/ha]]+DarbųĮkainiai2018[[#This Row],[Išlaidos iš viso, Eur/ha]]","v":50.25},{"$f":"ROUND(DarbųĮkainiai2018[[#This Row],[Savikaina, Eur/ha]]*0.05,2)","v":2.5099999999999998},{"$f":"+DarbųĮkainiai2018[[#This Row],[Pelnas, Eur/ha]]+DarbųĮkainiai2018[[#This Row],[Savikaina, Eur/ha]]","v":52.76},{"$f":"+DarbųĮkainiai2018[[#This Row],[Įkainis, Eur/ha]]-DarbųĮkainiai2018[[#This Row],[Pelnas, Eur/ha]]-DarbųĮkainiai2018[[#This Row],[Išlaidos atnaujinimui, Eur/ha]]","v":33.64},"DIRVOS DIRBIMAS",2018,"Vakarų Europos",null,"Seklus arimas",462,null,{"$f":"ROW()-ROW(DarbųĮkainiai2024[[#Headers],[Eil. Nr.]])","v":118},{"$f":"+DarbųĮkainiai2018[[#This Row],[Žemės ūkio mašina]]","v":"Prikabinamaisiais apverčiamaisiais plūgais"},{"$f":"+DarbųĮkainiai2018[[#This Row],[Darbinis plotis, m]]","v":2.1},{"$f":"+DarbųĮkainiai2018[[#This Row],[Tręšimo, išsėjimo, purškimo norma, kg/ha; Derlingumas, t/ha]]","v":0},{"$f":"+DarbųĮkainiai2018[[#This Row],[Traktoriaus (kombaino) galia, kW]]","v":138},{"$f":"ROUND(DarbųĮkainiai2018[[#This Row],[Traktoriaus (kombaino) kaina, tūkst. Eur]]*$AF$9,2)","v":119.07},{"$f":"ROUND(DarbųĮkainiai2018[[#This Row],[Žemės ūkio mašinos (cisternos) kaina, tūkst. Eur]] * $AG$9,2)","v":41.23},{"$f":"+DarbųĮkainiai2018[[#This Row],[Išdirbio norma, ha/val.]]","v":1.66},{"$f":"+DarbųĮkainiai2018[[#This Row],[Degalų sąnaudų norma, l/ha]]","v":15.2},{"$f":"ROUND(DarbųĮkainiai2018[[#This Row],[Išlaidos atnaujinimui, Eur/ha]]*1.35,2)","v":22.42},{"$f":"ROUND(DarbųĮkainiai2018[[#This Row],[Išlaidos remontui ir tech. aptarnavimui, Eur/ha]]*$AK$9,2)","v":22.1},{"$f":"ROUND(DarbųĮkainiai2024[[#This Row],[Degalų sąnaudų norma, l/ha]] * $AL$9,2)","v":11.4},{"$f":"ROUND(1/DarbųĮkainiai2024[[#This Row],[Išdirbio norma, ha/val.]]*$AM$9,2)","v":6.69},{"$f":"+DarbųĮkainiai2024[[#This Row],[Išlaidos atnaujinimui, Eur/ha]]+DarbųĮkainiai2024[[#This Row],[Išlaidos remontui ir tech. aptarnavimui, Eur/ha]]+DarbųĮkainiai2024[[#This Row],[Išlaidos degalams ir tepalams, Eur/ha]]+DarbųĮkainiai2024[[#This Row],[Išlaidos darbo užmokesčiui su priskaitymais, Eur/ha]]","v":62.61},{"$f":"ROUND(DarbųĮkainiai2018[[#This Row],[Kitos, Eur/ha]] * $AO$9,2)","v":3.59},{"$f":"+DarbųĮkainiai2024[[#This Row],[Kitos, Eur/ha]]+DarbųĮkainiai2024[[#This Row],[Išlaidos iš viso, Eur/ha]]","v":66.2},{"$f":"ROUND(DarbųĮkainiai2024[[#This Row],[Savikaina, Eur/ha]]*$AQ$9,2)","v":3.31},{"$f":"+DarbųĮkainiai2024[[#This Row],[Pelnas, Eur/ha]]+DarbųĮkainiai2024[[#This Row],[Savikaina, Eur/ha]]","v":69.510000000000005},{"$f":"+DarbųĮkainiai2024[[#This Row],[Įkainis, Eur/ha]]-DarbųĮkainiai2024[[#This Row],[Pelnas, Eur/ha]]-DarbųĮkainiai2024[[#This Row],[Išlaidos atnaujinimui, Eur/ha]]","v":43.78},{"$f":"+DarbųĮkainiai2018[[#This Row],[Darbas]]","v":"DIRVOS DIRBIMAS"},2024,{"$f":"+DarbųĮkainiai2018[[#This Row],[Žemės ūkio mašinų kilmė]]","v":"Vakarų Europos"},{"$f":"+DarbųĮkainiai2018[[#This Row],[Papildomas barstytubo parametras, m3]]","v":0},{"$f":"+DarbųĮkainiai2018[[#This Row],[Aktualus darbo pavadinimas]]","v":"Seklus arimas"},{"$f":"+DarbųĮkainiai2018[[#This Row],[Stulpelis1]]","v":462}]
[{"$f":"ROW()-ROW(DarbųĮkainiai2018[[#Headers],[Eil. Nr.]])","v":119},"Prikabinamaisiais apverčiamaisiais plūgais",2.4500000000000002,null,157,106.6,31.36,1.95,15.1,16.559999999999999,14.36,10.7,5.0199999999999996,{"$f":"SUM(DarbųĮkainiai2018[[#This Row],[Išlaidos atnaujinimui, Eur/ha]:[Išlaidos darbo užmokesčiui su priskaitymais, Eur/ha]])","v":46.64},3.2,{"$f":"+DarbųĮkainiai2018[[#This Row],[Kitos, Eur/ha]]+DarbųĮkainiai2018[[#This Row],[Išlaidos iš viso, Eur/ha]]","v":49.84},{"$f":"ROUND(DarbųĮkainiai2018[[#This Row],[Savikaina, Eur/ha]]*0.05,2)","v":2.4900000000000002},{"$f":"+DarbųĮkainiai2018[[#This Row],[Pelnas, Eur/ha]]+DarbųĮkainiai2018[[#This Row],[Savikaina, Eur/ha]]","v":52.330000000000005},{"$f":"+DarbųĮkainiai2018[[#This Row],[Įkainis, Eur/ha]]-DarbųĮkainiai2018[[#This Row],[Pelnas, Eur/ha]]-DarbųĮkainiai2018[[#This Row],[Išlaidos atnaujinimui, Eur/ha]]","v":33.28},"DIRVOS DIRBIMAS",2018,"Vakarų Europos",null,"Seklus arimas",463,null,{"$f":"ROW()-ROW(DarbųĮkainiai2024[[#Headers],[Eil. Nr.]])","v":119},{"$f":"+DarbųĮkainiai2018[[#This Row],[Žemės ūkio mašina]]","v":"Prikabinamaisiais apverčiamaisiais plūgais"},{"$f":"+DarbųĮkainiai2018[[#This Row],[Darbinis plotis, m]]","v":2.4500000000000002},{"$f":"+DarbųĮkainiai2018[[#This Row],[Tręšimo, išsėjimo, purškimo norma, kg/ha; Derlingumas, t/ha]]","v":0},{"$f":"+DarbųĮkainiai2018[[#This Row],[Traktoriaus (kombaino) galia, kW]]","v":157},{"$f":"ROUND(DarbųĮkainiai2018[[#This Row],[Traktoriaus (kombaino) kaina, tūkst. Eur]]*$AF$9,2)","v":139.32},{"$f":"ROUND(DarbųĮkainiai2018[[#This Row],[Žemės ūkio mašinos (cisternos) kaina, tūkst. Eur]] * $AG$9,2)","v":48.1},{"$f":"+DarbųĮkainiai2018[[#This Row],[Išdirbio norma, ha/val.]]","v":1.95},{"$f":"+DarbųĮkainiai2018[[#This Row],[Degalų sąnaudų norma, l/ha]]","v":15.1},{"$f":"ROUND(DarbųĮkainiai2018[[#This Row],[Išlaidos atnaujinimui, Eur/ha]]*1.35,2)","v":22.36},{"$f":"ROUND(DarbųĮkainiai2018[[#This Row],[Išlaidos remontui ir tech. aptarnavimui, Eur/ha]]*$AK$9,2)","v":22.03},{"$f":"ROUND(DarbųĮkainiai2024[[#This Row],[Degalų sąnaudų norma, l/ha]] * $AL$9,2)","v":11.33},{"$f":"ROUND(1/DarbųĮkainiai2024[[#This Row],[Išdirbio norma, ha/val.]]*$AM$9,2)","v":5.7},{"$f":"+DarbųĮkainiai2024[[#This Row],[Išlaidos atnaujinimui, Eur/ha]]+DarbųĮkainiai2024[[#This Row],[Išlaidos remontui ir tech. aptarnavimui, Eur/ha]]+DarbųĮkainiai2024[[#This Row],[Išlaidos degalams ir tepalams, Eur/ha]]+DarbųĮkainiai2024[[#This Row],[Išlaidos darbo užmokesčiui su priskaitymais, Eur/ha]]","v":61.42},{"$f":"ROUND(DarbųĮkainiai2018[[#This Row],[Kitos, Eur/ha]] * $AO$9,2)","v":3.57},{"$f":"+DarbųĮkainiai2024[[#This Row],[Kitos, Eur/ha]]+DarbųĮkainiai2024[[#This Row],[Išlaidos iš viso, Eur/ha]]","v":64.989999999999995},{"$f":"ROUND(DarbųĮkainiai2024[[#This Row],[Savikaina, Eur/ha]]*$AQ$9,2)","v":3.25},{"$f":"+DarbųĮkainiai2024[[#This Row],[Pelnas, Eur/ha]]+DarbųĮkainiai2024[[#This Row],[Savikaina, Eur/ha]]","v":68.239999999999995},{"$f":"+DarbųĮkainiai2024[[#This Row],[Įkainis, Eur/ha]]-DarbųĮkainiai2024[[#This Row],[Pelnas, Eur/ha]]-DarbųĮkainiai2024[[#This Row],[Išlaidos atnaujinimui, Eur/ha]]","v":42.629999999999995},{"$f":"+DarbųĮkainiai2018[[#This Row],[Darbas]]","v":"DIRVOS DIRBIMAS"},2024,{"$f":"+DarbųĮkainiai2018[[#This Row],[Žemės ūkio mašinų kilmė]]","v":"Vakarų Europos"},{"$f":"+DarbųĮkainiai2018[[#This Row],[Papildomas barstytubo parametras, m3]]","v":0},{"$f":"+DarbųĮkainiai2018[[#This Row],[Aktualus darbo pavadinimas]]","v":"Seklus arimas"},{"$f":"+DarbųĮkainiai2018[[#This Row],[Stulpelis1]]","v":463}]
[{"$f":"ROW()-ROW(DarbųĮkainiai2018[[#Headers],[Eil. Nr.]])","v":120},"Prikabinamaisiais apverčiamaisiais plūgais",2.8,null,176,123.6,35.840000000000003,2.2200000000000002,15.1,16.73,14.48,10.7,4.41,{"$f":"SUM(DarbųĮkainiai2018[[#This Row],[Išlaidos atnaujinimui, Eur/ha]:[Išlaidos darbo užmokesčiui su priskaitymais, Eur/ha]])","v":46.319999999999993},3.19,{"$f":"+DarbųĮkainiai2018[[#This Row],[Kitos, Eur/ha]]+DarbųĮkainiai2018[[#This Row],[Išlaidos iš viso, Eur/ha]]","v":49.509999999999991},{"$f":"ROUND(DarbųĮkainiai2018[[#This Row],[Savikaina, Eur/ha]]*0.05,2)","v":2.48},{"$f":"+DarbųĮkainiai2018[[#This Row],[Pelnas, Eur/ha]]+DarbųĮkainiai2018[[#This Row],[Savikaina, Eur/ha]]","v":51.989999999999988},{"$f":"+DarbųĮkainiai2018[[#This Row],[Įkainis, Eur/ha]]-DarbųĮkainiai2018[[#This Row],[Pelnas, Eur/ha]]-DarbųĮkainiai2018[[#This Row],[Išlaidos atnaujinimui, Eur/ha]]","v":32.779999999999987},"DIRVOS DIRBIMAS",2018,"Vakarų Europos",null,"Seklus arimas",464,null,{"$f":"ROW()-ROW(DarbųĮkainiai2024[[#Headers],[Eil. Nr.]])","v":120},{"$f":"+DarbųĮkainiai2018[[#This Row],[Žemės ūkio mašina]]","v":"Prikabinamaisiais apverčiamaisiais plūgais"},{"$f":"+DarbųĮkainiai2018[[#This Row],[Darbinis plotis, m]]","v":2.8},{"$f":"+DarbųĮkainiai2018[[#This Row],[Tręšimo, išsėjimo, purškimo norma, kg/ha; Derlingumas, t/ha]]","v":0},{"$f":"+DarbųĮkainiai2018[[#This Row],[Traktoriaus (kombaino) galia, kW]]","v":176},{"$f":"ROUND(DarbųĮkainiai2018[[#This Row],[Traktoriaus (kombaino) kaina, tūkst. Eur]]*$AF$9,2)","v":161.54},{"$f":"ROUND(DarbųĮkainiai2018[[#This Row],[Žemės ūkio mašinos (cisternos) kaina, tūkst. Eur]] * $AG$9,2)","v":54.97},{"$f":"+DarbųĮkainiai2018[[#This Row],[Išdirbio norma, ha/val.]]","v":2.2200000000000002},{"$f":"+DarbųĮkainiai2018[[#This Row],[Degalų sąnaudų norma, l/ha]]","v":15.1},{"$f":"ROUND(DarbųĮkainiai2018[[#This Row],[Išlaidos atnaujinimui, Eur/ha]]*1.35,2)","v":22.59},{"$f":"ROUND(DarbųĮkainiai2018[[#This Row],[Išlaidos remontui ir tech. aptarnavimui, Eur/ha]]*$AK$9,2)","v":22.21},{"$f":"ROUND(DarbųĮkainiai2024[[#This Row],[Degalų sąnaudų norma, l/ha]] * $AL$9,2)","v":11.33},{"$f":"ROUND(1/DarbųĮkainiai2024[[#This Row],[Išdirbio norma, ha/val.]]*$AM$9,2)","v":5},{"$f":"+DarbųĮkainiai2024[[#This Row],[Išlaidos atnaujinimui, Eur/ha]]+DarbųĮkainiai2024[[#This Row],[Išlaidos remontui ir tech. aptarnavimui, Eur/ha]]+DarbųĮkainiai2024[[#This Row],[Išlaidos degalams ir tepalams, Eur/ha]]+DarbųĮkainiai2024[[#This Row],[Išlaidos darbo užmokesčiui su priskaitymais, Eur/ha]]","v":61.129999999999995},{"$f":"ROUND(DarbųĮkainiai2018[[#This Row],[Kitos, Eur/ha]] * $AO$9,2)","v":3.56},{"$f":"+DarbųĮkainiai2024[[#This Row],[Kitos, Eur/ha]]+DarbųĮkainiai2024[[#This Row],[Išlaidos iš viso, Eur/ha]]","v":64.69},{"$f":"ROUND(DarbųĮkainiai2024[[#This Row],[Savikaina, Eur/ha]]*$AQ$9,2)","v":3.23},{"$f":"+DarbųĮkainiai2024[[#This Row],[Pelnas, Eur/ha]]+DarbųĮkainiai2024[[#This Row],[Savikaina, Eur/ha]]","v":67.92},{"$f":"+DarbųĮkainiai2024[[#This Row],[Įkainis, Eur/ha]]-DarbųĮkainiai2024[[#This Row],[Pelnas, Eur/ha]]-DarbųĮkainiai2024[[#This Row],[Išlaidos atnaujinimui, Eur/ha]]","v":42.099999999999994},{"$f":"+DarbųĮkainiai2018[[#This Row],[Darbas]]","v":"DIRVOS DIRBIMAS"},2024,{"$f":"+DarbųĮkainiai2018[[#This Row],[Žemės ūkio mašinų kilmė]]","v":"Vakarų Europos"},{"$f":"+DarbųĮkainiai2018[[#This Row],[Papildomas barstytubo parametras, m3]]","v":0},{"$f":"+DarbųĮkainiai2018[[#This Row],[Aktualus darbo pavadinimas]]","v":"Seklus arimas"},{"$f":"+DarbųĮkainiai2018[[#This Row],[Stulpelis1]]","v":464}]
[{"$f":"ROW()-ROW(DarbųĮkainiai2018[[#Headers],[Eil. Nr.]])","v":121},"Prikabinamaisiais apverčiamaisiais plūgais su tankintuvais",1.75,null,120,83.4,25.8,1.38,16.600000000000001,18.87,16.46,11.8,6.29,{"$f":"SUM(DarbųĮkainiai2018[[#This Row],[Išlaidos atnaujinimui, Eur/ha]:[Išlaidos darbo užmokesčiui su priskaitymais, Eur/ha]])","v":53.419999999999995},3.65,{"$f":"+DarbųĮkainiai2018[[#This Row],[Kitos, Eur/ha]]+DarbųĮkainiai2018[[#This Row],[Išlaidos iš viso, Eur/ha]]","v":57.069999999999993},{"$f":"ROUND(DarbųĮkainiai2018[[#This Row],[Savikaina, Eur/ha]]*0.05,2)","v":2.85},{"$f":"+DarbųĮkainiai2018[[#This Row],[Pelnas, Eur/ha]]+DarbųĮkainiai2018[[#This Row],[Savikaina, Eur/ha]]","v":59.919999999999995},{"$f":"+DarbųĮkainiai2018[[#This Row],[Įkainis, Eur/ha]]-DarbųĮkainiai2018[[#This Row],[Pelnas, Eur/ha]]-DarbųĮkainiai2018[[#This Row],[Išlaidos atnaujinimui, Eur/ha]]","v":38.199999999999989},"DIRVOS DIRBIMAS",2018,"Vakarų Europos",null,"Seklus arimas",465,null,{"$f":"ROW()-ROW(DarbųĮkainiai2024[[#Headers],[Eil. Nr.]])","v":121},{"$f":"+DarbųĮkainiai2018[[#This Row],[Žemės ūkio mašina]]","v":"Prikabinamaisiais apverčiamaisiais plūgais su tankintuvais"},{"$f":"+DarbųĮkainiai2018[[#This Row],[Darbinis plotis, m]]","v":1.75},{"$f":"+DarbųĮkainiai2018[[#This Row],[Tręšimo, išsėjimo, purškimo norma, kg/ha; Derlingumas, t/ha]]","v":0},{"$f":"+DarbųĮkainiai2018[[#This Row],[Traktoriaus (kombaino) galia, kW]]","v":120},{"$f":"ROUND(DarbųĮkainiai2018[[#This Row],[Traktoriaus (kombaino) kaina, tūkst. Eur]]*$AF$9,2)","v":109},{"$f":"ROUND(DarbųĮkainiai2018[[#This Row],[Žemės ūkio mašinos (cisternos) kaina, tūkst. Eur]] * $AG$9,2)","v":39.57},{"$f":"+DarbųĮkainiai2018[[#This Row],[Išdirbio norma, ha/val.]]","v":1.38},{"$f":"+DarbųĮkainiai2018[[#This Row],[Degalų sąnaudų norma, l/ha]]","v":16.600000000000001},{"$f":"ROUND(DarbųĮkainiai2018[[#This Row],[Išlaidos atnaujinimui, Eur/ha]]*1.35,2)","v":25.47},{"$f":"ROUND(DarbųĮkainiai2018[[#This Row],[Išlaidos remontui ir tech. aptarnavimui, Eur/ha]]*$AK$9,2)","v":25.25},{"$f":"ROUND(DarbųĮkainiai2024[[#This Row],[Degalų sąnaudų norma, l/ha]] * $AL$9,2)","v":12.45},{"$f":"ROUND(1/DarbųĮkainiai2024[[#This Row],[Išdirbio norma, ha/val.]]*$AM$9,2)","v":8.0500000000000007},{"$f":"+DarbųĮkainiai2024[[#This Row],[Išlaidos atnaujinimui, Eur/ha]]+DarbųĮkainiai2024[[#This Row],[Išlaidos remontui ir tech. aptarnavimui, Eur/ha]]+DarbųĮkainiai2024[[#This Row],[Išlaidos degalams ir tepalams, Eur/ha]]+DarbųĮkainiai2024[[#This Row],[Išlaidos darbo užmokesčiui su priskaitymais, Eur/ha]]","v":71.22},{"$f":"ROUND(DarbųĮkainiai2018[[#This Row],[Kitos, Eur/ha]] * $AO$9,2)","v":4.07},{"$f":"+DarbųĮkainiai2024[[#This Row],[Kitos, Eur/ha]]+DarbųĮkainiai2024[[#This Row],[Išlaidos iš viso, Eur/ha]]","v":75.289999999999992},{"$f":"ROUND(DarbųĮkainiai2024[[#This Row],[Savikaina, Eur/ha]]*$AQ$9,2)","v":3.76},{"$f":"+DarbųĮkainiai2024[[#This Row],[Pelnas, Eur/ha]]+DarbųĮkainiai2024[[#This Row],[Savikaina, Eur/ha]]","v":79.05},{"$f":"+DarbųĮkainiai2024[[#This Row],[Įkainis, Eur/ha]]-DarbųĮkainiai2024[[#This Row],[Pelnas, Eur/ha]]-DarbųĮkainiai2024[[#This Row],[Išlaidos atnaujinimui, Eur/ha]]","v":49.819999999999993},{"$f":"+DarbųĮkainiai2018[[#This Row],[Darbas]]","v":"DIRVOS DIRBIMAS"},2024,{"$f":"+DarbųĮkainiai2018[[#This Row],[Žemės ūkio mašinų kilmė]]","v":"Vakarų Europos"},{"$f":"+DarbųĮkainiai2018[[#This Row],[Papildomas barstytubo parametras, m3]]","v":0},{"$f":"+DarbųĮkainiai2018[[#This Row],[Aktualus darbo pavadinimas]]","v":"Seklus arimas"},{"$f":"+DarbųĮkainiai2018[[#This Row],[Stulpelis1]]","v":465}]
[{"$f":"ROW()-ROW(DarbųĮkainiai2018[[#Headers],[Eil. Nr.]])","v":122},"Prikabinamaisiais apverčiamaisiais plūgais su tankintuvais",2.1,null,138,91.1,30.96,1.65,16.100000000000001,18.260000000000002,16.11,11.4,5.26,{"$f":"SUM(DarbųĮkainiai2018[[#This Row],[Išlaidos atnaujinimui, Eur/ha]:[Išlaidos darbo užmokesčiui su priskaitymais, Eur/ha]])","v":51.03},3.5,{"$f":"+DarbųĮkainiai2018[[#This Row],[Kitos, Eur/ha]]+DarbųĮkainiai2018[[#This Row],[Išlaidos iš viso, Eur/ha]]","v":54.53},{"$f":"ROUND(DarbųĮkainiai2018[[#This Row],[Savikaina, Eur/ha]]*0.05,2)","v":2.73},{"$f":"+DarbųĮkainiai2018[[#This Row],[Pelnas, Eur/ha]]+DarbųĮkainiai2018[[#This Row],[Savikaina, Eur/ha]]","v":57.26},{"$f":"+DarbųĮkainiai2018[[#This Row],[Įkainis, Eur/ha]]-DarbųĮkainiai2018[[#This Row],[Pelnas, Eur/ha]]-DarbųĮkainiai2018[[#This Row],[Išlaidos atnaujinimui, Eur/ha]]","v":36.269999999999996},"DIRVOS DIRBIMAS",2018,"Vakarų Europos",null,"Seklus arimas",466,null,{"$f":"ROW()-ROW(DarbųĮkainiai2024[[#Headers],[Eil. Nr.]])","v":122},{"$f":"+DarbųĮkainiai2018[[#This Row],[Žemės ūkio mašina]]","v":"Prikabinamaisiais apverčiamaisiais plūgais su tankintuvais"},{"$f":"+DarbųĮkainiai2018[[#This Row],[Darbinis plotis, m]]","v":2.1},{"$f":"+DarbųĮkainiai2018[[#This Row],[Tręšimo, išsėjimo, purškimo norma, kg/ha; Derlingumas, t/ha]]","v":0},{"$f":"+DarbųĮkainiai2018[[#This Row],[Traktoriaus (kombaino) galia, kW]]","v":138},{"$f":"ROUND(DarbųĮkainiai2018[[#This Row],[Traktoriaus (kombaino) kaina, tūkst. Eur]]*$AF$9,2)","v":119.07},{"$f":"ROUND(DarbųĮkainiai2018[[#This Row],[Žemės ūkio mašinos (cisternos) kaina, tūkst. Eur]] * $AG$9,2)","v":47.49},{"$f":"+DarbųĮkainiai2018[[#This Row],[Išdirbio norma, ha/val.]]","v":1.65},{"$f":"+DarbųĮkainiai2018[[#This Row],[Degalų sąnaudų norma, l/ha]]","v":16.100000000000001},{"$f":"ROUND(DarbųĮkainiai2018[[#This Row],[Išlaidos atnaujinimui, Eur/ha]]*1.35,2)","v":24.65},{"$f":"ROUND(DarbųĮkainiai2018[[#This Row],[Išlaidos remontui ir tech. aptarnavimui, Eur/ha]]*$AK$9,2)","v":24.71},{"$f":"ROUND(DarbųĮkainiai2024[[#This Row],[Degalų sąnaudų norma, l/ha]] * $AL$9,2)","v":12.08},{"$f":"ROUND(1/DarbųĮkainiai2024[[#This Row],[Išdirbio norma, ha/val.]]*$AM$9,2)","v":6.73},{"$f":"+DarbųĮkainiai2024[[#This Row],[Išlaidos atnaujinimui, Eur/ha]]+DarbųĮkainiai2024[[#This Row],[Išlaidos remontui ir tech. aptarnavimui, Eur/ha]]+DarbųĮkainiai2024[[#This Row],[Išlaidos degalams ir tepalams, Eur/ha]]+DarbųĮkainiai2024[[#This Row],[Išlaidos darbo užmokesčiui su priskaitymais, Eur/ha]]","v":68.17},{"$f":"ROUND(DarbųĮkainiai2018[[#This Row],[Kitos, Eur/ha]] * $AO$9,2)","v":3.9},{"$f":"+DarbųĮkainiai2024[[#This Row],[Kitos, Eur/ha]]+DarbųĮkainiai2024[[#This Row],[Išlaidos iš viso, Eur/ha]]","v":72.070000000000007},{"$f":"ROUND(DarbųĮkainiai2024[[#This Row],[Savikaina, Eur/ha]]*$AQ$9,2)","v":3.6},{"$f":"+DarbųĮkainiai2024[[#This Row],[Pelnas, Eur/ha]]+DarbųĮkainiai2024[[#This Row],[Savikaina, Eur/ha]]","v":75.67},{"$f":"+DarbųĮkainiai2024[[#This Row],[Įkainis, Eur/ha]]-DarbųĮkainiai2024[[#This Row],[Pelnas, Eur/ha]]-DarbųĮkainiai2024[[#This Row],[Išlaidos atnaujinimui, Eur/ha]]","v":47.420000000000009},{"$f":"+DarbųĮkainiai2018[[#This Row],[Darbas]]","v":"DIRVOS DIRBIMAS"},2024,{"$f":"+DarbųĮkainiai2018[[#This Row],[Žemės ūkio mašinų kilmė]]","v":"Vakarų Europos"},{"$f":"+DarbųĮkainiai2018[[#This Row],[Papildomas barstytubo parametras, m3]]","v":0},{"$f":"+DarbųĮkainiai2018[[#This Row],[Aktualus darbo pavadinimas]]","v":"Seklus arimas"},{"$f":"+DarbųĮkainiai2018[[#This Row],[Stulpelis1]]","v":466}]
[{"$f":"ROW()-ROW(DarbųĮkainiai2018[[#Headers],[Eil. Nr.]])","v":123},"Prikabinamaisiais apverčiamaisiais plūgais su tankintuvais",2.4500000000000002,null,157,106.6,36.119999999999997,1.93,16,18.18,16.04,11.4,5.07,{"$f":"SUM(DarbųĮkainiai2018[[#This Row],[Išlaidos atnaujinimui, Eur/ha]:[Išlaidos darbo užmokesčiui su priskaitymais, Eur/ha]])","v":50.69},3.47,{"$f":"+DarbųĮkainiai2018[[#This Row],[Kitos, Eur/ha]]+DarbųĮkainiai2018[[#This Row],[Išlaidos iš viso, Eur/ha]]","v":54.16},{"$f":"ROUND(DarbųĮkainiai2018[[#This Row],[Savikaina, Eur/ha]]*0.05,2)","v":2.71},{"$f":"+DarbųĮkainiai2018[[#This Row],[Pelnas, Eur/ha]]+DarbųĮkainiai2018[[#This Row],[Savikaina, Eur/ha]]","v":56.87},{"$f":"+DarbųĮkainiai2018[[#This Row],[Įkainis, Eur/ha]]-DarbųĮkainiai2018[[#This Row],[Pelnas, Eur/ha]]-DarbųĮkainiai2018[[#This Row],[Išlaidos atnaujinimui, Eur/ha]]","v":35.979999999999997},"DIRVOS DIRBIMAS",2018,"Vakarų Europos",null,"Seklus arimas",467,null,{"$f":"ROW()-ROW(DarbųĮkainiai2024[[#Headers],[Eil. Nr.]])","v":123},{"$f":"+DarbųĮkainiai2018[[#This Row],[Žemės ūkio mašina]]","v":"Prikabinamaisiais apverčiamaisiais plūgais su tankintuvais"},{"$f":"+DarbųĮkainiai2018[[#This Row],[Darbinis plotis, m]]","v":2.4500000000000002},{"$f":"+DarbųĮkainiai2018[[#This Row],[Tręšimo, išsėjimo, purškimo norma, kg/ha; Derlingumas, t/ha]]","v":0},{"$f":"+DarbųĮkainiai2018[[#This Row],[Traktoriaus (kombaino) galia, kW]]","v":157},{"$f":"ROUND(DarbųĮkainiai2018[[#This Row],[Traktoriaus (kombaino) kaina, tūkst. Eur]]*$AF$9,2)","v":139.32},{"$f":"ROUND(DarbųĮkainiai2018[[#This Row],[Žemės ūkio mašinos (cisternos) kaina, tūkst. Eur]] * $AG$9,2)","v":55.4},{"$f":"+DarbųĮkainiai2018[[#This Row],[Išdirbio norma, ha/val.]]","v":1.93},{"$f":"+DarbųĮkainiai2018[[#This Row],[Degalų sąnaudų norma, l/ha]]","v":16},{"$f":"ROUND(DarbųĮkainiai2018[[#This Row],[Išlaidos atnaujinimui, Eur/ha]]*1.35,2)","v":24.54},{"$f":"ROUND(DarbųĮkainiai2018[[#This Row],[Išlaidos remontui ir tech. aptarnavimui, Eur/ha]]*$AK$9,2)","v":24.6},{"$f":"ROUND(DarbųĮkainiai2024[[#This Row],[Degalų sąnaudų norma, l/ha]] * $AL$9,2)","v":12},{"$f":"ROUND(1/DarbųĮkainiai2024[[#This Row],[Išdirbio norma, ha/val.]]*$AM$9,2)","v":5.76},{"$f":"+DarbųĮkainiai2024[[#This Row],[Išlaidos atnaujinimui, Eur/ha]]+DarbųĮkainiai2024[[#This Row],[Išlaidos remontui ir tech. aptarnavimui, Eur/ha]]+DarbųĮkainiai2024[[#This Row],[Išlaidos degalams ir tepalams, Eur/ha]]+DarbųĮkainiai2024[[#This Row],[Išlaidos darbo užmokesčiui su priskaitymais, Eur/ha]]","v":66.900000000000006},{"$f":"ROUND(DarbųĮkainiai2018[[#This Row],[Kitos, Eur/ha]] * $AO$9,2)","v":3.87},{"$f":"+DarbųĮkainiai2024[[#This Row],[Kitos, Eur/ha]]+DarbųĮkainiai2024[[#This Row],[Išlaidos iš viso, Eur/ha]]","v":70.77000000000001},{"$f":"ROUND(DarbųĮkainiai2024[[#This Row],[Savikaina, Eur/ha]]*$AQ$9,2)","v":3.54},{"$f":"+DarbųĮkainiai2024[[#This Row],[Pelnas, Eur/ha]]+DarbųĮkainiai2024[[#This Row],[Savikaina, Eur/ha]]","v":74.310000000000016},{"$f":"+DarbųĮkainiai2024[[#This Row],[Įkainis, Eur/ha]]-DarbųĮkainiai2024[[#This Row],[Pelnas, Eur/ha]]-DarbųĮkainiai2024[[#This Row],[Išlaidos atnaujinimui, Eur/ha]]","v":46.230000000000011},{"$f":"+DarbųĮkainiai2018[[#This Row],[Darbas]]","v":"DIRVOS DIRBIMAS"},2024,{"$f":"+DarbųĮkainiai2018[[#This Row],[Žemės ūkio mašinų kilmė]]","v":"Vakarų Europos"},{"$f":"+DarbųĮkainiai2018[[#This Row],[Papildomas barstytubo parametras, m3]]","v":0},{"$f":"+DarbųĮkainiai2018[[#This Row],[Aktualus darbo pavadinimas]]","v":"Seklus arimas"},{"$f":"+DarbųĮkainiai2018[[#This Row],[Stulpelis1]]","v":467}]
[{"$f":"ROW()-ROW(DarbųĮkainiai2018[[#Headers],[Eil. Nr.]])","v":124},"Prikabinamaisiais apverčiamaisiais plūgais su tankintuvais",2.8,null,176,123.6,41.28,2.06,16.399999999999999,19.600000000000001,17.260000000000002,11.6,4.75,{"$f":"SUM(DarbųĮkainiai2018[[#This Row],[Išlaidos atnaujinimui, Eur/ha]:[Išlaidos darbo užmokesčiui su priskaitymais, Eur/ha]])","v":53.21},3.65,{"$f":"+DarbųĮkainiai2018[[#This Row],[Kitos, Eur/ha]]+DarbųĮkainiai2018[[#This Row],[Išlaidos iš viso, Eur/ha]]","v":56.86},{"$f":"ROUND(DarbųĮkainiai2018[[#This Row],[Savikaina, Eur/ha]]*0.05,2)","v":2.84},{"$f":"+DarbųĮkainiai2018[[#This Row],[Pelnas, Eur/ha]]+DarbųĮkainiai2018[[#This Row],[Savikaina, Eur/ha]]","v":59.7},{"$f":"+DarbųĮkainiai2018[[#This Row],[Įkainis, Eur/ha]]-DarbųĮkainiai2018[[#This Row],[Pelnas, Eur/ha]]-DarbųĮkainiai2018[[#This Row],[Išlaidos atnaujinimui, Eur/ha]]","v":37.26},"DIRVOS DIRBIMAS",2018,"Vakarų Europos",null,"Seklus arimas",468,null,{"$f":"ROW()-ROW(DarbųĮkainiai2024[[#Headers],[Eil. Nr.]])","v":124},{"$f":"+DarbųĮkainiai2018[[#This Row],[Žemės ūkio mašina]]","v":"Prikabinamaisiais apverčiamaisiais plūgais su tankintuvais"},{"$f":"+DarbųĮkainiai2018[[#This Row],[Darbinis plotis, m]]","v":2.8},{"$f":"+DarbųĮkainiai2018[[#This Row],[Tręšimo, išsėjimo, purškimo norma, kg/ha; Derlingumas, t/ha]]","v":0},{"$f":"+DarbųĮkainiai2018[[#This Row],[Traktoriaus (kombaino) galia, kW]]","v":176},{"$f":"ROUND(DarbųĮkainiai2018[[#This Row],[Traktoriaus (kombaino) kaina, tūkst. Eur]]*$AF$9,2)","v":161.54},{"$f":"ROUND(DarbųĮkainiai2018[[#This Row],[Žemės ūkio mašinos (cisternos) kaina, tūkst. Eur]] * $AG$9,2)","v":63.32},{"$f":"+DarbųĮkainiai2018[[#This Row],[Išdirbio norma, ha/val.]]","v":2.06},{"$f":"+DarbųĮkainiai2018[[#This Row],[Degalų sąnaudų norma, l/ha]]","v":16.399999999999999},{"$f":"ROUND(DarbųĮkainiai2018[[#This Row],[Išlaidos atnaujinimui, Eur/ha]]*1.35,2)","v":26.46},{"$f":"ROUND(DarbųĮkainiai2018[[#This Row],[Išlaidos remontui ir tech. aptarnavimui, Eur/ha]]*$AK$9,2)","v":26.47},{"$f":"ROUND(DarbųĮkainiai2024[[#This Row],[Degalų sąnaudų norma, l/ha]] * $AL$9,2)","v":12.3},{"$f":"ROUND(1/DarbųĮkainiai2024[[#This Row],[Išdirbio norma, ha/val.]]*$AM$9,2)","v":5.39},{"$f":"+DarbųĮkainiai2024[[#This Row],[Išlaidos atnaujinimui, Eur/ha]]+DarbųĮkainiai2024[[#This Row],[Išlaidos remontui ir tech. aptarnavimui, Eur/ha]]+DarbųĮkainiai2024[[#This Row],[Išlaidos degalams ir tepalams, Eur/ha]]+DarbųĮkainiai2024[[#This Row],[Išlaidos darbo užmokesčiui su priskaitymais, Eur/ha]]","v":70.62},{"$f":"ROUND(DarbųĮkainiai2018[[#This Row],[Kitos, Eur/ha]] * $AO$9,2)","v":4.07},{"$f":"+DarbųĮkainiai2024[[#This Row],[Kitos, Eur/ha]]+DarbųĮkainiai2024[[#This Row],[Išlaidos iš viso, Eur/ha]]","v":74.69},{"$f":"ROUND(DarbųĮkainiai2024[[#This Row],[Savikaina, Eur/ha]]*$AQ$9,2)","v":3.73},{"$f":"+DarbųĮkainiai2024[[#This Row],[Pelnas, Eur/ha]]+DarbųĮkainiai2024[[#This Row],[Savikaina, Eur/ha]]","v":78.42},{"$f":"+DarbųĮkainiai2024[[#This Row],[Įkainis, Eur/ha]]-DarbųĮkainiai2024[[#This Row],[Pelnas, Eur/ha]]-DarbųĮkainiai2024[[#This Row],[Išlaidos atnaujinimui, Eur/ha]]","v":48.23},{"$f":"+DarbųĮkainiai2018[[#This Row],[Darbas]]","v":"DIRVOS DIRBIMAS"},2024,{"$f":"+DarbųĮkainiai2018[[#This Row],[Žemės ūkio mašinų kilmė]]","v":"Vakarų Europos"},{"$f":"+DarbųĮkainiai2018[[#This Row],[Papildomas barstytubo parametras, m3]]","v":0},{"$f":"+DarbųĮkainiai2018[[#This Row],[Aktualus darbo pavadinimas]]","v":"Seklus arimas"},{"$f":"+DarbųĮkainiai2018[[#This Row],[Stulpelis1]]","v":468}]
[{"$f":"ROW()-ROW(DarbųĮkainiai2018[[#Headers],[Eil. Nr.]])","v":125},"Prikabinamaisiais apverčiamaisiais plūgais su tankintuvais",3.15,null,176,123.6,41.28,2.44,15,16.54,14.58,10.7,4.01,{"$f":"SUM(DarbųĮkainiai2018[[#This Row],[Išlaidos atnaujinimui, Eur/ha]:[Išlaidos darbo užmokesčiui su priskaitymais, Eur/ha]])","v":45.829999999999991},3.16,{"$f":"+DarbųĮkainiai2018[[#This Row],[Kitos, Eur/ha]]+DarbųĮkainiai2018[[#This Row],[Išlaidos iš viso, Eur/ha]]","v":48.989999999999995},{"$f":"ROUND(DarbųĮkainiai2018[[#This Row],[Savikaina, Eur/ha]]*0.05,2)","v":2.4500000000000002},{"$f":"+DarbųĮkainiai2018[[#This Row],[Pelnas, Eur/ha]]+DarbųĮkainiai2018[[#This Row],[Savikaina, Eur/ha]]","v":51.44},{"$f":"+DarbųĮkainiai2018[[#This Row],[Įkainis, Eur/ha]]-DarbųĮkainiai2018[[#This Row],[Pelnas, Eur/ha]]-DarbųĮkainiai2018[[#This Row],[Išlaidos atnaujinimui, Eur/ha]]","v":32.449999999999996},"DIRVOS DIRBIMAS",2018,"Vakarų Europos",null,"Seklus arimas",469,null,{"$f":"ROW()-ROW(DarbųĮkainiai2024[[#Headers],[Eil. Nr.]])","v":125},{"$f":"+DarbųĮkainiai2018[[#This Row],[Žemės ūkio mašina]]","v":"Prikabinamaisiais apverčiamaisiais plūgais su tankintuvais"},{"$f":"+DarbųĮkainiai2018[[#This Row],[Darbinis plotis, m]]","v":3.15},{"$f":"+DarbųĮkainiai2018[[#This Row],[Tręšimo, išsėjimo, purškimo norma, kg/ha; Derlingumas, t/ha]]","v":0},{"$f":"+DarbųĮkainiai2018[[#This Row],[Traktoriaus (kombaino) galia, kW]]","v":176},{"$f":"ROUND(DarbųĮkainiai2018[[#This Row],[Traktoriaus (kombaino) kaina, tūkst. Eur]]*$AF$9,2)","v":161.54},{"$f":"ROUND(DarbųĮkainiai2018[[#This Row],[Žemės ūkio mašinos (cisternos) kaina, tūkst. Eur]] * $AG$9,2)","v":63.32},{"$f":"+DarbųĮkainiai2018[[#This Row],[Išdirbio norma, ha/val.]]","v":2.44},{"$f":"+DarbųĮkainiai2018[[#This Row],[Degalų sąnaudų norma, l/ha]]","v":15},{"$f":"ROUND(DarbųĮkainiai2018[[#This Row],[Išlaidos atnaujinimui, Eur/ha]]*1.35,2)","v":22.33},{"$f":"ROUND(DarbųĮkainiai2018[[#This Row],[Išlaidos remontui ir tech. aptarnavimui, Eur/ha]]*$AK$9,2)","v":22.36},{"$f":"ROUND(DarbųĮkainiai2024[[#This Row],[Degalų sąnaudų norma, l/ha]] * $AL$9,2)","v":11.25},{"$f":"ROUND(1/DarbųĮkainiai2024[[#This Row],[Išdirbio norma, ha/val.]]*$AM$9,2)","v":4.55},{"$f":"+DarbųĮkainiai2024[[#This Row],[Išlaidos atnaujinimui, Eur/ha]]+DarbųĮkainiai2024[[#This Row],[Išlaidos remontui ir tech. aptarnavimui, Eur/ha]]+DarbųĮkainiai2024[[#This Row],[Išlaidos degalams ir tepalams, Eur/ha]]+DarbųĮkainiai2024[[#This Row],[Išlaidos darbo užmokesčiui su priskaitymais, Eur/ha]]","v":60.489999999999995},{"$f":"ROUND(DarbųĮkainiai2018[[#This Row],[Kitos, Eur/ha]] * $AO$9,2)","v":3.52},{"$f":"+DarbųĮkainiai2024[[#This Row],[Kitos, Eur/ha]]+DarbųĮkainiai2024[[#This Row],[Išlaidos iš viso, Eur/ha]]","v":64.009999999999991},{"$f":"ROUND(DarbųĮkainiai2024[[#This Row],[Savikaina, Eur/ha]]*$AQ$9,2)","v":3.2},{"$f":"+DarbųĮkainiai2024[[#This Row],[Pelnas, Eur/ha]]+DarbųĮkainiai2024[[#This Row],[Savikaina, Eur/ha]]","v":67.209999999999994},{"$f":"+DarbųĮkainiai2024[[#This Row],[Įkainis, Eur/ha]]-DarbųĮkainiai2024[[#This Row],[Pelnas, Eur/ha]]-DarbųĮkainiai2024[[#This Row],[Išlaidos atnaujinimui, Eur/ha]]","v":41.679999999999993},{"$f":"+DarbųĮkainiai2018[[#This Row],[Darbas]]","v":"DIRVOS DIRBIMAS"},2024,{"$f":"+DarbųĮkainiai2018[[#This Row],[Žemės ūkio mašinų kilmė]]","v":"Vakarų Europos"},{"$f":"+DarbųĮkainiai2018[[#This Row],[Papildomas barstytubo parametras, m3]]","v":0},{"$f":"+DarbųĮkainiai2018[[#This Row],[Aktualus darbo pavadinimas]]","v":"Seklus arimas"},{"$f":"+DarbųĮkainiai2018[[#This Row],[Stulpelis1]]","v":469}]
[{"$f":"ROW()-ROW(DarbųĮkainiai2018[[#Headers],[Eil. Nr.]])","v":126},"Prikabinamaisiais apverčiamaisiais plūgais su tankintuvais",3.5,null,190,136.86000000000001,51.6,2.77,14.8,17.399999999999999,15.55,10.5,3.53,{"$f":"SUM(DarbųĮkainiai2018[[#This Row],[Išlaidos atnaujinimui, Eur/ha]:[Išlaidos darbo užmokesčiui su priskaitymais, Eur/ha]])","v":46.980000000000004},3.24,{"$f":"+DarbųĮkainiai2018[[#This Row],[Kitos, Eur/ha]]+DarbųĮkainiai2018[[#This Row],[Išlaidos iš viso, Eur/ha]]","v":50.220000000000006},{"$f":"ROUND(DarbųĮkainiai2018[[#This Row],[Savikaina, Eur/ha]]*0.05,2)","v":2.5099999999999998},{"$f":"+DarbųĮkainiai2018[[#This Row],[Pelnas, Eur/ha]]+DarbųĮkainiai2018[[#This Row],[Savikaina, Eur/ha]]","v":52.730000000000004},{"$f":"+DarbųĮkainiai2018[[#This Row],[Įkainis, Eur/ha]]-DarbųĮkainiai2018[[#This Row],[Pelnas, Eur/ha]]-DarbųĮkainiai2018[[#This Row],[Išlaidos atnaujinimui, Eur/ha]]","v":32.820000000000007},"DIRVOS DIRBIMAS",2018,"Vakarų Europos",null,"Seklus arimas",470,null,{"$f":"ROW()-ROW(DarbųĮkainiai2024[[#Headers],[Eil. Nr.]])","v":126},{"$f":"+DarbųĮkainiai2018[[#This Row],[Žemės ūkio mašina]]","v":"Prikabinamaisiais apverčiamaisiais plūgais su tankintuvais"},{"$f":"+DarbųĮkainiai2018[[#This Row],[Darbinis plotis, m]]","v":3.5},{"$f":"+DarbųĮkainiai2018[[#This Row],[Tręšimo, išsėjimo, purškimo norma, kg/ha; Derlingumas, t/ha]]","v":0},{"$f":"+DarbųĮkainiai2018[[#This Row],[Traktoriaus (kombaino) galia, kW]]","v":190},{"$f":"ROUND(DarbųĮkainiai2018[[#This Row],[Traktoriaus (kombaino) kaina, tūkst. Eur]]*$AF$9,2)","v":178.87},{"$f":"ROUND(DarbųĮkainiai2018[[#This Row],[Žemės ūkio mašinos (cisternos) kaina, tūkst. Eur]] * $AG$9,2)","v":79.150000000000006},{"$f":"+DarbųĮkainiai2018[[#This Row],[Išdirbio norma, ha/val.]]","v":2.77},{"$f":"+DarbųĮkainiai2018[[#This Row],[Degalų sąnaudų norma, l/ha]]","v":14.8},{"$f":"ROUND(DarbųĮkainiai2018[[#This Row],[Išlaidos atnaujinimui, Eur/ha]]*1.35,2)","v":23.49},{"$f":"ROUND(DarbųĮkainiai2018[[#This Row],[Išlaidos remontui ir tech. aptarnavimui, Eur/ha]]*$AK$9,2)","v":23.85},{"$f":"ROUND(DarbųĮkainiai2024[[#This Row],[Degalų sąnaudų norma, l/ha]] * $AL$9,2)","v":11.1},{"$f":"ROUND(1/DarbųĮkainiai2024[[#This Row],[Išdirbio norma, ha/val.]]*$AM$9,2)","v":4.01},{"$f":"+DarbųĮkainiai2024[[#This Row],[Išlaidos atnaujinimui, Eur/ha]]+DarbųĮkainiai2024[[#This Row],[Išlaidos remontui ir tech. aptarnavimui, Eur/ha]]+DarbųĮkainiai2024[[#This Row],[Išlaidos degalams ir tepalams, Eur/ha]]+DarbųĮkainiai2024[[#This Row],[Išlaidos darbo užmokesčiui su priskaitymais, Eur/ha]]","v":62.45},{"$f":"ROUND(DarbųĮkainiai2018[[#This Row],[Kitos, Eur/ha]] * $AO$9,2)","v":3.61},{"$f":"+DarbųĮkainiai2024[[#This Row],[Kitos, Eur/ha]]+DarbųĮkainiai2024[[#This Row],[Išlaidos iš viso, Eur/ha]]","v":66.06},{"$f":"ROUND(DarbųĮkainiai2024[[#This Row],[Savikaina, Eur/ha]]*$AQ$9,2)","v":3.3},{"$f":"+DarbųĮkainiai2024[[#This Row],[Pelnas, Eur/ha]]+DarbųĮkainiai2024[[#This Row],[Savikaina, Eur/ha]]","v":69.36},{"$f":"+DarbųĮkainiai2024[[#This Row],[Įkainis, Eur/ha]]-DarbųĮkainiai2024[[#This Row],[Pelnas, Eur/ha]]-DarbųĮkainiai2024[[#This Row],[Išlaidos atnaujinimui, Eur/ha]]","v":42.570000000000007},{"$f":"+DarbųĮkainiai2018[[#This Row],[Darbas]]","v":"DIRVOS DIRBIMAS"},2024,{"$f":"+DarbųĮkainiai2018[[#This Row],[Žemės ūkio mašinų kilmė]]","v":"Vakarų Europos"},{"$f":"+DarbųĮkainiai2018[[#This Row],[Papildomas barstytubo parametras, m3]]","v":0},{"$f":"+DarbųĮkainiai2018[[#This Row],[Aktualus darbo pavadinimas]]","v":"Seklus arimas"},{"$f":"+DarbųĮkainiai2018[[#This Row],[Stulpelis1]]","v":470}]
[{"$f":"ROW()-ROW(DarbųĮkainiai2018[[#Headers],[Eil. Nr.]])","v":127},"Prikabinamaisiais apverčiamaisiais plūgais su tankintuvais",3.5,null,275,201.8,51.6,2.77,16.7,20.36,17.329999999999998,11.9,3.53,{"$f":"SUM(DarbųĮkainiai2018[[#This Row],[Išlaidos atnaujinimui, Eur/ha]:[Išlaidos darbo užmokesčiui su priskaitymais, Eur/ha]])","v":53.12},3.67,{"$f":"+DarbųĮkainiai2018[[#This Row],[Kitos, Eur/ha]]+DarbųĮkainiai2018[[#This Row],[Išlaidos iš viso, Eur/ha]]","v":56.79},{"$f":"ROUND(DarbųĮkainiai2018[[#This Row],[Savikaina, Eur/ha]]*0.05,2)","v":2.84},{"$f":"+DarbųĮkainiai2018[[#This Row],[Pelnas, Eur/ha]]+DarbųĮkainiai2018[[#This Row],[Savikaina, Eur/ha]]","v":59.629999999999995},{"$f":"+DarbųĮkainiai2018[[#This Row],[Įkainis, Eur/ha]]-DarbųĮkainiai2018[[#This Row],[Pelnas, Eur/ha]]-DarbųĮkainiai2018[[#This Row],[Išlaidos atnaujinimui, Eur/ha]]","v":36.429999999999993},"DIRVOS DIRBIMAS",2018,"Vakarų Europos",null,"Seklus arimas",471,null,{"$f":"ROW()-ROW(DarbųĮkainiai2024[[#Headers],[Eil. Nr.]])","v":127},{"$f":"+DarbųĮkainiai2018[[#This Row],[Žemės ūkio mašina]]","v":"Prikabinamaisiais apverčiamaisiais plūgais su tankintuvais"},{"$f":"+DarbųĮkainiai2018[[#This Row],[Darbinis plotis, m]]","v":3.5},{"$f":"+DarbųĮkainiai2018[[#This Row],[Tręšimo, išsėjimo, purškimo norma, kg/ha; Derlingumas, t/ha]]","v":0},{"$f":"+DarbųĮkainiai2018[[#This Row],[Traktoriaus (kombaino) galia, kW]]","v":275},{"$f":"ROUND(DarbųĮkainiai2018[[#This Row],[Traktoriaus (kombaino) kaina, tūkst. Eur]]*$AF$9,2)","v":263.75},{"$f":"ROUND(DarbųĮkainiai2018[[#This Row],[Žemės ūkio mašinos (cisternos) kaina, tūkst. Eur]] * $AG$9,2)","v":79.150000000000006},{"$f":"+DarbųĮkainiai2018[[#This Row],[Išdirbio norma, ha/val.]]","v":2.77},{"$f":"+DarbųĮkainiai2018[[#This Row],[Degalų sąnaudų norma, l/ha]]","v":16.7},{"$f":"ROUND(DarbųĮkainiai2018[[#This Row],[Išlaidos atnaujinimui, Eur/ha]]*1.35,2)","v":27.49},{"$f":"ROUND(DarbųĮkainiai2018[[#This Row],[Išlaidos remontui ir tech. aptarnavimui, Eur/ha]]*$AK$9,2)","v":26.58},{"$f":"ROUND(DarbųĮkainiai2024[[#This Row],[Degalų sąnaudų norma, l/ha]] * $AL$9,2)","v":12.53},{"$f":"ROUND(1/DarbųĮkainiai2024[[#This Row],[Išdirbio norma, ha/val.]]*$AM$9,2)","v":4.01},{"$f":"+DarbųĮkainiai2024[[#This Row],[Išlaidos atnaujinimui, Eur/ha]]+DarbųĮkainiai2024[[#This Row],[Išlaidos remontui ir tech. aptarnavimui, Eur/ha]]+DarbųĮkainiai2024[[#This Row],[Išlaidos degalams ir tepalams, Eur/ha]]+DarbųĮkainiai2024[[#This Row],[Išlaidos darbo užmokesčiui su priskaitymais, Eur/ha]]","v":70.61},{"$f":"ROUND(DarbųĮkainiai2018[[#This Row],[Kitos, Eur/ha]] * $AO$9,2)","v":4.09},{"$f":"+DarbųĮkainiai2024[[#This Row],[Kitos, Eur/ha]]+DarbųĮkainiai2024[[#This Row],[Išlaidos iš viso, Eur/ha]]","v":74.7},{"$f":"ROUND(DarbųĮkainiai2024[[#This Row],[Savikaina, Eur/ha]]*$AQ$9,2)","v":3.74},{"$f":"+DarbųĮkainiai2024[[#This Row],[Pelnas, Eur/ha]]+DarbųĮkainiai2024[[#This Row],[Savikaina, Eur/ha]]","v":78.44},{"$f":"+DarbųĮkainiai2024[[#This Row],[Įkainis, Eur/ha]]-DarbųĮkainiai2024[[#This Row],[Pelnas, Eur/ha]]-DarbųĮkainiai2024[[#This Row],[Išlaidos atnaujinimui, Eur/ha]]","v":47.210000000000008},{"$f":"+DarbųĮkainiai2018[[#This Row],[Darbas]]","v":"DIRVOS DIRBIMAS"},2024,{"$f":"+DarbųĮkainiai2018[[#This Row],[Žemės ūkio mašinų kilmė]]","v":"Vakarų Europos"},{"$f":"+DarbųĮkainiai2018[[#This Row],[Papildomas barstytubo parametras, m3]]","v":0},{"$f":"+DarbųĮkainiai2018[[#This Row],[Aktualus darbo pavadinimas]]","v":"Seklus arimas"},{"$f":"+DarbųĮkainiai2018[[#This Row],[Stulpelis1]]","v":471}]
[{"$f":"ROW()-ROW(DarbųĮkainiai2018[[#Headers],[Eil. Nr.]])","v":128},"Seklusis ražienų skutimas su tarpinių pasėlių sėja",2,null,67,null,null,null,null,null,null,null,null,4.75,null,4.75,0.24,4.99,{"$f":"+DarbųĮkainiai2018[[#This Row],[Įkainis, Eur/ha]]-DarbųĮkainiai2018[[#This Row],[Pelnas, Eur/ha]]-DarbųĮkainiai2018[[#This Row],[Išlaidos atnaujinimui, Eur/ha]]","v":4.75},"Skutimas kartu su tarpinių pasėlių sėja",2018,"Vakarų Europos",null,"Tarpinių pasėlių sėja",472,null,{"$f":"ROW()-ROW(DarbųĮkainiai2024[[#Headers],[Eil. Nr.]])","v":128},{"$f":"+DarbųĮkainiai2018[[#This Row],[Žemės ūkio mašina]]","v":"Seklusis ražienų skutimas su tarpinių pasėlių sėja"},{"$f":"+DarbųĮkainiai2018[[#This Row],[Darbinis plotis, m]]","v":2},{"$f":"+DarbųĮkainiai2018[[#This Row],[Tręšimo, išsėjimo, purškimo norma, kg/ha; Derlingumas, t/ha]]","v":0},{"$f":"+DarbųĮkainiai2018[[#This Row],[Traktoriaus (kombaino) galia, kW]]","v":67},null,null,null,null,null,null,null,null,null,4.75,4.75,0.24,4.99,{"$f":"+DarbųĮkainiai2024[[#This Row],[Įkainis, Eur/ha]]-DarbųĮkainiai2024[[#This Row],[Pelnas, Eur/ha]]-DarbųĮkainiai2024[[#This Row],[Išlaidos atnaujinimui, Eur/ha]]","v":4.75},"Skutimas kartu su tarpinių pasėlių sėja",2018,"Vakarų Europos",{"$f":"+DarbųĮkainiai2018[[#This Row],[Papildomas barstytubo parametras, m3]]","v":0},"Tarpinių pasėlių sėja",472]
[{"$f":"ROW()-ROW(DarbųĮkainiai2018[[#Headers],[Eil. Nr.]])","v":129},"Seklusis ražienų skutimas su tarpinių pasėlių sėja",2.5,null,83,null,null,null,null,null,null,null,null,4.8899999999999997,null,4.8899999999999997,0.24,5.13,{"$f":"+DarbųĮkainiai2018[[#This Row],[Įkainis, Eur/ha]]-DarbųĮkainiai2018[[#This Row],[Pelnas, Eur/ha]]-DarbųĮkainiai2018[[#This Row],[Išlaidos atnaujinimui, Eur/ha]]","v":4.8899999999999997},"Skutimas kartu su tarpinių pasėlių sėja",2018,"Vakarų Europos",null,"Tarpinių pasėlių sėja",473,null,{"$f":"ROW()-ROW(DarbųĮkainiai2024[[#Headers],[Eil. Nr.]])","v":129},{"$f":"+DarbųĮkainiai2018[[#This Row],[Žemės ūkio mašina]]","v":"Seklusis ražienų skutimas su tarpinių pasėlių sėja"},{"$f":"+DarbųĮkainiai2018[[#This Row],[Darbinis plotis, m]]","v":2.5},{"$f":"+DarbųĮkainiai2018[[#This Row],[Tręšimo, išsėjimo, purškimo norma, kg/ha; Derlingumas, t/ha]]","v":0},{"$f":"+DarbųĮkainiai2018[[#This Row],[Traktoriaus (kombaino) galia, kW]]","v":83},null,null,null,null,null,null,null,null,null,4.8899999999999997,4.8899999999999997,0.24,5.13,{"$f":"+DarbųĮkainiai2024[[#This Row],[Įkainis, Eur/ha]]-DarbųĮkainiai2024[[#This Row],[Pelnas, Eur/ha]]-DarbųĮkainiai2024[[#This Row],[Išlaidos atnaujinimui, Eur/ha]]","v":4.8899999999999997},"Skutimas kartu su tarpinių pasėlių sėja",2018,"Vakarų Europos",{"$f":"+DarbųĮkainiai2018[[#This Row],[Papildomas barstytubo parametras, m3]]","v":0},"Tarpinių pasėlių sėja",473]
[{"$f":"ROW()-ROW(DarbųĮkainiai2018[[#Headers],[Eil. Nr.]])","v":130},"Seklusis ražienų skutimas su tarpinių pasėlių sėja",3,null,102,null,null,null,null,null,null,null,null,4.76,null,4.76,0.24,5,{"$f":"+DarbųĮkainiai2018[[#This Row],[Įkainis, Eur/ha]]-DarbųĮkainiai2018[[#This Row],[Pelnas, Eur/ha]]-DarbųĮkainiai2018[[#This Row],[Išlaidos atnaujinimui, Eur/ha]]","v":4.76},"Skutimas kartu su tarpinių pasėlių sėja",2018,"Vakarų Europos",null,"Tarpinių pasėlių sėja",474,null,{"$f":"ROW()-ROW(DarbųĮkainiai2024[[#Headers],[Eil. Nr.]])","v":130},{"$f":"+DarbųĮkainiai2018[[#This Row],[Žemės ūkio mašina]]","v":"Seklusis ražienų skutimas su tarpinių pasėlių sėja"},{"$f":"+DarbųĮkainiai2018[[#This Row],[Darbinis plotis, m]]","v":3},{"$f":"+DarbųĮkainiai2018[[#This Row],[Tręšimo, išsėjimo, purškimo norma, kg/ha; Derlingumas, t/ha]]","v":0},{"$f":"+DarbųĮkainiai2018[[#This Row],[Traktoriaus (kombaino) galia, kW]]","v":102},null,null,null,null,null,null,null,null,null,4.76,4.76,0.24,5,{"$f":"+DarbųĮkainiai2024[[#This Row],[Įkainis, Eur/ha]]-DarbųĮkainiai2024[[#This Row],[Pelnas, Eur/ha]]-DarbųĮkainiai2024[[#This Row],[Išlaidos atnaujinimui, Eur/ha]]","v":4.76},"Skutimas kartu su tarpinių pasėlių sėja",2018,"Vakarų Europos",{"$f":"+DarbųĮkainiai2018[[#This Row],[Papildomas barstytubo parametras, m3]]","v":0},"Tarpinių pasėlių sėja",474]
[{"$f":"ROW()-ROW(DarbųĮkainiai2018[[#Headers],[Eil. Nr.]])","v":131},"Seklusis ražienų skutimas su tarpinių pasėlių sėja",4,null,138,null,null,null,null,null,null,null,null,4.6399999999999997,null,4.6399999999999997,0.23,4.87,{"$f":"+DarbųĮkainiai2018[[#This Row],[Įkainis, Eur/ha]]-DarbųĮkainiai2018[[#This Row],[Pelnas, Eur/ha]]-DarbųĮkainiai2018[[#This Row],[Išlaidos atnaujinimui, Eur/ha]]","v":4.6399999999999997},"Skutimas kartu su tarpinių pasėlių sėja",2018,"Vakarų Europos",null,"Tarpinių pasėlių sėja",475,null,{"$f":"ROW()-ROW(DarbųĮkainiai2024[[#Headers],[Eil. Nr.]])","v":131},{"$f":"+DarbųĮkainiai2018[[#This Row],[Žemės ūkio mašina]]","v":"Seklusis ražienų skutimas su tarpinių pasėlių sėja"},{"$f":"+DarbųĮkainiai2018[[#This Row],[Darbinis plotis, m]]","v":4},{"$f":"+DarbųĮkainiai2018[[#This Row],[Tręšimo, išsėjimo, purškimo norma, kg/ha; Derlingumas, t/ha]]","v":0},{"$f":"+DarbųĮkainiai2018[[#This Row],[Traktoriaus (kombaino) galia, kW]]","v":138},null,null,null,null,null,null,null,null,null,4.6399999999999997,4.6399999999999997,0.23,4.87,{"$f":"+DarbųĮkainiai2024[[#This Row],[Įkainis, Eur/ha]]-DarbųĮkainiai2024[[#This Row],[Pelnas, Eur/ha]]-DarbųĮkainiai2024[[#This Row],[Išlaidos atnaujinimui, Eur/ha]]","v":4.6399999999999997},"Skutimas kartu su tarpinių pasėlių sėja",2018,"Vakarų Europos",{"$f":"+DarbųĮkainiai2018[[#This Row],[Papildomas barstytubo parametras, m3]]","v":0},"Tarpinių pasėlių sėja",475]
[{"$f":"ROW()-ROW(DarbųĮkainiai2018[[#Headers],[Eil. Nr.]])","v":132},"Seklusis ražienų skutimas su tarpinių pasėlių sėja",5,null,157,null,null,null,null,null,null,null,null,4.53,null,4.53,0.23,4.7600000000000007,{"$f":"+DarbųĮkainiai2018[[#This Row],[Įkainis, Eur/ha]]-DarbųĮkainiai2018[[#This Row],[Pelnas, Eur/ha]]-DarbųĮkainiai2018[[#This Row],[Išlaidos atnaujinimui, Eur/ha]]","v":4.53},"Skutimas kartu su tarpinių pasėlių sėja",2018,"Vakarų Europos",null,"Tarpinių pasėlių sėja",476,null,{"$f":"ROW()-ROW(DarbųĮkainiai2024[[#Headers],[Eil. Nr.]])","v":132},{"$f":"+DarbųĮkainiai2018[[#This Row],[Žemės ūkio mašina]]","v":"Seklusis ražienų skutimas su tarpinių pasėlių sėja"},{"$f":"+DarbųĮkainiai2018[[#This Row],[Darbinis plotis, m]]","v":5},{"$f":"+DarbųĮkainiai2018[[#This Row],[Tręšimo, išsėjimo, purškimo norma, kg/ha; Derlingumas, t/ha]]","v":0},{"$f":"+DarbųĮkainiai2018[[#This Row],[Traktoriaus (kombaino) galia, kW]]","v":157},null,null,null,null,null,null,null,null,null,4.53,4.53,0.23,4.7600000000000007,{"$f":"+DarbųĮkainiai2024[[#This Row],[Įkainis, Eur/ha]]-DarbųĮkainiai2024[[#This Row],[Pelnas, Eur/ha]]-DarbųĮkainiai2024[[#This Row],[Išlaidos atnaujinimui, Eur/ha]]","v":4.53},"Skutimas kartu su tarpinių pasėlių sėja",2018,"Vakarų Europos",{"$f":"+DarbųĮkainiai2018[[#This Row],[Papildomas barstytubo parametras, m3]]","v":0},"Tarpinių pasėlių sėja",476]
[{"$f":"ROW()-ROW(DarbųĮkainiai2018[[#Headers],[Eil. Nr.]])","v":133},"Seklusis ražienų skutimas su tarpinių pasėlių sėja",10,null,233,null,null,null,null,null,null,null,null,4.28,null,4.28,0.21,4.49,{"$f":"+DarbųĮkainiai2018[[#This Row],[Įkainis, Eur/ha]]-DarbųĮkainiai2018[[#This Row],[Pelnas, Eur/ha]]-DarbųĮkainiai2018[[#This Row],[Išlaidos atnaujinimui, Eur/ha]]","v":4.28},"Skutimas kartu su tarpinių pasėlių sėja",2018,"Vakarų Europos",null,"Tarpinių pasėlių sėja",477,null,{"$f":"ROW()-ROW(DarbųĮkainiai2024[[#Headers],[Eil. Nr.]])","v":133},{"$f":"+DarbųĮkainiai2018[[#This Row],[Žemės ūkio mašina]]","v":"Seklusis ražienų skutimas su tarpinių pasėlių sėja"},{"$f":"+DarbųĮkainiai2018[[#This Row],[Darbinis plotis, m]]","v":10},{"$f":"+DarbųĮkainiai2018[[#This Row],[Tręšimo, išsėjimo, purškimo norma, kg/ha; Derlingumas, t/ha]]","v":0},{"$f":"+DarbųĮkainiai2018[[#This Row],[Traktoriaus (kombaino) galia, kW]]","v":233},null,null,null,null,null,null,null,null,null,4.28,4.28,0.21,4.49,{"$f":"+DarbųĮkainiai2024[[#This Row],[Įkainis, Eur/ha]]-DarbųĮkainiai2024[[#This Row],[Pelnas, Eur/ha]]-DarbųĮkainiai2024[[#This Row],[Išlaidos atnaujinimui, Eur/ha]]","v":4.28},"Skutimas kartu su tarpinių pasėlių sėja",2018,"Vakarų Europos",{"$f":"+DarbųĮkainiai2018[[#This Row],[Papildomas barstytubo parametras, m3]]","v":0},"Tarpinių pasėlių sėja",477]
[{"$f":"ROW()-ROW(DarbųĮkainiai2018[[#Headers],[Eil. Nr.]])","v":134},"Seklusis ražienų skutimas su tarpinių pasėlių sėja",12,null,338,null,null,null,null,null,null,null,null,4.51,null,4.51,0.23,4.74,{"$f":"+DarbųĮkainiai2018[[#This Row],[Įkainis, Eur/ha]]-DarbųĮkainiai2018[[#This Row],[Pelnas, Eur/ha]]-DarbųĮkainiai2018[[#This Row],[Išlaidos atnaujinimui, Eur/ha]]","v":4.51},"Skutimas kartu su tarpinių pasėlių sėja",2018,"Vakarų Europos",null,"Tarpinių pasėlių sėja",478,null,{"$f":"ROW()-ROW(DarbųĮkainiai2024[[#Headers],[Eil. Nr.]])","v":134},{"$f":"+DarbųĮkainiai2018[[#This Row],[Žemės ūkio mašina]]","v":"Seklusis ražienų skutimas su tarpinių pasėlių sėja"},{"$f":"+DarbųĮkainiai2018[[#This Row],[Darbinis plotis, m]]","v":12},{"$f":"+DarbųĮkainiai2018[[#This Row],[Tręšimo, išsėjimo, purškimo norma, kg/ha; Derlingumas, t/ha]]","v":0},{"$f":"+DarbųĮkainiai2018[[#This Row],[Traktoriaus (kombaino) galia, kW]]","v":338},null,null,null,null,null,null,null,null,null,4.51,4.51,0.23,4.74,{"$f":"+DarbųĮkainiai2024[[#This Row],[Įkainis, Eur/ha]]-DarbųĮkainiai2024[[#This Row],[Pelnas, Eur/ha]]-DarbųĮkainiai2024[[#This Row],[Išlaidos atnaujinimui, Eur/ha]]","v":4.51},"Skutimas kartu su tarpinių pasėlių sėja",2018,"Vakarų Europos",{"$f":"+DarbųĮkainiai2018[[#This Row],[Papildomas barstytubo parametras, m3]]","v":0},"Tarpinių pasėlių sėja",478]

{"sheet":"DU","index":16,"n_rows":58,"n_cols":4,"rows_kept":58,"cut":false,"hidden":true,"merged":[]}
[]
[]
["Vidutiniai darbo užmokesčio kaštai Lietuvoje Eur/val."]
[]
[]
[]
[]
[]
[]
["Eil. Nr.","Metai","Rodiklio apskaičiavimo bazė","Eur/val."]
[{"$f":"ROW()-ROW(DU[[#Headers],[Eil. Nr.]])","v":1},2024,"Lietuva",13.15]
[{"$f":"ROW()-ROW(DU[[#Headers],[Eil. Nr.]])","v":2},2023,"Lietuva",12.18]
[{"$f":"ROW()-ROW(DU[[#Headers],[Eil. Nr.]])","v":3},2022,"Lietuva",10.79]
[{"$f":"ROW()-ROW(DU[[#Headers],[Eil. Nr.]])","v":4},2021,"Lietuva",9.5]
[{"$f":"ROW()-ROW(DU[[#Headers],[Eil. Nr.]])","v":5},2020,"Lietuva",8.59]
[{"$f":"ROW()-ROW(DU[[#Headers],[Eil. Nr.]])","v":6},2019,"Lietuva",7.87]
[{"$f":"ROW()-ROW(DU[[#Headers],[Eil. Nr.]])","v":7},2018,"Lietuva",7.39]
[{"$f":"ROW()-ROW(DU[[#Headers],[Eil. Nr.]])","v":8},2017,"Lietuva",6.72]
[{"$f":"ROW()-ROW(DU[[#Headers],[Eil. Nr.]])","v":9},2016,"Lietuva",6.2]
[{"$f":"ROW()-ROW(DU[[#Headers],[Eil. Nr.]])","v":10},2015,"Lietuva",5.76]
[{"$f":"ROW()-ROW(DU[[#Headers],[Eil. Nr.]])","v":11},2014,"Lietuva",5.47]
[{"$f":"ROW()-ROW(DU[[#Headers],[Eil. Nr.]])","v":12},2013,"Lietuva",5.28]
[{"$f":"ROW()-ROW(DU[[#Headers],[Eil. Nr.]])","v":13},2012,"Lietuva",5]
[{"$f":"ROW()-ROW(DU[[#Headers],[Eil. Nr.]])","v":14},2011,"Lietuva",4.87]
[{"$f":"ROW()-ROW(DU[[#Headers],[Eil. Nr.]])","v":15},2010,"Lietuva",4.76]
[{"$f":"ROW()-ROW(DU[[#Headers],[Eil. Nr.]])","v":16},2009,"Lietuva",4.95]
[{"$f":"ROW()-ROW(DU[[#Headers],[Eil. Nr.]])","v":17},2008,"Lietuva",5.23]
[{"$f":"ROW()-ROW(DU[[#Headers],[Eil. Nr.]])","v":18},2007,"Lietuva",4.3600000000000003]
[{"$f":"ROW()-ROW(DU[[#Headers],[Eil. Nr.]])","v":19},2006,"Lietuva",3.65]
[{"$f":"ROW()-ROW(DU[[#Headers],[Eil. Nr.]])","v":20},2005,"Lietuva",3.13]
[{"$f":"ROW()-ROW(DU[[#Headers],[Eil. Nr.]])","v":21},2004,"Lietuva",2.84]
[{"$f":"ROW()-ROW(DU[[#Headers],[Eil. Nr.]])","v":22},2003,"Lietuva",2.69]
[{"$f":"ROW()-ROW(DU[[#Headers],[Eil. Nr.]])","v":23},2002,"Lietuva",2.58]
[{"$f":"ROW()-ROW(DU[[#Headers],[Eil. Nr.]])","v":24},2001,"Lietuva",2.4500000000000002]
[{"$f":"ROW()-ROW(DU[[#Headers],[Eil. Nr.]])","v":25},2024,"Žemės ūkis",11.11]
[{"$f":"ROW()-ROW(DU[[#Headers],[Eil. Nr.]])","v":26},2023,"Žemės ūkis",10.42]
[{"$f":"ROW()-ROW(DU[[#Headers],[Eil. Nr.]])","v":27},2022,"Žemės ūkis",8.9499999999999993]
[{"$f":"ROW()-ROW(DU[[#Headers],[Eil. Nr.]])","v":28},2021,"Žemės ūkis",7.8]
[{"$f":"ROW()-ROW(DU[[#Headers],[Eil. Nr.]])","v":29},2020,"Žemės ūkis",7.08]
[{"$f":"ROW()-ROW(DU[[#Headers],[Eil. Nr.]])","v":30},2019,"Žemės ūkis",6.76]
[{"$f":"ROW()-ROW(DU[[#Headers],[Eil. Nr.]])","v":31},2018,"Žemės ūkis",6.39]
[{"$f":"ROW()-ROW(DU[[#Headers],[Eil. Nr.]])","v":32},2017,"Žemės ūkis",5.86]
[{"$f":"ROW()-ROW(DU[[#Headers],[Eil. Nr.]])","v":33},2016,"Žemės ūkis",5.35]
[{"$f":"ROW()-ROW(DU[[#Headers],[Eil. Nr.]])","v":34},2015,"Žemės ūkis",4.96]
[{"$f":"ROW()-ROW(DU[[#Headers],[Eil. Nr.]])","v":35},2014,"Žemės ūkis",4.79]
[{"$f":"ROW()-ROW(DU[[#Headers],[Eil. Nr.]])","v":36},2013,"Žemės ūkis",4.51]
[{"$f":"ROW()-ROW(DU[[#Headers],[Eil. Nr.]])","v":37},2012,"Žemės ūkis",4.09]
[{"$f":"ROW()-ROW(DU[[#Headers],[Eil. Nr.]])","v":38},2011,"Žemės ūkis",3.91]
[{"$f":"ROW()-ROW(DU[[#Headers],[Eil. Nr.]])","v":39},2010,"Žemės ūkis",3.74]
[{"$f":"ROW()-ROW(DU[[#Headers],[Eil. Nr.]])","v":40},2009,"Žemės ūkis",3.83]
[{"$f":"ROW()-ROW(DU[[#Headers],[Eil. Nr.]])","v":41},2008,"Žemės ūkis",4.25]
[{"$f":"ROW()-ROW(DU[[#Headers],[Eil. Nr.]])","v":42},2007,"Žemės ūkis"]
[{"$f":"ROW()-ROW(DU[[#Headers],[Eil. Nr.]])","v":43},2006,"Žemės ūkis"]
[{"$f":"ROW()-ROW(DU[[#Headers],[Eil. Nr.]])","v":44},2005,"Žemės ūkis"]
[{"$f":"ROW()-ROW(DU[[#Headers],[Eil. Nr.]])","v":45},2004,"Žemės ūkis"]
[{"$f":"ROW()-ROW(DU[[#Headers],[Eil. Nr.]])","v":46},2003,"Žemės ūkis"]
[{"$f":"ROW()-ROW(DU[[#Headers],[Eil. Nr.]])","v":47},2002,"Žemės ūkis"]
[{"$f":"ROW()-ROW(DU[[#Headers],[Eil. Nr.]])","v":48},2001,"Žemės ūkis"]

{"sheet":"ŽŪ mašinos pagal plotą","index":17,"n_rows":125,"n_cols":14,"rows_kept":125,"cut":false,"hidden":true,"merged":[[123,5,123,6],[124,5,124,6],[122,5,122,6],[91,6,91,7],[92,6,92,7],[95,6,95,7],[83,5,84,5],[83,6,83,7],[82,1,82,3],[83,1,84,1],[83,2,84,2],[83,3,84,3],[83,4,84,4]]}
[]
[]
[]
[]
[]
[]
[]
[]
[null,"Žemės ūkio technikos našumo skaičiavimas"]
["Eil. Nr.","Žemės ūkio technikos pavadinimas","Parametro pavadinimas","Parametro reikšmė","Važiavimo greitis, km/h","Laiko panaudojimo koeficientas, %","Našumas Ha/h","Našumas H/ha","Pastabos"]
[{"$f":"ROW()-ROW(Lentelė13[[#Headers],[Eil. Nr.]])","v":1},"Traktorius","Dirbamos žemės plotas, ha",{"$f":"SUM(Ūkis[Plotas ha])","v":260}]
[{"$f":"ROW()-ROW(Lentelė13[[#Headers],[Eil. Nr.]])","v":2},"Kombainas","Pjaunamosios plotis, m",{"$f":"Sąnaudos!Q4","v":10.5},6,60,{"$f":"D12*E12*F12/1000","v":3.78},{"$f":"IFERROR(1/G12*0.6,)","v":0.15873015873015875}]
[{"$f":"ROW()-ROW(Lentelė13[[#Headers],[Eil. Nr.]])","v":3},"Purkštuvas (nesavaeigiai)","Sijų plotis, m",{"$f":"Sąnaudos!Q5","v":15},12,50,{"$f":"D13*E13*F13/1000","v":9},{"$f":"IFERROR(1/G13*0.6,)","v":6.6666666666666666E-2}]
[{"$f":"ROW()-ROW(Lentelė13[[#Headers],[Eil. Nr.]])","v":4},"Sėjamoji","Sėjamosios plotis, m",{"$f":"Sąnaudos!Q6","v":9},10,70,{"$f":"D14*E14*F14/1000","v":6.3},9.5238095238095233E-2]
[{"$f":"ROW()-ROW(Lentelė13[[#Headers],[Eil. Nr.]])","v":5},"Plūgas","Arimo plotis, m",{"$f":"Sąnaudos!U12","v":3.5},8,80,2.2400000000000002,0.26785714285714285]
[{"$f":"ROW()-ROW(Lentelė13[[#Headers],[Eil. Nr.]])","v":6},"Skutikas (diskinis)","Darbinis plotis, m",{"$f":"Sąnaudos!U11","v":10},10,70,{"$f":"D16*E16*F16/1000","v":7},{"$f":"IFERROR(1/G16*0.6,)","v":8.5714285714285701E-2}]
[{"$f":"ROW()-ROW(Lentelė13[[#Headers],[Eil. Nr.]])","v":7},"Skutikas (noraginis)","Darbinis plotis, m",{"$f":"Sąnaudos!U11","v":10},10,70,7,8.5714285714285701E-2]
[{"$f":"ROW()-ROW(Lentelė13[[#Headers],[Eil. Nr.]])","v":8},"Krautuvas (frontalinis)","Keliamoji galia, kg"]
[{"$f":"ROW()-ROW(Lentelė13[[#Headers],[Eil. Nr.]])","v":9},"Trąšų barstomoji","Maks. Svoris, t",1.5,12,50,{"$f":"D19*5*E19*F19/1000","v":4.5},0.13333333333333333]
[{"$f":"ROW()-ROW(Lentelė13[[#Headers],[Eil. Nr.]])","v":10},"Puspriekabė/priekaba","Keliamoji galia, t ",16,25,80]
[{"$f":"ROW()-ROW(Lentelė13[[#Headers],[Eil. Nr.]])","v":11},"Kultivatorius","Darbinis plotis, m",6,12,80,{"$f":"D21*E21*F21/1000","v":5.76},0.10416666666666666]
[{"$f":"ROW()-ROW(Lentelė13[[#Headers],[Eil. Nr.]])","v":12},"Teleskopinis krautuvas+Sąlyg. gyv. sk.","Kėlimo aukštis/svoris",150,null,null,{"$f":"D22*E22*F22/1000","v":0}]
[{"$f":"ROW()-ROW(Lentelė13[[#Headers],[Eil. Nr.]])","v":13},"Freza (daržininkystėje)","Darbinis plotis, m",3,2,80,{"$f":"D23*E23*F23/1000","v":0.48},1.25]
[{"$f":"ROW()-ROW(Lentelė13[[#Headers],[Eil. Nr.]])","v":14},"Presas","Rinktuvo darbinis plotis, m",3,10,70,{"$f":"D24*E24*F24/1000","v":2.1},0.2857142857142857]
[{"$f":"ROW()-ROW(Lentelė13[[#Headers],[Eil. Nr.]])","v":15},"Grėblys","Darbinis plotis, m",5,10,70,{"$f":"D25*E25*F25/1000","v":3.5},0.1714285714285714]
[{"$f":"ROW()-ROW(Lentelė13[[#Headers],[Eil. Nr.]])","v":16},"Vartytuvas","Darbinis plotis, m",8,10,70,5.6,0.10714285714285714]
[{"$f":"ROW()-ROW(Lentelė13[[#Headers],[Eil. Nr.]])","v":17},"Vyniotuvas","Pasėlių plotas, ha",30]
[{"$f":"ROW()-ROW(Lentelė13[[#Headers],[Eil. Nr.]])","v":18},"Volai","Darbinis plotis, m",4.5,7,70,{"$f":"D28*E28*F28/1000","v":2.2050000000000001},0.27210884353741494]
[{"$f":"ROW()-ROW(Lentelė13[[#Headers],[Eil. Nr.]])","v":19},"Sodinamoji","Vagų skaičius, vnt",4,4,70,{"$f":"D29*E29*F29*0.8/1000","v":0.89600000000000002},0.6696428571428571]
[{"$f":"ROW()-ROW(Lentelė13[[#Headers],[Eil. Nr.]])","v":20},"Bulvių nuėmimo kombainas","Vagų skaičius, vnt",2,2,70,{"$f":"D30*E30*F30*0.8/1000","v":0.224},2.6785714285714284]
[{"$f":"ROW()-ROW(Lentelė13[[#Headers],[Eil. Nr.]])","v":21},"Ravėtuvas-kauptuvas","Vagų skaičius, vnt",4,3,80,{"$f":"D31*E31*F31*0.8/1000","v":0.76800000000000002},0.78124999999999989]
[{"$f":"ROW()-ROW(Lentelė13[[#Headers],[Eil. Nr.]])","v":22},"Kratytuvas","Kratytuvo tūris, m3",18,4,40,{"$f":"D32*E32*F32*0.8/1000","v":2.3039999999999998},0.26041666666666669]
[{"$f":"ROW()-ROW(Lentelė13[[#Headers],[Eil. Nr.]])","v":23},"Pašarų dalytuvas","Dalytuvo tūris, m3",8,1]
[{"$f":"ROW()-ROW(Lentelė13[[#Headers],[Eil. Nr.]])","v":24},"Srutovežis","Talpa, t",20,5,70,{"$f":"D34*E34*F34/1000*0.2","v":1.4000000000000001},0.42857142857142849]
[{"$f":"ROW()-ROW(Lentelė13[[#Headers],[Eil. Nr.]])","v":25},"Gyvulių transportavimo priekabos","Priekabos plotas, m2",20,40,40]
[{"$f":"ROW()-ROW(Lentelė13[[#Headers],[Eil. Nr.]])","v":26},"Savaeigiai pašarų smulkintuvai","Pasėlių plotas, ha",1000,null,null,null,null,"Savaeigio pašarų smulkintuvo įsigijimas yra racionalus, kai planuojamos smulkinti žolinių pašarų bei kukurūzų bendras plotas sudaro nemačiau kaip 500 Ha. Įvesti žolinių augalų plotą padaugintą iš derliaus nuėmimo skaičiaus per metus."]
[{"$f":"ROW()-ROW(Lentelė13[[#Headers],[Eil. Nr.]])","v":27},"Rinktuvinės priekabos","Priekabos tūris, m3",34,6,80,{"$f":"D37*E37*F37/10000*0.6","v":0.97919999999999985},{"$f":"IFERROR(1/G37*0.6,)","v":0.61274509803921573}]
[{"$f":"ROW()-ROW(Lentelė13[[#Headers],[Eil. Nr.]])","v":28},"Smulkintuvas","Darbinis plotis, m",3,2,80,{"$f":"D38*E38*F38/1000","v":0.48},1.25]
[{"$f":"ROW()-ROW(Lentelė13[[#Headers],[Eil. Nr.]])","v":29},"Grūdų džiovyklos","Grūdų kiekis, t/diena",120,1,80,{"$f":"D39*E39*F39/1000","v":9.6},6.25E-2]
[{"$f":"ROW()-ROW(Lentelė13[[#Headers],[Eil. Nr.]])","v":30},"Grūdų valomosios","Grūdų kiekis, t/diena",120,1,50,{"$f":"D40*E40*F40/500","v":12},4.9999999999999996E-2]
[{"$f":"ROW()-ROW(Lentelė13[[#Headers],[Eil. Nr.]])","v":31},"Šakų smulkintuvas","Sausos medienos diametras, mm",130,1,90,{"$f":"D41*F41/1000","v":11.7},5.128205128205128E-2,"Šakų smulkintuvas, m3/h"]
[{"$f":"ROW()-ROW(Lentelė13[[#Headers],[Eil. Nr.]])","v":32},"Smulkintuvas-žoliapjovė","Darbinis plotis, m",3,3,70,{"$f":"D42*E42*F42*0.8/1000","v":0.504},1.1904761904761905]
[{"$f":"ROW()-ROW(Lentelė13[[#Headers],[Eil. Nr.]])","v":33},"Uogų skynimo kombainas","Eilių skaičius, vnt.",1,1.5,80,{"$f":"D43*E43*F43/1000","v":0.12},5]
[]
[]
[]
[null,"Dienų skaičius technologiniam procesui atlikti"]
["Eil. Nr.","Žemės ūkio technikos pavadinimas","Įdirbamos žemės plotas, ha","Parametro reikšmė","Vidutinis darbo H kiekis per dieną","Pakartotinų važiavimų lauke skaičius","Atliktų darbų kiekis, ha/diena","Technikos našumas, Ha/h","Paskaičiuotas dienų skaičius darbų atlikimui","Opt. terminas dienomis nuo","Opt. terminas dienomis iki","Pastabos (Dienų skaičius darbų atlikimui)","Parametras Max","Parametras Min"]
[null,{"$f":"B12","v":"Kombainas"},{"$f":"$D$11","v":260},{"$f":"D12","v":10.5},8,1,{"$f":"E49*H49","v":30.24},{"$f":"G12","v":3.78},{"$f":"IFERROR(C49/G49*F49,)","v":8.5978835978835981},3,5," 3 - 5",{"$f":"IFERROR(ROUND((C49*F49) / (Lentelė12[[#This Row],[Opt. terminas dienomis nuo]]*E12*F12/1000*E49),2),)","v":30.09},{"$f":"IFERROR(ROUND((C49*F49) / (Lentelė12[[#This Row],[Opt. terminas dienomis iki]]*E12*F12/1000*E49),2),)","v":18.059999999999999}]
[null,{"$f":"B13","v":"Purkštuvas (nesavaeigiai)"},260,15,6,1,{"$f":"E50*H50","v":54},9,4.8148148148148149,2,3," 2 - 3",{"$f":"IFERROR(ROUND((C50*F50) / (Lentelė12[[#This Row],[Opt. terminas dienomis nuo]]*E13*F13/1000*E50),2),)","v":36.11},{"$f":"IFERROR(ROUND((C50*F50) / (Lentelė12[[#This Row],[Opt. terminas dienomis iki]]*E13*F13/1000*E50),2),)","v":24.07}]
[null,"Sėjamoji",260,9,8,1,{"$f":"E51*H51","v":50.4},6.3,5.1587301587301591,4,6," 4 - 6",{"$f":"IFERROR(ROUND((C51*F51) / (Lentelė12[[#This Row],[Opt. terminas dienomis nuo]]*E14*F14/1000*E51),2),)","v":11.61},{"$f":"IFERROR(ROUND((C51*F51) / (Lentelė12[[#This Row],[Opt. terminas dienomis iki]]*E14*F14/1000*E51),2),)","v":7.74}]
[null,"Plūgas",260,3.5,8,1,17.920000000000002,2.2400000000000002,14.508928571428569,6,7," 6-7",{"$f":"IFERROR(ROUND((C52*F52) / (Lentelė12[[#This Row],[Opt. terminas dienomis nuo]]*E15*F15/1000*E52),2),)","v":8.4600000000000009},{"$f":"IFERROR(ROUND((C52*F52) / (Lentelė12[[#This Row],[Opt. terminas dienomis iki]]*E15*F15/1000*E52),2),)","v":7.25}]
[null,"Skutikas (diskinis)",260,10,8,2,{"$f":"E53*H53","v":56},7,9.2857142857142865,4,5," 4-5",{"$f":"IFERROR(ROUND((C53*F53) / (Lentelė12[[#This Row],[Opt. terminas dienomis nuo]]*E16*F16/1000*E53),2),)","v":23.21},{"$f":"IFERROR(ROUND((C53*F53) / (Lentelė12[[#This Row],[Opt. terminas dienomis iki]]*E16*F16/1000*E53),2),)","v":18.57}]
[null,"Skutikas (noraginis)",260,10,8,2,56,7,9.2857142857142865,4,5," 4-5",{"$f":"IFERROR(ROUND((C54*F54) / (Lentelė12[[#This Row],[Opt. terminas dienomis nuo]]*E17*F17/1000*E54),2),)","v":23.21},{"$f":"IFERROR(ROUND((C54*F54) / (Lentelė12[[#This Row],[Opt. terminas dienomis iki]]*E17*F17/1000*E54),2),)","v":18.57}]
[null,"Krautuvas (frontalinis)","iki 150 ha",0,null,null,0,0,null,null,null,"iki 150 ha",{"$f":"IFERROR(ROUND((C55*F55) / (Lentelė12[[#This Row],[Opt. terminas dienomis nuo]]*E18*F18/1000*E55),2),)","v":0},{"$f":"IFERROR(ROUND((C55*F55) / (Lentelė12[[#This Row],[Opt. terminas dienomis iki]]*E18*F18/1000*E55),2),)","v":0}]
[null,"Trąšų barstomoji",260,1.5,8,1,36,4.5,{"$f":"IFERROR(C56/G56*F56,)","v":7.2222222222222223},2,4," 2 - 4",{"$f":"IFERROR(ROUND((C56*F56) / (Lentelė12[[#This Row],[Opt. terminas dienomis nuo]]*E19*F19/1000*E56),2),)","v":27.08},{"$f":"IFERROR(ROUND((C56*F56) / (Lentelė12[[#This Row],[Opt. terminas dienomis iki]]*E19*F19/1000*E56),2),)","v":13.54}]
[null,"Puspriekabė/priekaba",null,16,8,1,0,0,null,"",null,"Puspriekabė/priekaba, t",{"$f":"IFERROR(ROUND((C57*F57) / (Lentelė12[[#This Row],[Opt. terminas dienomis nuo]]*E20*F20/1000*E57),2),)","v":0},{"$f":"IFERROR(ROUND((C57*F57) / (Lentelė12[[#This Row],[Opt. terminas dienomis iki]]*E20*F20/1000*E57),2),)","v":0}]
[null,"Kultivatorius",260,6,8,1,46.08,5.76,{"$f":"IFERROR(C58/G58*F58,)","v":5.6423611111111116},null,null,"Lygus sėjos našumui, Ha/d",{"$f":"IFERROR(ROUND((C58*F58) / (Lentelė12[[#This Row],[Opt. terminas dienomis nuo]]*E21*F21/1000*E58),2),)","v":0},{"$f":"IFERROR(ROUND((C58*F58) / (Lentelė12[[#This Row],[Opt. terminas dienomis iki]]*E21*F21/1000*E58),2),)","v":0}]
[null,"Teleskopinis krautuvas+Sąlyg. gyv. sk.",">150 ha",150,8,1,0,0,null,null,null,">150 ha",{"$f":"IFERROR(ROUND((C59*F59) / (Lentelė12[[#This Row],[Opt. terminas dienomis nuo]]*E22*F22/1000*E59),2),)","v":0},{"$f":"IFERROR(ROUND((C59*F59) / (Lentelė12[[#This Row],[Opt. terminas dienomis iki]]*E22*F22/1000*E59),2),)","v":0}]
[null,"Freza (daržininkystėje)",null,3,8,1,3.84,0.48,{"$f":"IFERROR(C60/G60*F60,)","v":0},5,7," 5 - 7",{"$f":"IFERROR(ROUND((C60*F60) / (Lentelė12[[#This Row],[Opt. terminas dienomis nuo]]*E23*F23/1000*E60),2),)","v":0},{"$f":"IFERROR(ROUND((C60*F60) / (Lentelė12[[#This Row],[Opt. terminas dienomis iki]]*E23*F23/1000*E60),2),)","v":0}]
[null,"Presas",null,3,8,1,{"$f":"E61*H61","v":16.8},2.1,{"$f":"IFERROR(C61/G61*F61,)","v":0},2,3," 2 - 3",{"$f":"IFERROR(ROUND((C61*F61) / (Lentelė12[[#This Row],[Opt. terminas dienomis nuo]]*E24*F24/1000*E61),2),)","v":0},{"$f":"IFERROR(ROUND((C61*F61) / (Lentelė12[[#This Row],[Opt. terminas dienomis iki]]*E24*F24/1000*E61),2),)","v":0}]
[null,"Grėblys",null,5,8,1,28,3.5,{"$f":"IFERROR(C62/G62*F62,)","v":0},1,3," 1 - 3",{"$f":"IFERROR(ROUND((C62*F62) / (Lentelė12[[#This Row],[Opt. terminas dienomis nuo]]*E25*F25/1000*E62),2),)","v":0},{"$f":"IFERROR(ROUND((C62*F62) / (Lentelė12[[#This Row],[Opt. terminas dienomis iki]]*E25*F25/1000*E62),2),)","v":0}]
[null,"Vartytuvas",null,8,8,2,44.8,5.6,{"$f":"IFERROR(C63/G63*F63,)","v":0},2,3," 2 - 3",{"$f":"IFERROR(ROUND((C63*F63) / (Lentelė12[[#This Row],[Opt. terminas dienomis nuo]]*E26*F26/1000*E63),2),)","v":0},{"$f":"IFERROR(ROUND((C63*F63) / (Lentelė12[[#This Row],[Opt. terminas dienomis iki]]*E26*F26/1000*E63),2),)","v":0}]
[null,"Vyniotuvas",null,30,null,1,0,0,null,"","",null,{"$f":"IFERROR(ROUND((C64*F64) / (Lentelė12[[#This Row],[Opt. terminas dienomis nuo]]*E27*F27/1000*E64),2),)","v":0},{"$f":"IFERROR(ROUND((C64*F64) / (Lentelė12[[#This Row],[Opt. terminas dienomis iki]]*E27*F27/1000*E64),2),)","v":0}]
[null,"Volai",null,4.5,8,1,17.64,2.2050000000000001,{"$f":"IFERROR(C65/G65*F65,)","v":0},3,5," 3 - 5",{"$f":"IFERROR(ROUND((C65*F65) / (Lentelė12[[#This Row],[Opt. terminas dienomis nuo]]*E28*F28/1000*E65),2),)","v":0},{"$f":"IFERROR(ROUND((C65*F65) / (Lentelė12[[#This Row],[Opt. terminas dienomis iki]]*E28*F28/1000*E65),2),)","v":0}]
[null,"Sodinamoji",null,4,8,1,7.1680000000000001,0.89600000000000002,{"$f":"IFERROR(C66/G66*F66,)","v":0},5,7," 5 - 7",{"$f":"IFERROR(ROUND((C66*F66) / (Lentelė12[[#This Row],[Opt. terminas dienomis nuo]]*E29*F29/1000*E66),2),)","v":0},{"$f":"IFERROR(ROUND((C66*F66) / (Lentelė12[[#This Row],[Opt. terminas dienomis iki]]*E29*F29/1000*E66),2),)","v":0}]
[null,"Bulvių nuėmimo kombainas",null,2,8,1,1.792,0.224,{"$f":"IFERROR(C67/G67*F67,)","v":0},14,21," 14 - 21",{"$f":"IFERROR(ROUND((C67*F67) / (Lentelė12[[#This Row],[Opt. terminas dienomis nuo]]*E30*F30/1000*E67),2),)","v":0},{"$f":"IFERROR(ROUND((C67*F67) / (Lentelė12[[#This Row],[Opt. terminas dienomis iki]]*E30*F30/1000*E67),2),)","v":0}]
[null,"Ravėtuvas-kauptuvas",null,4,8,1,6.1440000000000001,0.76800000000000002,{"$f":"IFERROR(C68/G68*F68,)","v":0},2,3," 2 - 3",{"$f":"IFERROR(ROUND((C68*F68) / (Lentelė12[[#This Row],[Opt. terminas dienomis nuo]]*E31*F31/1000*E68),2),)","v":0},{"$f":"IFERROR(ROUND((C68*F68) / (Lentelė12[[#This Row],[Opt. terminas dienomis iki]]*E31*F31/1000*E68),2),)","v":0}]
[null,"Kratytuvas",null,18,8,1,18.431999999999999,2.3039999999999998,{"$f":"IFERROR(C69/G69*F69,)","v":0},3,5," 3 - 5",{"$f":"IFERROR(ROUND((C69*F69) / (Lentelė12[[#This Row],[Opt. terminas dienomis nuo]]*E32*F32/1000*E69),2),)","v":0},{"$f":"IFERROR(ROUND((C69*F69) / (Lentelė12[[#This Row],[Opt. terminas dienomis iki]]*E32*F32/1000*E69),2),)","v":0}]
[null,"Pašarų dalytuvas",null,8,8,1,null,null,{"$f":"IFERROR(C70/D70,)","v":0},5,8," 5 - 8 galvijo",{"$f":"IFERROR(ROUND((C70*F70) / (Lentelė12[[#This Row],[Opt. terminas dienomis nuo]]*E33*F33/1000*E70),2),)","v":0},{"$f":"IFERROR(ROUND((C70*F70) / (Lentelė12[[#This Row],[Opt. terminas dienomis iki]]*E33*F33/1000*E70),2),)","v":0}]
[null,"Srutovežis",null,20,8,1,{"$f":"E71*H71","v":11.200000000000001},{"$f":"G34","v":1.4000000000000001},{"$f":"IFERROR(C71*36/D71/E71,)","v":0},5,7," 5 - 7",{"$f":"IFERROR(ROUND((C71*F71) / (Lentelė12[[#This Row],[Opt. terminas dienomis nuo]]*E34*F34/1000*E71),2),)","v":0},{"$f":"IFERROR(ROUND((C71*F71) / (Lentelė12[[#This Row],[Opt. terminas dienomis iki]]*E34*F34/1000*E71),2),)","v":0}]
[null,"Gyvulių transportavimo priekabos",null,20,8,1,{"$f":"E72*H72","v":0},0,{"$f":"C72/F72","v":0},null,null,0,{"$f":"IFERROR(ROUND((C72*F72) / (Lentelė12[[#This Row],[Opt. terminas dienomis nuo]]*E35*F35/1000*E72),2),)","v":0},{"$f":"IFERROR(ROUND((C72*F72) / (Lentelė12[[#This Row],[Opt. terminas dienomis iki]]*E35*F35/1000*E72),2),)","v":0}]
[null,"Savaeigiai pašarų smulkintuvai",null,1000,8,1,0,0,{"$f":"D73*F73","v":1000},null,null,">500 Ha",{"$f":"IFERROR(ROUND((C73*F73) / (Lentelė12[[#This Row],[Opt. terminas dienomis nuo]]*E36*F36/1000*E73),2),)","v":0},{"$f":"IFERROR(ROUND((C73*F73) / (Lentelė12[[#This Row],[Opt. terminas dienomis iki]]*E36*F36/1000*E73),2),)","v":0}]
[null,"Rinktuvinės priekabos",null,34,8,1,7.8335999999999988,0.97919999999999985,{"$f":"IFERROR((C74*20)/D74/E74/F74,)","v":0},2,3," 2 - 3",{"$f":"IFERROR(ROUND((C74*F74) / (Lentelė12[[#This Row],[Opt. terminas dienomis nuo]]*E37*F37/1000*E74),2),)","v":0},{"$f":"IFERROR(ROUND((C74*F74) / (Lentelė12[[#This Row],[Opt. terminas dienomis iki]]*E37*F37/1000*E74),2),)","v":0}]
[null,"Smulkintuvas",null,3,8,1,{"$f":"E75*H75","v":3.84},0.48,{"$f":"IFERROR(C75/G75*F75,)","v":0},4,5," 4 - 5",{"$f":"IFERROR(ROUND((C75*F75) / (Lentelė12[[#This Row],[Opt. terminas dienomis nuo]]*E38*F38/1000*E75),2),)","v":0},{"$f":"IFERROR(ROUND((C75*F75) / (Lentelė12[[#This Row],[Opt. terminas dienomis iki]]*E38*F38/1000*E75),2),)","v":0}]
[null,"Grūdų džiovyklos",null,120,null,null,0,9.6,{"$f":"C76","v":0},null,null,"≥100 ha",{"$f":"IFERROR(ROUND((C76*F76) / (Lentelė12[[#This Row],[Opt. terminas dienomis nuo]]*E39*F39/1000*E76),2),)","v":0},{"$f":"IFERROR(ROUND((C76*F76) / (Lentelė12[[#This Row],[Opt. terminas dienomis iki]]*E39*F39/1000*E76),2),)","v":0}]
[null,"Grūdų valomosios",null,120,8,1,96,12,{"$f":"C77","v":0},null,null,"≥100 ha",{"$f":"IFERROR(ROUND((C77*F77) / (Lentelė12[[#This Row],[Opt. terminas dienomis nuo]]*E40*F40/1000*E77),2),)","v":0},{"$f":"IFERROR(ROUND((C77*F77) / (Lentelė12[[#This Row],[Opt. terminas dienomis iki]]*E40*F40/1000*E77),2),)","v":0}]
[null,"Šakų smulkintuvas",null,130,8,1,93.6,11.7,{"$f":"G78","v":93.6},null,null,"100 erdmetrių",{"$f":"IFERROR(ROUND((C78*F78) / (Lentelė12[[#This Row],[Opt. terminas dienomis nuo]]*E41*F41/1000*E78),2),)","v":0},{"$f":"IFERROR(ROUND((C78*F78) / (Lentelė12[[#This Row],[Opt. terminas dienomis iki]]*E41*F41/1000*E78),2),)","v":0}]
[null,"Smulkintuvas-žoliapjovė",null,3,8,2,4.032,0.504,{"$f":"IFERROR(C79/G79*F79,)","v":0},2,2,2,{"$f":"IFERROR(ROUND((C79*F79) / (Lentelė12[[#This Row],[Opt. terminas dienomis nuo]]*E42*F42/1000*E79),2),)","v":0},{"$f":"IFERROR(ROUND((C79*F79) / (Lentelė12[[#This Row],[Opt. terminas dienomis iki]]*E42*F42/1000*E79),2),)","v":0}]
[null,"Uogų skynimo kombainas",null,1,8,1,0.96,0.12,{"$f":"IFERROR(C80/G80*F80,)","v":0},2,2,2,{"$f":"IFERROR(ROUND((C80*F80) / (Lentelė12[[#This Row],[Opt. terminas dienomis nuo]]*E43*F43/1000*E80),2),)","v":0},{"$f":"IFERROR(ROUND((C80*F80) / (Lentelė12[[#This Row],[Opt. terminas dienomis iki]]*E43*F43/1000*E80),2),)","v":0}]
[]
[]
[null,"Variklio galios poreikis pagal padargą"]
[null,"Žemės ūkio technikos pavadinimas","Parametras","Parametro reikšmė","Važiavimo greitis, km/h","Dirvožemio tipas/       Padargo tipas","Galios poreikio diapazonas, kW"]
[null,null,null,null,null,null,"MIN","MAX"]
[null,"Traktorius","Dirbamos žemės plotas, ha",{"$f":"_xlfn.XLOOKUP(B86,Lentelė13[Žemės ūkio technikos pavadinimas],Lentelė13[Parametro reikšmė],\"\")","v":260},{"$f":"_xlfn.XLOOKUP(B86,Lentelė13[Žemės ūkio technikos pavadinimas],Lentelė13[Važiavimo greitis, km/h],\"\")","v":0},null,{"$f":"D86*1.2*0.745699872","v":232.65836006399999},{"$f":"D86*1.5*0.745699872","v":290.82295008}]
[null,"Purkštuvas (nesavaeigiai)",{"$f":"C13","v":"Sijų plotis, m"},{"$f":"_xlfn.XLOOKUP(B87,Lentelė13[Žemės ūkio technikos pavadinimas],Lentelė13[Parametro reikšmė],\"\")","v":15},{"$f":"_xlfn.XLOOKUP(B87,Lentelė13[Žemės ūkio technikos pavadinimas],Lentelė13[Važiavimo greitis, km/h],\"\")","v":12},1,{"$f":"D87*F87*5*0.745699872","v":55.927490399999996},{"$f":"D87*F87*6*0.745699872","v":67.112988479999999}]
[null,"Sėjamoji",{"$f":"C14","v":"Sėjamosios plotis, m"},{"$f":"_xlfn.XLOOKUP(B88,Lentelė13[Žemės ūkio technikos pavadinimas],Lentelė13[Parametro reikšmė],\"\")","v":9},{"$f":"_xlfn.XLOOKUP(B88,Lentelė13[Žemės ūkio technikos pavadinimas],Lentelė13[Važiavimo greitis, km/h],\"\")","v":10},1,{"$f":"D88*F88*26*0.745699872","v":174.49377004799999},{"$f":"D88*F88*35*0.745699872","v":234.89545967999999}]
[null,"Plūgas","Arimo plotis, m",{"$f":"_xlfn.XLOOKUP(B89,Lentelė13[Žemės ūkio technikos pavadinimas],Lentelė13[Parametro reikšmė],\"\")","v":3.5},{"$f":"_xlfn.XLOOKUP(B89,Lentelė13[Žemės ūkio technikos pavadinimas],Lentelė13[Važiavimo greitis, km/h],\"\")","v":8},1,{"$f":"D89*F89*20*2.5*0.745699872","v":130.4974776},{"$f":"D89*F89*22*2.5*0.745699872","v":143.54722536}]
[null,"Skutikas (diskinis)","Darbinis plotis, m",{"$f":"_xlfn.XLOOKUP(B90,Lentelė13[Žemės ūkio technikos pavadinimas],Lentelė13[Parametro reikšmė],\"\")","v":10},{"$f":"_xlfn.XLOOKUP(B90,Lentelė13[Žemės ūkio technikos pavadinimas],Lentelė13[Važiavimo greitis, km/h],\"\")","v":10},1,{"$f":"D90*F90*30*0.745699872","v":223.70996159999999},{"$f":"D90*F90*40*0.745699872","v":298.2799488}]
[null,"Skutikas (noraginis)","Darbinis plotis, m",{"$f":"_xlfn.XLOOKUP(B91,Lentelė13[Žemės ūkio technikos pavadinimas],Lentelė13[Parametro reikšmė],\"\")","v":10},{"$f":"_xlfn.XLOOKUP(B91,Lentelė13[Žemės ūkio technikos pavadinimas],Lentelė13[Važiavimo greitis, km/h],\"\")","v":10},1,{"$f":"D91*F91*37*0.745699872","v":275.90895264},{"$f":"D91*F91*50*0.745699872","v":372.84993600000001}]
[null,"Krautuvas (frontalinis)","Keliamoji galia, kg",{"$f":"_xlfn.XLOOKUP(B92,Lentelė13[Žemės ūkio technikos pavadinimas],Lentelė13[Parametro reikšmė],\"\")","v":0},{"$f":"_xlfn.XLOOKUP(B92,Lentelė13[Žemės ūkio technikos pavadinimas],Lentelė13[Važiavimo greitis, km/h],\"\")","v":0},1]
[null,"Trąšų barstomoji","Maks. Svoris, t",{"$f":"_xlfn.XLOOKUP(B93,Lentelė13[Žemės ūkio technikos pavadinimas],Lentelė13[Parametro reikšmė],\"\")","v":1.5},{"$f":"_xlfn.XLOOKUP(B93,Lentelė13[Žemės ūkio technikos pavadinimas],Lentelė13[Važiavimo greitis, km/h],\"\")","v":12},1,"Traktoriaus kėlimo jėga, kg"]
[null,"Puspriekabė/priekaba","Keliamoji galia, t ",{"$f":"_xlfn.XLOOKUP(B94,Lentelė13[Žemės ūkio technikos pavadinimas],Lentelė13[Parametro reikšmė],\"\")","v":16},{"$f":"_xlfn.XLOOKUP(B94,Lentelė13[Žemės ūkio technikos pavadinimas],Lentelė13[Važiavimo greitis, km/h],\"\")","v":25},1,{"$f":"D94*F94*10*0.745699872","v":119.31197951999999},{"$f":"D94*F94*12*0.745699872","v":143.174375424}]
[null,"Kultivatorius","Darbinis plotis, m",{"$f":"_xlfn.XLOOKUP(B95,Lentelė13[Žemės ūkio technikos pavadinimas],Lentelė13[Parametro reikšmė],\"\")","v":6},{"$f":"_xlfn.XLOOKUP(B95,Lentelė13[Žemės ūkio technikos pavadinimas],Lentelė13[Važiavimo greitis, km/h],\"\")","v":12},1,{"$f":"D95*F95*30*0.745699872","v":134.22597696},{"$f":"D95*F95*40*0.745699872","v":178.96796928000001}]
[null,"Teleskopinis krautuvas+Sąlyg. gyv. sk.","Kėlimo aukštis/svoris",{"$f":"_xlfn.XLOOKUP(B96,Lentelė13[Žemės ūkio technikos pavadinimas],Lentelė13[Parametro reikšmė],\"\")","v":150},{"$f":"_xlfn.XLOOKUP(B96,Lentelė13[Žemės ūkio technikos pavadinimas],Lentelė13[Važiavimo greitis, km/h],\"\")","v":0},null,"Krautuvo kėlimo galia ir kėlimo aukštis"]
[null,"Freza (daržininkystėje)","Darbinis plotis, m",{"$f":"_xlfn.XLOOKUP(B97,Lentelė13[Žemės ūkio technikos pavadinimas],Lentelė13[Parametro reikšmė],\"\")","v":3},{"$f":"_xlfn.XLOOKUP(B97,Lentelė13[Žemės ūkio technikos pavadinimas],Lentelė13[Važiavimo greitis, km/h],\"\")","v":2},1,{"$f":"D97*F97*25*0.745699872","v":55.927490399999996},{"$f":"D97*F97*30*0.745699872","v":67.112988479999999}]
[null,"Presas","Rinktuvo darbinis plotis, m",{"$f":"_xlfn.XLOOKUP(B98,Lentelė13[Žemės ūkio technikos pavadinimas],Lentelė13[Parametro reikšmė],\"\")","v":3},{"$f":"_xlfn.XLOOKUP(B98,Lentelė13[Žemės ūkio technikos pavadinimas],Lentelė13[Važiavimo greitis, km/h],\"\")","v":10},1.4,{"$f":"D98*F98*45*0.745699872","v":140.93727580799998},{"$f":"D98*F98*60*0.745699872","v":187.91636774399996}]
[null,"Grėblys","Darbinis plotis, m",{"$f":"_xlfn.XLOOKUP(B99,Lentelė13[Žemės ūkio technikos pavadinimas],Lentelė13[Parametro reikšmė],\"\")","v":5},{"$f":"_xlfn.XLOOKUP(B99,Lentelė13[Žemės ūkio technikos pavadinimas],Lentelė13[Važiavimo greitis, km/h],\"\")","v":10},1,{"$f":"D99*F99*7*0.745699872","v":26.099495519999998},{"$f":"D99*F99*11*0.745699872","v":41.013492960000001}]
[null,"Vartytuvas","Darbinis plotis, m",{"$f":"_xlfn.XLOOKUP(B100,Lentelė13[Žemės ūkio technikos pavadinimas],Lentelė13[Parametro reikšmė],\"\")","v":8},{"$f":"_xlfn.XLOOKUP(B100,Lentelė13[Žemės ūkio technikos pavadinimas],Lentelė13[Važiavimo greitis, km/h],\"\")","v":10},1,{"$f":"D100*F100*7*0.745699872","v":41.759192831999997},{"$f":"D100*F100*11*0.745699872","v":65.621588735999993}]
[null,"Vyniotuvas","Pasėlių plotas, ha",{"$f":"_xlfn.XLOOKUP(B101,Lentelė13[Žemės ūkio technikos pavadinimas],Lentelė13[Parametro reikšmė],\"\")","v":30},{"$f":"_xlfn.XLOOKUP(B101,Lentelė13[Žemės ūkio technikos pavadinimas],Lentelė13[Važiavimo greitis, km/h],\"\")","v":0},1,{"$f":"40*0.745699872","v":29.827994879999999},{"$f":"55*0.745699872","v":41.013492960000001}]
[null,"Volai","Darbinis plotis, m",{"$f":"_xlfn.XLOOKUP(B102,Lentelė13[Žemės ūkio technikos pavadinimas],Lentelė13[Parametro reikšmė],\"\")","v":4.5},{"$f":"_xlfn.XLOOKUP(B102,Lentelė13[Žemės ūkio technikos pavadinimas],Lentelė13[Važiavimo greitis, km/h],\"\")","v":7},1.6,{"$f":"D102*F102*16*0.745699872","v":85.904625254400003},{"$f":"D102*F102*20*0.745699872","v":107.380781568}]
[null,"Sodinamoji",{"$f":"C29","v":"Vagų skaičius, vnt"},{"$f":"_xlfn.XLOOKUP(B103,Lentelė13[Žemės ūkio technikos pavadinimas],Lentelė13[Parametro reikšmė],\"\")","v":4},{"$f":"_xlfn.XLOOKUP(B103,Lentelė13[Žemės ūkio technikos pavadinimas],Lentelė13[Važiavimo greitis, km/h],\"\")","v":4},1,{"$f":"D103*F103*25*0.745699872","v":74.5699872},{"$f":"D103*F103*35*0.745699872","v":104.39798207999999}]
[null,"Bulvių nuėmimo kombainas","Vagų skaičius, vnt",{"$f":"_xlfn.XLOOKUP(B104,Lentelė13[Žemės ūkio technikos pavadinimas],Lentelė13[Parametro reikšmė],\"\")","v":2},{"$f":"_xlfn.XLOOKUP(B104,Lentelė13[Žemės ūkio technikos pavadinimas],Lentelė13[Važiavimo greitis, km/h],\"\")","v":2},1,{"$f":"D104*F104*70*0.745699872","v":104.39798207999999},{"$f":"D104*F104*80*0.745699872","v":119.31197951999999}]
[null,"Ravėtuvas-kauptuvas","Vagų skaičius, vnt",{"$f":"_xlfn.XLOOKUP(B105,Lentelė13[Žemės ūkio technikos pavadinimas],Lentelė13[Parametro reikšmė],\"\")","v":4},{"$f":"_xlfn.XLOOKUP(B105,Lentelė13[Žemės ūkio technikos pavadinimas],Lentelė13[Važiavimo greitis, km/h],\"\")","v":3},1,{"$f":"D105*F105*25*0.745699872","v":74.5699872},{"$f":"D105*F105*40*0.745699872","v":119.31197951999999}]
[null,"Kratytuvas","Kratytuvo tūris, m3",{"$f":"_xlfn.XLOOKUP(B106,Lentelė13[Žemės ūkio technikos pavadinimas],Lentelė13[Parametro reikšmė],\"\")","v":18},{"$f":"_xlfn.XLOOKUP(B106,Lentelė13[Žemės ūkio technikos pavadinimas],Lentelė13[Važiavimo greitis, km/h],\"\")","v":4},1,{"$f":"D106*F106*12*0.745699872","v":161.07117235199999},{"$f":"D106*F106*14*0.745699872","v":187.91636774399998}]
[null,"Pašarų dalytuvas","Dalytuvo tūris, m3",{"$f":"_xlfn.XLOOKUP(B107,Lentelė13[Žemės ūkio technikos pavadinimas],Lentelė13[Parametro reikšmė],\"\")","v":8},{"$f":"_xlfn.XLOOKUP(B107,Lentelė13[Žemės ūkio technikos pavadinimas],Lentelė13[Važiavimo greitis, km/h],\"\")","v":1},1,{"$f":"D107*F107*7*0.745699872","v":41.759192831999997},{"$f":"D107*F107*8.5*0.745699872","v":50.707591295999997}]
[null,"Srutovežis",{"$f":"C34","v":"Talpa, t"},{"$f":"_xlfn.XLOOKUP(B108,Lentelė13[Žemės ūkio technikos pavadinimas],Lentelė13[Parametro reikšmė],\"\")","v":20},{"$f":"_xlfn.XLOOKUP(B108,Lentelė13[Žemės ūkio technikos pavadinimas],Lentelė13[Važiavimo greitis, km/h],\"\")","v":5},1,{"$f":"D108*9*0.745699872*F108","v":134.22597696},{"$f":"D108*11*0.745699872*F108","v":164.05397184}]
[null,"Gyvulių transportavimo priekabos","Priekabos plotas, m2",{"$f":"_xlfn.XLOOKUP(B109,Lentelė13[Žemės ūkio technikos pavadinimas],Lentelė13[Parametro reikšmė],\"\")","v":20},{"$f":"_xlfn.XLOOKUP(B109,Lentelė13[Žemės ūkio technikos pavadinimas],Lentelė13[Važiavimo greitis, km/h],\"\")","v":40},1,{"$f":"D109*15*0.745699872","v":223.70996159999999},{"$f":"D109*20*0.745699872","v":298.2799488}]
[null,"Savaeigiai pašarų smulkintuvai","Pasėlių plotas, ha",{"$f":"_xlfn.XLOOKUP(B110,Lentelė13[Žemės ūkio technikos pavadinimas],Lentelė13[Parametro reikšmė],\"\")","v":1000},{"$f":"_xlfn.XLOOKUP(B110,Lentelė13[Žemės ūkio technikos pavadinimas],Lentelė13[Važiavimo greitis, km/h],\"\")","v":0},1,{"$f":"D110*0.36","v":360},{"$f":"D110*0.41","v":410}]
[null,"Rinktuvinės priekabos","Priekabos tūris, m3",{"$f":"_xlfn.XLOOKUP(B111,Lentelė13[Žemės ūkio technikos pavadinimas],Lentelė13[Parametro reikšmė],\"\")","v":34},{"$f":"_xlfn.XLOOKUP(B111,Lentelė13[Žemės ūkio technikos pavadinimas],Lentelė13[Važiavimo greitis, km/h],\"\")","v":6},1,{"$f":"D111*F111*2.2*0.745699872","v":55.77835042560001},{"$f":"D111*F111*2.5*0.745699872","v":63.384489119999998}]
[null,"Smulkintuvas","Darbinis plotis, m",{"$f":"_xlfn.XLOOKUP(B112,Lentelė13[Žemės ūkio technikos pavadinimas],Lentelė13[Parametro reikšmė],\"\")","v":3},{"$f":"_xlfn.XLOOKUP(B112,Lentelė13[Žemės ūkio technikos pavadinimas],Lentelė13[Važiavimo greitis, km/h],\"\")","v":2},1,{"$f":"D112*60*0.745699872","v":134.22597696},{"$f":"D112*75*0.745699872","v":167.7824712}]
[null,"Grūdų džiovyklos","Našumas, t/h",{"$f":"_xlfn.XLOOKUP(B113,Lentelė13[Žemės ūkio technikos pavadinimas],Lentelė13[Parametro reikšmė],\"\")","v":120},{"$f":"_xlfn.XLOOKUP(B113,Lentelė13[Žemės ūkio technikos pavadinimas],Lentelė13[Važiavimo greitis, km/h],\"\")","v":1},1,{"$f":"D113/E113*F113/4*0.745699872","v":22.370996160000001},{"$f":"D113/E113*F113/3*0.745699872","v":29.827994879999999}]
[null,"Grūdų valomosios","Našumas, t/h",{"$f":"_xlfn.XLOOKUP(B114,Lentelė13[Žemės ūkio technikos pavadinimas],Lentelė13[Parametro reikšmė],\"\")","v":120},{"$f":"_xlfn.XLOOKUP(B114,Lentelė13[Žemės ūkio technikos pavadinimas],Lentelė13[Važiavimo greitis, km/h],\"\")","v":1},1,{"$f":"D114*E114*F114/5*0.745699872","v":17.896796928000001},{"$f":"D114*E114*F114/4*0.745699872","v":22.370996160000001}]
[null,"Šakų smulkintuvas","Sausos medienos diametras, mm",{"$f":"_xlfn.XLOOKUP(B115,Lentelė13[Žemės ūkio technikos pavadinimas],Lentelė13[Parametro reikšmė],\"\")","v":130},{"$f":"_xlfn.XLOOKUP(B115,Lentelė13[Žemės ūkio technikos pavadinimas],Lentelė13[Važiavimo greitis, km/h],\"\")","v":1},1,{"$f":"90*0.745699872","v":67.112988479999999},{"$f":"130*0.745699872","v":96.940983360000004}]
[null,"Smulkintuvas-žoliapjovė","Darbinis plotis, m",{"$f":"_xlfn.XLOOKUP(B116,Lentelė13[Žemės ūkio technikos pavadinimas],Lentelė13[Parametro reikšmė],\"\")","v":3},{"$f":"_xlfn.XLOOKUP(B116,Lentelė13[Žemės ūkio technikos pavadinimas],Lentelė13[Važiavimo greitis, km/h],\"\")","v":3},1,{"$f":"D116*25*0.745699872","v":55.927490399999996},{"$f":"D116*35*0.745699872","v":78.298486560000001}]
[null,"Uogų skynimo kombainas","Eilių skaičius, vnt.",{"$f":"_xlfn.XLOOKUP(B117,Lentelė13[Žemės ūkio technikos pavadinimas],Lentelė13[Parametro reikšmė],\"\")","v":1},{"$f":"_xlfn.XLOOKUP(B117,Lentelė13[Žemės ūkio technikos pavadinimas],Lentelė13[Važiavimo greitis, km/h],\"\")","v":1.5},1,{"$f":"D117*50*0.745699872","v":37.2849936},{"$f":"D117*80*0.745699872","v":59.655989759999997}]
[null,null,null,{"$f":"_xlfn.XLOOKUP(B118,Lentelė13[Žemės ūkio technikos pavadinimas],Lentelė13[Parametro reikšmė],\"\")","v":""},{"$f":"_xlfn.XLOOKUP(B118,Lentelė13[Žemės ūkio technikos pavadinimas],Lentelė13[Važiavimo greitis, km/h],\"\")","v":""}]
[]
[null,"NMA suvedami duomenys"]
[null,"Išskaičiuoti duomenys"]
[]
[null,"Dirvožemio tipas","Koeficientas"]
[null,"Lengva dirva, vidutinio sunkumo, rotoriniai kombainai",1.2]
[null,"Priemolis, sunki dirva, molis, kalvota",1.3]

{"sheet":"Tech_Sąnaudos","index":18,"n_rows":58,"n_cols":18,"rows_kept":58,"cut":false,"hidden":true,"merged":[]}
[]
["29 lentelė. Vidutinis žemės ūkio technologinių operacijų našumas, darbo laikas, degalų sąnaudos ir išlaidos 2000-2021 m. laikotarpiu",null,null,null,null,null,null,null,null,null,null,1000,350]
[null,null,null,null,null,null,null,null,null,null,null,200,{"$f":"+L3*M2/L2","v":70}]
[]
[]
[]
[]
[null,null,null,null,null,null,null,null,null,null,null,"28 lentelė. Išlaidos sėklai, trąšoms ir augalų apsaugos priemonėms bei džiovinimui"]
[null,null,null,null,null,null,null,null,null,null,null,"Išlaidų rūšis","Išlaidos, Eur/ha"]
[null,"Technologija","Sutrumpinimas","Technologinė operacija","Našumas, ha/h","Darbo laikas, h/ha","Degalų sunaudojimas, l/ha","Išlaidos, EUR/ha",null,null,null,null,"Žieminiai kviečiai","Vasariniai rapsai","Vasariniai miežiai"]
[null,"Gilus arimas (GA) (kontrolinė)","GA","Ražienų skutimas",3.28,0.3,11,28.91,null,null,null,"Sėklos įsigijimas",80,39,70]
[null,"Gilus arimas (GA) (kontrolinė)","GA","Gilus arimas",1.19,0.84,24.7,66.8,null,null,null,"Trąšos:"," 200",130,130]
[null,"Gilus arimas (GA) (kontrolinė)","GA","Pirminis kultivavimas",5.18,0.19,6.4,14.97,null,null,null,"Purškimai (augalų apsaugos priemonės, augimo reguliatoriai)",130,130,110,null,{"$f":"+N13/4","v":32.5},{"$f":"+O13/4","v":27.5}]
[null,"Gilus arimas (GA) (kontrolinė)","GA","Priešsėjinis kultivavimas",5.18,0.19,6.4,14.97,null,null,null,"Džiovinimas (nuo 16 % iki 14 %), kai 7 t/ha",56,48,40]
[null,"Gilus arimas (GA) (kontrolinė)","GA","Tręšimas",19.43,0.05,0.5,1.69,null,null,null,"Viso",466,347,350]
[null,"Gilus arimas (GA) (kontrolinė)","GA","Sėja",2.91,0.34,8.1999999999999993,24.51,null,null,null,"neteisingai, t.b. kintama suma"]
[null,"Gilus arimas (GA) (kontrolinė)","GA","Purškimas x4",6.67,0.6,3.96,36.64]
[null,"Gilus arimas (GA) (kontrolinė)","GA","Tręšimas x2",19.43,0.1,1,3.38]
[null,"Gilus arimas (GA) (kontrolinė)","GA","Derliaus nuėmimas",2.11,0.47,17.32,68.98]
[null,"Seklus arimas (SA)","SA","Ražienų skutimas",3.28,0.3,11,28.91,null,null,null,"Technologinė operacija","GA","SA","SPR","SPS","TP","TS"]
[null,"Seklus arimas (SA)","SA","Seklus arimas",1.55,0.65,17.29,46.76,null,null,null,{"$f":"_xlfn.UNIQUE(Tech_Sąnaudos[Technologinė operacija])","v":"Ražienų skutimas"},{"$f":"COUNTIFS(Tech_Sąnaudos[[Technologinė operacija]:[Technologinė operacija]],$L21,Tech_Sąnaudos[[Sutrumpinimas]:[Sutrumpinimas]],M$20)","v":1},{"$f":"COUNTIFS(Tech_Sąnaudos[[Technologinė operacija]:[Technologinė operacija]],$L21,Tech_Sąnaudos[[Sutrumpinimas]:[Sutrumpinimas]],N$20)","v":1},{"$f":"COUNTIFS(Tech_Sąnaudos[[Technologinė operacija]:[Technologinė operacija]],$L21,Tech_Sąnaudos[[Sutrumpinimas]:[Sutrumpinimas]],O$20)","v":1},{"$f":"COUNTIFS(Tech_Sąnaudos[[Technologinė operacija]:[Technologinė operacija]],$L21,Tech_Sąnaudos[[Sutrumpinimas]:[Sutrumpinimas]],P$20)","v":0},{"$f":"COUNTIFS(Tech_Sąnaudos[[Technologinė operacija]:[Technologinė operacija]],$L21,Tech_Sąnaudos[[Sutrumpinimas]:[Sutrumpinimas]],Q$20)","v":0},{"$f":"COUNTIFS(Tech_Sąnaudos[[Technologinė operacija]:[Technologinė operacija]],$L21,Tech_Sąnaudos[[Sutrumpinimas]:[Sutrumpinimas]],R$20)","v":0}]
[null,"Seklus arimas (SA)","SA","Pirminis kultivavimas",5.18,0.19,6.4,14.97,null,null,null,"Gilus arimas",{"$f":"COUNTIFS(Tech_Sąnaudos[[Technologinė operacija]:[Technologinė operacija]],$L22,Tech_Sąnaudos[[Sutrumpinimas]:[Sutrumpinimas]],M$20)","v":1},{"$f":"COUNTIFS(Tech_Sąnaudos[[Technologinė operacija]:[Technologinė operacija]],$L22,Tech_Sąnaudos[[Sutrumpinimas]:[Sutrumpinimas]],N$20)","v":0},{"$f":"COUNTIFS(Tech_Sąnaudos[[Technologinė operacija]:[Technologinė operacija]],$L22,Tech_Sąnaudos[[Sutrumpinimas]:[Sutrumpinimas]],O$20)","v":0},{"$f":"COUNTIFS(Tech_Sąnaudos[[Technologinė operacija]:[Technologinė operacija]],$L22,Tech_Sąnaudos[[Sutrumpinimas]:[Sutrumpinimas]],P$20)","v":0},{"$f":"COUNTIFS(Tech_Sąnaudos[[Technologinė operacija]:[Technologinė operacija]],$L22,Tech_Sąnaudos[[Sutrumpinimas]:[Sutrumpinimas]],Q$20)","v":0},{"$f":"COUNTIFS(Tech_Sąnaudos[[Technologinė operacija]:[Technologinė operacija]],$L22,Tech_Sąnaudos[[Sutrumpinimas]:[Sutrumpinimas]],R$20)","v":0}]
[null,"Seklus arimas (SA)","SA","Priešsėjinis kultivavimas",5.18,0.19,6.4,14.97,null,null,null,"Pirminis kultivavimas",{"$f":"COUNTIFS(Tech_Sąnaudos[[Technologinė operacija]:[Technologinė operacija]],$L23,Tech_Sąnaudos[[Sutrumpinimas]:[Sutrumpinimas]],M$20)","v":1},{"$f":"COUNTIFS(Tech_Sąnaudos[[Technologinė operacija]:[Technologinė operacija]],$L23,Tech_Sąnaudos[[Sutrumpinimas]:[Sutrumpinimas]],N$20)","v":1},{"$f":"COUNTIFS(Tech_Sąnaudos[[Technologinė operacija]:[Technologinė operacija]],$L23,Tech_Sąnaudos[[Sutrumpinimas]:[Sutrumpinimas]],O$20)","v":1},{"$f":"COUNTIFS(Tech_Sąnaudos[[Technologinė operacija]:[Technologinė operacija]],$L23,Tech_Sąnaudos[[Sutrumpinimas]:[Sutrumpinimas]],P$20)","v":1},{"$f":"COUNTIFS(Tech_Sąnaudos[[Technologinė operacija]:[Technologinė operacija]],$L23,Tech_Sąnaudos[[Sutrumpinimas]:[Sutrumpinimas]],Q$20)","v":0},{"$f":"COUNTIFS(Tech_Sąnaudos[[Technologinė operacija]:[Technologinė operacija]],$L23,Tech_Sąnaudos[[Sutrumpinimas]:[Sutrumpinimas]],R$20)","v":0}]
[null,"Seklus arimas (SA)","SA","Tręšimas",19.43,0.05,0.5,1.69,null,null,null,"Priešsėjinis kultivavimas",{"$f":"COUNTIFS(Tech_Sąnaudos[[Technologinė operacija]:[Technologinė operacija]],$L24,Tech_Sąnaudos[[Sutrumpinimas]:[Sutrumpinimas]],M$20)","v":1},{"$f":"COUNTIFS(Tech_Sąnaudos[[Technologinė operacija]:[Technologinė operacija]],$L24,Tech_Sąnaudos[[Sutrumpinimas]:[Sutrumpinimas]],N$20)","v":1},{"$f":"COUNTIFS(Tech_Sąnaudos[[Technologinė operacija]:[Technologinė operacija]],$L24,Tech_Sąnaudos[[Sutrumpinimas]:[Sutrumpinimas]],O$20)","v":1},{"$f":"COUNTIFS(Tech_Sąnaudos[[Technologinė operacija]:[Technologinė operacija]],$L24,Tech_Sąnaudos[[Sutrumpinimas]:[Sutrumpinimas]],P$20)","v":1},{"$f":"COUNTIFS(Tech_Sąnaudos[[Technologinė operacija]:[Technologinė operacija]],$L24,Tech_Sąnaudos[[Sutrumpinimas]:[Sutrumpinimas]],Q$20)","v":0},{"$f":"COUNTIFS(Tech_Sąnaudos[[Technologinė operacija]:[Technologinė operacija]],$L24,Tech_Sąnaudos[[Sutrumpinimas]:[Sutrumpinimas]],R$20)","v":0}]
[null,"Seklus arimas (SA)","SA","Sėja",2.91,0.34,8.1999999999999993,24.51,null,null,null,"Tręšimas",{"$f":"COUNTIFS(Tech_Sąnaudos[[Technologinė operacija]:[Technologinė operacija]],$L25,Tech_Sąnaudos[[Sutrumpinimas]:[Sutrumpinimas]],M$20)","v":1},{"$f":"COUNTIFS(Tech_Sąnaudos[[Technologinė operacija]:[Technologinė operacija]],$L25,Tech_Sąnaudos[[Sutrumpinimas]:[Sutrumpinimas]],N$20)","v":1},{"$f":"COUNTIFS(Tech_Sąnaudos[[Technologinė operacija]:[Technologinė operacija]],$L25,Tech_Sąnaudos[[Sutrumpinimas]:[Sutrumpinimas]],O$20)","v":1},{"$f":"COUNTIFS(Tech_Sąnaudos[[Technologinė operacija]:[Technologinė operacija]],$L25,Tech_Sąnaudos[[Sutrumpinimas]:[Sutrumpinimas]],P$20)","v":1},{"$f":"COUNTIFS(Tech_Sąnaudos[[Technologinė operacija]:[Technologinė operacija]],$L25,Tech_Sąnaudos[[Sutrumpinimas]:[Sutrumpinimas]],Q$20)","v":1},{"$f":"COUNTIFS(Tech_Sąnaudos[[Technologinė operacija]:[Technologinė operacija]],$L25,Tech_Sąnaudos[[Sutrumpinimas]:[Sutrumpinimas]],R$20)","v":1}]
[null,"Seklus arimas (SA)","SA","Purškimas x4",6.67,0.6,3.96,36.64,null,null,null,"Sėja",{"$f":"COUNTIFS(Tech_Sąnaudos[[Technologinė operacija]:[Technologinė operacija]],$L26,Tech_Sąnaudos[[Sutrumpinimas]:[Sutrumpinimas]],M$20)","v":1},{"$f":"COUNTIFS(Tech_Sąnaudos[[Technologinė operacija]:[Technologinė operacija]],$L26,Tech_Sąnaudos[[Sutrumpinimas]:[Sutrumpinimas]],N$20)","v":1},{"$f":"COUNTIFS(Tech_Sąnaudos[[Technologinė operacija]:[Technologinė operacija]],$L26,Tech_Sąnaudos[[Sutrumpinimas]:[Sutrumpinimas]],O$20)","v":1},{"$f":"COUNTIFS(Tech_Sąnaudos[[Technologinė operacija]:[Technologinė operacija]],$L26,Tech_Sąnaudos[[Sutrumpinimas]:[Sutrumpinimas]],P$20)","v":1},{"$f":"COUNTIFS(Tech_Sąnaudos[[Technologinė operacija]:[Technologinė operacija]],$L26,Tech_Sąnaudos[[Sutrumpinimas]:[Sutrumpinimas]],Q$20)","v":1},{"$f":"COUNTIFS(Tech_Sąnaudos[[Technologinė operacija]:[Technologinė operacija]],$L26,Tech_Sąnaudos[[Sutrumpinimas]:[Sutrumpinimas]],R$20)","v":1}]
[null,"Seklus arimas (SA)","SA","Tręšimas x2",19.43,0.1,1,3.38,null,null,null,"Purškimas x4",{"$f":"COUNTIFS(Tech_Sąnaudos[[Technologinė operacija]:[Technologinė operacija]],$L27,Tech_Sąnaudos[[Sutrumpinimas]:[Sutrumpinimas]],M$20)","v":1},{"$f":"COUNTIFS(Tech_Sąnaudos[[Technologinė operacija]:[Technologinė operacija]],$L27,Tech_Sąnaudos[[Sutrumpinimas]:[Sutrumpinimas]],N$20)","v":1},{"$f":"COUNTIFS(Tech_Sąnaudos[[Technologinė operacija]:[Technologinė operacija]],$L27,Tech_Sąnaudos[[Sutrumpinimas]:[Sutrumpinimas]],O$20)","v":1},{"$f":"COUNTIFS(Tech_Sąnaudos[[Technologinė operacija]:[Technologinė operacija]],$L27,Tech_Sąnaudos[[Sutrumpinimas]:[Sutrumpinimas]],P$20)","v":1},{"$f":"COUNTIFS(Tech_Sąnaudos[[Technologinė operacija]:[Technologinė operacija]],$L27,Tech_Sąnaudos[[Sutrumpinimas]:[Sutrumpinimas]],Q$20)","v":1},{"$f":"COUNTIFS(Tech_Sąnaudos[[Technologinė operacija]:[Technologinė operacija]],$L27,Tech_Sąnaudos[[Sutrumpinimas]:[Sutrumpinimas]],R$20)","v":1}]
[null,"Seklus arimas (SA)","SA","Derliaus nuėmimas",2.11,0.47,17.32,68.98,null,null,null,"Tręšimas x2",{"$f":"COUNTIFS(Tech_Sąnaudos[[Technologinė operacija]:[Technologinė operacija]],$L28,Tech_Sąnaudos[[Sutrumpinimas]:[Sutrumpinimas]],M$20)","v":1},{"$f":"COUNTIFS(Tech_Sąnaudos[[Technologinė operacija]:[Technologinė operacija]],$L28,Tech_Sąnaudos[[Sutrumpinimas]:[Sutrumpinimas]],N$20)","v":1},{"$f":"COUNTIFS(Tech_Sąnaudos[[Technologinė operacija]:[Technologinė operacija]],$L28,Tech_Sąnaudos[[Sutrumpinimas]:[Sutrumpinimas]],O$20)","v":1},{"$f":"COUNTIFS(Tech_Sąnaudos[[Technologinė operacija]:[Technologinė operacija]],$L28,Tech_Sąnaudos[[Sutrumpinimas]:[Sutrumpinimas]],P$20)","v":1},{"$f":"COUNTIFS(Tech_Sąnaudos[[Technologinė operacija]:[Technologinė operacija]],$L28,Tech_Sąnaudos[[Sutrumpinimas]:[Sutrumpinimas]],Q$20)","v":1},{"$f":"COUNTIFS(Tech_Sąnaudos[[Technologinė operacija]:[Technologinė operacija]],$L28,Tech_Sąnaudos[[Sutrumpinimas]:[Sutrumpinimas]],R$20)","v":1}]
[null,"Seklus purenimas rudenį, SPR","SPR","Ražienų skutimas",3.28,0.3,11,28.91,null,null,null,"Derliaus nuėmimas",{"$f":"COUNTIFS(Tech_Sąnaudos[[Technologinė operacija]:[Technologinė operacija]],$L29,Tech_Sąnaudos[[Sutrumpinimas]:[Sutrumpinimas]],M$20)","v":1},{"$f":"COUNTIFS(Tech_Sąnaudos[[Technologinė operacija]:[Technologinė operacija]],$L29,Tech_Sąnaudos[[Sutrumpinimas]:[Sutrumpinimas]],N$20)","v":1},{"$f":"COUNTIFS(Tech_Sąnaudos[[Technologinė operacija]:[Technologinė operacija]],$L29,Tech_Sąnaudos[[Sutrumpinimas]:[Sutrumpinimas]],O$20)","v":1},{"$f":"COUNTIFS(Tech_Sąnaudos[[Technologinė operacija]:[Technologinė operacija]],$L29,Tech_Sąnaudos[[Sutrumpinimas]:[Sutrumpinimas]],P$20)","v":1},{"$f":"COUNTIFS(Tech_Sąnaudos[[Technologinė operacija]:[Technologinė operacija]],$L29,Tech_Sąnaudos[[Sutrumpinimas]:[Sutrumpinimas]],Q$20)","v":1},{"$f":"COUNTIFS(Tech_Sąnaudos[[Technologinė operacija]:[Technologinė operacija]],$L29,Tech_Sąnaudos[[Sutrumpinimas]:[Sutrumpinimas]],R$20)","v":1}]
[null,"Seklus purenimas rudenį, SPR","SPR","Seklus purenimas",5.18,0.19,6.4,14.97,null,null,null,"Seklus arimas",{"$f":"COUNTIFS(Tech_Sąnaudos[[Technologinė operacija]:[Technologinė operacija]],$L30,Tech_Sąnaudos[[Sutrumpinimas]:[Sutrumpinimas]],M$20)","v":0},{"$f":"COUNTIFS(Tech_Sąnaudos[[Technologinė operacija]:[Technologinė operacija]],$L30,Tech_Sąnaudos[[Sutrumpinimas]:[Sutrumpinimas]],N$20)","v":1},{"$f":"COUNTIFS(Tech_Sąnaudos[[Technologinė operacija]:[Technologinė operacija]],$L30,Tech_Sąnaudos[[Sutrumpinimas]:[Sutrumpinimas]],O$20)","v":0},{"$f":"COUNTIFS(Tech_Sąnaudos[[Technologinė operacija]:[Technologinė operacija]],$L30,Tech_Sąnaudos[[Sutrumpinimas]:[Sutrumpinimas]],P$20)","v":0},{"$f":"COUNTIFS(Tech_Sąnaudos[[Technologinė operacija]:[Technologinė operacija]],$L30,Tech_Sąnaudos[[Sutrumpinimas]:[Sutrumpinimas]],Q$20)","v":0},{"$f":"COUNTIFS(Tech_Sąnaudos[[Technologinė operacija]:[Technologinė operacija]],$L30,Tech_Sąnaudos[[Sutrumpinimas]:[Sutrumpinimas]],R$20)","v":0}]
[null,"Seklus purenimas rudenį, SPR","SPR","Pirminis kultivavimas",5.18,0.19,6.4,14.97,null,null,null,"Seklus purenimas",{"$f":"COUNTIFS(Tech_Sąnaudos[[Technologinė operacija]:[Technologinė operacija]],$L31,Tech_Sąnaudos[[Sutrumpinimas]:[Sutrumpinimas]],M$20)","v":0},{"$f":"COUNTIFS(Tech_Sąnaudos[[Technologinė operacija]:[Technologinė operacija]],$L31,Tech_Sąnaudos[[Sutrumpinimas]:[Sutrumpinimas]],N$20)","v":0},{"$f":"COUNTIFS(Tech_Sąnaudos[[Technologinė operacija]:[Technologinė operacija]],$L31,Tech_Sąnaudos[[Sutrumpinimas]:[Sutrumpinimas]],O$20)","v":1},{"$f":"COUNTIFS(Tech_Sąnaudos[[Technologinė operacija]:[Technologinė operacija]],$L31,Tech_Sąnaudos[[Sutrumpinimas]:[Sutrumpinimas]],P$20)","v":1},{"$f":"COUNTIFS(Tech_Sąnaudos[[Technologinė operacija]:[Technologinė operacija]],$L31,Tech_Sąnaudos[[Sutrumpinimas]:[Sutrumpinimas]],Q$20)","v":0},{"$f":"COUNTIFS(Tech_Sąnaudos[[Technologinė operacija]:[Technologinė operacija]],$L31,Tech_Sąnaudos[[Sutrumpinimas]:[Sutrumpinimas]],R$20)","v":0}]
[null,"Seklus purenimas rudenį, SPR","SPR","Priešsėjinis kultivavimas",5.18,0.19,6.4,14.97,null,null,null,"Tarpinių pasėlių sėja",{"$f":"COUNTIFS(Tech_Sąnaudos[[Technologinė operacija]:[Technologinė operacija]],$L32,Tech_Sąnaudos[[Sutrumpinimas]:[Sutrumpinimas]],M$20)","v":0},{"$f":"COUNTIFS(Tech_Sąnaudos[[Technologinė operacija]:[Technologinė operacija]],$L32,Tech_Sąnaudos[[Sutrumpinimas]:[Sutrumpinimas]],N$20)","v":0},{"$f":"COUNTIFS(Tech_Sąnaudos[[Technologinė operacija]:[Technologinė operacija]],$L32,Tech_Sąnaudos[[Sutrumpinimas]:[Sutrumpinimas]],O$20)","v":0},{"$f":"COUNTIFS(Tech_Sąnaudos[[Technologinė operacija]:[Technologinė operacija]],$L32,Tech_Sąnaudos[[Sutrumpinimas]:[Sutrumpinimas]],P$20)","v":0},{"$f":"COUNTIFS(Tech_Sąnaudos[[Technologinė operacija]:[Technologinė operacija]],$L32,Tech_Sąnaudos[[Sutrumpinimas]:[Sutrumpinimas]],Q$20)","v":1},{"$f":"COUNTIFS(Tech_Sąnaudos[[Technologinė operacija]:[Technologinė operacija]],$L32,Tech_Sąnaudos[[Sutrumpinimas]:[Sutrumpinimas]],R$20)","v":0}]
[null,"Seklus purenimas rudenį, SPR","SPR","Tręšimas",19.43,0.05,0.5,1.69,null,null,null,"Purškimas",{"$f":"COUNTIFS(Tech_Sąnaudos[[Technologinė operacija]:[Technologinė operacija]],$L33,Tech_Sąnaudos[[Sutrumpinimas]:[Sutrumpinimas]],M$20)","v":0},{"$f":"COUNTIFS(Tech_Sąnaudos[[Technologinė operacija]:[Technologinė operacija]],$L33,Tech_Sąnaudos[[Sutrumpinimas]:[Sutrumpinimas]],N$20)","v":0},{"$f":"COUNTIFS(Tech_Sąnaudos[[Technologinė operacija]:[Technologinė operacija]],$L33,Tech_Sąnaudos[[Sutrumpinimas]:[Sutrumpinimas]],O$20)","v":0},{"$f":"COUNTIFS(Tech_Sąnaudos[[Technologinė operacija]:[Technologinė operacija]],$L33,Tech_Sąnaudos[[Sutrumpinimas]:[Sutrumpinimas]],P$20)","v":0},{"$f":"COUNTIFS(Tech_Sąnaudos[[Technologinė operacija]:[Technologinė operacija]],$L33,Tech_Sąnaudos[[Sutrumpinimas]:[Sutrumpinimas]],Q$20)","v":1},{"$f":"COUNTIFS(Tech_Sąnaudos[[Technologinė operacija]:[Technologinė operacija]],$L33,Tech_Sąnaudos[[Sutrumpinimas]:[Sutrumpinimas]],R$20)","v":1}]
[null,"Seklus purenimas rudenį, SPR","SPR","Sėja",2.91,0.34,8.1999999999999993,24.51]
[null,"Seklus purenimas rudenį, SPR","SPR","Purškimas x4",6.67,0.6,3.96,36.64]
[null,"Seklus purenimas rudenį, SPR","SPR","Tręšimas x2",19.43,0.1,1,3.38]
[null,"Seklus purenimas rudenį, SPR","SPR","Derliaus nuėmimas",2.11,0.47,17.32,68.98,null,null,null,"Technologinė operacija","GA","SA","SPR","SPS","TP","TS"]
[null,"Seklus purenimas prieš sėją, SPS","SPS","Seklus purenimas",5.18,0.19,6.4,14.97,null,null,null,"Darbo laikas, h/ha",{"$f":"SUMIFS(Tech_Sąnaudos[[Darbo laikas, h/ha]:[Darbo laikas, h/ha]],Tech_Sąnaudos[[Sutrumpinimas]:[Sutrumpinimas]],M$37)","v":3.08},{"$f":"SUMIFS(Tech_Sąnaudos[[Darbo laikas, h/ha]:[Darbo laikas, h/ha]],Tech_Sąnaudos[[Sutrumpinimas]:[Sutrumpinimas]],N$37)","v":2.8899999999999997},{"$f":"SUMIFS(Tech_Sąnaudos[[Darbo laikas, h/ha]:[Darbo laikas, h/ha]],Tech_Sąnaudos[[Sutrumpinimas]:[Sutrumpinimas]],O$37)","v":2.4299999999999997},{"$f":"SUMIFS(Tech_Sąnaudos[[Darbo laikas, h/ha]:[Darbo laikas, h/ha]],Tech_Sąnaudos[[Sutrumpinimas]:[Sutrumpinimas]],P$37)","v":2.13},{"$f":"SUMIFS(Tech_Sąnaudos[[Darbo laikas, h/ha]:[Darbo laikas, h/ha]],Tech_Sąnaudos[[Sutrumpinimas]:[Sutrumpinimas]],Q$37)","v":1.8499999999999999},{"$f":"SUMIFS(Tech_Sąnaudos[[Darbo laikas, h/ha]:[Darbo laikas, h/ha]],Tech_Sąnaudos[[Sutrumpinimas]:[Sutrumpinimas]],R$37)","v":1.61}]
[null,"Seklus purenimas prieš sėją, SPS","SPS","Pirminis kultivavimas",5.18,0.19,6.4,14.97,null,null,null,"Degalų sunaudojimas, l/ha",{"$f":"SUMIFS(Tech_Sąnaudos[[Degalų sunaudojimas, l/ha]:[Degalų sunaudojimas, l/ha]],Tech_Sąnaudos[[Sutrumpinimas]:[Sutrumpinimas]],M$37)","v":79.48},{"$f":"SUMIFS(Tech_Sąnaudos[[Degalų sunaudojimas, l/ha]:[Degalų sunaudojimas, l/ha]],Tech_Sąnaudos[[Sutrumpinimas]:[Sutrumpinimas]],N$37)","v":72.069999999999993},{"$f":"SUMIFS(Tech_Sąnaudos[[Degalų sunaudojimas, l/ha]:[Degalų sunaudojimas, l/ha]],Tech_Sąnaudos[[Sutrumpinimas]:[Sutrumpinimas]],O$37)","v":61.179999999999993},{"$f":"SUMIFS(Tech_Sąnaudos[[Degalų sunaudojimas, l/ha]:[Degalų sunaudojimas, l/ha]],Tech_Sąnaudos[[Sutrumpinimas]:[Sutrumpinimas]],P$37)","v":50.18},{"$f":"SUMIFS(Tech_Sąnaudos[[Degalų sunaudojimas, l/ha]:[Degalų sunaudojimas, l/ha]],Tech_Sąnaudos[[Sutrumpinimas]:[Sutrumpinimas]],Q$37)","v":37.17},{"$f":"SUMIFS(Tech_Sąnaudos[[Degalų sunaudojimas, l/ha]:[Degalų sunaudojimas, l/ha]],Tech_Sąnaudos[[Sutrumpinimas]:[Sutrumpinimas]],R$37)","v":30.47}]
[null,"Seklus purenimas prieš sėją, SPS","SPS","Priešsėjinis kultivavimas",5.18,0.19,6.4,14.97,null,null,null,"Išlaidos, EUR/ha",{"$f":"SUMIFS(Tech_Sąnaudos[[Išlaidos, EUR/ha]:[Išlaidos, EUR/ha]],Tech_Sąnaudos[[Sutrumpinimas]:[Sutrumpinimas]],M$37)","v":260.85000000000002},{"$f":"SUMIFS(Tech_Sąnaudos[[Išlaidos, EUR/ha]:[Išlaidos, EUR/ha]],Tech_Sąnaudos[[Sutrumpinimas]:[Sutrumpinimas]],N$37)","v":240.81},{"$f":"SUMIFS(Tech_Sąnaudos[[Išlaidos, EUR/ha]:[Išlaidos, EUR/ha]],Tech_Sąnaudos[[Sutrumpinimas]:[Sutrumpinimas]],O$37)","v":209.02000000000004},{"$f":"SUMIFS(Tech_Sąnaudos[[Išlaidos, EUR/ha]:[Išlaidos, EUR/ha]],Tech_Sąnaudos[[Sutrumpinimas]:[Sutrumpinimas]],P$37)","v":180.11},{"$f":"SUMIFS(Tech_Sąnaudos[[Išlaidos, EUR/ha]:[Išlaidos, EUR/ha]],Tech_Sąnaudos[[Sutrumpinimas]:[Sutrumpinimas]],Q$37)","v":174.17000000000002},{"$f":"SUMIFS(Tech_Sąnaudos[[Išlaidos, EUR/ha]:[Išlaidos, EUR/ha]],Tech_Sąnaudos[[Sutrumpinimas]:[Sutrumpinimas]],R$37)","v":147.01}]
[null,"Seklus purenimas prieš sėją, SPS","SPS","Tręšimas",19.43,0.05,0.5,1.69]
[null,"Seklus purenimas prieš sėją, SPS","SPS","Sėja",2.91,0.34,8.1999999999999993,24.51]
[null,"Seklus purenimas prieš sėją, SPS","SPS","Purškimas x4",6.67,0.6,3.96,36.64]
[null,"Seklus purenimas prieš sėją, SPS","SPS","Tręšimas x2",19.43,0.1,1,3.38]
[null,"Seklus purenimas prieš sėją, SPS","SPS","Derliaus nuėmimas",2.11,0.47,17.32,68.98]
[null,"Tarpiniai pasėliai, TP","TP","Tarpinių pasėlių sėja",4.17,0.24,6.7,27.16]
[null,"Tarpiniai pasėliai, TP","TP","Tręšimas",19.43,0.05,0.5,1.69]
[null,"Tarpiniai pasėliai, TP","TP","Purškimas",6.67,0.15,0.99,9.16]
[null,"Tarpiniai pasėliai, TP","TP","Sėja",4.17,0.24,6.7,27.16]
[null,"Tarpiniai pasėliai, TP","TP","Purškimas x4",6.67,0.6,3.96,36.64]
[null,"Tarpiniai pasėliai, TP","TP","Tręšimas x2",19.43,0.1,1,3.38]
[null,"Tarpiniai pasėliai, TP","TP","Derliaus nuėmimas",2.11,0.47,17.32,68.98]
[null,"Tiesioginė sėja (nulinis žemės dirbimas, TS)","TS","Purškimas",6.67,0.15,0.99,9.16]
[null,"Tiesioginė sėja (nulinis žemės dirbimas, TS)","TS","Tręšimas",19.43,0.05,0.5,1.69]
[null,"Tiesioginė sėja (nulinis žemės dirbimas, TS)","TS","Sėja",4.17,0.24,6.7,27.16]
[null,"Tiesioginė sėja (nulinis žemės dirbimas, TS)","TS","Purškimas x4",6.67,0.6,3.96,36.64]
[null,"Tiesioginė sėja (nulinis žemės dirbimas, TS)","TS","Tręšimas x2",19.43,0.1,1,3.38]
[null,"Tiesioginė sėja (nulinis žemės dirbimas, TS)","TS","Derliaus nuėmimas",2.11,0.47,17.32,68.98]

{"sheet":"Lapas1 (2)","index":19,"n_rows":39,"n_cols":17,"rows_kept":39,"cut":false,"hidden":true,"merged":[]}
[null,null,"Paskaičiuoti:"]
[null,null,"slankųjį vidurkį"]
[null,null,"indeksus"]
[null,null,"nuokrypius nuo GA"]
[]
[]
[]
[null,null,"30 lentelė. Žieminių kviečių auginimo skirtingo intensyvumo žemės dirbimo technologijomis ekonominis vertinimas"]
[]
[null,null,"Gamybos veiksnių rodikliai","Matavimo vnt.","Žemės dirbimo technologija"]
[null,null,null,null,"GA","SA","SPR","SPS","TP","TS"]
[null,null,"Derlingumas"]
[null,null,"Žieminiai kviečiai","t/ha ",8.17,7.89,7.97,9.07,8.98,8.7100000000000009]
[null,null,"Indeksas","% ",100,96.59,97.55,111.02,109.96,106.67]
[null,null,"Pajamos"]
[null,null,"Žieminiai kviečiai","Eur/ha",1345.99,1405.3,1327.3,1282.1300000000001,1294.8,1473.55,null,{"$f":"+E16/E13","v":164.74785801713585},178.11153358681875,166.53701380175659,141.35942668136715,144.18708240534519,169.17910447761193]
[null,null,"Indeksas","% ",100,104.41,98.61,95.26,96.2,109.48]
[null,null,"Išlaidos sėklai, trąšoms ir augalų apsaugos priemonėms ir džiovinimui"]
[null,null,"Žieminiai kviečiai","Eur/ha",466,466,466,466,466,466]
[null,null,"Mechanizuotų darbų išlaidos"]
[null,null,"Darbo laikas","h/ha",3.08,2.89,2.4300000000000002,2.13,1.85,1.61]
[null,null,"Mechanizuotų darbų išlaidos tenkančios darbo valandai","Eur/h",84.69,83.33,86.02,84.56,94.15,91.31]
[null,null,"Mechanizuotų darbų išlaidos tenkančios dirbaman hektarui","Eur/ha ",260.85000000000002,240.81,209.02,180.11,174.17,147.01,null,{"$f":"+E23/E21","v":84.691558441558442},83.325259515570934,86.016460905349788,84.558685446009406,94.14594594594594,91.310559006211165]
[null,null,"Indeksas","% ",100,92.32,80.13,69.05,66.77,56.36]
[null,null,"Visos išlaidos "]
[null,null,"Žieminiai kviečiai","Eur/ha",726.85,706.81,675.02,646.11,640.16999999999996,613.01,null,{"$f":"+E23+E19","v":726.85},{"$f":"+F23+F19","v":706.81},675.02,646.11,640.16999999999996,613.01]
[null,null,"Indeksas","% ",100,97.24,92.87,88.89,88.07,84.34]
[null,null,"Pelnas"]
[null,null,"Žieminiai kviečiai","Eur/ha",619.14,698.49,652.28,636.02,654.63,860.54]
[null,null,"Indeksas","% ",100,112.82,105.35,102.73,105.73,138.99]
[null,null,"Darbo laiko produktyvumas (derlingumas/darbo našumas)"]
[null,null,"Žieminiai kviečiai","t/h",2.65,2.73,3.28,4.26,4.8499999999999996,5.41]
[null,null,"Išlaidų ir pajamų santykis (visos išlaidos/pajamos)"]
[null,null,"Žieminiai kviečiai","koef.",0.54,0.5,0.51,0.5,0.49,0.42]
[null,null,"Gamybos pelningumas (pelnas/visos išlaidos*100)"]
[null,null,"Žieminiai kviečiai","% ",85.18,98.82,96.63,98.44,102.26,140.38]
[null,null,"Pelningumo indeksas (pelnas/pajamos*100%)"]
[null,null,"Žieminiai kviečiai","koef.",46,49.7,49.14,49.61,50.56,58.4]
[null,null,"Indeksas","% ",100,108.04,106.83,107.85,109.91,126.96]